{"text_format":"1","workbook":"xlsx","n_sheets":29,"sheets":["Menu","CIP Statement Form","EOPC","Prelim Checklist","Prelim Comments","Intermed Checklist","Intermed Comments","Final Checklist","Final Comments","Rec to File","Project Manual Form","Quick View","Sign-Off Sheet","300-A Reference","IonWave Importer","Bid Docs Checklist","300-A Funding","Rec to Award","300-B","300-B Funding","300-C","300-C Funding","500-A","500-B","Handover Report","Mail Merge This Tab","Validation Fields","Update History","How to Update PDG"],"not_rendered":{"charts":0,"images":0,"macros":1,"external_links":0,"defined_names":67,"comments":2,"pivot_tables":0},"unopened":[],"bounds":{"document_bytes":16777216,"sheet_cells":100000,"rows_first":2000,"rows_last":500,"rows_between":2000,"halvings":0,"cell_chars":16384,"cell_head_chars":4096},"cells_cut":0,"cells_raw":0,"read":"whole","date_system":"1900"}

{"sheet":"Menu","index":0,"n_rows":42,"n_cols":1,"rows_kept":42,"cut":false,"hidden":false,"merged":[]}
["Menu - Project Development Guide (PDG) - Version 9.14.22"]
["The PDG covers a project's life cycle from the Conceptual Phase to the beginning of the Construction Phase. The \"typical\" project follows the below workflow. Modify according to the scope and needs of each project."]
[]
[]
[]
[]
[]
[]
[]
["Conceptual Phase"]
[]
["Design Phase"]
[]
[]
[]
[]
[]
[]
[]
[]
["Design Phase"]
[]
[]
[]
[]
[]
[]
[]
[]
[]
[]
[]
[]
[]
[]
[]
[]
[]
[]
[]
[]
["Bid Phase"]

{"sheet":"CIP Statement Form","index":1,"n_rows":397,"n_cols":21,"rows_kept":397,"cut":false,"hidden":false,"merged":[[378,2,379,10],[386,2,387,10],[394,2,395,10],[0,0,1,0],[0,1,1,1],[0,2,0,10],[110,7,110,8],[112,7,112,8],[103,7,103,8],[104,7,104,8],[105,7,105,8],[106,7,106,8],[107,7,107,8],[102,2,102,6],[78,9,78,10],[79,9,79,10],[80,9,80,10],[81,9,81,10],[82,9,82,10],[108,9,108,10],[109,9,109,10],[103,9,103,10],[104,9,104,10],[105,9,105,10],[62,12,62,15],[102,7,102,8],[102,9,102,10],[63,12,63,15],[63,9,63,10],[64,9,64,10],[65,9,65,10],[66,9,66,10],[67,9,67,10],[69,9,69,10],[70,9,70,10],[71,9,71,10],[88,9,88,10],[92,9,92,10],[93,9,93,10],[94,9,94,10],[95,9,95,10],[83,9,83,10],[84,9,84,10],[85,9,85,10],[86,9,86,10],[87,9,87,10],[158,13,158,20],[226,9,226,10],[222,9,222,10],[223,7,223,8],[223,9,223,10],[181,9,181,10],[207,2,207,10],[210,2,210,10],[215,2,215,10],[186,2,186,10],[196,3,196,10],[198,3,198,10],[202,3,202,10],[183,3,183,10],[106,9,106,10],[107,9,107,10],[108,7,108,8],[278,3,278,10],[226,7,226,8],[219,7,219,8],[218,7,218,8],[218,9,218,10],[222,7,222,8],[225,9,225,10],[224,9,224,10],[225,7,225,8],[232,7,232,8],[232,9,232,10],[233,7,233,8],[233,9,233,10],[176,6,176,10],[109,7,109,8],[113,7,113,8],[228,7,228,8],[228,9,228,10],[113,9,113,10],[114,7,114,8],[111,7,111,10],[123,6,123,10],[129,6,129,10],[130,6,130,10],[124,6,124,10],[125,6,125,10],[110,9,110,10],[112,9,112,10],[127,6,127,10],[128,6,128,10],[126,6,126,10],[114,9,114,10],[4,1,4,10],[13,4,13,10],[13,0,13,3],[77,9,77,10],[74,9,74,10],[75,9,75,10],[68,9,68,10],[90,9,90,10],[99,9,99,10],[96,9,96,10],[97,9,97,10],[98,9,98,10],[89,9,89,10],[12,4,12,10],[72,9,72,10],[73,9,73,10],[62,9,62,10],[7,1,7,10],[9,1,9,10],[10,4,10,10],[11,4,11,10],[14,4,14,10],[344,2,344,4],[344,5,344,8],[200,3,200,10],[334,5,334,10],[336,5,336,10],[224,7,224,8],[300,4,300,10],[243,7,243,8],[243,9,243,10],[245,7,245,8],[245,9,245,10],[252,4,252,5],[252,7,252,8],[241,7,241,8],[241,9,241,10],[246,7,246,8],[246,9,246,10],[227,7,227,8],[227,9,227,10],[274,3,274,10],[276,3,276,10],[289,3,289,10],[292,3,292,10],[253,2,253,10],[270,4,270,10],[190,5,190,10],[193,3,193,10],[284,3,284,10],[283,4,283,10],[286,4,286,10],[291,4,291,10],[297,4,297,10],[219,9,219,10],[262,6,262,10],[263,6,263,10],[229,7,229,8],[240,9,240,10],[234,7,234,8],[234,9,234,10],[236,7,236,8],[236,9,236,10],[237,7,237,8],[237,9,237,10],[238,7,238,8],[238,9,238,10],[240,7,240,8],[231,7,231,8],[231,9,231,10],[150,9,150,10],[131,6,131,10],[132,6,132,10],[145,3,145,10],[153,3,153,10],[166,3,166,10],[172,3,172,10],[163,3,163,10],[179,6,179,10],[162,3,162,10],[155,3,155,10],[177,6,177,10],[138,4,138,10],[141,4,141,10],[158,3,158,10],[174,3,174,10],[229,9,229,10],[346,5,346,8],[347,2,347,4],[364,2,364,4],[364,5,364,8],[355,2,355,4],[355,5,355,8],[356,2,356,4],[356,5,356,8],[357,2,357,4],[357,5,357,8],[358,2,358,4],[358,5,358,8],[359,2,359,4],[359,5,359,8],[347,5,347,8],[348,2,348,4],[348,5,348,8],[349,2,349,4],[349,5,349,8],[307,3,307,10],[298,3,298,10],[294,3,294,10],[338,3,338,10],[372,2,372,10],[57,2,57,10],[342,7,342,8],[360,2,360,4],[360,5,360,8],[361,2,361,4],[361,5,361,8],[362,2,362,4],[362,5,362,8],[363,2,363,4],[363,5,363,8],[350,2,350,4],[350,5,350,8],[351,2,351,4],[351,5,351,8],[352,2,352,4],[352,5,352,8],[353,2,353,4],[353,5,353,8],[354,2,354,4],[354,5,354,8],[345,2,345,4],[345,5,345,8],[346,2,346,4]]}
["Yes/Complete","N/A","                       CIP STATEMENT FORM"]
[]
[]
["Purpose of this Form:"]
[null,"This form should be filled out before drafting the Professional Services Agreement, or beginning internal design. The answers given are intended to help scope the project, plan out the time requirements to complete it, and to anticipate the needs of external stakeholders."]
["Directions:"]
[null,"1) Fill out the first 54 rows completely"]
[null,"2) Press the \"Hide N/A Rows\" button (below) to eliminate unnecessary checklist items based on what you entered"]
[null,"3) Fill out remaining information; periodically press \"Hide N/A Rows\" to manage space"]
[null,"4) If you make a mistake, or add scope later, click \"Unhide All Rows,\" make corrections, and then \"Hide N/A Rows\" again"]
["Project Name:"]
["Project Limits:"]
["Envision CR Goal:",null,null,null,"Choose one:"]
["Project Purpose and Need Statement:",null,null,null,null,null,null,null,null,null,null,null,"Why are we doing this project? What is the primary goal? Revisit this field after completing the CIP Statement Form."]
["Initial Concept:",null,null,null,null,null,null,null,null,null,null,null,"Ensure the proposed scope directly addresses the Project's Purpose. Revisit this field after completing the CIP Statement form."]
[]
["Anticipated Project Scope (select all which might apply, even if you are unsure at present)"]
[false,null,"ADA Improvements"]
[false,null,"Bike Lanes"]
[false,null,"Bridge"]
[false,null,"Culvert"]
[false,null,"Curb / Gutter"]
[false,null,"Detention Basin / Drainageway"]
[false,null,"Driveways"]
[false,null,"Flood Control (Wall, Levee, Pump, Gate, etc)"]
[false,null,"Grading"]
[false,null,"Hazardous Material Mitigation"]
[false,null,"Lighting"]
[false,null,"Pavement - Maintenance/Restoration"]
[false,null,"Pavement - Reconstruction"]
[false,null,"Pavement - New Construction/Realignment"]
[false,null,"Railroad crossing"]
[false,null,"Sanitary Sewer (Including Services)"]
[false,null,"Scenic / Landscaping Improvements"]
[false,null,"Sidewalks"]
[false,null,"Slope Stabilization"]
[false,null,"Storm Sewer / Draintile"]
[false,null,"Stormwater Best Management Practices (BMPs)"]
[false,null,"Streetscaping"]
[false,null,"Structures / Buildings"]
[false,null,"Traffic / Pedestrian Signals"]
[false,null,"Trails"]
[false,null,"Tree or Vegetation Removal"]
[false,null,"Water Main (Including Services)"]
[false,null,"Other (Specify)"]
[false,null,"Other (Specify)"]
[false,null,"Other (Specify)"]
[]
["For this project…"]
[false,null,"Temporary easement or acquisition needs are likely"]
[false,null,"The work will occur adjacent to/crosses railroad right of way"]
[false,null,"The work will occur adjacent to/within county, state or federal right of way"]
[false,null,"Assessments for some portion of the project are likely"]
[false,null,"The project area is within, or passes through, a public space where any",null,null,null,null,null,null,null,null,null,"In other words: \"Is the Complete Streets policy applicable to this project?\""]
[null,null,"form of transportation (car, bike, foot, etc) will be used, now or in the foreseeable "]
[null,null,"future"]
[]
[null,null,"After making your selections for rows 1 through 54, hit the \"Hide N/A Rows\" button to conceal unnecessary checklist items. Nothing is being deleted, only hidden from view. You may make changes later."]
[]
[]
[]
["Funding Sources"]
[null,null,"Local",null,null,null,null,null,null,"Available Revenue",null,{"$f":"IF(AND(B64=TRUE,B65=TRUE,B66=TRUE,B67=TRUE,B68=TRUE,B69=TRUE,B70=TRUE,B71=TRUE,B72=TRUE,B73=TRUE,B74=TRUE,B75=TRUE,B76=TRUE),\"HIDE\",\"\")","v":""},"Qualifying Expenses"]
[false,false,null,"Capital Improvement Fund (CIP)",null,null,null,null,null,0,null,{"$f":"IF(B64=TRUE,\"HIDE\",\"\")","v":""},"Work must match funding source"]
[false,false,null,"Local Option Sales Tax (LOST)",null,null,null,null,null,0,null,{"$f":"IF(B65=TRUE,\"HIDE\",\"\")","v":""},"Street paving and related improvements. Replacements forced by road work possibly eligible, e.g. storm sewer."]
[false,false,null,"Cash on Hand",null,null,null,null,null,0,null,"","\"Cash on Hand\" is unexpended revenue from a previous fiscal year. Spending limitations depend on where that money came from."]
[false,false,null,"Tax Increment Financing (TIF)",null,null,null,null,null,0,null,"","Pays for improvements within TIF district, restrictions may apply."]
[false,false,null,"General Obligation Bonds (GO Bonds)",null,null,null,null,null,0,null,"","Work limited to extent specified by bond"]
[false,false,null,"Revenue Bonds",null,null,null,null,null,0,null,"","Work limitations based on revenue source"]
[false,false,null,"Road Use Tax (RUT)",null,null,null,null,null,0,null,"","Pavement and related improvements"]
[false,false,null,"28E Agreement",null,null,null,null,null,0,null,"","Work limited to terms specified by 28E Agreement with government agency"]
[false,false,null,"Special Assessment",null,null,null,null,null,0,null,"","Improvements above and beyond existing facilities. ",null,null,null,null,null,"See also: Sidewalk Assessment Policy."]
[false,false,null,"Petition & Assessment Agreements",null,null,null,null,null,0,null,"","Ask City contact for Final Plat files for affected subdivisions. Newer (1990s+) subdivisions may have agreements."]
[false,false,null,"Escrowed Funds / Pre-Payments",null,null,null,null,null,0,null,"","Ask City contact for Final Plat files for affected subdivisions. Search for receipts of pre-payment."]
[false,false,null,"Contributions (Specify)",null,null,null,null,null,0,null,"","Limitations vary. Examples: Med-Q District contributions to downtown improvements, business association gift towards streetscaping, etc"]
[false,false,null,"Other (Specify)",null,null,null,null,null,0,null,""]
[null,null,"State",null,null,null,null,null,null,null,null,{"$f":"IF(AND(B78=TRUE,B79=TRUE,B80=TRUE,B81=TRUE,B82=TRUE,B83=TRUE,B84=TRUE,B85=TRUE,B86=TRUE,B87=TRUE,B88=TRUE,B89=TRUE,B90=TRUE,B91=TRUE),\"HIDE\",\"\")","v":""}]
[false,false,null,"Iowa Flood Mitigation (IFM)",null,null,null,null,null,0,null,"","Flood Control System and related improvements"]
[false,false,null,"Revitalize Iowa's Sound Economy (RISE)",null,null,null,null,null,0,null,"","Road improvements which support local economic development. 20%-50% City match. Allow four months for application review."]
[false,false,null,"Railroad Revolving Loan and Grant Program",null,null,null,null,null,0,null,"","Rail infrastructure improvements which support local economic development. 20%-50% City match. Allow one year for application review."]
[false,false,null,"Highway-Railroad Crossing Safety Program",null,null,null,null,null,0,null,"","Grade crossing improvements. 10% City match. Application deadline July 1."]
[false,false,null,"Highway-Railroad Crossing Surface Repair Fund",null,null,null,null,null,0,null,"","Crossing surface improvements. 20% City match. Allow 4 years for review/approval."]
[false,false,null,"Iowa Clean Air Attainment Program (ICAAP)",null,null,null,null,null,0,null,"","Improvements which reduce emissions or somehow improve air quality. 20% City match. Application deadline October 1."]
[false,false,null,"Federal-aid SWAP Highway Bridge Program",null,null,null,null,null,0,null,"","Repair/replace structurally deficient/functionally obsolete bridges. Limit $1m / 1 bridge per year. 20% City match. Applications dues October 1."]
[false,false,null,"County and City Bridge Construction Fund",null,null,null,null,null,0,null,"","Construction or replacement of bridges. Applications due October 1."]
[false,false,null,"Traffic Safety Improvement Program (TSIP)",null,null,null,null,null,0,null,"","Construction which improves traffic safety. Applications due August 15."]
[false,false,null,"Living Roadway Trust Fund",null,null,null,null,null,0,null,"","Eligible Integrated Roadside Vegetation Management activites and equipment. Applications due June 1."]
[false,false,null,"Recreational Trails Program (State)",null,null,null,null,null,0,null,"","Build/maintain recreational trails and trail-related projects. 25% City match. Applications due July 1."]
[false,false,null,"Iowa's Transportation Alternatives Program (TAP)",null,null,null,null,null,0,null,"","Funding for bicycle, trail, sidewalk or pedestrian safety projects. 20% match. Applications due October 1."]
[false,false,null,"Urban-State Traffic Engineering Program (U-STEP)",null,null,null,null,null,0,null,"","Repair/extend or improve safety on primary roads. City responsible for 45% of construction cost. Cap on awards. Rolling applications; allow 90 days for review."]
[false,false,null,"Other (Specify)",null,null,null,null,null,0,null,""]
[null,null,"Federal",null,null,null,null,null,null,null,null,{"$f":"IF(AND(B93=TRUE,B94=TRUE,B95=TRUE,B96=TRUE,B97=TRUE,B98=TRUE,B99=TRUE,B100=TRUE),\"HIDE\",\"\")","v":""}]
[false,false,null,"Highway Bridge Program (STBG set-aside)",null,null,null,null,null,0,null,"","Repair/replace structurally deficient/functionally obsolete bridges. 20% City match. Applications dues October 1."]
[false,false,null,"Surface Transportation Block Grant (STBG)",null,null,null,null,null,0,null,"","Bridges or federal roads. 20% City match. Several special requirements apply. Allow 9 months for application review."]
[false,false,null,"Recreational Trails Program (Federal)",null,null,null,null,null,0,null,"","Build/maintain recreational trails and trail-related projects. 20% City match. Applications due October 1."]
[false,false,null,"Better Utilizing Investments to Leverage Development (BUILD)",null,null,null,null,null,0,null,"","Improvements with significant local or regional impact. Applications due July 15."]
[false,false,null,"US Economic Development Administration Grant (EDA)",null,null,null,null,null,0,null,"","Depends on grant. Usually growth or disaster recovery oriented. Rolling applications accepted for most grants."]
[false,false,null,"Community Development Block Grant (CDBG)",null,null,null,null,null,0,null,"","Oriented towards housing/survival needs for underserved populations; disaster recovery. "]
[false,false,null,"Federal Emergency Management Agency Grant (FEMA)",null,null,null,null,null,0,null,"","Oriented towards disaster recovery, homeland security. Extensive requirements; time restrictions based on date of disaster. Document everything!"]
[false,false,null,"Other (Specify)",null,null,null,null,null,0,null,""]
[]
["Tentative Schedule"]
[null,null,"Task",null,null,null,null,"Start Month",null,"End Month"]
[false,false,"Procurement/Consultant Contract",null,null,null,null,null,null,null,null,{"$f":"IF(B104=TRUE,\"HIDE\",\"\")","v":""}]
[false,false,"Design",null,null,null,null,null,null,null,null,""]
[false,false,"Permitting/Environmental",null,null,null,null,null,null,null,null,""]
[false,false,"Public Outreach",null,null,null,null,null,null,null,null,""]
[false,false,"Property Acquisition",null,null,null,null,null,null,null,null,"","Allow 1 year for acquisitions"]
[false,false,"Preliminary Assessment Process",null,null,null,null,null,null,null,null,"","Minimum 3 months from start to finish"]
[false,false,"Private Utility Relocations",null,null,null,null,null,null,null,null,""]
[false,false,"Public Utility Relocations",null,null,null,null,null,null,null,null,""]
[false,false,"Target Project Bid Letting",null,null,null,"Date:",null,null,null,null,"","Ideal to bid largest projects in October - January timeframe"]
[false,false,"Project Construction",null,null,null,null,null,null,null,null,"","Minimum 1 month between bid letting and start of construction"]
[false,false,"Prerequisite Construction",null,null,null,null,null,null,null,null,"","i.e. Other work this project is dependent upon before it may begin"]
[false,false,"Funding Time Limitations",null,null,null,null,null,null,null,null,"","e.g. Federal money for x repair must be spent within named timeframe"]
[]
["Existing Conditions"]
[false,false,"Plans / As-Builts for previous construction within project area reviewed",null,null,null,null,null,null,null,null,{"$f":"IF(B118=TRUE,\"HIDE\",\"\")","v":""}]
[false,null,"Existing conditions have been verified in the field"]
[false,false,"Geotechnical report, soil borings or other technical report is needed",null,null,null,null,null,null,null,null,""]
[false,false,"Project area reviewed for ADA compliance",null,null,null,null,null,null,null,null,""]
[null,null,"Pavement",null,null,null,null,null,null,null,null,{"$f":"IF(AND(B123=TRUE,B124=TRUE,B125=TRUE,B126=TRUE,B127=TRUE,B128=TRUE,B129=TRUE,B130=TRUE,B131=TRUE,B132=TRUE,B133=TRUE),\"HIDE\",\"\")","v":""}]
[false,false,null,"Core samples taken (project manager's discretion)",null,null,null,null,null,null,null,""]
[false,false,null,"Functional classification",null,null,null,null,null,null,null,""]
[false,false,null,"Pavement type(s)",null,null,null,null,null,null,null,""]
[false,false,null,"Depth(s)",null,null,null,null,null,null,null,""]
[false,false,null,"Width(s)",null,null,null,null,null,null,null,""]
[false,false,null,"Subbase",null,null,null,null,null,null,null,""]
[false,false,null,"Geogrid/fabric",null,null,null,null,null,null,null,""]
[false,false,null,"Traffic volume (AADT)",null,null,null,null,null,null,null,""]
[false,false,null,"Estimated % trucks",null,null,null,null,null,null,null,""]
[false,false,null,"Design speed (mph)",null,null,null,null,null,null,null,""]
[false,false,null,"Posted speed (mph)",null,null,null,null,null,null,null,""]
[null,null,"Sanitary sewer",null,null,null,null,null,null,null,null,{"$f":"IF(AND(B135=TRUE,B136=TRUE,B139=TRUE,B142=TRUE,B144=TRUE,B145=TRUE),\"HIDE\",\"\")","v":""}]
[false,false,null,"Reviewed televising videos in GIS; requested new video if older than 3 years",null,null,null,null,null,null,null,""]
[false,false,null,"Pipe size, age and material verified",null,null,null,null,null,null,null,{"$f":"IF(B136=TRUE,\"HIDE\",\"\")","v":""}]
[false,false,null,"Structures have been visually inspected",null,null,null,null,null,null,null,{"$f":"IF(B137=TRUE,\"HIDE\",\"\")","v":""}]
[null,false,null,"Reviewed sanitary sewer service tap records:",null,null,null,null,null,null,null,{"$f":"IF(B138=TRUE,\"HIDE\",\"\")","v":""}]
[false,true,null,null,"One or more properties had a lateral installed between 1950 and 1973 ",null,null,null,null,null,null,{"$f":"IF(B138=TRUE,\"HIDE\",\"\")","v":""},"Send a request for televising to PavingForProgress@cedar-rapids.org. Specify the addresses you need televised, whether you require depths to be taken, and the associated project number."]
[null,null,null,null,"(possibly Orangeburg). Project area added to annual sewer service ",null,null,null,null,null,null,{"$f":"IF(B138=TRUE,\"HIDE\",\"\")","v":""}]
[null,null,null,null,"televising contract.",null,null,null,null,null,null,{"$f":"IF(B138=TRUE,\"HIDE\",\"\")","v":""}]
[false,false,null,null,"I have concerns about the condition of the sanitary laterals. Project area ",null,null,null,null,null,null,{"$f":"IF(B142=TRUE,\"HIDE\",\"\")","v":""},"Send a request for televising to PavingForProgress@cedar-rapids.org. Specify the addresses you need televised, whether you require depths to be taken, and the associated project number."]
[null,null,null,null,"added to annual sewer service televising contract.",null,null,null,null,null,null,{"$f":"IF(B142=TRUE,\"HIDE\",\"\")","v":""}]
[false,false,null,"One or more sanitary sewer services likely will be replaced with project",null,null,null,null,null,null,null,{"$f":"IF(B144=TRUE,\"HIDE\",\"\")","v":""}]
[false,false,null,"Recommendation for improvements:",null,null,null,null,null,null,null,""]
[null,null,null,null,null,null,null,null,null,null,null,{"$f":"IF(B145=TRUE,\"HIDE\",\"\")","v":""}]
[null,null,"Storm sewer / Storm water management",null,null,null,null,null,null,null,null,{"$f":"IF(AND(B148=TRUE,B149=TRUE,B151=TRUE,B152=TRUE),\"HIDE\",\"\")","v":""}]
[false,false,null,"Reviewed televising videos in GIS; requested new video if older than 3 years",null,null,null,null,null,null,null,{"$f":"IF(B148=TRUE,\"HIDE\",\"\")","v":""}]
[false,false,null,"Pipe size, age and material verified",null,null,null,null,null,null,null,""]
[null,false,null,"Structures have been visually inspected",null,null,null,null,null,null,null,""]
[false,false,null,"Technical memo on drainage needed",null,null,null,null,null,null,null,""]
[false,false,null,"Project may change drainage patterns, and potential impacts have been considered",null,null,null,null,null,null,null,{"$f":"IF(B152=TRUE,\"HIDE\",\"\")","v":""}]
[false,false,null,"Recommendation for improvements:",null,null,null,null,null,null,null,{"$f":"IF(B153=TRUE,\"HIDE\",\"\")","v":""}]
[null,null,null,null,null,null,null,null,null,null,null,{"$f":"IF(B153=TRUE,\"HIDE\",\"\")","v":""}]
[null,null,"Water main",null,null,null,null,null,null,null,null,{"$f":"IF(AND(B156=TRUE,B158=TRUE,B159=TRUE,B160=TRUE,B162=TRUE,B164=TRUE,B166=TRUE),\"HIDE\",\"\")","v":""}]
[false,false,null,"Water Division notified of proposed project area; replacement ",null,null,null,null,null,null,null,{"$f":"IF(B156=TRUE,\"HIDE\",\"\")","v":""}]
[null,null,null,"recommendation obtained",null,null,null,null,null,null,null,{"$f":"IF(B156=TRUE,\"HIDE\",\"\")","v":""}]
[false,false,null,"Pipe size, age and material verified",null,null,null,null,null,null,null,{"$f":"IF(B158=TRUE,\"HIDE\",\"\")","v":""}]
[false,false,null,"Will the project expose or disturb water services?",null,null,null,null,null,null,null,{"$f":"IF(B159=TRUE,\"HIDE\",\"\")","v":""}]
[false,null,null,"If yes, contact Water Engineering to investigate existing service line materials.",null,null,null,null,null,null,null,{"$f":"IF(B159=TRUE,\"HIDE\",\"\")","v":""}]
[null,null,null,"If lead services are anticipated, then the project should include provisions to replace",null,null,null,null,null,null,null,{"$f":"IF(B159=TRUE,\"HIDE\",\"\")","v":""}]
[false,false,null,"these services and include letters to residents notifying them of the upcoming",null,null,null,null,null,null,null,{"$f":"IF(B159=TRUE,\"HIDE\",\"\")","v":""}]
[null,null,null,"service replacements.",null,null,null,null,null,null,null,{"$f":"IF(B159=TRUE,\"HIDE\",\"\")","v":""}]
[false,false,null,"Dead end water mains identified; potential for water main looping or hydrant ",null,null,null,null,null,null,null,""]
[null,null,null,"installation identified",null,null,null,null,null,null,null,{"$f":"IF(B164=TRUE,\"HIDE\",\"\")","v":""}]
[false,false,null,"Recommendation for improvements:",null,null,null,null,null,null,null,""]
[null,null,null,null,null,null,null,null,null,null,null,{"$f":"IF(B166=TRUE,\"HIDE\",\"\")","v":""}]
[null,null,"Bridge or culvert (describe)",null,null,null,null,null,null,null,null,{"$f":"IF(AND(B169=TRUE,B170=TRUE,B171=TRUE,B172=TRUE,B174=TRUE),\"HIDE\",\"\")","v":""}]
[false,false,null,"Bridge/culvert inspection report reviewed",null,null,null,null,null,null,null,{"$f":"IF(B169=TRUE,\"HIDE\",\"\")","v":""}]
[false,false,null,"Hydraulic analysis and/or design memorandums completed",null,null,null,null,null,null,null,""]
[false,false,null,"Bridge joints inspected",null,null,null,null,null,null,null,""]
[false,false,null,"Size, condition, age, material of bridge/culvert:",null,null,null,null,null,null,null,""]
[null,null,null,null,null,null,null,null,null,null,null,{"$f":"IF(B172=TRUE,\"HIDE\",\"\")","v":""}]
[false,false,null,"Recommendations for improvements:",null,null,null,null,null,null,null,{"$f":"IF(B174=TRUE,\"HIDE\",\"\")","v":""}]
[null,null,null,null,null,null,null,null,null,null,null,{"$f":"IF(B174=TRUE,\"HIDE\",\"\")","v":""}]
[null,null,"Traffic signal",null,null,null,null,null,null,null,null,{"$f":"IF(AND(B177=TRUE,B178=TRUE,B179=TRUE,B181=TRUE,B182=TRUE,B183=TRUE),\"HIDE\",\"\")","v":""}]
[false,false,null,"Age",null,null,null,null,null,null,null,{"$f":"IF(B177=TRUE,\"HIDE\",\"\")","v":""}]
[false,false,null,"Detection type",null,null,null,null,null,null,null,""]
[false,false,null,"Checked for ADA compliance",null,null,null,null,null,null,null,""]
[null,null,null,null,"Compliant?",null,"[Yes/No]",null,null,null,null,{"$f":"IF(B179=TRUE,\"HIDE\",\"\")","v":""}]
[false,false,null,"Traffic safety review completed",null,null,null,null,null,null,null,{"$f":"IF(B181=TRUE,\"HIDE\",\"\")","v":""}]
[false,false,null,"Need for Traffic & Safety technical memo determined:",null,null,null,null,null,"Choose one:",null,""]
[false,false,"Additional comments:",null,null,null,null,null,null,null,null,""]
[null,null,null,null,null,null,null,null,null,null,null,{"$f":"IF(B183=TRUE,\"HIDE\",\"\")","v":""}]
[]
["Stakeholder Impacts",null,null,null,null,null,null,null,null,null,null,{"$f":"IF(AND(B187=TRUE,B189=TRUE,B190=TRUE,B193=TRUE,B195=TRUE,B196=TRUE,B198=TRUE,B200=TRUE,B202=TRUE),\"HIDE\",\"\")","v":""}]
[false,false,"Schools, churches, hospitals, emergency services, etc. impacted by project, directly ",null,null,null,null,null,null,null,null,{"$f":"IF(B187=TRUE,\"HIDE\",\"\")","v":""}]
[null,null,"or indirectly",null,null,null,null,null,null,null,null,{"$f":"IF(B187=TRUE,\"HIDE\",\"\")","v":""}]
[false,false,"Businesses impacted by project, directly or indirectly",null,null,null,null,null,null,null,null,{"$f":"IF(B189=TRUE,\"HIDE\",\"\")","v":""}]
[false,false,"Contacted Special Events Committee* & checked with residents for annual events:",null,null,null,null,null,null,null,null,""]
[null,null,null,"Known events:",null,null,null,null,null,null,null,{"$f":"IF(B190=TRUE,\"HIDE\",\"\")","v":""}]
[null,null,null,"* Not necessary if the site is obviously not a home or pathway to events",null,null,null,null,null,null,null,{"$f":"IF(B190=TRUE,\"HIDE\",\"\")","v":""}]
[false,false,"Community concerns known/reported prior to project conception:",null,null,null,null,null,null,null,null,{"$f":"IF(B193=TRUE,\"HIDE\",\"\")","v":""}]
[null,null,null,null,null,null,null,null,null,null,null,{"$f":"IF(B193=TRUE,\"HIDE\",\"\")","v":""}]
[false,false,"Private development occuring adjacent to project area",null,null,null,null,null,null,null,null,{"$f":"IF(B195=TRUE,\"HIDE\",\"\")","v":""}]
[false,false,"List of major stakeholders impacted by project:",null,null,null,null,null,null,null,null,"","e.g. Businesses, schools, or property owners with extensive impacts to their land, etc"]
[null,null,null,null,null,null,null,null,null,null,null,{"$f":"IF(B196=TRUE,\"HIDE\",\"\")","v":""}]
[false,false,"List of community organizations with an interest in the project:",null,null,null,null,null,null,null,null,{"$f":"IF(B198=TRUE,\"HIDE\",\"\")","v":""}]
[null,null,null,null,null,null,null,null,null,null,null,{"$f":"IF(B198=TRUE,\"HIDE\",\"\")","v":""}]
[false,false,"Name(s) of railroad(s) impacted by project:",null,null,null,null,null,null,null,null,{"$f":"IF(B200=TRUE,\"HIDE\",\"\")","v":""}]
[null,null,null,null,null,null,null,null,null,null,null,{"$f":"IF(B200=TRUE,\"HIDE\",\"\")","v":""}]
[false,false,"Other:",null,null,null,null,null,null,null,null,{"$f":"IF(B202=TRUE,\"HIDE\",\"\")","v":""}]
[null,null,null,null,null,null,null,null,null,null,null,{"$f":"IF(B202=TRUE,\"HIDE\",\"\")","v":""}]
[null,null,null,null,null,null,null,null,null,null,null,{"$f":"IF(AND(B187=TRUE,B189=TRUE,B190=TRUE,B193=TRUE,B195=TRUE,B196=TRUE,B198=TRUE,B200=TRUE,B202=TRUE),\"HIDE\",\"\")","v":""}]
["Environmental Impacts",null,null,null,null,null,null,null,null,null,null,{"$f":"IF(AND(B206=TRUE,B207=TRUE,B208=TRUE,B210=TRUE,B211=TRUE,B213=TRUE,B214=TRUE,B215=TRUE,B216=TRUE),\"HIDE\",\"\")","v":""}]
[false,false,"Involves placement of fill in waters of the United States, including wetlands.",null,null,null,null,null,null,null,null,{"$f":"IF(B206=TRUE,\"HIDE\",\"\")","v":""},{"$f":"IF(A206=TRUE,\"Check Iowa DNR and US Army Corps of Engineers for regulatory requirements.\",\"\")","v":""}]
[false,false,"Affects a floodplain, floodway, wetlands and/or stream bank.",null,null,null,null,null,null,null,null,"",{"$f":"IF(A207=TRUE,\"Contact the Iowa Department of Natural Resources for regulatory requirements. The US Army Corps of Engineers may also need to be involved if on federal land.\",\"\")","v":""}]
[false,false,"Disturbs more than one acre of land (include all areas where soil will be exposed at ",null,null,null,null,null,null,null,null,"",{"$f":"IF(A208=TRUE,\"NPDES permit is required. Check the Iowa DNR website for the most recent permit application. Apply no later than one month prior to project letting.\",\"\")","v":""}]
[null,null,"any time to erosive forces).",null,null,null,null,null,null,null,null,{"$f":"IF(B208=TRUE,\"HIDE\",\"\")","v":""}]
[false,false,"Tree removals will be required.",null,null,null,null,null,null,null,null,{"$f":"IF(B210=TRUE,\"HIDE\",\"\")","v":""},{"$f":"IF(A210=TRUE,\"Review the US Fish and Wildlife Service's 4(d) rule regarding protections for the Northern Long-Eared Bat. Inquire with Public Works about their annual tree removal program to avoid infractions.\",\"\")","v":""}]
[false,false,"Is in proximity of known Federal or State threatened/endangered species, or their ",null,null,null,null,null,null,null,null,"",{"$f":"IF(A211=TRUE,\"Review the US Fish and Wildlife Service's and Iowa DNR's websites for a list of protected species in the area and adhere to regulatory requirements.\",\"\")","v":""}]
[null,null,"habitat, other than the Northern Long-Eared Bat.",null,null,null,null,null,null,null,null,{"$f":"IF(B211=TRUE,\"HIDE\",\"\")","v":""}]
[false,false,"Will involve the mitigation of known hazardous materials.",null,null,null,null,null,null,null,null,{"$f":"IF(B213=TRUE,\"HIDE\",\"\")","v":""},{"$f":"IF(A213=TRUE,\"A Phase I Environmental Site Assessment is likely required. ESA services may be included with PSAs; on-call ESA services are also under contract through Purchasing Division.\",\"\")","v":""}]
[false,false,"Underground storage tanks identified within project area",null,null,null,null,null,null,null,null,"",{"$f":"IF(A214=TRUE,\"A Phase I Environmental Site Assessment is likely required. ESA services may be included with PSAs; on-call ESA services are also under contract through Purchasing Division.\",\"\")","v":""}]
[false,false,"Leaking Underground Storage Tanks (LUSTs) within 500 ft of project limits",null,null,null,null,null,null,null,null,"",{"$f":"IF(A215=TRUE,\"A Phase I Environmental Site Assessment is likely required; check Iowa DNR requirements. ESA services may be included with PSAs; on-call ESA services are also under contract through Purchasing Division.\",\"\")","v":""}]
[false,false,"Will likely produce significant noise, air quality, or water quality impacts that may ",null,null,null,null,null,null,null,null,"",{"$f":"IF(A216=TRUE,\"Generate a plan for mitigating these concerns.\",\"\")","v":""}]
[null,null,"raise public concern, or warrant special mitigation measures.",null,null,null,null,null,null,null,null,{"$f":"IF(B216=TRUE,\"HIDE\",\"\")","v":""}]
[null,null,null,null,null,null,null,null,null,null,null,{"$f":"IF(AND(B206=TRUE,B207=TRUE,B208=TRUE,B210=TRUE,B211=TRUE,B213=TRUE,B214=TRUE,B215=TRUE,B216=TRUE),\"HIDE\",\"\")","v":""}]
["Anticipated Permit Needs",null,null,null,null,null,null,"Start Application",null,"Permit Obtained",null,{"$f":"IF(AND(B220=TRUE,B223=TRUE,B224=TRUE,B225=TRUE,B226=TRUE,B227=TRUE,B228=TRUE,B230=TRUE,B232=TRUE,B233=TRUE,B234=TRUE,B235=TRUE,B237=TRUE,B238=TRUE,B239=TRUE,B241=TRUE,B242=TRUE,B244=TRUE,B246=TRUE,B247=TRUE),\"HIDE\",\"\")","v":""}]
[false,{"$f":"IF(B207=TRUE,TRUE,FALSE)","v":false},"Flood Plain / Streambanks",null,null,null,null,null,null,null,null,{"$f":"IF(B220=TRUE,\"HIDE\",\"\")","v":""}]
[null,null,null,"IDNR, Linn Co. & City each have their own permits",null,null,null,null,null,null,null,{"$f":"IF(B220=TRUE,\"HIDE\",\"\")","v":""}]
[null,null,"Iowa Department of Natural Resources",null,null,null,null,null,null,null,null,{"$f":"IF(AND(B223=TRUE,B224=TRUE,B225=TRUE,B226=TRUE,B227=TRUE,B228=TRUE,B230=TRUE),\"HIDE\",\"\")","v":""}]
[false,false,null,"Water main construction",null,null,null,null,null,null,null,{"$f":"IF(B223=TRUE,\"HIDE\",\"\")","v":""}]
[false,false,null,"Sanitary sewer construction",null,null,null,null,null,null,null,""]
[false,{"$f":"IF(B206=TRUE,TRUE,FALSE)","v":false},null,"Fill placement in stream or river",null,null,null,null,null,null,null,""]
[false,false,null,"Stormwater discharge",null,null,null,null,null,null,null,""]
[false,{"$f":"IF(AND(B206=TRUE,B207=TRUE),TRUE,FALSE)","v":false},null,"404 wetlands permit (IDNR/USACE)",null,null,null,null,null,null,null,""]
[false,false,null,"Bat survey",null,null,null,null,null,null,null,""]
[null,false,null,"Rusty patched bumblebee",null,null,null,null,null,null,null,""]
[false,false,null,"[Other]",null,null,null,null,null,null,null,""]
[null,null,"Iowa Department of Transporation",null,null,null,null,null,null,null,null,{"$f":"IF(AND(B232=TRUE,B233=TRUE,B234=TRUE,B235=TRUE),\"HIDE\",\"\")","v":""}]
[false,false,null,"Utility accomodation",null,null,null,null,null,null,null,{"$f":"IF(B232=TRUE,\"HIDE\",\"\")","v":""}]
[false,false,null,"Work in State highway right of way",null,null,null,null,null,null,null,""]
[false,false,null,"Traffic control device application",null,null,null,null,null,null,null,""]
[false,false,null,"[Other]",null,null,null,null,null,null,null,""]
[null,null,"Linn County",null,null,null,null,null,null,null,null,{"$f":"IF(AND(B237=TRUE,B238=TRUE,B239=TRUE),\"HIDE\",\"\")","v":""}]
[false,false,null,"Work in County right of way",null,null,null,null,null,null,null,{"$f":"IF(B237=TRUE,\"HIDE\",\"\")","v":""}]
[false,false,null,"Utility accomodation",null,null,null,null,null,null,null,""]
[false,false,null,"[Other]",null,null,null,null,null,null,null,""]
[null,null,"FEMA",null,null,null,null,null,null,null,null,{"$f":"IF(AND(B241=TRUE,B242=TRUE),\"HIDE\",\"\")","v":""}]
[false,false,null,"Letter of Map Revision (LOMR)",null,null,null,null,null,null,null,{"$f":"IF(B241=TRUE,\"HIDE\",\"\")","v":""},"Required if the project would substantively alter the existing FEMA Flood Insurance Rate Map (FIRM), Flood Boundary Floodway Map (FBFM), or both"]
[false,false,null,"[Other]",null,null,null,null,null,null,null,""]
[null,null,"City",null,null,null,null,null,null,null,null,{"$f":"IF(B244=TRUE,\"HIDE\",\"\")","v":""}]
[false,false,null,"Building",null,null,null,null,null,null,null,{"$f":"IF(B244=TRUE,\"HIDE\",\"\")","v":""},"Construction phase permits are obtained by the low-bidder."]
[null,null,"Other Permits",null,null,null,null,null,null,null,null,{"$f":"IF(AND(B246=TRUE,B247=TRUE),\"HIDE\",\"\")","v":""}]
[false,false,null,"[Name of permit]",null,null,null,null,null,null,null,{"$f":"IF(B246=TRUE,\"HIDE\",\"\")","v":""}]
[false,false,null,"[Name of permit]",null,null,null,null,null,null,null,""]
[null,null,null,null,null,null,null,null,null,null,null,{"$f":"IF(AND(B220=TRUE,B223=TRUE,B224=TRUE,B225=TRUE,B226=TRUE,B227=TRUE,B228=TRUE,B230=TRUE,B232=TRUE,B233=TRUE,B234=TRUE,B235=TRUE,B237=TRUE,B238=TRUE,B239=TRUE,B241=TRUE,B242=TRUE,B244=TRUE,B246=TRUE,B247=TRUE),\"HIDE\",\"\")","v":""}]
["Historical / Archaeological Impacts",null,null,null,null,null,null,null,null,null,null,{"$f":"IF(AND(B250=TRUE,B251=TRUE,B252=TRUE,B254=TRUE,B256=TRUE,B257=TRUE,B258=TRUE),\"HIDE\",\"\")","v":""}]
[false,false,"Construction w/in undisturbed land (public or private), and/or new borrow areas.",null,null,null,null,null,null,null,null,{"$f":"IF(B250=TRUE,\"HIDE\",\"\")","v":""},{"$f":"IF(A250=TRUE,\"An archaeological assessment and/or survey is required. Important for new alignment and federal aid projects (SWAP applies). Contact the State Historic Preservation Office for guidance.\",\"\")","v":""}]
[false,false,"Project is in proximity to a known archaeological site (e.g. burial mounds).",null,null,null,null,null,null,null,null,"",{"$f":"IF(A251=TRUE,\"An archaeological assessment and/or survey is required. Important for new alignment and federal aid projects (SWAP applies). Contact the State Historic Preservation Office for guidance.\",\"\")","v":""}]
[false,{"$f":"IF(AND(B250=TRUE,B251=TRUE),TRUE,FALSE)","v":false},"Timeline for Archaeological Assessment established:",null,null,null,null,null,null,null,null,""]
[null,null,null,"Start:",null,null,"Finish:",null,null,null,null,{"$f":"IF(B252=TRUE,\"HIDE\",\"\")","v":""}]
[false,false,"Project will result in a substantive change to a house, building, bridge or other ",null,null,null,null,null,null,null,null,{"$f":"IF(B254=TRUE,\"HIDE\",\"\")","v":""},{"$f":"IF(A254=TRUE,\"If yes, AND using federal aid, contact the State Historic Preservation Office (SHPO) to satisfy preservation requirements. Phase 1 survey likely required. Keep the the local Historic Preservation Committee informed regardless of funding.\",\"\")","v":""}]
[null,null,"structure more than 50 years old, or to the land surrounding such structures.",null,null,null,null,null,null,null,null,{"$f":"IF(B254=TRUE,\"HIDE\",\"\")","v":""}]
[false,false,"Project is located within a Historic District",null,null,null,null,null,null,null,null,{"$f":"IF(B256=TRUE,\"HIDE\",\"\")","v":""},"Check: http://crgis.cedar-rapids.org/HDV/index.html"]
[false,false,"Project affects a cemetery",null,null,null,null,null,null,null,null,"",{"$f":"IF(A257=TRUE,\"Do everything possible to avoid impacting a gravesite. If this is impossible, contact the State Historic Preservation Office for guidance on moving a gravesite.\",\"\")","v":""}]
[false,false,"Local Historic Preservation Commission notified of potential impacts to sites of ",null,null,null,null,null,null,null,null,"",{"$f":"IF(A258=TRUE,\"Make a good faith effort to address the HPC's concerns. Please note, they do not have review authority over City projects.\",\"\")","v":""}]
[null,null,"historical value.",null,null,null,null,null,null,null,null,{"$f":"IF(B258=TRUE,\"HIDE\",\"\")","v":""},"HPC website."]
["Complete Streets",null,null,null,null,null,null,null,null,null,null,{"$f":"IF(AND(L261=\"HIDE\",L268=\"HIDE\",L289=\"HIDE\"),\"HIDE\",\"\")","v":""}]
[false,false,"I have reviewed the City's Complete Streets Policy for this project",null,null,null,null,null,null,null,null,{"$f":"IF(B261=TRUE,\"HIDE\",\"\")","v":""},"Link to Policy"]
[null,null,"Existing conditions",null,null,null,null,null,null,null,null,{"$f":"IF(AND(B263=TRUE,B264=TRUE,B265=TRUE),\"HIDE\",\"\")","v":""}]
[false,false,null,"Pedestrian Counts*",null,null,null,null,null,null,null,{"$f":"IF(B263=TRUE,\"HIDE\",\"\")","v":""},"Contact CRPW Traffic and/or the MPO for counts",null,null,null,null,"traffic@cedar-rapids.org",null,null,"www.corridormpo.com"]
[false,false,null,"Bicycle Counts*",null,null,null,null,null,null,null,"","Contact CRPW Traffic and/or the MPO for counts",null,null,null,null,"traffic@cedar-rapids.org",null,null,"www.corridormpo.com"]
[false,false,null,"A portion of the project area is a designated Truck Route",null,null,null,null,null,null,null,"","Truck routes"]
[null,null,null,"* If counts do not exist, PM may decide if they are necessary",null,null,null,null,null,null,null,{"$f":"IF(B265=TRUE,\"HIDE\",\"\")","v":""}]
[null,null,null,null,null,null,null,null,null,null,null,{"$f":"IF(AND(B263=TRUE,B264=TRUE,B265=TRUE),\"HIDE\",\"\")","v":""}]
[null,null,"Sidewalks and Pedestrian Facilities",null,null,null,null,null,null,null,null,{"$f":"IF(AND(B269=TRUE,B272=TRUE,B273=TRUE,B274=TRUE,B275=TRUE,B277=TRUE,B279=TRUE,B283=TRUE,B285=TRUE),\"HIDE\",\"\")","v":""}]
[false,false,null,"A portion of the project area is included in the Pedestrian Master Plan",null,null,null,null,null,null,null,{"$f":"IF(B269=TRUE,\"HIDE\",\"\")","v":""},"Pedestrian Master Plan"]
[null,null,null,null,"If yes, specify area(s) and its prioritization in the Plan:",null,null,null,null,null,null,{"$f":"IF(B269=TRUE,\"HIDE\",\"\")","v":""}]
[null,null,null,null,null,null,null,null,null,null,null,{"$f":"IF(B269=TRUE,\"HIDE\",\"\")","v":""}]
[false,false,null,"A portion of the project area has partially completed sidewalk / gaps",null,null,null,null,null,null,null,{"$f":"IF(B272=TRUE,\"HIDE\",\"\")","v":""}]
[false,false,null,"A portion of the project area is near/adjacent to a bus route/park/school",null,null,null,null,null,null,null,"","Bus routes"]
[false,false,null,null,"Checked to see if bus stop pads meet SUDAS/ADA standards",null,null,null,null,null,null,"","SUDAS: See Design Chapter 12A",null,null,null,"ADA Standards for Accessible Design"]
[false,false,null,"Existing sidewalk, ramps and crossings in the project area checked for ADA ",null,null,null,null,null,null,null,"","SUDAS: See Design Chapter 12A",null,null,null,"ADA Standards for Accessible Design"]
[null,null,null,"compliance.",null,null,null,null,null,null,null,{"$f":"IF(B275=TRUE,\"HIDE\",\"\")","v":""}]
[false,false,null,"Existing crossing signal heads and pedestals checked for compliance with City ",null,null,null,null,null,null,null,{"$f":"IF(B277=TRUE,\"HIDE\",\"\")","v":""},"See Cedar Rapids Supplemental to SUDAS Section CR-8010"]
[null,null,null,"standards.",null,null,null,null,null,null,null,{"$f":"IF(B277=TRUE,\"HIDE\",\"\")","v":""}]
[false,false,null,"The feasibility of adding Complete Streets elements to the project area, ",null,null,null,null,null,null,null,{"$f":"IF(B279=TRUE,\"HIDE\",\"\")","v":""}]
[null,null,null,"including, but not limited to crosswalks, bump-outs, speed tables, ADA ",null,null,null,null,null,null,null,{"$f":"IF(B279=TRUE,\"HIDE\",\"\")","v":""}]
[null,null,null,"parking, protected parking and other protective features for pedestrians, was ",null,null,null,null,null,null,null,{"$f":"IF(B279=TRUE,\"HIDE\",\"\")","v":""}]
[null,null,null,"considered.",null,null,null,null,null,null,null,{"$f":"IF(B279=TRUE,\"HIDE\",\"\")","v":""}]
[false,false,null,"The following scope is recommended for inclusion in the project:",null,null,null,null,null,null,null,{"$f":"IF(B283=TRUE,\"HIDE\",\"\")","v":""}]
[null,null,null,null,null,null,null,null,null,null,null,{"$f":"IF(B283=TRUE,\"HIDE\",\"\")","v":""}]
[false,false,null,"Sidewalk scope was considered, but not included in the project, for the ",null,null,null,null,null,null,null,{"$f":"IF(B285=TRUE,\"HIDE\",\"\")","v":""}]
[null,null,null,"following reasons:",null,null,null,null,null,null,null,{"$f":"IF(B285=TRUE,\"HIDE\",\"\")","v":""}]
[null,null,null,null,null,null,null,null,null,null,null,{"$f":"IF(B285=TRUE,\"HIDE\",\"\")","v":""}]
[null,null,null,null,null,null,null,null,null,null,null,{"$f":"IF(AND(B269=TRUE,B272=TRUE,B273=TRUE,B274=TRUE,B275=TRUE,B277=TRUE,B279=TRUE,B283=TRUE,B285=TRUE),\"HIDE\",\"\")","v":""}]
[null,null,"Trails / Bicycles",null,null,null,null,null,null,null,null,{"$f":"IF(AND(B290=TRUE,B293=TRUE,B295=TRUE,B297=TRUE,B299=TRUE),\"HIDE\",\"\")","v":""}]
[false,false,null,"A portion of the project area is included in the Comprehensive Trails Map. The ",null,null,null,null,null,null,null,{"$f":"IF(B290=TRUE,\"HIDE\",\"\")","v":""},"Comprehensive Trails Map (updated 2015)"]
[null,null,null,"Map recommended:",null,null,null,null,null,null,null,{"$f":"IF(B290=TRUE,\"HIDE\",\"\")","v":""}]
[null,null,null,null,null,null,null,null,null,null,null,{"$f":"IF(B290=TRUE,\"HIDE\",\"\")","v":""}]
[false,false,null,"Traffic speeds, volumes, and existing road width support the ",null,null,null,null,null,null,null,{"$f":"IF(B293=TRUE,\"HIDE\",\"\")","v":""}]
[null,null,null,"addition/continuation of bike lanes",null,null,null,null,null,null,null,{"$f":"IF(B293=TRUE,\"HIDE\",\"\")","v":""}]
[false,false,null,"The need for trail and bike-related facilities was considered (e.g. bike racks, ",null,null,null,null,null,null,null,""]
[null,null,null,"trail heads, etc)",null,null,null,null,null,null,null,{"$f":"IF(B295=TRUE,\"HIDE\",\"\")","v":""}]
[false,false,null,"The following scope is recommended for inclusion in the project:",null,null,null,null,null,null,null,{"$f":"IF(B297=TRUE,\"HIDE\",\"\")","v":""}]
[null,null,null,null,null,null,null,null,null,null,null,{"$f":"IF(B297=TRUE,\"HIDE\",\"\")","v":""}]
[false,false,null,"Trail/bicycle scope was considered, but not included in the project, for the ",null,null,null,null,null,null,null,{"$f":"IF(B299=TRUE,\"HIDE\",\"\")","v":""}]
[null,null,null,"following reasons:",null,null,null,null,null,null,null,{"$f":"IF(B299=TRUE,\"HIDE\",\"\")","v":""}]
[null,null,null,null,null,null,null,null,null,null,null,{"$f":"IF(B299=TRUE,\"HIDE\",\"\")","v":""}]
[null,null,null,null,null,null,null,null,null,null,null,{"$f":"IF(AND(B290=TRUE,B293=TRUE,B295=TRUE,B297=TRUE,B299=TRUE),\"HIDE\",\"\")","v":""}]
["Street Lighting",null,null,null,null,null,null,null,null,null,null,{"$f":"IF(AND(B304=TRUE,B305=TRUE,B306=TRUE,B307=TRUE),\"HIDE\",\"\")","v":""}]
[false,false,"The project area meets recommended illuminance values per SUDAS Chapter 11",null,null,null,null,null,null,null,null,{"$f":"IF(B304=TRUE,\"HIDE\",\"\")","v":""},"SUDAS"]
[false,false,"The project area utilizes recommended light sources per SUDAS Chapter 11",null,null,null,null,null,null,null,null,"","SUDAS"]
[false,false,"Existing light poles/fixtures require maintenance/replacement",null,null,null,null,null,null,null,null,""]
[false,false,"Recommended lighting scope for this project includes:",null,null,null,null,null,null,null,null,""]
[null,null,null,null,null,null,null,null,null,null,null,{"$f":"IF(B307=TRUE,\"HIDE\",\"\")","v":""}]
["Master Plan Review"]
[null,null,"The project area has been compared to the following master plans for overlapping interests:"]
[false,false,null,"Paving for Progress 10-Year Plan",null,null,null,null,null,null,null,{"$f":"IF(B311=TRUE,\"HIDE\",\"\")","v":""},"Compare if the project involves or is adjacent to an existing roadway"]
[false,false,null,"Sanitary Sewer Master Plan",null,null,null,null,null,null,null,"","Always compare; Hydraulic maps showing bottlenecks for 5-year storms are available on Infrastructure Viewer"]
[false,false,null,"Stormwater Master Plan",null,null,null,null,null,null,null,"","Always compare; Hydraulic maps showing bottlenecks for 5-year storms are available on Infrastructure Viewer"]
[false,false,null,"Flood Control System Master Plan",null,null,null,null,null,null,null,"","Compare if the project area is in proximity to the Cedar River"]
[false,false,null,"Growth Plans for Storm Sewer",null,null,null,null,null,null,null,"","Always compare. Sanitary Sewer growth plan not available online. Request from City project manager if applicable."]
[false,false,null,"Corridor MPO \"Connections\" Long-Range Plans",null,null,null,null,null,null,null,"","Compare if the project area is a major arterial, or is adjacent to a major arterial"]
[false,false,null,"Community Development Area Action Plans",null,null,null,null,null,null,null,""]
[false,false,null,"Community Development Neighborhood Plans",null,null,null,null,null,null,null,""]
[false,false,null,"Community Development Corridor Action Plans",null,null,null,null,null,null,null,""]
[false,false,null,"Med-Q (Medical Quarter) District Plan",null,null,null,null,null,null,null,"","Compare if the project area is in the downtown area"]
[false,false,null,"Parks and Rec Master Plan",null,null,null,null,null,null,null,"","Compare if the project area is adjacent to a City park"]
[false,false,null,"Envision CR",null,null,null,null,null,null,null,"","Always compare"]
[false,false,null,"Cedar Rapids Right-of-Way Style Guide [COMING SOON]",null,null,null,null,null,null,null,"","Compare if the project plans to incorporate any type of aesthetic improvement, including pavers (for color selection)"]
[false,false,null,"Transportation Master Plan [COMING SOON]",null,null,null,null,null,null,null,"","Always compare"]
[null,null,null,"Pedestrian Master Plan - See Complete Streets"]
[null,null,null,"Comprehensive Trails Map - See Complete Streets"]
[false,false,null,"Community Climate Action Plan",null,null,null,null,null,null,null,{"$f":"IF(B327=TRUE,\"HIDE\",\"\")","v":""},"Always compare"]
[]
["Other Impacts",null,null,null,null,null,null,null,null,null,null,{"$f":"IF(AND(B330=TRUE,B332=TRUE,B333=TRUE,B334=TRUE,B336=TRUE,B338=TRUE),\"HIDE\",\"\")","v":""}]
[false,false,"Checked for existing 28E Agreements",null,null,null,null,null,null,null,null,{"$f":"IF(B330=TRUE,\"HIDE\",\"\")","v":""},"A 28E is an agreement btwn governmental/quasi-governmental agencies, e.g. Linn County, Cedar Rapids School District, etc. Agreements can be found in the City's OnBase electronic filing system."]
[false,false,"This project is Road Use Tax (RUT) Eligible",null,null,null,null,null,null,null,null,{"$f":"IF(B331=TRUE,\"HIDE\",\"\")","v":""}]
[false,false,"Will bid on the Department of Transportation's schedule rather than the City's.",null,null,null,null,null,null,null,null,{"$f":"IF(B332=TRUE,\"HIDE\",\"\")","v":""}]
[false,false,"Directly impacts a national commercial retail chain.",null,null,null,null,null,null,null,null,""]
[false,false,"Construction area is subject to restricted access.",null,null,null,null,null,null,null,null,""]
[null,null,null,"Describe:",null,null,null,null,null,null,null,{"$f":"IF(B334=TRUE,\"HIDE\",\"\")","v":""}]
[false,false,"Construction area is subject to deed restrictions.",null,null,null,null,null,null,null,null,{"$f":"IF(B336=TRUE,\"HIDE\",\"\")","v":""}]
[null,null,null,"Describe:",null,null,null,null,null,null,null,{"$f":"IF(B336=TRUE,\"HIDE\",\"\")","v":""}]
[false,false,"Special construction considerations:",null,null,null,null,null,null,null,null,{"$f":"IF(B338=TRUE,\"HIDE\",\"\")","v":""}]
[null,null,null,null,null,null,null,null,null,null,null,{"$f":"IF(B338=TRUE,\"HIDE\",\"\")","v":""}]
[null,null,null,null,null,null,null,null,null,null,null,{"$f":"IF(AND(B330=TRUE,B332=TRUE,B333=TRUE,B334=TRUE,B336=TRUE,B338=TRUE),\"HIDE\",\"\")","v":""}]
["Utilities Located Within Project Area",null,null,null,null,null,null,null,null,null,null,{"$f":"IF(AND(B342=TRUE,B367=TRUE,B368=TRUE),\"HIDE\",\"\")","v":""}]
[false,false,"A utility is/may possibly be in conflict with proposed improvements",null,null,null,null,null,null,null,null,{"$f":"IF(B342=TRUE,\"HIDE\",\"\")","v":""}]
[null,null,"Number of Utilities possibly in conflict:",null,null,null,null,"Choose One:"]
[null,null,null,null,null,null,null,null,null,null,null,{"$f":"IF(B342=TRUE,\"HIDE\",\"\")","v":""}]
[null,null,"Utility Type (e.g. Gas)",null,null,"Utility Owner",null,null,null,"Date Locates Requested","Date Maps Requested",{"$f":"IF(B342=TRUE,\"HIDE\",\"\")","v":""}]
[null,null,null,null,null,null,null,null,null,null,null,{"$f":"IF(H343=\"Choose One\",\"\",IF(H343=0,\"HIDE\",\"\"))","v":""}]
[null,null,null,null,null,null,null,null,null,null,null,{"$f":"IF(H343=\"Choose One\",\"\",IF(H343<2,\"HIDE\",\"\"))","v":""}]
[null,null,null,null,null,null,null,null,null,null,null,{"$f":"IF(H343=\"Choose One\",\"\",IF(H343<3,\"HIDE\",\"\"))","v":""}]
[null,null,null,null,null,null,null,null,null,null,null,{"$f":"IF(H343=\"Choose One\",\"\",IF(H343<4,\"HIDE\",\"\"))","v":""}]
[null,null,null,null,null,null,null,null,null,null,null,{"$f":"IF(H343=\"Choose One\",\"\",IF(H343<5,\"HIDE\",\"\"))","v":""}]
[null,null,null,null,null,null,null,null,null,null,null,{"$f":"IF(H343=\"Choose One\",\"\",IF(H343<6,\"HIDE\",\"\"))","v":""}]
[null,null,null,null,null,null,null,null,null,null,null,{"$f":"IF(H343=\"Choose One\",\"\",IF(H343<7,\"HIDE\",\"\"))","v":""}]
[null,null,null,null,null,null,null,null,null,null,null,{"$f":"IF(H343=\"Choose One\",\"\",IF(H343<8,\"HIDE\",\"\"))","v":""}]
[null,null,null,null,null,null,null,null,null,null,null,{"$f":"IF(H343=\"Choose One\",\"\",IF(H343<9,\"HIDE\",\"\"))","v":""}]
[null,null,null,null,null,null,null,null,null,null,null,{"$f":"IF(H343=\"Choose One\",\"\",IF(H343<10,\"HIDE\",\"\"))","v":""}]
[null,null,null,null,null,null,null,null,null,null,null,{"$f":"IF(H343=\"Choose One\",\"\",IF(H343<11,\"HIDE\",\"\"))","v":""}]
[null,null,null,null,null,null,null,null,null,null,null,{"$f":"IF(H343=\"Choose One\",\"\",IF(H343<12,\"HIDE\",\"\"))","v":""}]
[null,null,null,null,null,null,null,null,null,null,null,{"$f":"IF(H343=\"Choose One\",\"\",IF(H343<13,\"HIDE\",\"\"))","v":""}]
[null,null,null,null,null,null,null,null,null,null,null,{"$f":"IF(H343=\"Choose One\",\"\",IF(H343<14,\"HIDE\",\"\"))","v":""}]
[null,null,null,null,null,null,null,null,null,null,null,{"$f":"IF(H343=\"Choose One\",\"\",IF(H343<15,\"HIDE\",\"\"))","v":""}]
[null,null,null,null,null,null,null,null,null,null,null,{"$f":"IF(H343=\"Choose One\",\"\",IF(H343<16,\"HIDE\",\"\"))","v":""}]
[null,null,null,null,null,null,null,null,null,null,null,{"$f":"IF(H343=\"Choose One\",\"\",IF(H343<17,\"HIDE\",\"\"))","v":""}]
[null,null,null,null,null,null,null,null,null,null,null,{"$f":"IF(H343=\"Choose One\",\"\",IF(H343<18,\"HIDE\",\"\"))","v":""}]
[null,null,null,null,null,null,null,null,null,null,null,{"$f":"IF(H343=\"Choose One\",\"\",IF(H343<19,\"HIDE\",\"\"))","v":""}]
[null,null,null,null,null,null,null,null,null,null,null,{"$f":"IF(H343=\"Choose One\",\"\",IF(H343<20,\"HIDE\",\"\"))","v":""}]
[]
[false,{"$f":"IF(B342=TRUE,TRUE,FALSE)","v":false},"Locates and maps requested for all utilities located within project area",null,null,null,null,null,null,null,null,{"$f":"IF(B367=TRUE,\"HIDE\",\"\")","v":""}]
[false,{"$f":"IF(B342=TRUE,TRUE,FALSE)","v":false},"Private utility easements within project area located",null,null,null,null,null,null,null,null,""]
[]
[]
[]
[]
[null,null,"Now that you've further explored your project needs, hit \"Hide\" again to further narrow down the list of checklist items you need to review, here, and in downstream checklists."]
[]
["CIP Statement Form Sign-Off"]
["By signing their name below, the Designer acknowledges stakeholders affected by the"]
["project have been contacted, and given a reasonable opportunity to provide their input"]
["and buy-in on the project's initial scope of work."]
[]
[]
[null,null,"Designer"]
[]
["By signing their name below, the City's Project Manager (if different from the Designer) has"]
["reviewed the project's background information and initial proposed scope, provided their"]
["feedback, and has a good sense of the project's initial direction."]
[]
[]
[]
[null,null,"City Project Manager"]
[]
["By signing their name below, the Program Manager responsible for the Project Manager has"]
["reviewed the project's details, initial scope, available funds, and has provided their buy-in"]
["on the project's initial direction."]
[]
[]
[]
[null,null,"City Program Manager"]

{"sheet":"EOPC","index":2,"n_rows":325,"n_cols":27,"rows_kept":325,"cut":false,"hidden":false,"merged":[[1,3,1,4],[19,2,20,2],[17,2,18,2],[17,3,18,5],[2,3,2,4],[3,3,3,4],[4,3,4,4],[5,3,5,4],[6,3,6,4],[7,3,7,4],[8,3,8,4],[9,3,9,4],[10,3,10,4],[11,3,11,4],[16,9,16,10],[17,9,18,10],[19,9,20,10],[19,3,20,5],[17,6,18,6],[19,6,20,6],[15,25,15,26],[16,25,16,26],[17,25,18,26],[19,25,20,26],[15,19,15,20],[16,19,16,20],[17,19,18,20],[19,19,20,20],[15,21,15,22],[16,21,16,22],[17,21,18,22],[19,21,20,22],[1,8,2,14],[15,23,15,24],[16,23,16,24],[17,23,18,24],[19,23,20,24],[15,15,15,16],[16,15,16,16],[17,15,18,16],[19,15,20,16],[15,17,15,18],[16,17,16,18],[17,17,18,18],[19,17,20,18],[15,11,15,12],[16,11,16,12],[17,11,18,12],[11,13,12,14],[11,15,12,17],[4,8,4,9],[5,8,5,9],[6,8,6,9],[7,8,7,9],[8,8,8,9],[15,0,15,1],[16,0,17,1],[18,0,18,1],[19,0,20,1],[14,0,14,14],[15,2,16,5],[19,11,20,12],[15,13,15,14],[16,13,16,14],[17,13,18,14],[19,13,20,14],[16,7,16,8],[17,7,18,8],[19,7,20,8],[15,7,15,8],[15,9,15,10]]}
[]
["Submission Level Requirements",null,null,"Funding Division",null,"Describe","CIP Number",null,"The spreadsheet recommends percentages based on the EOPC. These can be overwritten if desired based on project requirements."]
[null,"Preliminary - Divisions and CIP numbers are not yet required.",null,"Division 1",null,"e.g. Roadway"]
[null,"   You may list all quantities under Division 1.",null,"Division 2"]
[null,"Intermediate - Divisions (e.g. roadway, sewer, IDOT, etc)",null,"Division 3",null,null,null,null,"Who is the Designer?",null,"Choose One:"]
[null,"   should be established, but CIP numbers are not yet required.",null,"Division 4",null,null,null,null,"Construction Administration",null,{"$f":"IF(D18=0,\"EOPC Needed\",IF(D18<250000,3,IF(D18<1000000,2,1)))","v":"EOPC Needed"},"%"]
[null,"Final - Divisions and CIP numbers should be established.",null,"Division 5",null,null,null,null,"Design",null,{"$f":"IF(K5=\"Choose One:\",\"Choose Designer\",IF(K5=\"City Staff\",IF(D18=0,\"EOPC Needed\",IF(D18<250000,9,IF(D18<1000000,6,4))),IF(D18=0,\"EOPC Needed\",IF(D18<250000,18,IF(D18<1000000,14,10)))))","v":"Choose Designer"},"%"]
[null,null,null,"Division 6",null,null,null,null,"Construction Inspection",null,{"$f":"IF(D18=0,\"EOPC Needed\",IF(D18<250000,6,IF(D18<1000000,4,3)))","v":"EOPC Needed"},"%"]
["Resources",null,null,"Division 7",null,null,null,null,"Construction Contingency",null,10,"%"]
[null,"Protected cells may be unlocked by going to \"Review\" in the",null,"Division 8"]
[null,"   ribbon up top, and choosing \"Unprotect Sheet.\"",null,"Division 9"]
[null,null,null,"Division 10",null,null,null,null,null,null,null,null,null,"Unhide columns P - AA to see Divisions 5 - 10",null,"You need to reset the printing area to make these pages visible when printed"]
[]
[]
["ENGINEER'S ESTIMATE OF PROBABLE COST"]
["Revision Date:",null,{"$f":"'CIP Statement Form'!E11","v":0},null,null,null,null,{"$f":"IF(G3=0,\"CIP # Pending\",G3)","v":"CIP # Pending"},null,{"$f":"IF(G4=0,\"CIP # Pending\",G4)","v":"CIP # Pending"},null,{"$f":"IF(G5=0,\"CIP # Pending\",G5)","v":"CIP # Pending"},null,{"$f":"IF(G6=0,\"CIP # Pending\",G6)","v":"CIP # Pending"},null,{"$f":"IF(G7=0,\"CIP # Pending\",G7)","v":"CIP # Pending"},null,{"$f":"IF(G8=0,\"CIP # Pending\",G8)","v":"CIP # Pending"},null,{"$f":"IF(G9=0,\"CIP # Pending\",G9)","v":"CIP # Pending"},null,{"$f":"IF(G10=0,\"CIP # Pending\",G10)","v":"CIP # Pending"},null,{"$f":"IF(G11=0,\"CIP # Pending\",G11)","v":"CIP # Pending"},null,{"$f":"IF(G12=0,\"CIP # Pending\",G12)","v":"CIP # Pending"}]
[null,null,null,null,null,null,null,{"$f":"IF(OR($F3=0,$F3=\"e.g. Roadway\"),\"TBD\",$F3)","v":"TBD"},null,{"$f":"IF($F4=0,\"TBD\",$F4)","v":"TBD"},null,{"$f":"IF($F5=0,\"TBD\",$F5)","v":"TBD"},null,{"$f":"IF($F6=0,\"TBD\",$F6)","v":"TBD"},null,{"$f":"IF($F7=0,\"TBD\",$F7)","v":"TBD"},null,{"$f":"IF($F8=0,\"TBD\",$F8)","v":"TBD"},null,{"$f":"IF($F9=0,\"TBD\",$F9)","v":"TBD"},null,{"$f":"IF($F10=0,\"TBD\",$F10)","v":"TBD"},null,{"$f":"IF($F11=0,\"TBD\",$F11)","v":"TBD"},null,{"$f":"IF($F12=0,\"TBD\",$F12)","v":"TBD"}]
[null,null,"Engineer's Opinion of Probable Cost",{"$f":"SUM(EOPC[TOTAL ESTIMATE])","v":0},null,null,"Division OPC:",{"$f":"SUM(EOPC[DIV 1 ESTIMATE])","v":0},null,{"$f":"SUM(EOPC[DIV 2 ESTIMATE])","v":0},null,{"$f":"SUM(EOPC[DIV 3 ESTIMATE])","v":0},null,{"$f":"SUM(EOPC[DIV 4 ESTIMATE])","v":0},null,{"$f":"SUM(EOPC[DIV 5 ESTIMATE])","v":0},null,{"$f":"SUM(EOPC[DIV 6 ESTIMATE])","v":0},null,{"$f":"SUM(EOPC[DIV 7 ESTIMATE])","v":0},null,{"$f":"SUM(EOPC[DIV 8 ESTIMATE])","v":0},null,{"$f":"SUM(EOPC[DIV 9 ESTIMATE])","v":0},null,{"$f":"SUM(EOPC[DIV 10 ESTIMATE])","v":0}]
["Revised By:"]
[null,null,"Recommended Budget Allocation",{"$f":"SUM(H20:AA21)","v":0},null,null,"Division Budget:",{"$f":"IFERROR(H18+($K$6/100)*H18+($K$7/100)*H18+($K$8/100)*H18+($K$9/100)*H18,\"Missing Information\")","v":"Missing Information"},null,{"$f":"IFERROR(J18+($K$6/100)*J18+($K$7/100)*J18+($K$8/100)*J18+($K$9/100)*J18,\"Missing Information\")","v":"Missing Information"},null,{"$f":"IFERROR(L18+($K$6/100)*L18+($K$7/100)*L18+($K$8/100)*L18+($K$9/100)*L18,\"Missing Information\")","v":"Missing Information"},null,{"$f":"IFERROR(N18+($K$6/100)*N18+($K$7/100)*N18+($K$8/100)*N18+($K$9/100)*N18,\"Missing Information\")","v":"Missing Information"},null,{"$f":"IFERROR(P18+($K$6/100)*P18+($K$7/100)*P18+($K$8/100)*P18+($K$9/100)*P18,\"Missing Information\")","v":"Missing Information"},null,{"$f":"IFERROR(R18+($K$6/100)*R18+($K$7/100)*R18+($K$8/100)*R18+($K$9/100)*R18,\"Missing Information\")","v":"Missing Information"},null,{"$f":"IFERROR(T18+($K$6/100)*T18+($K$7/100)*T18+($K$8/100)*T18+($K$9/100)*T18,\"Missing Information\")","v":"Missing Information"},null,{"$f":"IFERROR(V18+($K$6/100)*V18+($K$7/100)*V18+($K$8/100)*V18+($K$9/100)*V18,\"Missing Information\")","v":"Missing Information"},null,{"$f":"IFERROR(X18+($K$6/100)*X18+($K$7/100)*X18+($K$8/100)*X18+($K$9/100)*X18,\"Missing Information\")","v":"Missing Information"},null,{"$f":"IFERROR(Z18+($K$6/100)*Z18+($K$7/100)*Z18+($K$8/100)*Z18+($K$9/100)*Z18,\"Missing Information\")","v":"Missing Information"}]
[]
[null,null,null,"Do Not Edit This Column",null,null,"Do Not Edit This Column",null,"Do Not Edit This Column",null,"Do Not Edit This Column",null,"Do Not Edit This Column",null,"Do Not Edit This Column",null,"Do Not Edit This Column",null,"Do Not Edit This Column",null,"Do Not Edit This Column",null,"Do Not Edit This Column",null,"Do Not Edit This Column",null,"Do Not Edit This Column"]
["ITEM NO.","ITEM CODE","ITEM","TOTAL QTY","UNIT","UNIT PRICE","TOTAL ESTIMATE","DIV 1 QTY","DIV 1 ESTIMATE","DIV 2 QTY","DIV 2 ESTIMATE","DIV 3 QTY","DIV 3 ESTIMATE","DIV 4 QTY","DIV 4 ESTIMATE","DIV 5 QTY","DIV 5 ESTIMATE","DIV 6 QTY","DIV 6 ESTIMATE","DIV 7 QTY","DIV 7 ESTIMATE","DIV 8 QTY","DIV 8 ESTIMATE","DIV 9 QTY","DIV 9 ESTIMATE","DIV 10 QTY","DIV 10 ESTIMATE"]
[null,null,null,{"$f":"EOPC[[#This Row],[DIV 1 QTY]]+EOPC[[#This Row],[DIV 2 QTY]]+EOPC[[#This Row],[DIV 3 QTY]]+EOPC[[#This Row],[DIV 4 QTY]]+EOPC[[#This Row],[DIV 5 QTY]]+EOPC[[#This Row],[DIV 6 QTY]]+EOPC[[#This Row],[DIV 7 QTY]]+EOPC[[#This Row],[DIV 8 QTY]]+EOPC[[#This Row],[DIV 9 QTY]]+EOPC[[#This Row],[DIV 10 QTY]]","v":0},null,0,{"$f":"EOPC[[#This Row],[TOTAL QTY]]*EOPC[[#This Row],[UNIT PRICE]]","v":0},null,{"$f":"EOPC[[#This Row],[UNIT PRICE]]*EOPC[[#This Row],[DIV 1 QTY]]","v":0},null,{"$f":"EOPC[[#This Row],[UNIT PRICE]]*EOPC[[#This Row],[DIV 2 QTY]]","v":0},null,{"$f":"EOPC[[#This Row],[UNIT PRICE]]*EOPC[[#This Row],[DIV 3 QTY]]","v":0},null,{"$f":"EOPC[[#This Row],[UNIT PRICE]]*EOPC[[#This Row],[DIV 4 QTY]]","v":0},null,{"$f":"EOPC[[#This Row],[UNIT PRICE]]*EOPC[[#This Row],[DIV 5 QTY]]","v":0},null,{"$f":"EOPC[[#This Row],[UNIT PRICE]]*EOPC[[#This Row],[DIV 6 QTY]]","v":0},null,{"$f":"EOPC[[#This Row],[UNIT PRICE]]*EOPC[[#This Row],[DIV 7 QTY]]","v":0},null,{"$f":"EOPC[[#This Row],[UNIT PRICE]]*EOPC[[#This Row],[DIV 8 QTY]]","v":0},null,{"$f":"EOPC[[#This Row],[UNIT PRICE]]*EOPC[[#This Row],[DIV 9 QTY]]","v":0},null,{"$f":"EOPC[[#This Row],[UNIT PRICE]]*EOPC[[#This Row],[DIV 10 QTY]]","v":0}]
[null,null,null,{"$f":"EOPC[[#This Row],[DIV 1 QTY]]+EOPC[[#This Row],[DIV 2 QTY]]+EOPC[[#This Row],[DIV 3 QTY]]+EOPC[[#This Row],[DIV 4 QTY]]+EOPC[[#This Row],[DIV 5 QTY]]+EOPC[[#This Row],[DIV 6 QTY]]+EOPC[[#This Row],[DIV 7 QTY]]+EOPC[[#This Row],[DIV 8 QTY]]+EOPC[[#This Row],[DIV 9 QTY]]+EOPC[[#This Row],[DIV 10 QTY]]","v":0},null,0,{"$f":"EOPC[[#This Row],[TOTAL QTY]]*EOPC[[#This Row],[UNIT PRICE]]","v":0},null,{"$f":"EOPC[[#This Row],[UNIT PRICE]]*EOPC[[#This Row],[DIV 1 QTY]]","v":0},null,{"$f":"EOPC[[#This Row],[UNIT PRICE]]*EOPC[[#This Row],[DIV 2 QTY]]","v":0},null,{"$f":"EOPC[[#This Row],[UNIT PRICE]]*EOPC[[#This Row],[DIV 3 QTY]]","v":0},null,{"$f":"EOPC[[#This Row],[UNIT PRICE]]*EOPC[[#This Row],[DIV 4 QTY]]","v":0},null,{"$f":"EOPC[[#This Row],[UNIT PRICE]]*EOPC[[#This Row],[DIV 5 QTY]]","v":0},null,{"$f":"EOPC[[#This Row],[UNIT PRICE]]*EOPC[[#This Row],[DIV 6 QTY]]","v":0},null,{"$f":"EOPC[[#This Row],[UNIT PRICE]]*EOPC[[#This Row],[DIV 7 QTY]]","v":0},null,{"$f":"EOPC[[#This Row],[UNIT PRICE]]*EOPC[[#This Row],[DIV 8 QTY]]","v":0},null,{"$f":"EOPC[[#This Row],[UNIT PRICE]]*EOPC[[#This Row],[DIV 9 QTY]]","v":0},null,{"$f":"EOPC[[#This Row],[UNIT PRICE]]*EOPC[[#This Row],[DIV 10 QTY]]","v":0}]
[null,null,null,{"$f":"EOPC[[#This Row],[DIV 1 QTY]]+EOPC[[#This Row],[DIV 2 QTY]]+EOPC[[#This Row],[DIV 3 QTY]]+EOPC[[#This Row],[DIV 4 QTY]]+EOPC[[#This Row],[DIV 5 QTY]]+EOPC[[#This Row],[DIV 6 QTY]]+EOPC[[#This Row],[DIV 7 QTY]]+EOPC[[#This Row],[DIV 8 QTY]]+EOPC[[#This Row],[DIV 9 QTY]]+EOPC[[#This Row],[DIV 10 QTY]]","v":0},null,0,{"$f":"EOPC[[#This Row],[TOTAL QTY]]*EOPC[[#This Row],[UNIT PRICE]]","v":0},null,{"$f":"EOPC[[#This Row],[UNIT PRICE]]*EOPC[[#This Row],[DIV 1 QTY]]","v":0},null,{"$f":"EOPC[[#This Row],[UNIT PRICE]]*EOPC[[#This Row],[DIV 2 QTY]]","v":0},null,{"$f":"EOPC[[#This Row],[UNIT PRICE]]*EOPC[[#This Row],[DIV 3 QTY]]","v":0},null,{"$f":"EOPC[[#This Row],[UNIT PRICE]]*EOPC[[#This Row],[DIV 4 QTY]]","v":0},null,{"$f":"EOPC[[#This Row],[UNIT PRICE]]*EOPC[[#This Row],[DIV 5 QTY]]","v":0},null,{"$f":"EOPC[[#This Row],[UNIT PRICE]]*EOPC[[#This Row],[DIV 6 QTY]]","v":0},null,{"$f":"EOPC[[#This Row],[UNIT PRICE]]*EOPC[[#This Row],[DIV 7 QTY]]","v":0},null,{"$f":"EOPC[[#This Row],[UNIT PRICE]]*EOPC[[#This Row],[DIV 8 QTY]]","v":0},null,{"$f":"EOPC[[#This Row],[UNIT PRICE]]*EOPC[[#This Row],[DIV 9 QTY]]","v":0},null,{"$f":"EOPC[[#This Row],[UNIT PRICE]]*EOPC[[#This Row],[DIV 10 QTY]]","v":0}]
[null,null,null,{"$f":"EOPC[[#This Row],[DIV 1 QTY]]+EOPC[[#This Row],[DIV 2 QTY]]+EOPC[[#This Row],[DIV 3 QTY]]+EOPC[[#This Row],[DIV 4 QTY]]+EOPC[[#This Row],[DIV 5 QTY]]+EOPC[[#This Row],[DIV 6 QTY]]+EOPC[[#This Row],[DIV 7 QTY]]+EOPC[[#This Row],[DIV 8 QTY]]+EOPC[[#This Row],[DIV 9 QTY]]+EOPC[[#This Row],[DIV 10 QTY]]","v":0},null,0,{"$f":"EOPC[[#This Row],[TOTAL QTY]]*EOPC[[#This Row],[UNIT PRICE]]","v":0},null,{"$f":"EOPC[[#This Row],[UNIT PRICE]]*EOPC[[#This Row],[DIV 1 QTY]]","v":0},null,{"$f":"EOPC[[#This Row],[UNIT PRICE]]*EOPC[[#This Row],[DIV 2 QTY]]","v":0},null,{"$f":"EOPC[[#This Row],[UNIT PRICE]]*EOPC[[#This Row],[DIV 3 QTY]]","v":0},null,{"$f":"EOPC[[#This Row],[UNIT PRICE]]*EOPC[[#This Row],[DIV 4 QTY]]","v":0},null,{"$f":"EOPC[[#This Row],[UNIT PRICE]]*EOPC[[#This Row],[DIV 5 QTY]]","v":0},null,{"$f":"EOPC[[#This Row],[UNIT PRICE]]*EOPC[[#This Row],[DIV 6 QTY]]","v":0},null,{"$f":"EOPC[[#This Row],[UNIT PRICE]]*EOPC[[#This Row],[DIV 7 QTY]]","v":0},null,{"$f":"EOPC[[#This Row],[UNIT PRICE]]*EOPC[[#This Row],[DIV 8 QTY]]","v":0},null,{"$f":"EOPC[[#This Row],[UNIT PRICE]]*EOPC[[#This Row],[DIV 9 QTY]]","v":0},null,{"$f":"EOPC[[#This Row],[UNIT PRICE]]*EOPC[[#This Row],[DIV 10 QTY]]","v":0}]
[null,null,null,{"$f":"EOPC[[#This Row],[DIV 1 QTY]]+EOPC[[#This Row],[DIV 2 QTY]]+EOPC[[#This Row],[DIV 3 QTY]]+EOPC[[#This Row],[DIV 4 QTY]]+EOPC[[#This Row],[DIV 5 QTY]]+EOPC[[#This Row],[DIV 6 QTY]]+EOPC[[#This Row],[DIV 7 QTY]]+EOPC[[#This Row],[DIV 8 QTY]]+EOPC[[#This Row],[DIV 9 QTY]]+EOPC[[#This Row],[DIV 10 QTY]]","v":0},null,0,{"$f":"EOPC[[#This Row],[TOTAL QTY]]*EOPC[[#This Row],[UNIT PRICE]]","v":0},null,{"$f":"EOPC[[#This Row],[UNIT PRICE]]*EOPC[[#This Row],[DIV 1 QTY]]","v":0},null,{"$f":"EOPC[[#This Row],[UNIT PRICE]]*EOPC[[#This Row],[DIV 2 QTY]]","v":0},null,{"$f":"EOPC[[#This Row],[UNIT PRICE]]*EOPC[[#This Row],[DIV 3 QTY]]","v":0},null,{"$f":"EOPC[[#This Row],[UNIT PRICE]]*EOPC[[#This Row],[DIV 4 QTY]]","v":0},null,{"$f":"EOPC[[#This Row],[UNIT PRICE]]*EOPC[[#This Row],[DIV 5 QTY]]","v":0},null,{"$f":"EOPC[[#This Row],[UNIT PRICE]]*EOPC[[#This Row],[DIV 6 QTY]]","v":0},null,{"$f":"EOPC[[#This Row],[UNIT PRICE]]*EOPC[[#This Row],[DIV 7 QTY]]","v":0},null,{"$f":"EOPC[[#This Row],[UNIT PRICE]]*EOPC[[#This Row],[DIV 8 QTY]]","v":0},null,{"$f":"EOPC[[#This Row],[UNIT PRICE]]*EOPC[[#This Row],[DIV 9 QTY]]","v":0},null,{"$f":"EOPC[[#This Row],[UNIT PRICE]]*EOPC[[#This Row],[DIV 10 QTY]]","v":0}]
[null,null,null,{"$f":"EOPC[[#This Row],[DIV 1 QTY]]+EOPC[[#This Row],[DIV 2 QTY]]+EOPC[[#This Row],[DIV 3 QTY]]+EOPC[[#This Row],[DIV 4 QTY]]+EOPC[[#This Row],[DIV 5 QTY]]+EOPC[[#This Row],[DIV 6 QTY]]+EOPC[[#This Row],[DIV 7 QTY]]+EOPC[[#This Row],[DIV 8 QTY]]+EOPC[[#This Row],[DIV 9 QTY]]+EOPC[[#This Row],[DIV 10 QTY]]","v":0},null,0,{"$f":"EOPC[[#This Row],[TOTAL QTY]]*EOPC[[#This Row],[UNIT PRICE]]","v":0},null,{"$f":"EOPC[[#This Row],[UNIT PRICE]]*EOPC[[#This Row],[DIV 1 QTY]]","v":0},null,{"$f":"EOPC[[#This Row],[UNIT PRICE]]*EOPC[[#This Row],[DIV 2 QTY]]","v":0},null,{"$f":"EOPC[[#This Row],[UNIT PRICE]]*EOPC[[#This Row],[DIV 3 QTY]]","v":0},null,{"$f":"EOPC[[#This Row],[UNIT PRICE]]*EOPC[[#This Row],[DIV 4 QTY]]","v":0},null,{"$f":"EOPC[[#This Row],[UNIT PRICE]]*EOPC[[#This Row],[DIV 5 QTY]]","v":0},null,{"$f":"EOPC[[#This Row],[UNIT PRICE]]*EOPC[[#This Row],[DIV 6 QTY]]","v":0},null,{"$f":"EOPC[[#This Row],[UNIT PRICE]]*EOPC[[#This Row],[DIV 7 QTY]]","v":0},null,{"$f":"EOPC[[#This Row],[UNIT PRICE]]*EOPC[[#This Row],[DIV 8 QTY]]","v":0},null,{"$f":"EOPC[[#This Row],[UNIT PRICE]]*EOPC[[#This Row],[DIV 9 QTY]]","v":0},null,{"$f":"EOPC[[#This Row],[UNIT PRICE]]*EOPC[[#This Row],[DIV 10 QTY]]","v":0}]
[null,null,null,{"$f":"EOPC[[#This Row],[DIV 1 QTY]]+EOPC[[#This Row],[DIV 2 QTY]]+EOPC[[#This Row],[DIV 3 QTY]]+EOPC[[#This Row],[DIV 4 QTY]]+EOPC[[#This Row],[DIV 5 QTY]]+EOPC[[#This Row],[DIV 6 QTY]]+EOPC[[#This Row],[DIV 7 QTY]]+EOPC[[#This Row],[DIV 8 QTY]]+EOPC[[#This Row],[DIV 9 QTY]]+EOPC[[#This Row],[DIV 10 QTY]]","v":0},null,0,{"$f":"EOPC[[#This Row],[TOTAL QTY]]*EOPC[[#This Row],[UNIT PRICE]]","v":0},null,{"$f":"EOPC[[#This Row],[UNIT PRICE]]*EOPC[[#This Row],[DIV 1 QTY]]","v":0},null,{"$f":"EOPC[[#This Row],[UNIT PRICE]]*EOPC[[#This Row],[DIV 2 QTY]]","v":0},null,{"$f":"EOPC[[#This Row],[UNIT PRICE]]*EOPC[[#This Row],[DIV 3 QTY]]","v":0},null,{"$f":"EOPC[[#This Row],[UNIT PRICE]]*EOPC[[#This Row],[DIV 4 QTY]]","v":0},null,{"$f":"EOPC[[#This Row],[UNIT PRICE]]*EOPC[[#This Row],[DIV 5 QTY]]","v":0},null,{"$f":"EOPC[[#This Row],[UNIT PRICE]]*EOPC[[#This Row],[DIV 6 QTY]]","v":0},null,{"$f":"EOPC[[#This Row],[UNIT PRICE]]*EOPC[[#This Row],[DIV 7 QTY]]","v":0},null,{"$f":"EOPC[[#This Row],[UNIT PRICE]]*EOPC[[#This Row],[DIV 8 QTY]]","v":0},null,{"$f":"EOPC[[#This Row],[UNIT PRICE]]*EOPC[[#This Row],[DIV 9 QTY]]","v":0},null,{"$f":"EOPC[[#This Row],[UNIT PRICE]]*EOPC[[#This Row],[DIV 10 QTY]]","v":0}]
[null,null,null,{"$f":"EOPC[[#This Row],[DIV 1 QTY]]+EOPC[[#This Row],[DIV 2 QTY]]+EOPC[[#This Row],[DIV 3 QTY]]+EOPC[[#This Row],[DIV 4 QTY]]+EOPC[[#This Row],[DIV 5 QTY]]+EOPC[[#This Row],[DIV 6 QTY]]+EOPC[[#This Row],[DIV 7 QTY]]+EOPC[[#This Row],[DIV 8 QTY]]+EOPC[[#This Row],[DIV 9 QTY]]+EOPC[[#This Row],[DIV 10 QTY]]","v":0},null,0,{"$f":"EOPC[[#This Row],[TOTAL QTY]]*EOPC[[#This Row],[UNIT PRICE]]","v":0},null,{"$f":"EOPC[[#This Row],[UNIT PRICE]]*EOPC[[#This Row],[DIV 1 QTY]]","v":0},null,{"$f":"EOPC[[#This Row],[UNIT PRICE]]*EOPC[[#This Row],[DIV 2 QTY]]","v":0},null,{"$f":"EOPC[[#This Row],[UNIT PRICE]]*EOPC[[#This Row],[DIV 3 QTY]]","v":0},null,{"$f":"EOPC[[#This Row],[UNIT PRICE]]*EOPC[[#This Row],[DIV 4 QTY]]","v":0},null,{"$f":"EOPC[[#This Row],[UNIT PRICE]]*EOPC[[#This Row],[DIV 5 QTY]]","v":0},null,{"$f":"EOPC[[#This Row],[UNIT PRICE]]*EOPC[[#This Row],[DIV 6 QTY]]","v":0},null,{"$f":"EOPC[[#This Row],[UNIT PRICE]]*EOPC[[#This Row],[DIV 7 QTY]]","v":0},null,{"$f":"EOPC[[#This Row],[UNIT PRICE]]*EOPC[[#This Row],[DIV 8 QTY]]","v":0},null,{"$f":"EOPC[[#This Row],[UNIT PRICE]]*EOPC[[#This Row],[DIV 9 QTY]]","v":0},null,{"$f":"EOPC[[#This Row],[UNIT PRICE]]*EOPC[[#This Row],[DIV 10 QTY]]","v":0}]
[null,null,null,{"$f":"EOPC[[#This Row],[DIV 1 QTY]]+EOPC[[#This Row],[DIV 2 QTY]]+EOPC[[#This Row],[DIV 3 QTY]]+EOPC[[#This Row],[DIV 4 QTY]]+EOPC[[#This Row],[DIV 5 QTY]]+EOPC[[#This Row],[DIV 6 QTY]]+EOPC[[#This Row],[DIV 7 QTY]]+EOPC[[#This Row],[DIV 8 QTY]]+EOPC[[#This Row],[DIV 9 QTY]]+EOPC[[#This Row],[DIV 10 QTY]]","v":0},null,0,{"$f":"EOPC[[#This Row],[TOTAL QTY]]*EOPC[[#This Row],[UNIT PRICE]]","v":0},null,{"$f":"EOPC[[#This Row],[UNIT PRICE]]*EOPC[[#This Row],[DIV 1 QTY]]","v":0},null,{"$f":"EOPC[[#This Row],[UNIT PRICE]]*EOPC[[#This Row],[DIV 2 QTY]]","v":0},null,{"$f":"EOPC[[#This Row],[UNIT PRICE]]*EOPC[[#This Row],[DIV 3 QTY]]","v":0},null,{"$f":"EOPC[[#This Row],[UNIT PRICE]]*EOPC[[#This Row],[DIV 4 QTY]]","v":0},null,{"$f":"EOPC[[#This Row],[UNIT PRICE]]*EOPC[[#This Row],[DIV 5 QTY]]","v":0},null,{"$f":"EOPC[[#This Row],[UNIT PRICE]]*EOPC[[#This Row],[DIV 6 QTY]]","v":0},null,{"$f":"EOPC[[#This Row],[UNIT PRICE]]*EOPC[[#This Row],[DIV 7 QTY]]","v":0},null,{"$f":"EOPC[[#This Row],[UNIT PRICE]]*EOPC[[#This Row],[DIV 8 QTY]]","v":0},null,{"$f":"EOPC[[#This Row],[UNIT PRICE]]*EOPC[[#This Row],[DIV 9 QTY]]","v":0},null,{"$f":"EOPC[[#This Row],[UNIT PRICE]]*EOPC[[#This Row],[DIV 10 QTY]]","v":0}]
[null,null,null,{"$f":"EOPC[[#This Row],[DIV 1 QTY]]+EOPC[[#This Row],[DIV 2 QTY]]+EOPC[[#This Row],[DIV 3 QTY]]+EOPC[[#This Row],[DIV 4 QTY]]+EOPC[[#This Row],[DIV 5 QTY]]+EOPC[[#This Row],[DIV 6 QTY]]+EOPC[[#This Row],[DIV 7 QTY]]+EOPC[[#This Row],[DIV 8 QTY]]+EOPC[[#This Row],[DIV 9 QTY]]+EOPC[[#This Row],[DIV 10 QTY]]","v":0},null,0,{"$f":"EOPC[[#This Row],[TOTAL QTY]]*EOPC[[#This Row],[UNIT PRICE]]","v":0},null,{"$f":"EOPC[[#This Row],[UNIT PRICE]]*EOPC[[#This Row],[DIV 1 QTY]]","v":0},null,{"$f":"EOPC[[#This Row],[UNIT PRICE]]*EOPC[[#This Row],[DIV 2 QTY]]","v":0},null,{"$f":"EOPC[[#This Row],[UNIT PRICE]]*EOPC[[#This Row],[DIV 3 QTY]]","v":0},null,{"$f":"EOPC[[#This Row],[UNIT PRICE]]*EOPC[[#This Row],[DIV 4 QTY]]","v":0},null,{"$f":"EOPC[[#This Row],[UNIT PRICE]]*EOPC[[#This Row],[DIV 5 QTY]]","v":0},null,{"$f":"EOPC[[#This Row],[UNIT PRICE]]*EOPC[[#This Row],[DIV 6 QTY]]","v":0},null,{"$f":"EOPC[[#This Row],[UNIT PRICE]]*EOPC[[#This Row],[DIV 7 QTY]]","v":0},null,{"$f":"EOPC[[#This Row],[UNIT PRICE]]*EOPC[[#This Row],[DIV 8 QTY]]","v":0},null,{"$f":"EOPC[[#This Row],[UNIT PRICE]]*EOPC[[#This Row],[DIV 9 QTY]]","v":0},null,{"$f":"EOPC[[#This Row],[UNIT PRICE]]*EOPC[[#This Row],[DIV 10 QTY]]","v":0}]
[null,null,null,{"$f":"EOPC[[#This Row],[DIV 1 QTY]]+EOPC[[#This Row],[DIV 2 QTY]]+EOPC[[#This Row],[DIV 3 QTY]]+EOPC[[#This Row],[DIV 4 QTY]]+EOPC[[#This Row],[DIV 5 QTY]]+EOPC[[#This Row],[DIV 6 QTY]]+EOPC[[#This Row],[DIV 7 QTY]]+EOPC[[#This Row],[DIV 8 QTY]]+EOPC[[#This Row],[DIV 9 QTY]]+EOPC[[#This Row],[DIV 10 QTY]]","v":0},null,0,{"$f":"EOPC[[#This Row],[TOTAL QTY]]*EOPC[[#This Row],[UNIT PRICE]]","v":0},null,{"$f":"EOPC[[#This Row],[UNIT PRICE]]*EOPC[[#This Row],[DIV 1 QTY]]","v":0},null,{"$f":"EOPC[[#This Row],[UNIT PRICE]]*EOPC[[#This Row],[DIV 2 QTY]]","v":0},null,{"$f":"EOPC[[#This Row],[UNIT PRICE]]*EOPC[[#This Row],[DIV 3 QTY]]","v":0},null,{"$f":"EOPC[[#This Row],[UNIT PRICE]]*EOPC[[#This Row],[DIV 4 QTY]]","v":0},null,{"$f":"EOPC[[#This Row],[UNIT PRICE]]*EOPC[[#This Row],[DIV 5 QTY]]","v":0},null,{"$f":"EOPC[[#This Row],[UNIT PRICE]]*EOPC[[#This Row],[DIV 6 QTY]]","v":0},null,{"$f":"EOPC[[#This Row],[UNIT PRICE]]*EOPC[[#This Row],[DIV 7 QTY]]","v":0},null,{"$f":"EOPC[[#This Row],[UNIT PRICE]]*EOPC[[#This Row],[DIV 8 QTY]]","v":0},null,{"$f":"EOPC[[#This Row],[UNIT PRICE]]*EOPC[[#This Row],[DIV 9 QTY]]","v":0},null,{"$f":"EOPC[[#This Row],[UNIT PRICE]]*EOPC[[#This Row],[DIV 10 QTY]]","v":0}]
[null,null,null,{"$f":"EOPC[[#This Row],[DIV 1 QTY]]+EOPC[[#This Row],[DIV 2 QTY]]+EOPC[[#This Row],[DIV 3 QTY]]+EOPC[[#This Row],[DIV 4 QTY]]+EOPC[[#This Row],[DIV 5 QTY]]+EOPC[[#This Row],[DIV 6 QTY]]+EOPC[[#This Row],[DIV 7 QTY]]+EOPC[[#This Row],[DIV 8 QTY]]+EOPC[[#This Row],[DIV 9 QTY]]+EOPC[[#This Row],[DIV 10 QTY]]","v":0},null,0,{"$f":"EOPC[[#This Row],[TOTAL QTY]]*EOPC[[#This Row],[UNIT PRICE]]","v":0},null,{"$f":"EOPC[[#This Row],[UNIT PRICE]]*EOPC[[#This Row],[DIV 1 QTY]]","v":0},null,{"$f":"EOPC[[#This Row],[UNIT PRICE]]*EOPC[[#This Row],[DIV 2 QTY]]","v":0},null,{"$f":"EOPC[[#This Row],[UNIT PRICE]]*EOPC[[#This Row],[DIV 3 QTY]]","v":0},null,{"$f":"EOPC[[#This Row],[UNIT PRICE]]*EOPC[[#This Row],[DIV 4 QTY]]","v":0},null,{"$f":"EOPC[[#This Row],[UNIT PRICE]]*EOPC[[#This Row],[DIV 5 QTY]]","v":0},null,{"$f":"EOPC[[#This Row],[UNIT PRICE]]*EOPC[[#This Row],[DIV 6 QTY]]","v":0},null,{"$f":"EOPC[[#This Row],[UNIT PRICE]]*EOPC[[#This Row],[DIV 7 QTY]]","v":0},null,{"$f":"EOPC[[#This Row],[UNIT PRICE]]*EOPC[[#This Row],[DIV 8 QTY]]","v":0},null,{"$f":"EOPC[[#This Row],[UNIT PRICE]]*EOPC[[#This Row],[DIV 9 QTY]]","v":0},null,{"$f":"EOPC[[#This Row],[UNIT PRICE]]*EOPC[[#This Row],[DIV 10 QTY]]","v":0}]
[null,null,null,{"$f":"EOPC[[#This Row],[DIV 1 QTY]]+EOPC[[#This Row],[DIV 2 QTY]]+EOPC[[#This Row],[DIV 3 QTY]]+EOPC[[#This Row],[DIV 4 QTY]]+EOPC[[#This Row],[DIV 5 QTY]]+EOPC[[#This Row],[DIV 6 QTY]]+EOPC[[#This Row],[DIV 7 QTY]]+EOPC[[#This Row],[DIV 8 QTY]]+EOPC[[#This Row],[DIV 9 QTY]]+EOPC[[#This Row],[DIV 10 QTY]]","v":0},null,0,{"$f":"EOPC[[#This Row],[TOTAL QTY]]*EOPC[[#This Row],[UNIT PRICE]]","v":0},null,{"$f":"EOPC[[#This Row],[UNIT PRICE]]*EOPC[[#This Row],[DIV 1 QTY]]","v":0},null,{"$f":"EOPC[[#This Row],[UNIT PRICE]]*EOPC[[#This Row],[DIV 2 QTY]]","v":0},null,{"$f":"EOPC[[#This Row],[UNIT PRICE]]*EOPC[[#This Row],[DIV 3 QTY]]","v":0},null,{"$f":"EOPC[[#This Row],[UNIT PRICE]]*EOPC[[#This Row],[DIV 4 QTY]]","v":0},null,{"$f":"EOPC[[#This Row],[UNIT PRICE]]*EOPC[[#This Row],[DIV 5 QTY]]","v":0},null,{"$f":"EOPC[[#This Row],[UNIT PRICE]]*EOPC[[#This Row],[DIV 6 QTY]]","v":0},null,{"$f":"EOPC[[#This Row],[UNIT PRICE]]*EOPC[[#This Row],[DIV 7 QTY]]","v":0},null,{"$f":"EOPC[[#This Row],[UNIT PRICE]]*EOPC[[#This Row],[DIV 8 QTY]]","v":0},null,{"$f":"EOPC[[#This Row],[UNIT PRICE]]*EOPC[[#This Row],[DIV 9 QTY]]","v":0},null,{"$f":"EOPC[[#This Row],[UNIT PRICE]]*EOPC[[#This Row],[DIV 10 QTY]]","v":0}]
[null,null,null,{"$f":"EOPC[[#This Row],[DIV 1 QTY]]+EOPC[[#This Row],[DIV 2 QTY]]+EOPC[[#This Row],[DIV 3 QTY]]+EOPC[[#This Row],[DIV 4 QTY]]+EOPC[[#This Row],[DIV 5 QTY]]+EOPC[[#This Row],[DIV 6 QTY]]+EOPC[[#This Row],[DIV 7 QTY]]+EOPC[[#This Row],[DIV 8 QTY]]+EOPC[[#This Row],[DIV 9 QTY]]+EOPC[[#This Row],[DIV 10 QTY]]","v":0},null,0,{"$f":"EOPC[[#This Row],[TOTAL QTY]]*EOPC[[#This Row],[UNIT PRICE]]","v":0},null,{"$f":"EOPC[[#This Row],[UNIT PRICE]]*EOPC[[#This Row],[DIV 1 QTY]]","v":0},null,{"$f":"EOPC[[#This Row],[UNIT PRICE]]*EOPC[[#This Row],[DIV 2 QTY]]","v":0},null,{"$f":"EOPC[[#This Row],[UNIT PRICE]]*EOPC[[#This Row],[DIV 3 QTY]]","v":0},null,{"$f":"EOPC[[#This Row],[UNIT PRICE]]*EOPC[[#This Row],[DIV 4 QTY]]","v":0},null,{"$f":"EOPC[[#This Row],[UNIT PRICE]]*EOPC[[#This Row],[DIV 5 QTY]]","v":0},null,{"$f":"EOPC[[#This Row],[UNIT PRICE]]*EOPC[[#This Row],[DIV 6 QTY]]","v":0},null,{"$f":"EOPC[[#This Row],[UNIT PRICE]]*EOPC[[#This Row],[DIV 7 QTY]]","v":0},null,{"$f":"EOPC[[#This Row],[UNIT PRICE]]*EOPC[[#This Row],[DIV 8 QTY]]","v":0},null,{"$f":"EOPC[[#This Row],[UNIT PRICE]]*EOPC[[#This Row],[DIV 9 QTY]]","v":0},null,{"$f":"EOPC[[#This Row],[UNIT PRICE]]*EOPC[[#This Row],[DIV 10 QTY]]","v":0}]
[null,null,null,{"$f":"EOPC[[#This Row],[DIV 1 QTY]]+EOPC[[#This Row],[DIV 2 QTY]]+EOPC[[#This Row],[DIV 3 QTY]]+EOPC[[#This Row],[DIV 4 QTY]]+EOPC[[#This Row],[DIV 5 QTY]]+EOPC[[#This Row],[DIV 6 QTY]]+EOPC[[#This Row],[DIV 7 QTY]]+EOPC[[#This Row],[DIV 8 QTY]]+EOPC[[#This Row],[DIV 9 QTY]]+EOPC[[#This Row],[DIV 10 QTY]]","v":0},null,0,{"$f":"EOPC[[#This Row],[TOTAL QTY]]*EOPC[[#This Row],[UNIT PRICE]]","v":0},null,{"$f":"EOPC[[#This Row],[UNIT PRICE]]*EOPC[[#This Row],[DIV 1 QTY]]","v":0},null,{"$f":"EOPC[[#This Row],[UNIT PRICE]]*EOPC[[#This Row],[DIV 2 QTY]]","v":0},null,{"$f":"EOPC[[#This Row],[UNIT PRICE]]*EOPC[[#This Row],[DIV 3 QTY]]","v":0},null,{"$f":"EOPC[[#This Row],[UNIT PRICE]]*EOPC[[#This Row],[DIV 4 QTY]]","v":0},null,{"$f":"EOPC[[#This Row],[UNIT PRICE]]*EOPC[[#This Row],[DIV 5 QTY]]","v":0},null,{"$f":"EOPC[[#This Row],[UNIT PRICE]]*EOPC[[#This Row],[DIV 6 QTY]]","v":0},null,{"$f":"EOPC[[#This Row],[UNIT PRICE]]*EOPC[[#This Row],[DIV 7 QTY]]","v":0},null,{"$f":"EOPC[[#This Row],[UNIT PRICE]]*EOPC[[#This Row],[DIV 8 QTY]]","v":0},null,{"$f":"EOPC[[#This Row],[UNIT PRICE]]*EOPC[[#This Row],[DIV 9 QTY]]","v":0},null,{"$f":"EOPC[[#This Row],[UNIT PRICE]]*EOPC[[#This Row],[DIV 10 QTY]]","v":0}]
[null,null,null,{"$f":"EOPC[[#This Row],[DIV 1 QTY]]+EOPC[[#This Row],[DIV 2 QTY]]+EOPC[[#This Row],[DIV 3 QTY]]+EOPC[[#This Row],[DIV 4 QTY]]+EOPC[[#This Row],[DIV 5 QTY]]+EOPC[[#This Row],[DIV 6 QTY]]+EOPC[[#This Row],[DIV 7 QTY]]+EOPC[[#This Row],[DIV 8 QTY]]+EOPC[[#This Row],[DIV 9 QTY]]+EOPC[[#This Row],[DIV 10 QTY]]","v":0},null,0,{"$f":"EOPC[[#This Row],[TOTAL QTY]]*EOPC[[#This Row],[UNIT PRICE]]","v":0},null,{"$f":"EOPC[[#This Row],[UNIT PRICE]]*EOPC[[#This Row],[DIV 1 QTY]]","v":0},null,{"$f":"EOPC[[#This Row],[UNIT PRICE]]*EOPC[[#This Row],[DIV 2 QTY]]","v":0},null,{"$f":"EOPC[[#This Row],[UNIT PRICE]]*EOPC[[#This Row],[DIV 3 QTY]]","v":0},null,{"$f":"EOPC[[#This Row],[UNIT PRICE]]*EOPC[[#This Row],[DIV 4 QTY]]","v":0},null,{"$f":"EOPC[[#This Row],[UNIT PRICE]]*EOPC[[#This Row],[DIV 5 QTY]]","v":0},null,{"$f":"EOPC[[#This Row],[UNIT PRICE]]*EOPC[[#This Row],[DIV 6 QTY]]","v":0},null,{"$f":"EOPC[[#This Row],[UNIT PRICE]]*EOPC[[#This Row],[DIV 7 QTY]]","v":0},null,{"$f":"EOPC[[#This Row],[UNIT PRICE]]*EOPC[[#This Row],[DIV 8 QTY]]","v":0},null,{"$f":"EOPC[[#This Row],[UNIT PRICE]]*EOPC[[#This Row],[DIV 9 QTY]]","v":0},null,{"$f":"EOPC[[#This Row],[UNIT PRICE]]*EOPC[[#This Row],[DIV 10 QTY]]","v":0}]
[null,null,null,{"$f":"EOPC[[#This Row],[DIV 1 QTY]]+EOPC[[#This Row],[DIV 2 QTY]]+EOPC[[#This Row],[DIV 3 QTY]]+EOPC[[#This Row],[DIV 4 QTY]]+EOPC[[#This Row],[DIV 5 QTY]]+EOPC[[#This Row],[DIV 6 QTY]]+EOPC[[#This Row],[DIV 7 QTY]]+EOPC[[#This Row],[DIV 8 QTY]]+EOPC[[#This Row],[DIV 9 QTY]]+EOPC[[#This Row],[DIV 10 QTY]]","v":0},null,0,{"$f":"EOPC[[#This Row],[TOTAL QTY]]*EOPC[[#This Row],[UNIT PRICE]]","v":0},null,{"$f":"EOPC[[#This Row],[UNIT PRICE]]*EOPC[[#This Row],[DIV 1 QTY]]","v":0},null,{"$f":"EOPC[[#This Row],[UNIT PRICE]]*EOPC[[#This Row],[DIV 2 QTY]]","v":0},null,{"$f":"EOPC[[#This Row],[UNIT PRICE]]*EOPC[[#This Row],[DIV 3 QTY]]","v":0},null,{"$f":"EOPC[[#This Row],[UNIT PRICE]]*EOPC[[#This Row],[DIV 4 QTY]]","v":0},null,{"$f":"EOPC[[#This Row],[UNIT PRICE]]*EOPC[[#This Row],[DIV 5 QTY]]","v":0},null,{"$f":"EOPC[[#This Row],[UNIT PRICE]]*EOPC[[#This Row],[DIV 6 QTY]]","v":0},null,{"$f":"EOPC[[#This Row],[UNIT PRICE]]*EOPC[[#This Row],[DIV 7 QTY]]","v":0},null,{"$f":"EOPC[[#This Row],[UNIT PRICE]]*EOPC[[#This Row],[DIV 8 QTY]]","v":0},null,{"$f":"EOPC[[#This Row],[UNIT PRICE]]*EOPC[[#This Row],[DIV 9 QTY]]","v":0},null,{"$f":"EOPC[[#This Row],[UNIT PRICE]]*EOPC[[#This Row],[DIV 10 QTY]]","v":0}]
[null,null,null,{"$f":"EOPC[[#This Row],[DIV 1 QTY]]+EOPC[[#This Row],[DIV 2 QTY]]+EOPC[[#This Row],[DIV 3 QTY]]+EOPC[[#This Row],[DIV 4 QTY]]+EOPC[[#This Row],[DIV 5 QTY]]+EOPC[[#This Row],[DIV 6 QTY]]+EOPC[[#This Row],[DIV 7 QTY]]+EOPC[[#This Row],[DIV 8 QTY]]+EOPC[[#This Row],[DIV 9 QTY]]+EOPC[[#This Row],[DIV 10 QTY]]","v":0},null,0,{"$f":"EOPC[[#This Row],[TOTAL QTY]]*EOPC[[#This Row],[UNIT PRICE]]","v":0},null,{"$f":"EOPC[[#This Row],[UNIT PRICE]]*EOPC[[#This Row],[DIV 1 QTY]]","v":0},null,{"$f":"EOPC[[#This Row],[UNIT PRICE]]*EOPC[[#This Row],[DIV 2 QTY]]","v":0},null,{"$f":"EOPC[[#This Row],[UNIT PRICE]]*EOPC[[#This Row],[DIV 3 QTY]]","v":0},null,{"$f":"EOPC[[#This Row],[UNIT PRICE]]*EOPC[[#This Row],[DIV 4 QTY]]","v":0},null,{"$f":"EOPC[[#This Row],[UNIT PRICE]]*EOPC[[#This Row],[DIV 5 QTY]]","v":0},null,{"$f":"EOPC[[#This Row],[UNIT PRICE]]*EOPC[[#This Row],[DIV 6 QTY]]","v":0},null,{"$f":"EOPC[[#This Row],[UNIT PRICE]]*EOPC[[#This Row],[DIV 7 QTY]]","v":0},null,{"$f":"EOPC[[#This Row],[UNIT PRICE]]*EOPC[[#This Row],[DIV 8 QTY]]","v":0},null,{"$f":"EOPC[[#This Row],[UNIT PRICE]]*EOPC[[#This Row],[DIV 9 QTY]]","v":0},null,{"$f":"EOPC[[#This Row],[UNIT PRICE]]*EOPC[[#This Row],[DIV 10 QTY]]","v":0}]
[null,null,null,{"$f":"EOPC[[#This Row],[DIV 1 QTY]]+EOPC[[#This Row],[DIV 2 QTY]]+EOPC[[#This Row],[DIV 3 QTY]]+EOPC[[#This Row],[DIV 4 QTY]]+EOPC[[#This Row],[DIV 5 QTY]]+EOPC[[#This Row],[DIV 6 QTY]]+EOPC[[#This Row],[DIV 7 QTY]]+EOPC[[#This Row],[DIV 8 QTY]]+EOPC[[#This Row],[DIV 9 QTY]]+EOPC[[#This Row],[DIV 10 QTY]]","v":0},null,0,{"$f":"EOPC[[#This Row],[TOTAL QTY]]*EOPC[[#This Row],[UNIT PRICE]]","v":0},null,{"$f":"EOPC[[#This Row],[UNIT PRICE]]*EOPC[[#This Row],[DIV 1 QTY]]","v":0},null,{"$f":"EOPC[[#This Row],[UNIT PRICE]]*EOPC[[#This Row],[DIV 2 QTY]]","v":0},null,{"$f":"EOPC[[#This Row],[UNIT PRICE]]*EOPC[[#This Row],[DIV 3 QTY]]","v":0},null,{"$f":"EOPC[[#This Row],[UNIT PRICE]]*EOPC[[#This Row],[DIV 4 QTY]]","v":0},null,{"$f":"EOPC[[#This Row],[UNIT PRICE]]*EOPC[[#This Row],[DIV 5 QTY]]","v":0},null,{"$f":"EOPC[[#This Row],[UNIT PRICE]]*EOPC[[#This Row],[DIV 6 QTY]]","v":0},null,{"$f":"EOPC[[#This Row],[UNIT PRICE]]*EOPC[[#This Row],[DIV 7 QTY]]","v":0},null,{"$f":"EOPC[[#This Row],[UNIT PRICE]]*EOPC[[#This Row],[DIV 8 QTY]]","v":0},null,{"$f":"EOPC[[#This Row],[UNIT PRICE]]*EOPC[[#This Row],[DIV 9 QTY]]","v":0},null,{"$f":"EOPC[[#This Row],[UNIT PRICE]]*EOPC[[#This Row],[DIV 10 QTY]]","v":0}]
[null,null,null,{"$f":"EOPC[[#This Row],[DIV 1 QTY]]+EOPC[[#This Row],[DIV 2 QTY]]+EOPC[[#This Row],[DIV 3 QTY]]+EOPC[[#This Row],[DIV 4 QTY]]+EOPC[[#This Row],[DIV 5 QTY]]+EOPC[[#This Row],[DIV 6 QTY]]+EOPC[[#This Row],[DIV 7 QTY]]+EOPC[[#This Row],[DIV 8 QTY]]+EOPC[[#This Row],[DIV 9 QTY]]+EOPC[[#This Row],[DIV 10 QTY]]","v":0},null,0,{"$f":"EOPC[[#This Row],[TOTAL QTY]]*EOPC[[#This Row],[UNIT PRICE]]","v":0},null,{"$f":"EOPC[[#This Row],[UNIT PRICE]]*EOPC[[#This Row],[DIV 1 QTY]]","v":0},null,{"$f":"EOPC[[#This Row],[UNIT PRICE]]*EOPC[[#This Row],[DIV 2 QTY]]","v":0},null,{"$f":"EOPC[[#This Row],[UNIT PRICE]]*EOPC[[#This Row],[DIV 3 QTY]]","v":0},null,{"$f":"EOPC[[#This Row],[UNIT PRICE]]*EOPC[[#This Row],[DIV 4 QTY]]","v":0},null,{"$f":"EOPC[[#This Row],[UNIT PRICE]]*EOPC[[#This Row],[DIV 5 QTY]]","v":0},null,{"$f":"EOPC[[#This Row],[UNIT PRICE]]*EOPC[[#This Row],[DIV 6 QTY]]","v":0},null,{"$f":"EOPC[[#This Row],[UNIT PRICE]]*EOPC[[#This Row],[DIV 7 QTY]]","v":0},null,{"$f":"EOPC[[#This Row],[UNIT PRICE]]*EOPC[[#This Row],[DIV 8 QTY]]","v":0},null,{"$f":"EOPC[[#This Row],[UNIT PRICE]]*EOPC[[#This Row],[DIV 9 QTY]]","v":0},null,{"$f":"EOPC[[#This Row],[UNIT PRICE]]*EOPC[[#This Row],[DIV 10 QTY]]","v":0}]
[null,null,null,{"$f":"EOPC[[#This Row],[DIV 1 QTY]]+EOPC[[#This Row],[DIV 2 QTY]]+EOPC[[#This Row],[DIV 3 QTY]]+EOPC[[#This Row],[DIV 4 QTY]]+EOPC[[#This Row],[DIV 5 QTY]]+EOPC[[#This Row],[DIV 6 QTY]]+EOPC[[#This Row],[DIV 7 QTY]]+EOPC[[#This Row],[DIV 8 QTY]]+EOPC[[#This Row],[DIV 9 QTY]]+EOPC[[#This Row],[DIV 10 QTY]]","v":0},null,0,{"$f":"EOPC[[#This Row],[TOTAL QTY]]*EOPC[[#This Row],[UNIT PRICE]]","v":0},null,{"$f":"EOPC[[#This Row],[UNIT PRICE]]*EOPC[[#This Row],[DIV 1 QTY]]","v":0},null,{"$f":"EOPC[[#This Row],[UNIT PRICE]]*EOPC[[#This Row],[DIV 2 QTY]]","v":0},null,{"$f":"EOPC[[#This Row],[UNIT PRICE]]*EOPC[[#This Row],[DIV 3 QTY]]","v":0},null,{"$f":"EOPC[[#This Row],[UNIT PRICE]]*EOPC[[#This Row],[DIV 4 QTY]]","v":0},null,{"$f":"EOPC[[#This Row],[UNIT PRICE]]*EOPC[[#This Row],[DIV 5 QTY]]","v":0},null,{"$f":"EOPC[[#This Row],[UNIT PRICE]]*EOPC[[#This Row],[DIV 6 QTY]]","v":0},null,{"$f":"EOPC[[#This Row],[UNIT PRICE]]*EOPC[[#This Row],[DIV 7 QTY]]","v":0},null,{"$f":"EOPC[[#This Row],[UNIT PRICE]]*EOPC[[#This Row],[DIV 8 QTY]]","v":0},null,{"$f":"EOPC[[#This Row],[UNIT PRICE]]*EOPC[[#This Row],[DIV 9 QTY]]","v":0},null,{"$f":"EOPC[[#This Row],[UNIT PRICE]]*EOPC[[#This Row],[DIV 10 QTY]]","v":0}]
[null,null,null,{"$f":"EOPC[[#This Row],[DIV 1 QTY]]+EOPC[[#This Row],[DIV 2 QTY]]+EOPC[[#This Row],[DIV 3 QTY]]+EOPC[[#This Row],[DIV 4 QTY]]+EOPC[[#This Row],[DIV 5 QTY]]+EOPC[[#This Row],[DIV 6 QTY]]+EOPC[[#This Row],[DIV 7 QTY]]+EOPC[[#This Row],[DIV 8 QTY]]+EOPC[[#This Row],[DIV 9 QTY]]+EOPC[[#This Row],[DIV 10 QTY]]","v":0},null,0,{"$f":"EOPC[[#This Row],[TOTAL QTY]]*EOPC[[#This Row],[UNIT PRICE]]","v":0},null,{"$f":"EOPC[[#This Row],[UNIT PRICE]]*EOPC[[#This Row],[DIV 1 QTY]]","v":0},null,{"$f":"EOPC[[#This Row],[UNIT PRICE]]*EOPC[[#This Row],[DIV 2 QTY]]","v":0},null,{"$f":"EOPC[[#This Row],[UNIT PRICE]]*EOPC[[#This Row],[DIV 3 QTY]]","v":0},null,{"$f":"EOPC[[#This Row],[UNIT PRICE]]*EOPC[[#This Row],[DIV 4 QTY]]","v":0},null,{"$f":"EOPC[[#This Row],[UNIT PRICE]]*EOPC[[#This Row],[DIV 5 QTY]]","v":0},null,{"$f":"EOPC[[#This Row],[UNIT PRICE]]*EOPC[[#This Row],[DIV 6 QTY]]","v":0},null,{"$f":"EOPC[[#This Row],[UNIT PRICE]]*EOPC[[#This Row],[DIV 7 QTY]]","v":0},null,{"$f":"EOPC[[#This Row],[UNIT PRICE]]*EOPC[[#This Row],[DIV 8 QTY]]","v":0},null,{"$f":"EOPC[[#This Row],[UNIT PRICE]]*EOPC[[#This Row],[DIV 9 QTY]]","v":0},null,{"$f":"EOPC[[#This Row],[UNIT PRICE]]*EOPC[[#This Row],[DIV 10 QTY]]","v":0}]
[null,null,null,{"$f":"EOPC[[#This Row],[DIV 1 QTY]]+EOPC[[#This Row],[DIV 2 QTY]]+EOPC[[#This Row],[DIV 3 QTY]]+EOPC[[#This Row],[DIV 4 QTY]]+EOPC[[#This Row],[DIV 5 QTY]]+EOPC[[#This Row],[DIV 6 QTY]]+EOPC[[#This Row],[DIV 7 QTY]]+EOPC[[#This Row],[DIV 8 QTY]]+EOPC[[#This Row],[DIV 9 QTY]]+EOPC[[#This Row],[DIV 10 QTY]]","v":0},null,0,{"$f":"EOPC[[#This Row],[TOTAL QTY]]*EOPC[[#This Row],[UNIT PRICE]]","v":0},null,{"$f":"EOPC[[#This Row],[UNIT PRICE]]*EOPC[[#This Row],[DIV 1 QTY]]","v":0},null,{"$f":"EOPC[[#This Row],[UNIT PRICE]]*EOPC[[#This Row],[DIV 2 QTY]]","v":0},null,{"$f":"EOPC[[#This Row],[UNIT PRICE]]*EOPC[[#This Row],[DIV 3 QTY]]","v":0},null,{"$f":"EOPC[[#This Row],[UNIT PRICE]]*EOPC[[#This Row],[DIV 4 QTY]]","v":0},null,{"$f":"EOPC[[#This Row],[UNIT PRICE]]*EOPC[[#This Row],[DIV 5 QTY]]","v":0},null,{"$f":"EOPC[[#This Row],[UNIT PRICE]]*EOPC[[#This Row],[DIV 6 QTY]]","v":0},null,{"$f":"EOPC[[#This Row],[UNIT PRICE]]*EOPC[[#This Row],[DIV 7 QTY]]","v":0},null,{"$f":"EOPC[[#This Row],[UNIT PRICE]]*EOPC[[#This Row],[DIV 8 QTY]]","v":0},null,{"$f":"EOPC[[#This Row],[UNIT PRICE]]*EOPC[[#This Row],[DIV 9 QTY]]","v":0},null,{"$f":"EOPC[[#This Row],[UNIT PRICE]]*EOPC[[#This Row],[DIV 10 QTY]]","v":0}]
[null,null,null,{"$f":"EOPC[[#This Row],[DIV 1 QTY]]+EOPC[[#This Row],[DIV 2 QTY]]+EOPC[[#This Row],[DIV 3 QTY]]+EOPC[[#This Row],[DIV 4 QTY]]+EOPC[[#This Row],[DIV 5 QTY]]+EOPC[[#This Row],[DIV 6 QTY]]+EOPC[[#This Row],[DIV 7 QTY]]+EOPC[[#This Row],[DIV 8 QTY]]+EOPC[[#This Row],[DIV 9 QTY]]+EOPC[[#This Row],[DIV 10 QTY]]","v":0},null,0,{"$f":"EOPC[[#This Row],[TOTAL QTY]]*EOPC[[#This Row],[UNIT PRICE]]","v":0},null,{"$f":"EOPC[[#This Row],[UNIT PRICE]]*EOPC[[#This Row],[DIV 1 QTY]]","v":0},null,{"$f":"EOPC[[#This Row],[UNIT PRICE]]*EOPC[[#This Row],[DIV 2 QTY]]","v":0},null,{"$f":"EOPC[[#This Row],[UNIT PRICE]]*EOPC[[#This Row],[DIV 3 QTY]]","v":0},null,{"$f":"EOPC[[#This Row],[UNIT PRICE]]*EOPC[[#This Row],[DIV 4 QTY]]","v":0},null,{"$f":"EOPC[[#This Row],[UNIT PRICE]]*EOPC[[#This Row],[DIV 5 QTY]]","v":0},null,{"$f":"EOPC[[#This Row],[UNIT PRICE]]*EOPC[[#This Row],[DIV 6 QTY]]","v":0},null,{"$f":"EOPC[[#This Row],[UNIT PRICE]]*EOPC[[#This Row],[DIV 7 QTY]]","v":0},null,{"$f":"EOPC[[#This Row],[UNIT PRICE]]*EOPC[[#This Row],[DIV 8 QTY]]","v":0},null,{"$f":"EOPC[[#This Row],[UNIT PRICE]]*EOPC[[#This Row],[DIV 9 QTY]]","v":0},null,{"$f":"EOPC[[#This Row],[UNIT PRICE]]*EOPC[[#This Row],[DIV 10 QTY]]","v":0}]
[null,null,null,{"$f":"EOPC[[#This Row],[DIV 1 QTY]]+EOPC[[#This Row],[DIV 2 QTY]]+EOPC[[#This Row],[DIV 3 QTY]]+EOPC[[#This Row],[DIV 4 QTY]]+EOPC[[#This Row],[DIV 5 QTY]]+EOPC[[#This Row],[DIV 6 QTY]]+EOPC[[#This Row],[DIV 7 QTY]]+EOPC[[#This Row],[DIV 8 QTY]]+EOPC[[#This Row],[DIV 9 QTY]]+EOPC[[#This Row],[DIV 10 QTY]]","v":0},null,0,{"$f":"EOPC[[#This Row],[TOTAL QTY]]*EOPC[[#This Row],[UNIT PRICE]]","v":0},null,{"$f":"EOPC[[#This Row],[UNIT PRICE]]*EOPC[[#This Row],[DIV 1 QTY]]","v":0},null,{"$f":"EOPC[[#This Row],[UNIT PRICE]]*EOPC[[#This Row],[DIV 2 QTY]]","v":0},null,{"$f":"EOPC[[#This Row],[UNIT PRICE]]*EOPC[[#This Row],[DIV 3 QTY]]","v":0},null,{"$f":"EOPC[[#This Row],[UNIT PRICE]]*EOPC[[#This Row],[DIV 4 QTY]]","v":0},null,{"$f":"EOPC[[#This Row],[UNIT PRICE]]*EOPC[[#This Row],[DIV 5 QTY]]","v":0},null,{"$f":"EOPC[[#This Row],[UNIT PRICE]]*EOPC[[#This Row],[DIV 6 QTY]]","v":0},null,{"$f":"EOPC[[#This Row],[UNIT PRICE]]*EOPC[[#This Row],[DIV 7 QTY]]","v":0},null,{"$f":"EOPC[[#This Row],[UNIT PRICE]]*EOPC[[#This Row],[DIV 8 QTY]]","v":0},null,{"$f":"EOPC[[#This Row],[UNIT PRICE]]*EOPC[[#This Row],[DIV 9 QTY]]","v":0},null,{"$f":"EOPC[[#This Row],[UNIT PRICE]]*EOPC[[#This Row],[DIV 10 QTY]]","v":0}]
[null,null,null,{"$f":"EOPC[[#This Row],[DIV 1 QTY]]+EOPC[[#This Row],[DIV 2 QTY]]+EOPC[[#This Row],[DIV 3 QTY]]+EOPC[[#This Row],[DIV 4 QTY]]+EOPC[[#This Row],[DIV 5 QTY]]+EOPC[[#This Row],[DIV 6 QTY]]+EOPC[[#This Row],[DIV 7 QTY]]+EOPC[[#This Row],[DIV 8 QTY]]+EOPC[[#This Row],[DIV 9 QTY]]+EOPC[[#This Row],[DIV 10 QTY]]","v":0},null,0,{"$f":"EOPC[[#This Row],[TOTAL QTY]]*EOPC[[#This Row],[UNIT PRICE]]","v":0},null,{"$f":"EOPC[[#This Row],[UNIT PRICE]]*EOPC[[#This Row],[DIV 1 QTY]]","v":0},null,{"$f":"EOPC[[#This Row],[UNIT PRICE]]*EOPC[[#This Row],[DIV 2 QTY]]","v":0},null,{"$f":"EOPC[[#This Row],[UNIT PRICE]]*EOPC[[#This Row],[DIV 3 QTY]]","v":0},null,{"$f":"EOPC[[#This Row],[UNIT PRICE]]*EOPC[[#This Row],[DIV 4 QTY]]","v":0},null,{"$f":"EOPC[[#This Row],[UNIT PRICE]]*EOPC[[#This Row],[DIV 5 QTY]]","v":0},null,{"$f":"EOPC[[#This Row],[UNIT PRICE]]*EOPC[[#This Row],[DIV 6 QTY]]","v":0},null,{"$f":"EOPC[[#This Row],[UNIT PRICE]]*EOPC[[#This Row],[DIV 7 QTY]]","v":0},null,{"$f":"EOPC[[#This Row],[UNIT PRICE]]*EOPC[[#This Row],[DIV 8 QTY]]","v":0},null,{"$f":"EOPC[[#This Row],[UNIT PRICE]]*EOPC[[#This Row],[DIV 9 QTY]]","v":0},null,{"$f":"EOPC[[#This Row],[UNIT PRICE]]*EOPC[[#This Row],[DIV 10 QTY]]","v":0}]
[null,null,null,{"$f":"EOPC[[#This Row],[DIV 1 QTY]]+EOPC[[#This Row],[DIV 2 QTY]]+EOPC[[#This Row],[DIV 3 QTY]]+EOPC[[#This Row],[DIV 4 QTY]]+EOPC[[#This Row],[DIV 5 QTY]]+EOPC[[#This Row],[DIV 6 QTY]]+EOPC[[#This Row],[DIV 7 QTY]]+EOPC[[#This Row],[DIV 8 QTY]]+EOPC[[#This Row],[DIV 9 QTY]]+EOPC[[#This Row],[DIV 10 QTY]]","v":0},null,0,{"$f":"EOPC[[#This Row],[TOTAL QTY]]*EOPC[[#This Row],[UNIT PRICE]]","v":0},null,{"$f":"EOPC[[#This Row],[UNIT PRICE]]*EOPC[[#This Row],[DIV 1 QTY]]","v":0},null,{"$f":"EOPC[[#This Row],[UNIT PRICE]]*EOPC[[#This Row],[DIV 2 QTY]]","v":0},null,{"$f":"EOPC[[#This Row],[UNIT PRICE]]*EOPC[[#This Row],[DIV 3 QTY]]","v":0},null,{"$f":"EOPC[[#This Row],[UNIT PRICE]]*EOPC[[#This Row],[DIV 4 QTY]]","v":0},null,{"$f":"EOPC[[#This Row],[UNIT PRICE]]*EOPC[[#This Row],[DIV 5 QTY]]","v":0},null,{"$f":"EOPC[[#This Row],[UNIT PRICE]]*EOPC[[#This Row],[DIV 6 QTY]]","v":0},null,{"$f":"EOPC[[#This Row],[UNIT PRICE]]*EOPC[[#This Row],[DIV 7 QTY]]","v":0},null,{"$f":"EOPC[[#This Row],[UNIT PRICE]]*EOPC[[#This Row],[DIV 8 QTY]]","v":0},null,{"$f":"EOPC[[#This Row],[UNIT PRICE]]*EOPC[[#This Row],[DIV 9 QTY]]","v":0},null,{"$f":"EOPC[[#This Row],[UNIT PRICE]]*EOPC[[#This Row],[DIV 10 QTY]]","v":0}]
[null,null,null,{"$f":"EOPC[[#This Row],[DIV 1 QTY]]+EOPC[[#This Row],[DIV 2 QTY]]+EOPC[[#This Row],[DIV 3 QTY]]+EOPC[[#This Row],[DIV 4 QTY]]+EOPC[[#This Row],[DIV 5 QTY]]+EOPC[[#This Row],[DIV 6 QTY]]+EOPC[[#This Row],[DIV 7 QTY]]+EOPC[[#This Row],[DIV 8 QTY]]+EOPC[[#This Row],[DIV 9 QTY]]+EOPC[[#This Row],[DIV 10 QTY]]","v":0},null,0,{"$f":"EOPC[[#This Row],[TOTAL QTY]]*EOPC[[#This Row],[UNIT PRICE]]","v":0},null,{"$f":"EOPC[[#This Row],[UNIT PRICE]]*EOPC[[#This Row],[DIV 1 QTY]]","v":0},null,{"$f":"EOPC[[#This Row],[UNIT PRICE]]*EOPC[[#This Row],[DIV 2 QTY]]","v":0},null,{"$f":"EOPC[[#This Row],[UNIT PRICE]]*EOPC[[#This Row],[DIV 3 QTY]]","v":0},null,{"$f":"EOPC[[#This Row],[UNIT PRICE]]*EOPC[[#This Row],[DIV 4 QTY]]","v":0},null,{"$f":"EOPC[[#This Row],[UNIT PRICE]]*EOPC[[#This Row],[DIV 5 QTY]]","v":0},null,{"$f":"EOPC[[#This Row],[UNIT PRICE]]*EOPC[[#This Row],[DIV 6 QTY]]","v":0},null,{"$f":"EOPC[[#This Row],[UNIT PRICE]]*EOPC[[#This Row],[DIV 7 QTY]]","v":0},null,{"$f":"EOPC[[#This Row],[UNIT PRICE]]*EOPC[[#This Row],[DIV 8 QTY]]","v":0},null,{"$f":"EOPC[[#This Row],[UNIT PRICE]]*EOPC[[#This Row],[DIV 9 QTY]]","v":0},null,{"$f":"EOPC[[#This Row],[UNIT PRICE]]*EOPC[[#This Row],[DIV 10 QTY]]","v":0}]
[null,null,null,{"$f":"EOPC[[#This Row],[DIV 1 QTY]]+EOPC[[#This Row],[DIV 2 QTY]]+EOPC[[#This Row],[DIV 3 QTY]]+EOPC[[#This Row],[DIV 4 QTY]]+EOPC[[#This Row],[DIV 5 QTY]]+EOPC[[#This Row],[DIV 6 QTY]]+EOPC[[#This Row],[DIV 7 QTY]]+EOPC[[#This Row],[DIV 8 QTY]]+EOPC[[#This Row],[DIV 9 QTY]]+EOPC[[#This Row],[DIV 10 QTY]]","v":0},null,0,{"$f":"EOPC[[#This Row],[TOTAL QTY]]*EOPC[[#This Row],[UNIT PRICE]]","v":0},null,{"$f":"EOPC[[#This Row],[UNIT PRICE]]*EOPC[[#This Row],[DIV 1 QTY]]","v":0},null,{"$f":"EOPC[[#This Row],[UNIT PRICE]]*EOPC[[#This Row],[DIV 2 QTY]]","v":0},null,{"$f":"EOPC[[#This Row],[UNIT PRICE]]*EOPC[[#This Row],[DIV 3 QTY]]","v":0},null,{"$f":"EOPC[[#This Row],[UNIT PRICE]]*EOPC[[#This Row],[DIV 4 QTY]]","v":0},null,{"$f":"EOPC[[#This Row],[UNIT PRICE]]*EOPC[[#This Row],[DIV 5 QTY]]","v":0},null,{"$f":"EOPC[[#This Row],[UNIT PRICE]]*EOPC[[#This Row],[DIV 6 QTY]]","v":0},null,{"$f":"EOPC[[#This Row],[UNIT PRICE]]*EOPC[[#This Row],[DIV 7 QTY]]","v":0},null,{"$f":"EOPC[[#This Row],[UNIT PRICE]]*EOPC[[#This Row],[DIV 8 QTY]]","v":0},null,{"$f":"EOPC[[#This Row],[UNIT PRICE]]*EOPC[[#This Row],[DIV 9 QTY]]","v":0},null,{"$f":"EOPC[[#This Row],[UNIT PRICE]]*EOPC[[#This Row],[DIV 10 QTY]]","v":0}]
[null,null,null,{"$f":"EOPC[[#This Row],[DIV 1 QTY]]+EOPC[[#This Row],[DIV 2 QTY]]+EOPC[[#This Row],[DIV 3 QTY]]+EOPC[[#This Row],[DIV 4 QTY]]+EOPC[[#This Row],[DIV 5 QTY]]+EOPC[[#This Row],[DIV 6 QTY]]+EOPC[[#This Row],[DIV 7 QTY]]+EOPC[[#This Row],[DIV 8 QTY]]+EOPC[[#This Row],[DIV 9 QTY]]+EOPC[[#This Row],[DIV 10 QTY]]","v":0},null,0,{"$f":"EOPC[[#This Row],[TOTAL QTY]]*EOPC[[#This Row],[UNIT PRICE]]","v":0},null,{"$f":"EOPC[[#This Row],[UNIT PRICE]]*EOPC[[#This Row],[DIV 1 QTY]]","v":0},null,{"$f":"EOPC[[#This Row],[UNIT PRICE]]*EOPC[[#This Row],[DIV 2 QTY]]","v":0},null,{"$f":"EOPC[[#This Row],[UNIT PRICE]]*EOPC[[#This Row],[DIV 3 QTY]]","v":0},null,{"$f":"EOPC[[#This Row],[UNIT PRICE]]*EOPC[[#This Row],[DIV 4 QTY]]","v":0},null,{"$f":"EOPC[[#This Row],[UNIT PRICE]]*EOPC[[#This Row],[DIV 5 QTY]]","v":0},null,{"$f":"EOPC[[#This Row],[UNIT PRICE]]*EOPC[[#This Row],[DIV 6 QTY]]","v":0},null,{"$f":"EOPC[[#This Row],[UNIT PRICE]]*EOPC[[#This Row],[DIV 7 QTY]]","v":0},null,{"$f":"EOPC[[#This Row],[UNIT PRICE]]*EOPC[[#This Row],[DIV 8 QTY]]","v":0},null,{"$f":"EOPC[[#This Row],[UNIT PRICE]]*EOPC[[#This Row],[DIV 9 QTY]]","v":0},null,{"$f":"EOPC[[#This Row],[UNIT PRICE]]*EOPC[[#This Row],[DIV 10 QTY]]","v":0}]
[null,null,null,{"$f":"EOPC[[#This Row],[DIV 1 QTY]]+EOPC[[#This Row],[DIV 2 QTY]]+EOPC[[#This Row],[DIV 3 QTY]]+EOPC[[#This Row],[DIV 4 QTY]]+EOPC[[#This Row],[DIV 5 QTY]]+EOPC[[#This Row],[DIV 6 QTY]]+EOPC[[#This Row],[DIV 7 QTY]]+EOPC[[#This Row],[DIV 8 QTY]]+EOPC[[#This Row],[DIV 9 QTY]]+EOPC[[#This Row],[DIV 10 QTY]]","v":0},null,0,{"$f":"EOPC[[#This Row],[TOTAL QTY]]*EOPC[[#This Row],[UNIT PRICE]]","v":0},null,{"$f":"EOPC[[#This Row],[UNIT PRICE]]*EOPC[[#This Row],[DIV 1 QTY]]","v":0},null,{"$f":"EOPC[[#This Row],[UNIT PRICE]]*EOPC[[#This Row],[DIV 2 QTY]]","v":0},null,{"$f":"EOPC[[#This Row],[UNIT PRICE]]*EOPC[[#This Row],[DIV 3 QTY]]","v":0},null,{"$f":"EOPC[[#This Row],[UNIT PRICE]]*EOPC[[#This Row],[DIV 4 QTY]]","v":0},null,{"$f":"EOPC[[#This Row],[UNIT PRICE]]*EOPC[[#This Row],[DIV 5 QTY]]","v":0},null,{"$f":"EOPC[[#This Row],[UNIT PRICE]]*EOPC[[#This Row],[DIV 6 QTY]]","v":0},null,{"$f":"EOPC[[#This Row],[UNIT PRICE]]*EOPC[[#This Row],[DIV 7 QTY]]","v":0},null,{"$f":"EOPC[[#This Row],[UNIT PRICE]]*EOPC[[#This Row],[DIV 8 QTY]]","v":0},null,{"$f":"EOPC[[#This Row],[UNIT PRICE]]*EOPC[[#This Row],[DIV 9 QTY]]","v":0},null,{"$f":"EOPC[[#This Row],[UNIT PRICE]]*EOPC[[#This Row],[DIV 10 QTY]]","v":0}]
[null,null,null,{"$f":"EOPC[[#This Row],[DIV 1 QTY]]+EOPC[[#This Row],[DIV 2 QTY]]+EOPC[[#This Row],[DIV 3 QTY]]+EOPC[[#This Row],[DIV 4 QTY]]+EOPC[[#This Row],[DIV 5 QTY]]+EOPC[[#This Row],[DIV 6 QTY]]+EOPC[[#This Row],[DIV 7 QTY]]+EOPC[[#This Row],[DIV 8 QTY]]+EOPC[[#This Row],[DIV 9 QTY]]+EOPC[[#This Row],[DIV 10 QTY]]","v":0},null,0,{"$f":"EOPC[[#This Row],[TOTAL QTY]]*EOPC[[#This Row],[UNIT PRICE]]","v":0},null,{"$f":"EOPC[[#This Row],[UNIT PRICE]]*EOPC[[#This Row],[DIV 1 QTY]]","v":0},null,{"$f":"EOPC[[#This Row],[UNIT PRICE]]*EOPC[[#This Row],[DIV 2 QTY]]","v":0},null,{"$f":"EOPC[[#This Row],[UNIT PRICE]]*EOPC[[#This Row],[DIV 3 QTY]]","v":0},null,{"$f":"EOPC[[#This Row],[UNIT PRICE]]*EOPC[[#This Row],[DIV 4 QTY]]","v":0},null,{"$f":"EOPC[[#This Row],[UNIT PRICE]]*EOPC[[#This Row],[DIV 5 QTY]]","v":0},null,{"$f":"EOPC[[#This Row],[UNIT PRICE]]*EOPC[[#This Row],[DIV 6 QTY]]","v":0},null,{"$f":"EOPC[[#This Row],[UNIT PRICE]]*EOPC[[#This Row],[DIV 7 QTY]]","v":0},null,{"$f":"EOPC[[#This Row],[UNIT PRICE]]*EOPC[[#This Row],[DIV 8 QTY]]","v":0},null,{"$f":"EOPC[[#This Row],[UNIT PRICE]]*EOPC[[#This Row],[DIV 9 QTY]]","v":0},null,{"$f":"EOPC[[#This Row],[UNIT PRICE]]*EOPC[[#This Row],[DIV 10 QTY]]","v":0}]
[null,null,null,{"$f":"EOPC[[#This Row],[DIV 1 QTY]]+EOPC[[#This Row],[DIV 2 QTY]]+EOPC[[#This Row],[DIV 3 QTY]]+EOPC[[#This Row],[DIV 4 QTY]]+EOPC[[#This Row],[DIV 5 QTY]]+EOPC[[#This Row],[DIV 6 QTY]]+EOPC[[#This Row],[DIV 7 QTY]]+EOPC[[#This Row],[DIV 8 QTY]]+EOPC[[#This Row],[DIV 9 QTY]]+EOPC[[#This Row],[DIV 10 QTY]]","v":0},null,0,{"$f":"EOPC[[#This Row],[TOTAL QTY]]*EOPC[[#This Row],[UNIT PRICE]]","v":0},null,{"$f":"EOPC[[#This Row],[UNIT PRICE]]*EOPC[[#This Row],[DIV 1 QTY]]","v":0},null,{"$f":"EOPC[[#This Row],[UNIT PRICE]]*EOPC[[#This Row],[DIV 2 QTY]]","v":0},null,{"$f":"EOPC[[#This Row],[UNIT PRICE]]*EOPC[[#This Row],[DIV 3 QTY]]","v":0},null,{"$f":"EOPC[[#This Row],[UNIT PRICE]]*EOPC[[#This Row],[DIV 4 QTY]]","v":0},null,{"$f":"EOPC[[#This Row],[UNIT PRICE]]*EOPC[[#This Row],[DIV 5 QTY]]","v":0},null,{"$f":"EOPC[[#This Row],[UNIT PRICE]]*EOPC[[#This Row],[DIV 6 QTY]]","v":0},null,{"$f":"EOPC[[#This Row],[UNIT PRICE]]*EOPC[[#This Row],[DIV 7 QTY]]","v":0},null,{"$f":"EOPC[[#This Row],[UNIT PRICE]]*EOPC[[#This Row],[DIV 8 QTY]]","v":0},null,{"$f":"EOPC[[#This Row],[UNIT PRICE]]*EOPC[[#This Row],[DIV 9 QTY]]","v":0},null,{"$f":"EOPC[[#This Row],[UNIT PRICE]]*EOPC[[#This Row],[DIV 10 QTY]]","v":0}]
[null,null,null,{"$f":"EOPC[[#This Row],[DIV 1 QTY]]+EOPC[[#This Row],[DIV 2 QTY]]+EOPC[[#This Row],[DIV 3 QTY]]+EOPC[[#This Row],[DIV 4 QTY]]+EOPC[[#This Row],[DIV 5 QTY]]+EOPC[[#This Row],[DIV 6 QTY]]+EOPC[[#This Row],[DIV 7 QTY]]+EOPC[[#This Row],[DIV 8 QTY]]+EOPC[[#This Row],[DIV 9 QTY]]+EOPC[[#This Row],[DIV 10 QTY]]","v":0},null,0,{"$f":"EOPC[[#This Row],[TOTAL QTY]]*EOPC[[#This Row],[UNIT PRICE]]","v":0},null,{"$f":"EOPC[[#This Row],[UNIT PRICE]]*EOPC[[#This Row],[DIV 1 QTY]]","v":0},null,{"$f":"EOPC[[#This Row],[UNIT PRICE]]*EOPC[[#This Row],[DIV 2 QTY]]","v":0},null,{"$f":"EOPC[[#This Row],[UNIT PRICE]]*EOPC[[#This Row],[DIV 3 QTY]]","v":0},null,{"$f":"EOPC[[#This Row],[UNIT PRICE]]*EOPC[[#This Row],[DIV 4 QTY]]","v":0},null,{"$f":"EOPC[[#This Row],[UNIT PRICE]]*EOPC[[#This Row],[DIV 5 QTY]]","v":0},null,{"$f":"EOPC[[#This Row],[UNIT PRICE]]*EOPC[[#This Row],[DIV 6 QTY]]","v":0},null,{"$f":"EOPC[[#This Row],[UNIT PRICE]]*EOPC[[#This Row],[DIV 7 QTY]]","v":0},null,{"$f":"EOPC[[#This Row],[UNIT PRICE]]*EOPC[[#This Row],[DIV 8 QTY]]","v":0},null,{"$f":"EOPC[[#This Row],[UNIT PRICE]]*EOPC[[#This Row],[DIV 9 QTY]]","v":0},null,{"$f":"EOPC[[#This Row],[UNIT PRICE]]*EOPC[[#This Row],[DIV 10 QTY]]","v":0}]
[null,null,null,{"$f":"EOPC[[#This Row],[DIV 1 QTY]]+EOPC[[#This Row],[DIV 2 QTY]]+EOPC[[#This Row],[DIV 3 QTY]]+EOPC[[#This Row],[DIV 4 QTY]]+EOPC[[#This Row],[DIV 5 QTY]]+EOPC[[#This Row],[DIV 6 QTY]]+EOPC[[#This Row],[DIV 7 QTY]]+EOPC[[#This Row],[DIV 8 QTY]]+EOPC[[#This Row],[DIV 9 QTY]]+EOPC[[#This Row],[DIV 10 QTY]]","v":0},null,0,{"$f":"EOPC[[#This Row],[TOTAL QTY]]*EOPC[[#This Row],[UNIT PRICE]]","v":0},null,{"$f":"EOPC[[#This Row],[UNIT PRICE]]*EOPC[[#This Row],[DIV 1 QTY]]","v":0},null,{"$f":"EOPC[[#This Row],[UNIT PRICE]]*EOPC[[#This Row],[DIV 2 QTY]]","v":0},null,{"$f":"EOPC[[#This Row],[UNIT PRICE]]*EOPC[[#This Row],[DIV 3 QTY]]","v":0},null,{"$f":"EOPC[[#This Row],[UNIT PRICE]]*EOPC[[#This Row],[DIV 4 QTY]]","v":0},null,{"$f":"EOPC[[#This Row],[UNIT PRICE]]*EOPC[[#This Row],[DIV 5 QTY]]","v":0},null,{"$f":"EOPC[[#This Row],[UNIT PRICE]]*EOPC[[#This Row],[DIV 6 QTY]]","v":0},null,{"$f":"EOPC[[#This Row],[UNIT PRICE]]*EOPC[[#This Row],[DIV 7 QTY]]","v":0},null,{"$f":"EOPC[[#This Row],[UNIT PRICE]]*EOPC[[#This Row],[DIV 8 QTY]]","v":0},null,{"$f":"EOPC[[#This Row],[UNIT PRICE]]*EOPC[[#This Row],[DIV 9 QTY]]","v":0},null,{"$f":"EOPC[[#This Row],[UNIT PRICE]]*EOPC[[#This Row],[DIV 10 QTY]]","v":0}]
[null,null,null,{"$f":"EOPC[[#This Row],[DIV 1 QTY]]+EOPC[[#This Row],[DIV 2 QTY]]+EOPC[[#This Row],[DIV 3 QTY]]+EOPC[[#This Row],[DIV 4 QTY]]+EOPC[[#This Row],[DIV 5 QTY]]+EOPC[[#This Row],[DIV 6 QTY]]+EOPC[[#This Row],[DIV 7 QTY]]+EOPC[[#This Row],[DIV 8 QTY]]+EOPC[[#This Row],[DIV 9 QTY]]+EOPC[[#This Row],[DIV 10 QTY]]","v":0},null,0,{"$f":"EOPC[[#This Row],[TOTAL QTY]]*EOPC[[#This Row],[UNIT PRICE]]","v":0},null,{"$f":"EOPC[[#This Row],[UNIT PRICE]]*EOPC[[#This Row],[DIV 1 QTY]]","v":0},null,{"$f":"EOPC[[#This Row],[UNIT PRICE]]*EOPC[[#This Row],[DIV 2 QTY]]","v":0},null,{"$f":"EOPC[[#This Row],[UNIT PRICE]]*EOPC[[#This Row],[DIV 3 QTY]]","v":0},null,{"$f":"EOPC[[#This Row],[UNIT PRICE]]*EOPC[[#This Row],[DIV 4 QTY]]","v":0},null,{"$f":"EOPC[[#This Row],[UNIT PRICE]]*EOPC[[#This Row],[DIV 5 QTY]]","v":0},null,{"$f":"EOPC[[#This Row],[UNIT PRICE]]*EOPC[[#This Row],[DIV 6 QTY]]","v":0},null,{"$f":"EOPC[[#This Row],[UNIT PRICE]]*EOPC[[#This Row],[DIV 7 QTY]]","v":0},null,{"$f":"EOPC[[#This Row],[UNIT PRICE]]*EOPC[[#This Row],[DIV 8 QTY]]","v":0},null,{"$f":"EOPC[[#This Row],[UNIT PRICE]]*EOPC[[#This Row],[DIV 9 QTY]]","v":0},null,{"$f":"EOPC[[#This Row],[UNIT PRICE]]*EOPC[[#This Row],[DIV 10 QTY]]","v":0}]
[null,null,null,{"$f":"EOPC[[#This Row],[DIV 1 QTY]]+EOPC[[#This Row],[DIV 2 QTY]]+EOPC[[#This Row],[DIV 3 QTY]]+EOPC[[#This Row],[DIV 4 QTY]]+EOPC[[#This Row],[DIV 5 QTY]]+EOPC[[#This Row],[DIV 6 QTY]]+EOPC[[#This Row],[DIV 7 QTY]]+EOPC[[#This Row],[DIV 8 QTY]]+EOPC[[#This Row],[DIV 9 QTY]]+EOPC[[#This Row],[DIV 10 QTY]]","v":0},null,0,{"$f":"EOPC[[#This Row],[TOTAL QTY]]*EOPC[[#This Row],[UNIT PRICE]]","v":0},null,{"$f":"EOPC[[#This Row],[UNIT PRICE]]*EOPC[[#This Row],[DIV 1 QTY]]","v":0},null,{"$f":"EOPC[[#This Row],[UNIT PRICE]]*EOPC[[#This Row],[DIV 2 QTY]]","v":0},null,{"$f":"EOPC[[#This Row],[UNIT PRICE]]*EOPC[[#This Row],[DIV 3 QTY]]","v":0},null,{"$f":"EOPC[[#This Row],[UNIT PRICE]]*EOPC[[#This Row],[DIV 4 QTY]]","v":0},null,{"$f":"EOPC[[#This Row],[UNIT PRICE]]*EOPC[[#This Row],[DIV 5 QTY]]","v":0},null,{"$f":"EOPC[[#This Row],[UNIT PRICE]]*EOPC[[#This Row],[DIV 6 QTY]]","v":0},null,{"$f":"EOPC[[#This Row],[UNIT PRICE]]*EOPC[[#This Row],[DIV 7 QTY]]","v":0},null,{"$f":"EOPC[[#This Row],[UNIT PRICE]]*EOPC[[#This Row],[DIV 8 QTY]]","v":0},null,{"$f":"EOPC[[#This Row],[UNIT PRICE]]*EOPC[[#This Row],[DIV 9 QTY]]","v":0},null,{"$f":"EOPC[[#This Row],[UNIT PRICE]]*EOPC[[#This Row],[DIV 10 QTY]]","v":0}]
[null,null,null,{"$f":"EOPC[[#This Row],[DIV 1 QTY]]+EOPC[[#This Row],[DIV 2 QTY]]+EOPC[[#This Row],[DIV 3 QTY]]+EOPC[[#This Row],[DIV 4 QTY]]+EOPC[[#This Row],[DIV 5 QTY]]+EOPC[[#This Row],[DIV 6 QTY]]+EOPC[[#This Row],[DIV 7 QTY]]+EOPC[[#This Row],[DIV 8 QTY]]+EOPC[[#This Row],[DIV 9 QTY]]+EOPC[[#This Row],[DIV 10 QTY]]","v":0},null,0,{"$f":"EOPC[[#This Row],[TOTAL QTY]]*EOPC[[#This Row],[UNIT PRICE]]","v":0},null,{"$f":"EOPC[[#This Row],[UNIT PRICE]]*EOPC[[#This Row],[DIV 1 QTY]]","v":0},null,{"$f":"EOPC[[#This Row],[UNIT PRICE]]*EOPC[[#This Row],[DIV 2 QTY]]","v":0},null,{"$f":"EOPC[[#This Row],[UNIT PRICE]]*EOPC[[#This Row],[DIV 3 QTY]]","v":0},null,{"$f":"EOPC[[#This Row],[UNIT PRICE]]*EOPC[[#This Row],[DIV 4 QTY]]","v":0},null,{"$f":"EOPC[[#This Row],[UNIT PRICE]]*EOPC[[#This Row],[DIV 5 QTY]]","v":0},null,{"$f":"EOPC[[#This Row],[UNIT PRICE]]*EOPC[[#This Row],[DIV 6 QTY]]","v":0},null,{"$f":"EOPC[[#This Row],[UNIT PRICE]]*EOPC[[#This Row],[DIV 7 QTY]]","v":0},null,{"$f":"EOPC[[#This Row],[UNIT PRICE]]*EOPC[[#This Row],[DIV 8 QTY]]","v":0},null,{"$f":"EOPC[[#This Row],[UNIT PRICE]]*EOPC[[#This Row],[DIV 9 QTY]]","v":0},null,{"$f":"EOPC[[#This Row],[UNIT PRICE]]*EOPC[[#This Row],[DIV 10 QTY]]","v":0}]
[null,null,null,{"$f":"EOPC[[#This Row],[DIV 1 QTY]]+EOPC[[#This Row],[DIV 2 QTY]]+EOPC[[#This Row],[DIV 3 QTY]]+EOPC[[#This Row],[DIV 4 QTY]]+EOPC[[#This Row],[DIV 5 QTY]]+EOPC[[#This Row],[DIV 6 QTY]]+EOPC[[#This Row],[DIV 7 QTY]]+EOPC[[#This Row],[DIV 8 QTY]]+EOPC[[#This Row],[DIV 9 QTY]]+EOPC[[#This Row],[DIV 10 QTY]]","v":0},null,0,{"$f":"EOPC[[#This Row],[TOTAL QTY]]*EOPC[[#This Row],[UNIT PRICE]]","v":0},null,{"$f":"EOPC[[#This Row],[UNIT PRICE]]*EOPC[[#This Row],[DIV 1 QTY]]","v":0},null,{"$f":"EOPC[[#This Row],[UNIT PRICE]]*EOPC[[#This Row],[DIV 2 QTY]]","v":0},null,{"$f":"EOPC[[#This Row],[UNIT PRICE]]*EOPC[[#This Row],[DIV 3 QTY]]","v":0},null,{"$f":"EOPC[[#This Row],[UNIT PRICE]]*EOPC[[#This Row],[DIV 4 QTY]]","v":0},null,{"$f":"EOPC[[#This Row],[UNIT PRICE]]*EOPC[[#This Row],[DIV 5 QTY]]","v":0},null,{"$f":"EOPC[[#This Row],[UNIT PRICE]]*EOPC[[#This Row],[DIV 6 QTY]]","v":0},null,{"$f":"EOPC[[#This Row],[UNIT PRICE]]*EOPC[[#This Row],[DIV 7 QTY]]","v":0},null,{"$f":"EOPC[[#This Row],[UNIT PRICE]]*EOPC[[#This Row],[DIV 8 QTY]]","v":0},null,{"$f":"EOPC[[#This Row],[UNIT PRICE]]*EOPC[[#This Row],[DIV 9 QTY]]","v":0},null,{"$f":"EOPC[[#This Row],[UNIT PRICE]]*EOPC[[#This Row],[DIV 10 QTY]]","v":0}]
[null,null,null,{"$f":"EOPC[[#This Row],[DIV 1 QTY]]+EOPC[[#This Row],[DIV 2 QTY]]+EOPC[[#This Row],[DIV 3 QTY]]+EOPC[[#This Row],[DIV 4 QTY]]+EOPC[[#This Row],[DIV 5 QTY]]+EOPC[[#This Row],[DIV 6 QTY]]+EOPC[[#This Row],[DIV 7 QTY]]+EOPC[[#This Row],[DIV 8 QTY]]+EOPC[[#This Row],[DIV 9 QTY]]+EOPC[[#This Row],[DIV 10 QTY]]","v":0},null,0,{"$f":"EOPC[[#This Row],[TOTAL QTY]]*EOPC[[#This Row],[UNIT PRICE]]","v":0},null,{"$f":"EOPC[[#This Row],[UNIT PRICE]]*EOPC[[#This Row],[DIV 1 QTY]]","v":0},null,{"$f":"EOPC[[#This Row],[UNIT PRICE]]*EOPC[[#This Row],[DIV 2 QTY]]","v":0},null,{"$f":"EOPC[[#This Row],[UNIT PRICE]]*EOPC[[#This Row],[DIV 3 QTY]]","v":0},null,{"$f":"EOPC[[#This Row],[UNIT PRICE]]*EOPC[[#This Row],[DIV 4 QTY]]","v":0},null,{"$f":"EOPC[[#This Row],[UNIT PRICE]]*EOPC[[#This Row],[DIV 5 QTY]]","v":0},null,{"$f":"EOPC[[#This Row],[UNIT PRICE]]*EOPC[[#This Row],[DIV 6 QTY]]","v":0},null,{"$f":"EOPC[[#This Row],[UNIT PRICE]]*EOPC[[#This Row],[DIV 7 QTY]]","v":0},null,{"$f":"EOPC[[#This Row],[UNIT PRICE]]*EOPC[[#This Row],[DIV 8 QTY]]","v":0},null,{"$f":"EOPC[[#This Row],[UNIT PRICE]]*EOPC[[#This Row],[DIV 9 QTY]]","v":0},null,{"$f":"EOPC[[#This Row],[UNIT PRICE]]*EOPC[[#This Row],[DIV 10 QTY]]","v":0}]
[null,null,null,{"$f":"EOPC[[#This Row],[DIV 1 QTY]]+EOPC[[#This Row],[DIV 2 QTY]]+EOPC[[#This Row],[DIV 3 QTY]]+EOPC[[#This Row],[DIV 4 QTY]]+EOPC[[#This Row],[DIV 5 QTY]]+EOPC[[#This Row],[DIV 6 QTY]]+EOPC[[#This Row],[DIV 7 QTY]]+EOPC[[#This Row],[DIV 8 QTY]]+EOPC[[#This Row],[DIV 9 QTY]]+EOPC[[#This Row],[DIV 10 QTY]]","v":0},null,0,{"$f":"EOPC[[#This Row],[TOTAL QTY]]*EOPC[[#This Row],[UNIT PRICE]]","v":0},null,{"$f":"EOPC[[#This Row],[UNIT PRICE]]*EOPC[[#This Row],[DIV 1 QTY]]","v":0},null,{"$f":"EOPC[[#This Row],[UNIT PRICE]]*EOPC[[#This Row],[DIV 2 QTY]]","v":0},null,{"$f":"EOPC[[#This Row],[UNIT PRICE]]*EOPC[[#This Row],[DIV 3 QTY]]","v":0},null,{"$f":"EOPC[[#This Row],[UNIT PRICE]]*EOPC[[#This Row],[DIV 4 QTY]]","v":0},null,{"$f":"EOPC[[#This Row],[UNIT PRICE]]*EOPC[[#This Row],[DIV 5 QTY]]","v":0},null,{"$f":"EOPC[[#This Row],[UNIT PRICE]]*EOPC[[#This Row],[DIV 6 QTY]]","v":0},null,{"$f":"EOPC[[#This Row],[UNIT PRICE]]*EOPC[[#This Row],[DIV 7 QTY]]","v":0},null,{"$f":"EOPC[[#This Row],[UNIT PRICE]]*EOPC[[#This Row],[DIV 8 QTY]]","v":0},null,{"$f":"EOPC[[#This Row],[UNIT PRICE]]*EOPC[[#This Row],[DIV 9 QTY]]","v":0},null,{"$f":"EOPC[[#This Row],[UNIT PRICE]]*EOPC[[#This Row],[DIV 10 QTY]]","v":0}]
[null,null,null,{"$f":"EOPC[[#This Row],[DIV 1 QTY]]+EOPC[[#This Row],[DIV 2 QTY]]+EOPC[[#This Row],[DIV 3 QTY]]+EOPC[[#This Row],[DIV 4 QTY]]+EOPC[[#This Row],[DIV 5 QTY]]+EOPC[[#This Row],[DIV 6 QTY]]+EOPC[[#This Row],[DIV 7 QTY]]+EOPC[[#This Row],[DIV 8 QTY]]+EOPC[[#This Row],[DIV 9 QTY]]+EOPC[[#This Row],[DIV 10 QTY]]","v":0},null,0,{"$f":"EOPC[[#This Row],[TOTAL QTY]]*EOPC[[#This Row],[UNIT PRICE]]","v":0},null,{"$f":"EOPC[[#This Row],[UNIT PRICE]]*EOPC[[#This Row],[DIV 1 QTY]]","v":0},null,{"$f":"EOPC[[#This Row],[UNIT PRICE]]*EOPC[[#This Row],[DIV 2 QTY]]","v":0},null,{"$f":"EOPC[[#This Row],[UNIT PRICE]]*EOPC[[#This Row],[DIV 3 QTY]]","v":0},null,{"$f":"EOPC[[#This Row],[UNIT PRICE]]*EOPC[[#This Row],[DIV 4 QTY]]","v":0},null,{"$f":"EOPC[[#This Row],[UNIT PRICE]]*EOPC[[#This Row],[DIV 5 QTY]]","v":0},null,{"$f":"EOPC[[#This Row],[UNIT PRICE]]*EOPC[[#This Row],[DIV 6 QTY]]","v":0},null,{"$f":"EOPC[[#This Row],[UNIT PRICE]]*EOPC[[#This Row],[DIV 7 QTY]]","v":0},null,{"$f":"EOPC[[#This Row],[UNIT PRICE]]*EOPC[[#This Row],[DIV 8 QTY]]","v":0},null,{"$f":"EOPC[[#This Row],[UNIT PRICE]]*EOPC[[#This Row],[DIV 9 QTY]]","v":0},null,{"$f":"EOPC[[#This Row],[UNIT PRICE]]*EOPC[[#This Row],[DIV 10 QTY]]","v":0}]
[null,null,null,{"$f":"EOPC[[#This Row],[DIV 1 QTY]]+EOPC[[#This Row],[DIV 2 QTY]]+EOPC[[#This Row],[DIV 3 QTY]]+EOPC[[#This Row],[DIV 4 QTY]]+EOPC[[#This Row],[DIV 5 QTY]]+EOPC[[#This Row],[DIV 6 QTY]]+EOPC[[#This Row],[DIV 7 QTY]]+EOPC[[#This Row],[DIV 8 QTY]]+EOPC[[#This Row],[DIV 9 QTY]]+EOPC[[#This Row],[DIV 10 QTY]]","v":0},null,0,{"$f":"EOPC[[#This Row],[TOTAL QTY]]*EOPC[[#This Row],[UNIT PRICE]]","v":0},null,{"$f":"EOPC[[#This Row],[UNIT PRICE]]*EOPC[[#This Row],[DIV 1 QTY]]","v":0},null,{"$f":"EOPC[[#This Row],[UNIT PRICE]]*EOPC[[#This Row],[DIV 2 QTY]]","v":0},null,{"$f":"EOPC[[#This Row],[UNIT PRICE]]*EOPC[[#This Row],[DIV 3 QTY]]","v":0},null,{"$f":"EOPC[[#This Row],[UNIT PRICE]]*EOPC[[#This Row],[DIV 4 QTY]]","v":0},null,{"$f":"EOPC[[#This Row],[UNIT PRICE]]*EOPC[[#This Row],[DIV 5 QTY]]","v":0},null,{"$f":"EOPC[[#This Row],[UNIT PRICE]]*EOPC[[#This Row],[DIV 6 QTY]]","v":0},null,{"$f":"EOPC[[#This Row],[UNIT PRICE]]*EOPC[[#This Row],[DIV 7 QTY]]","v":0},null,{"$f":"EOPC[[#This Row],[UNIT PRICE]]*EOPC[[#This Row],[DIV 8 QTY]]","v":0},null,{"$f":"EOPC[[#This Row],[UNIT PRICE]]*EOPC[[#This Row],[DIV 9 QTY]]","v":0},null,{"$f":"EOPC[[#This Row],[UNIT PRICE]]*EOPC[[#This Row],[DIV 10 QTY]]","v":0}]
[null,null,null,{"$f":"EOPC[[#This Row],[DIV 1 QTY]]+EOPC[[#This Row],[DIV 2 QTY]]+EOPC[[#This Row],[DIV 3 QTY]]+EOPC[[#This Row],[DIV 4 QTY]]+EOPC[[#This Row],[DIV 5 QTY]]+EOPC[[#This Row],[DIV 6 QTY]]+EOPC[[#This Row],[DIV 7 QTY]]+EOPC[[#This Row],[DIV 8 QTY]]+EOPC[[#This Row],[DIV 9 QTY]]+EOPC[[#This Row],[DIV 10 QTY]]","v":0},null,0,{"$f":"EOPC[[#This Row],[TOTAL QTY]]*EOPC[[#This Row],[UNIT PRICE]]","v":0},null,{"$f":"EOPC[[#This Row],[UNIT PRICE]]*EOPC[[#This Row],[DIV 1 QTY]]","v":0},null,{"$f":"EOPC[[#This Row],[UNIT PRICE]]*EOPC[[#This Row],[DIV 2 QTY]]","v":0},null,{"$f":"EOPC[[#This Row],[UNIT PRICE]]*EOPC[[#This Row],[DIV 3 QTY]]","v":0},null,{"$f":"EOPC[[#This Row],[UNIT PRICE]]*EOPC[[#This Row],[DIV 4 QTY]]","v":0},null,{"$f":"EOPC[[#This Row],[UNIT PRICE]]*EOPC[[#This Row],[DIV 5 QTY]]","v":0},null,{"$f":"EOPC[[#This Row],[UNIT PRICE]]*EOPC[[#This Row],[DIV 6 QTY]]","v":0},null,{"$f":"EOPC[[#This Row],[UNIT PRICE]]*EOPC[[#This Row],[DIV 7 QTY]]","v":0},null,{"$f":"EOPC[[#This Row],[UNIT PRICE]]*EOPC[[#This Row],[DIV 8 QTY]]","v":0},null,{"$f":"EOPC[[#This Row],[UNIT PRICE]]*EOPC[[#This Row],[DIV 9 QTY]]","v":0},null,{"$f":"EOPC[[#This Row],[UNIT PRICE]]*EOPC[[#This Row],[DIV 10 QTY]]","v":0}]
[null,null,null,{"$f":"EOPC[[#This Row],[DIV 1 QTY]]+EOPC[[#This Row],[DIV 2 QTY]]+EOPC[[#This Row],[DIV 3 QTY]]+EOPC[[#This Row],[DIV 4 QTY]]+EOPC[[#This Row],[DIV 5 QTY]]+EOPC[[#This Row],[DIV 6 QTY]]+EOPC[[#This Row],[DIV 7 QTY]]+EOPC[[#This Row],[DIV 8 QTY]]+EOPC[[#This Row],[DIV 9 QTY]]+EOPC[[#This Row],[DIV 10 QTY]]","v":0},null,0,{"$f":"EOPC[[#This Row],[TOTAL QTY]]*EOPC[[#This Row],[UNIT PRICE]]","v":0},null,{"$f":"EOPC[[#This Row],[UNIT PRICE]]*EOPC[[#This Row],[DIV 1 QTY]]","v":0},null,{"$f":"EOPC[[#This Row],[UNIT PRICE]]*EOPC[[#This Row],[DIV 2 QTY]]","v":0},null,{"$f":"EOPC[[#This Row],[UNIT PRICE]]*EOPC[[#This Row],[DIV 3 QTY]]","v":0},null,{"$f":"EOPC[[#This Row],[UNIT PRICE]]*EOPC[[#This Row],[DIV 4 QTY]]","v":0},null,{"$f":"EOPC[[#This Row],[UNIT PRICE]]*EOPC[[#This Row],[DIV 5 QTY]]","v":0},null,{"$f":"EOPC[[#This Row],[UNIT PRICE]]*EOPC[[#This Row],[DIV 6 QTY]]","v":0},null,{"$f":"EOPC[[#This Row],[UNIT PRICE]]*EOPC[[#This Row],[DIV 7 QTY]]","v":0},null,{"$f":"EOPC[[#This Row],[UNIT PRICE]]*EOPC[[#This Row],[DIV 8 QTY]]","v":0},null,{"$f":"EOPC[[#This Row],[UNIT PRICE]]*EOPC[[#This Row],[DIV 9 QTY]]","v":0},null,{"$f":"EOPC[[#This Row],[UNIT PRICE]]*EOPC[[#This Row],[DIV 10 QTY]]","v":0}]
[null,null,null,{"$f":"EOPC[[#This Row],[DIV 1 QTY]]+EOPC[[#This Row],[DIV 2 QTY]]+EOPC[[#This Row],[DIV 3 QTY]]+EOPC[[#This Row],[DIV 4 QTY]]+EOPC[[#This Row],[DIV 5 QTY]]+EOPC[[#This Row],[DIV 6 QTY]]+EOPC[[#This Row],[DIV 7 QTY]]+EOPC[[#This Row],[DIV 8 QTY]]+EOPC[[#This Row],[DIV 9 QTY]]+EOPC[[#This Row],[DIV 10 QTY]]","v":0},null,0,{"$f":"EOPC[[#This Row],[TOTAL QTY]]*EOPC[[#This Row],[UNIT PRICE]]","v":0},null,{"$f":"EOPC[[#This Row],[UNIT PRICE]]*EOPC[[#This Row],[DIV 1 QTY]]","v":0},null,{"$f":"EOPC[[#This Row],[UNIT PRICE]]*EOPC[[#This Row],[DIV 2 QTY]]","v":0},null,{"$f":"EOPC[[#This Row],[UNIT PRICE]]*EOPC[[#This Row],[DIV 3 QTY]]","v":0},null,{"$f":"EOPC[[#This Row],[UNIT PRICE]]*EOPC[[#This Row],[DIV 4 QTY]]","v":0},null,{"$f":"EOPC[[#This Row],[UNIT PRICE]]*EOPC[[#This Row],[DIV 5 QTY]]","v":0},null,{"$f":"EOPC[[#This Row],[UNIT PRICE]]*EOPC[[#This Row],[DIV 6 QTY]]","v":0},null,{"$f":"EOPC[[#This Row],[UNIT PRICE]]*EOPC[[#This Row],[DIV 7 QTY]]","v":0},null,{"$f":"EOPC[[#This Row],[UNIT PRICE]]*EOPC[[#This Row],[DIV 8 QTY]]","v":0},null,{"$f":"EOPC[[#This Row],[UNIT PRICE]]*EOPC[[#This Row],[DIV 9 QTY]]","v":0},null,{"$f":"EOPC[[#This Row],[UNIT PRICE]]*EOPC[[#This Row],[DIV 10 QTY]]","v":0}]
[null,null,null,{"$f":"EOPC[[#This Row],[DIV 1 QTY]]+EOPC[[#This Row],[DIV 2 QTY]]+EOPC[[#This Row],[DIV 3 QTY]]+EOPC[[#This Row],[DIV 4 QTY]]+EOPC[[#This Row],[DIV 5 QTY]]+EOPC[[#This Row],[DIV 6 QTY]]+EOPC[[#This Row],[DIV 7 QTY]]+EOPC[[#This Row],[DIV 8 QTY]]+EOPC[[#This Row],[DIV 9 QTY]]+EOPC[[#This Row],[DIV 10 QTY]]","v":0},null,0,{"$f":"EOPC[[#This Row],[TOTAL QTY]]*EOPC[[#This Row],[UNIT PRICE]]","v":0},null,{"$f":"EOPC[[#This Row],[UNIT PRICE]]*EOPC[[#This Row],[DIV 1 QTY]]","v":0},null,{"$f":"EOPC[[#This Row],[UNIT PRICE]]*EOPC[[#This Row],[DIV 2 QTY]]","v":0},null,{"$f":"EOPC[[#This Row],[UNIT PRICE]]*EOPC[[#This Row],[DIV 3 QTY]]","v":0},null,{"$f":"EOPC[[#This Row],[UNIT PRICE]]*EOPC[[#This Row],[DIV 4 QTY]]","v":0},null,{"$f":"EOPC[[#This Row],[UNIT PRICE]]*EOPC[[#This Row],[DIV 5 QTY]]","v":0},null,{"$f":"EOPC[[#This Row],[UNIT PRICE]]*EOPC[[#This Row],[DIV 6 QTY]]","v":0},null,{"$f":"EOPC[[#This Row],[UNIT PRICE]]*EOPC[[#This Row],[DIV 7 QTY]]","v":0},null,{"$f":"EOPC[[#This Row],[UNIT PRICE]]*EOPC[[#This Row],[DIV 8 QTY]]","v":0},null,{"$f":"EOPC[[#This Row],[UNIT PRICE]]*EOPC[[#This Row],[DIV 9 QTY]]","v":0},null,{"$f":"EOPC[[#This Row],[UNIT PRICE]]*EOPC[[#This Row],[DIV 10 QTY]]","v":0}]
[null,null,null,{"$f":"EOPC[[#This Row],[DIV 1 QTY]]+EOPC[[#This Row],[DIV 2 QTY]]+EOPC[[#This Row],[DIV 3 QTY]]+EOPC[[#This Row],[DIV 4 QTY]]+EOPC[[#This Row],[DIV 5 QTY]]+EOPC[[#This Row],[DIV 6 QTY]]+EOPC[[#This Row],[DIV 7 QTY]]+EOPC[[#This Row],[DIV 8 QTY]]+EOPC[[#This Row],[DIV 9 QTY]]+EOPC[[#This Row],[DIV 10 QTY]]","v":0},null,0,{"$f":"EOPC[[#This Row],[TOTAL QTY]]*EOPC[[#This Row],[UNIT PRICE]]","v":0},null,{"$f":"EOPC[[#This Row],[UNIT PRICE]]*EOPC[[#This Row],[DIV 1 QTY]]","v":0},null,{"$f":"EOPC[[#This Row],[UNIT PRICE]]*EOPC[[#This Row],[DIV 2 QTY]]","v":0},null,{"$f":"EOPC[[#This Row],[UNIT PRICE]]*EOPC[[#This Row],[DIV 3 QTY]]","v":0},null,{"$f":"EOPC[[#This Row],[UNIT PRICE]]*EOPC[[#This Row],[DIV 4 QTY]]","v":0},null,{"$f":"EOPC[[#This Row],[UNIT PRICE]]*EOPC[[#This Row],[DIV 5 QTY]]","v":0},null,{"$f":"EOPC[[#This Row],[UNIT PRICE]]*EOPC[[#This Row],[DIV 6 QTY]]","v":0},null,{"$f":"EOPC[[#This Row],[UNIT PRICE]]*EOPC[[#This Row],[DIV 7 QTY]]","v":0},null,{"$f":"EOPC[[#This Row],[UNIT PRICE]]*EOPC[[#This Row],[DIV 8 QTY]]","v":0},null,{"$f":"EOPC[[#This Row],[UNIT PRICE]]*EOPC[[#This Row],[DIV 9 QTY]]","v":0},null,{"$f":"EOPC[[#This Row],[UNIT PRICE]]*EOPC[[#This Row],[DIV 10 QTY]]","v":0}]
[null,null,null,{"$f":"EOPC[[#This Row],[DIV 1 QTY]]+EOPC[[#This Row],[DIV 2 QTY]]+EOPC[[#This Row],[DIV 3 QTY]]+EOPC[[#This Row],[DIV 4 QTY]]+EOPC[[#This Row],[DIV 5 QTY]]+EOPC[[#This Row],[DIV 6 QTY]]+EOPC[[#This Row],[DIV 7 QTY]]+EOPC[[#This Row],[DIV 8 QTY]]+EOPC[[#This Row],[DIV 9 QTY]]+EOPC[[#This Row],[DIV 10 QTY]]","v":0},null,0,{"$f":"EOPC[[#This Row],[TOTAL QTY]]*EOPC[[#This Row],[UNIT PRICE]]","v":0},null,{"$f":"EOPC[[#This Row],[UNIT PRICE]]*EOPC[[#This Row],[DIV 1 QTY]]","v":0},null,{"$f":"EOPC[[#This Row],[UNIT PRICE]]*EOPC[[#This Row],[DIV 2 QTY]]","v":0},null,{"$f":"EOPC[[#This Row],[UNIT PRICE]]*EOPC[[#This Row],[DIV 3 QTY]]","v":0},null,{"$f":"EOPC[[#This Row],[UNIT PRICE]]*EOPC[[#This Row],[DIV 4 QTY]]","v":0},null,{"$f":"EOPC[[#This Row],[UNIT PRICE]]*EOPC[[#This Row],[DIV 5 QTY]]","v":0},null,{"$f":"EOPC[[#This Row],[UNIT PRICE]]*EOPC[[#This Row],[DIV 6 QTY]]","v":0},null,{"$f":"EOPC[[#This Row],[UNIT PRICE]]*EOPC[[#This Row],[DIV 7 QTY]]","v":0},null,{"$f":"EOPC[[#This Row],[UNIT PRICE]]*EOPC[[#This Row],[DIV 8 QTY]]","v":0},null,{"$f":"EOPC[[#This Row],[UNIT PRICE]]*EOPC[[#This Row],[DIV 9 QTY]]","v":0},null,{"$f":"EOPC[[#This Row],[UNIT PRICE]]*EOPC[[#This Row],[DIV 10 QTY]]","v":0}]
[null,null,null,{"$f":"EOPC[[#This Row],[DIV 1 QTY]]+EOPC[[#This Row],[DIV 2 QTY]]+EOPC[[#This Row],[DIV 3 QTY]]+EOPC[[#This Row],[DIV 4 QTY]]+EOPC[[#This Row],[DIV 5 QTY]]+EOPC[[#This Row],[DIV 6 QTY]]+EOPC[[#This Row],[DIV 7 QTY]]+EOPC[[#This Row],[DIV 8 QTY]]+EOPC[[#This Row],[DIV 9 QTY]]+EOPC[[#This Row],[DIV 10 QTY]]","v":0},null,0,{"$f":"EOPC[[#This Row],[TOTAL QTY]]*EOPC[[#This Row],[UNIT PRICE]]","v":0},null,{"$f":"EOPC[[#This Row],[UNIT PRICE]]*EOPC[[#This Row],[DIV 1 QTY]]","v":0},null,{"$f":"EOPC[[#This Row],[UNIT PRICE]]*EOPC[[#This Row],[DIV 2 QTY]]","v":0},null,{"$f":"EOPC[[#This Row],[UNIT PRICE]]*EOPC[[#This Row],[DIV 3 QTY]]","v":0},null,{"$f":"EOPC[[#This Row],[UNIT PRICE]]*EOPC[[#This Row],[DIV 4 QTY]]","v":0},null,{"$f":"EOPC[[#This Row],[UNIT PRICE]]*EOPC[[#This Row],[DIV 5 QTY]]","v":0},null,{"$f":"EOPC[[#This Row],[UNIT PRICE]]*EOPC[[#This Row],[DIV 6 QTY]]","v":0},null,{"$f":"EOPC[[#This Row],[UNIT PRICE]]*EOPC[[#This Row],[DIV 7 QTY]]","v":0},null,{"$f":"EOPC[[#This Row],[UNIT PRICE]]*EOPC[[#This Row],[DIV 8 QTY]]","v":0},null,{"$f":"EOPC[[#This Row],[UNIT PRICE]]*EOPC[[#This Row],[DIV 9 QTY]]","v":0},null,{"$f":"EOPC[[#This Row],[UNIT PRICE]]*EOPC[[#This Row],[DIV 10 QTY]]","v":0}]
[null,null,null,{"$f":"EOPC[[#This Row],[DIV 1 QTY]]+EOPC[[#This Row],[DIV 2 QTY]]+EOPC[[#This Row],[DIV 3 QTY]]+EOPC[[#This Row],[DIV 4 QTY]]+EOPC[[#This Row],[DIV 5 QTY]]+EOPC[[#This Row],[DIV 6 QTY]]+EOPC[[#This Row],[DIV 7 QTY]]+EOPC[[#This Row],[DIV 8 QTY]]+EOPC[[#This Row],[DIV 9 QTY]]+EOPC[[#This Row],[DIV 10 QTY]]","v":0},null,0,{"$f":"EOPC[[#This Row],[TOTAL QTY]]*EOPC[[#This Row],[UNIT PRICE]]","v":0},null,{"$f":"EOPC[[#This Row],[UNIT PRICE]]*EOPC[[#This Row],[DIV 1 QTY]]","v":0},null,{"$f":"EOPC[[#This Row],[UNIT PRICE]]*EOPC[[#This Row],[DIV 2 QTY]]","v":0},null,{"$f":"EOPC[[#This Row],[UNIT PRICE]]*EOPC[[#This Row],[DIV 3 QTY]]","v":0},null,{"$f":"EOPC[[#This Row],[UNIT PRICE]]*EOPC[[#This Row],[DIV 4 QTY]]","v":0},null,{"$f":"EOPC[[#This Row],[UNIT PRICE]]*EOPC[[#This Row],[DIV 5 QTY]]","v":0},null,{"$f":"EOPC[[#This Row],[UNIT PRICE]]*EOPC[[#This Row],[DIV 6 QTY]]","v":0},null,{"$f":"EOPC[[#This Row],[UNIT PRICE]]*EOPC[[#This Row],[DIV 7 QTY]]","v":0},null,{"$f":"EOPC[[#This Row],[UNIT PRICE]]*EOPC[[#This Row],[DIV 8 QTY]]","v":0},null,{"$f":"EOPC[[#This Row],[UNIT PRICE]]*EOPC[[#This Row],[DIV 9 QTY]]","v":0},null,{"$f":"EOPC[[#This Row],[UNIT PRICE]]*EOPC[[#This Row],[DIV 10 QTY]]","v":0}]
[null,null,null,{"$f":"EOPC[[#This Row],[DIV 1 QTY]]+EOPC[[#This Row],[DIV 2 QTY]]+EOPC[[#This Row],[DIV 3 QTY]]+EOPC[[#This Row],[DIV 4 QTY]]+EOPC[[#This Row],[DIV 5 QTY]]+EOPC[[#This Row],[DIV 6 QTY]]+EOPC[[#This Row],[DIV 7 QTY]]+EOPC[[#This Row],[DIV 8 QTY]]+EOPC[[#This Row],[DIV 9 QTY]]+EOPC[[#This Row],[DIV 10 QTY]]","v":0},null,0,{"$f":"EOPC[[#This Row],[TOTAL QTY]]*EOPC[[#This Row],[UNIT PRICE]]","v":0},null,{"$f":"EOPC[[#This Row],[UNIT PRICE]]*EOPC[[#This Row],[DIV 1 QTY]]","v":0},null,{"$f":"EOPC[[#This Row],[UNIT PRICE]]*EOPC[[#This Row],[DIV 2 QTY]]","v":0},null,{"$f":"EOPC[[#This Row],[UNIT PRICE]]*EOPC[[#This Row],[DIV 3 QTY]]","v":0},null,{"$f":"EOPC[[#This Row],[UNIT PRICE]]*EOPC[[#This Row],[DIV 4 QTY]]","v":0},null,{"$f":"EOPC[[#This Row],[UNIT PRICE]]*EOPC[[#This Row],[DIV 5 QTY]]","v":0},null,{"$f":"EOPC[[#This Row],[UNIT PRICE]]*EOPC[[#This Row],[DIV 6 QTY]]","v":0},null,{"$f":"EOPC[[#This Row],[UNIT PRICE]]*EOPC[[#This Row],[DIV 7 QTY]]","v":0},null,{"$f":"EOPC[[#This Row],[UNIT PRICE]]*EOPC[[#This Row],[DIV 8 QTY]]","v":0},null,{"$f":"EOPC[[#This Row],[UNIT PRICE]]*EOPC[[#This Row],[DIV 9 QTY]]","v":0},null,{"$f":"EOPC[[#This Row],[UNIT PRICE]]*EOPC[[#This Row],[DIV 10 QTY]]","v":0}]
[null,null,null,{"$f":"EOPC[[#This Row],[DIV 1 QTY]]+EOPC[[#This Row],[DIV 2 QTY]]+EOPC[[#This Row],[DIV 3 QTY]]+EOPC[[#This Row],[DIV 4 QTY]]+EOPC[[#This Row],[DIV 5 QTY]]+EOPC[[#This Row],[DIV 6 QTY]]+EOPC[[#This Row],[DIV 7 QTY]]+EOPC[[#This Row],[DIV 8 QTY]]+EOPC[[#This Row],[DIV 9 QTY]]+EOPC[[#This Row],[DIV 10 QTY]]","v":0},null,0,{"$f":"EOPC[[#This Row],[TOTAL QTY]]*EOPC[[#This Row],[UNIT PRICE]]","v":0},null,{"$f":"EOPC[[#This Row],[UNIT PRICE]]*EOPC[[#This Row],[DIV 1 QTY]]","v":0},null,{"$f":"EOPC[[#This Row],[UNIT PRICE]]*EOPC[[#This Row],[DIV 2 QTY]]","v":0},null,{"$f":"EOPC[[#This Row],[UNIT PRICE]]*EOPC[[#This Row],[DIV 3 QTY]]","v":0},null,{"$f":"EOPC[[#This Row],[UNIT PRICE]]*EOPC[[#This Row],[DIV 4 QTY]]","v":0},null,{"$f":"EOPC[[#This Row],[UNIT PRICE]]*EOPC[[#This Row],[DIV 5 QTY]]","v":0},null,{"$f":"EOPC[[#This Row],[UNIT PRICE]]*EOPC[[#This Row],[DIV 6 QTY]]","v":0},null,{"$f":"EOPC[[#This Row],[UNIT PRICE]]*EOPC[[#This Row],[DIV 7 QTY]]","v":0},null,{"$f":"EOPC[[#This Row],[UNIT PRICE]]*EOPC[[#This Row],[DIV 8 QTY]]","v":0},null,{"$f":"EOPC[[#This Row],[UNIT PRICE]]*EOPC[[#This Row],[DIV 9 QTY]]","v":0},null,{"$f":"EOPC[[#This Row],[UNIT PRICE]]*EOPC[[#This Row],[DIV 10 QTY]]","v":0}]
[null,null,null,{"$f":"EOPC[[#This Row],[DIV 1 QTY]]+EOPC[[#This Row],[DIV 2 QTY]]+EOPC[[#This Row],[DIV 3 QTY]]+EOPC[[#This Row],[DIV 4 QTY]]+EOPC[[#This Row],[DIV 5 QTY]]+EOPC[[#This Row],[DIV 6 QTY]]+EOPC[[#This Row],[DIV 7 QTY]]+EOPC[[#This Row],[DIV 8 QTY]]+EOPC[[#This Row],[DIV 9 QTY]]+EOPC[[#This Row],[DIV 10 QTY]]","v":0},null,0,{"$f":"EOPC[[#This Row],[TOTAL QTY]]*EOPC[[#This Row],[UNIT PRICE]]","v":0},null,{"$f":"EOPC[[#This Row],[UNIT PRICE]]*EOPC[[#This Row],[DIV 1 QTY]]","v":0},null,{"$f":"EOPC[[#This Row],[UNIT PRICE]]*EOPC[[#This Row],[DIV 2 QTY]]","v":0},null,{"$f":"EOPC[[#This Row],[UNIT PRICE]]*EOPC[[#This Row],[DIV 3 QTY]]","v":0},null,{"$f":"EOPC[[#This Row],[UNIT PRICE]]*EOPC[[#This Row],[DIV 4 QTY]]","v":0},null,{"$f":"EOPC[[#This Row],[UNIT PRICE]]*EOPC[[#This Row],[DIV 5 QTY]]","v":0},null,{"$f":"EOPC[[#This Row],[UNIT PRICE]]*EOPC[[#This Row],[DIV 6 QTY]]","v":0},null,{"$f":"EOPC[[#This Row],[UNIT PRICE]]*EOPC[[#This Row],[DIV 7 QTY]]","v":0},null,{"$f":"EOPC[[#This Row],[UNIT PRICE]]*EOPC[[#This Row],[DIV 8 QTY]]","v":0},null,{"$f":"EOPC[[#This Row],[UNIT PRICE]]*EOPC[[#This Row],[DIV 9 QTY]]","v":0},null,{"$f":"EOPC[[#This Row],[UNIT PRICE]]*EOPC[[#This Row],[DIV 10 QTY]]","v":0}]
[null,null,null,{"$f":"EOPC[[#This Row],[DIV 1 QTY]]+EOPC[[#This Row],[DIV 2 QTY]]+EOPC[[#This Row],[DIV 3 QTY]]+EOPC[[#This Row],[DIV 4 QTY]]+EOPC[[#This Row],[DIV 5 QTY]]+EOPC[[#This Row],[DIV 6 QTY]]+EOPC[[#This Row],[DIV 7 QTY]]+EOPC[[#This Row],[DIV 8 QTY]]+EOPC[[#This Row],[DIV 9 QTY]]+EOPC[[#This Row],[DIV 10 QTY]]","v":0},null,0,{"$f":"EOPC[[#This Row],[TOTAL QTY]]*EOPC[[#This Row],[UNIT PRICE]]","v":0},null,{"$f":"EOPC[[#This Row],[UNIT PRICE]]*EOPC[[#This Row],[DIV 1 QTY]]","v":0},null,{"$f":"EOPC[[#This Row],[UNIT PRICE]]*EOPC[[#This Row],[DIV 2 QTY]]","v":0},null,{"$f":"EOPC[[#This Row],[UNIT PRICE]]*EOPC[[#This Row],[DIV 3 QTY]]","v":0},null,{"$f":"EOPC[[#This Row],[UNIT PRICE]]*EOPC[[#This Row],[DIV 4 QTY]]","v":0},null,{"$f":"EOPC[[#This Row],[UNIT PRICE]]*EOPC[[#This Row],[DIV 5 QTY]]","v":0},null,{"$f":"EOPC[[#This Row],[UNIT PRICE]]*EOPC[[#This Row],[DIV 6 QTY]]","v":0},null,{"$f":"EOPC[[#This Row],[UNIT PRICE]]*EOPC[[#This Row],[DIV 7 QTY]]","v":0},null,{"$f":"EOPC[[#This Row],[UNIT PRICE]]*EOPC[[#This Row],[DIV 8 QTY]]","v":0},null,{"$f":"EOPC[[#This Row],[UNIT PRICE]]*EOPC[[#This Row],[DIV 9 QTY]]","v":0},null,{"$f":"EOPC[[#This Row],[UNIT PRICE]]*EOPC[[#This Row],[DIV 10 QTY]]","v":0}]
[null,null,null,{"$f":"EOPC[[#This Row],[DIV 1 QTY]]+EOPC[[#This Row],[DIV 2 QTY]]+EOPC[[#This Row],[DIV 3 QTY]]+EOPC[[#This Row],[DIV 4 QTY]]+EOPC[[#This Row],[DIV 5 QTY]]+EOPC[[#This Row],[DIV 6 QTY]]+EOPC[[#This Row],[DIV 7 QTY]]+EOPC[[#This Row],[DIV 8 QTY]]+EOPC[[#This Row],[DIV 9 QTY]]+EOPC[[#This Row],[DIV 10 QTY]]","v":0},null,0,{"$f":"EOPC[[#This Row],[TOTAL QTY]]*EOPC[[#This Row],[UNIT PRICE]]","v":0},null,{"$f":"EOPC[[#This Row],[UNIT PRICE]]*EOPC[[#This Row],[DIV 1 QTY]]","v":0},null,{"$f":"EOPC[[#This Row],[UNIT PRICE]]*EOPC[[#This Row],[DIV 2 QTY]]","v":0},null,{"$f":"EOPC[[#This Row],[UNIT PRICE]]*EOPC[[#This Row],[DIV 3 QTY]]","v":0},null,{"$f":"EOPC[[#This Row],[UNIT PRICE]]*EOPC[[#This Row],[DIV 4 QTY]]","v":0},null,{"$f":"EOPC[[#This Row],[UNIT PRICE]]*EOPC[[#This Row],[DIV 5 QTY]]","v":0},null,{"$f":"EOPC[[#This Row],[UNIT PRICE]]*EOPC[[#This Row],[DIV 6 QTY]]","v":0},null,{"$f":"EOPC[[#This Row],[UNIT PRICE]]*EOPC[[#This Row],[DIV 7 QTY]]","v":0},null,{"$f":"EOPC[[#This Row],[UNIT PRICE]]*EOPC[[#This Row],[DIV 8 QTY]]","v":0},null,{"$f":"EOPC[[#This Row],[UNIT PRICE]]*EOPC[[#This Row],[DIV 9 QTY]]","v":0},null,{"$f":"EOPC[[#This Row],[UNIT PRICE]]*EOPC[[#This Row],[DIV 10 QTY]]","v":0}]
[null,null,null,{"$f":"EOPC[[#This Row],[DIV 1 QTY]]+EOPC[[#This Row],[DIV 2 QTY]]+EOPC[[#This Row],[DIV 3 QTY]]+EOPC[[#This Row],[DIV 4 QTY]]+EOPC[[#This Row],[DIV 5 QTY]]+EOPC[[#This Row],[DIV 6 QTY]]+EOPC[[#This Row],[DIV 7 QTY]]+EOPC[[#This Row],[DIV 8 QTY]]+EOPC[[#This Row],[DIV 9 QTY]]+EOPC[[#This Row],[DIV 10 QTY]]","v":0},null,0,{"$f":"EOPC[[#This Row],[TOTAL QTY]]*EOPC[[#This Row],[UNIT PRICE]]","v":0},null,{"$f":"EOPC[[#This Row],[UNIT PRICE]]*EOPC[[#This Row],[DIV 1 QTY]]","v":0},null,{"$f":"EOPC[[#This Row],[UNIT PRICE]]*EOPC[[#This Row],[DIV 2 QTY]]","v":0},null,{"$f":"EOPC[[#This Row],[UNIT PRICE]]*EOPC[[#This Row],[DIV 3 QTY]]","v":0},null,{"$f":"EOPC[[#This Row],[UNIT PRICE]]*EOPC[[#This Row],[DIV 4 QTY]]","v":0},null,{"$f":"EOPC[[#This Row],[UNIT PRICE]]*EOPC[[#This Row],[DIV 5 QTY]]","v":0},null,{"$f":"EOPC[[#This Row],[UNIT PRICE]]*EOPC[[#This Row],[DIV 6 QTY]]","v":0},null,{"$f":"EOPC[[#This Row],[UNIT PRICE]]*EOPC[[#This Row],[DIV 7 QTY]]","v":0},null,{"$f":"EOPC[[#This Row],[UNIT PRICE]]*EOPC[[#This Row],[DIV 8 QTY]]","v":0},null,{"$f":"EOPC[[#This Row],[UNIT PRICE]]*EOPC[[#This Row],[DIV 9 QTY]]","v":0},null,{"$f":"EOPC[[#This Row],[UNIT PRICE]]*EOPC[[#This Row],[DIV 10 QTY]]","v":0}]
[null,null,null,{"$f":"EOPC[[#This Row],[DIV 1 QTY]]+EOPC[[#This Row],[DIV 2 QTY]]+EOPC[[#This Row],[DIV 3 QTY]]+EOPC[[#This Row],[DIV 4 QTY]]+EOPC[[#This Row],[DIV 5 QTY]]+EOPC[[#This Row],[DIV 6 QTY]]+EOPC[[#This Row],[DIV 7 QTY]]+EOPC[[#This Row],[DIV 8 QTY]]+EOPC[[#This Row],[DIV 9 QTY]]+EOPC[[#This Row],[DIV 10 QTY]]","v":0},null,0,{"$f":"EOPC[[#This Row],[TOTAL QTY]]*EOPC[[#This Row],[UNIT PRICE]]","v":0},null,{"$f":"EOPC[[#This Row],[UNIT PRICE]]*EOPC[[#This Row],[DIV 1 QTY]]","v":0},null,{"$f":"EOPC[[#This Row],[UNIT PRICE]]*EOPC[[#This Row],[DIV 2 QTY]]","v":0},null,{"$f":"EOPC[[#This Row],[UNIT PRICE]]*EOPC[[#This Row],[DIV 3 QTY]]","v":0},null,{"$f":"EOPC[[#This Row],[UNIT PRICE]]*EOPC[[#This Row],[DIV 4 QTY]]","v":0},null,{"$f":"EOPC[[#This Row],[UNIT PRICE]]*EOPC[[#This Row],[DIV 5 QTY]]","v":0},null,{"$f":"EOPC[[#This Row],[UNIT PRICE]]*EOPC[[#This Row],[DIV 6 QTY]]","v":0},null,{"$f":"EOPC[[#This Row],[UNIT PRICE]]*EOPC[[#This Row],[DIV 7 QTY]]","v":0},null,{"$f":"EOPC[[#This Row],[UNIT PRICE]]*EOPC[[#This Row],[DIV 8 QTY]]","v":0},null,{"$f":"EOPC[[#This Row],[UNIT PRICE]]*EOPC[[#This Row],[DIV 9 QTY]]","v":0},null,{"$f":"EOPC[[#This Row],[UNIT PRICE]]*EOPC[[#This Row],[DIV 10 QTY]]","v":0}]
[null,null,null,{"$f":"EOPC[[#This Row],[DIV 1 QTY]]+EOPC[[#This Row],[DIV 2 QTY]]+EOPC[[#This Row],[DIV 3 QTY]]+EOPC[[#This Row],[DIV 4 QTY]]+EOPC[[#This Row],[DIV 5 QTY]]+EOPC[[#This Row],[DIV 6 QTY]]+EOPC[[#This Row],[DIV 7 QTY]]+EOPC[[#This Row],[DIV 8 QTY]]+EOPC[[#This Row],[DIV 9 QTY]]+EOPC[[#This Row],[DIV 10 QTY]]","v":0},null,0,{"$f":"EOPC[[#This Row],[TOTAL QTY]]*EOPC[[#This Row],[UNIT PRICE]]","v":0},null,{"$f":"EOPC[[#This Row],[UNIT PRICE]]*EOPC[[#This Row],[DIV 1 QTY]]","v":0},null,{"$f":"EOPC[[#This Row],[UNIT PRICE]]*EOPC[[#This Row],[DIV 2 QTY]]","v":0},null,{"$f":"EOPC[[#This Row],[UNIT PRICE]]*EOPC[[#This Row],[DIV 3 QTY]]","v":0},null,{"$f":"EOPC[[#This Row],[UNIT PRICE]]*EOPC[[#This Row],[DIV 4 QTY]]","v":0},null,{"$f":"EOPC[[#This Row],[UNIT PRICE]]*EOPC[[#This Row],[DIV 5 QTY]]","v":0},null,{"$f":"EOPC[[#This Row],[UNIT PRICE]]*EOPC[[#This Row],[DIV 6 QTY]]","v":0},null,{"$f":"EOPC[[#This Row],[UNIT PRICE]]*EOPC[[#This Row],[DIV 7 QTY]]","v":0},null,{"$f":"EOPC[[#This Row],[UNIT PRICE]]*EOPC[[#This Row],[DIV 8 QTY]]","v":0},null,{"$f":"EOPC[[#This Row],[UNIT PRICE]]*EOPC[[#This Row],[DIV 9 QTY]]","v":0},null,{"$f":"EOPC[[#This Row],[UNIT PRICE]]*EOPC[[#This Row],[DIV 10 QTY]]","v":0}]
[null,null,null,{"$f":"EOPC[[#This Row],[DIV 1 QTY]]+EOPC[[#This Row],[DIV 2 QTY]]+EOPC[[#This Row],[DIV 3 QTY]]+EOPC[[#This Row],[DIV 4 QTY]]+EOPC[[#This Row],[DIV 5 QTY]]+EOPC[[#This Row],[DIV 6 QTY]]+EOPC[[#This Row],[DIV 7 QTY]]+EOPC[[#This Row],[DIV 8 QTY]]+EOPC[[#This Row],[DIV 9 QTY]]+EOPC[[#This Row],[DIV 10 QTY]]","v":0},null,0,{"$f":"EOPC[[#This Row],[TOTAL QTY]]*EOPC[[#This Row],[UNIT PRICE]]","v":0},null,{"$f":"EOPC[[#This Row],[UNIT PRICE]]*EOPC[[#This Row],[DIV 1 QTY]]","v":0},null,{"$f":"EOPC[[#This Row],[UNIT PRICE]]*EOPC[[#This Row],[DIV 2 QTY]]","v":0},null,{"$f":"EOPC[[#This Row],[UNIT PRICE]]*EOPC[[#This Row],[DIV 3 QTY]]","v":0},null,{"$f":"EOPC[[#This Row],[UNIT PRICE]]*EOPC[[#This Row],[DIV 4 QTY]]","v":0},null,{"$f":"EOPC[[#This Row],[UNIT PRICE]]*EOPC[[#This Row],[DIV 5 QTY]]","v":0},null,{"$f":"EOPC[[#This Row],[UNIT PRICE]]*EOPC[[#This Row],[DIV 6 QTY]]","v":0},null,{"$f":"EOPC[[#This Row],[UNIT PRICE]]*EOPC[[#This Row],[DIV 7 QTY]]","v":0},null,{"$f":"EOPC[[#This Row],[UNIT PRICE]]*EOPC[[#This Row],[DIV 8 QTY]]","v":0},null,{"$f":"EOPC[[#This Row],[UNIT PRICE]]*EOPC[[#This Row],[DIV 9 QTY]]","v":0},null,{"$f":"EOPC[[#This Row],[UNIT PRICE]]*EOPC[[#This Row],[DIV 10 QTY]]","v":0}]
[null,null,null,{"$f":"EOPC[[#This Row],[DIV 1 QTY]]+EOPC[[#This Row],[DIV 2 QTY]]+EOPC[[#This Row],[DIV 3 QTY]]+EOPC[[#This Row],[DIV 4 QTY]]+EOPC[[#This Row],[DIV 5 QTY]]+EOPC[[#This Row],[DIV 6 QTY]]+EOPC[[#This Row],[DIV 7 QTY]]+EOPC[[#This Row],[DIV 8 QTY]]+EOPC[[#This Row],[DIV 9 QTY]]+EOPC[[#This Row],[DIV 10 QTY]]","v":0},null,0,{"$f":"EOPC[[#This Row],[TOTAL QTY]]*EOPC[[#This Row],[UNIT PRICE]]","v":0},null,{"$f":"EOPC[[#This Row],[UNIT PRICE]]*EOPC[[#This Row],[DIV 1 QTY]]","v":0},null,{"$f":"EOPC[[#This Row],[UNIT PRICE]]*EOPC[[#This Row],[DIV 2 QTY]]","v":0},null,{"$f":"EOPC[[#This Row],[UNIT PRICE]]*EOPC[[#This Row],[DIV 3 QTY]]","v":0},null,{"$f":"EOPC[[#This Row],[UNIT PRICE]]*EOPC[[#This Row],[DIV 4 QTY]]","v":0},null,{"$f":"EOPC[[#This Row],[UNIT PRICE]]*EOPC[[#This Row],[DIV 5 QTY]]","v":0},null,{"$f":"EOPC[[#This Row],[UNIT PRICE]]*EOPC[[#This Row],[DIV 6 QTY]]","v":0},null,{"$f":"EOPC[[#This Row],[UNIT PRICE]]*EOPC[[#This Row],[DIV 7 QTY]]","v":0},null,{"$f":"EOPC[[#This Row],[UNIT PRICE]]*EOPC[[#This Row],[DIV 8 QTY]]","v":0},null,{"$f":"EOPC[[#This Row],[UNIT PRICE]]*EOPC[[#This Row],[DIV 9 QTY]]","v":0},null,{"$f":"EOPC[[#This Row],[UNIT PRICE]]*EOPC[[#This Row],[DIV 10 QTY]]","v":0}]
[null,null,null,{"$f":"EOPC[[#This Row],[DIV 1 QTY]]+EOPC[[#This Row],[DIV 2 QTY]]+EOPC[[#This Row],[DIV 3 QTY]]+EOPC[[#This Row],[DIV 4 QTY]]+EOPC[[#This Row],[DIV 5 QTY]]+EOPC[[#This Row],[DIV 6 QTY]]+EOPC[[#This Row],[DIV 7 QTY]]+EOPC[[#This Row],[DIV 8 QTY]]+EOPC[[#This Row],[DIV 9 QTY]]+EOPC[[#This Row],[DIV 10 QTY]]","v":0},null,0,{"$f":"EOPC[[#This Row],[TOTAL QTY]]*EOPC[[#This Row],[UNIT PRICE]]","v":0},null,{"$f":"EOPC[[#This Row],[UNIT PRICE]]*EOPC[[#This Row],[DIV 1 QTY]]","v":0},null,{"$f":"EOPC[[#This Row],[UNIT PRICE]]*EOPC[[#This Row],[DIV 2 QTY]]","v":0},null,{"$f":"EOPC[[#This Row],[UNIT PRICE]]*EOPC[[#This Row],[DIV 3 QTY]]","v":0},null,{"$f":"EOPC[[#This Row],[UNIT PRICE]]*EOPC[[#This Row],[DIV 4 QTY]]","v":0},null,{"$f":"EOPC[[#This Row],[UNIT PRICE]]*EOPC[[#This Row],[DIV 5 QTY]]","v":0},null,{"$f":"EOPC[[#This Row],[UNIT PRICE]]*EOPC[[#This Row],[DIV 6 QTY]]","v":0},null,{"$f":"EOPC[[#This Row],[UNIT PRICE]]*EOPC[[#This Row],[DIV 7 QTY]]","v":0},null,{"$f":"EOPC[[#This Row],[UNIT PRICE]]*EOPC[[#This Row],[DIV 8 QTY]]","v":0},null,{"$f":"EOPC[[#This Row],[UNIT PRICE]]*EOPC[[#This Row],[DIV 9 QTY]]","v":0},null,{"$f":"EOPC[[#This Row],[UNIT PRICE]]*EOPC[[#This Row],[DIV 10 QTY]]","v":0}]
[null,null,null,{"$f":"EOPC[[#This Row],[DIV 1 QTY]]+EOPC[[#This Row],[DIV 2 QTY]]+EOPC[[#This Row],[DIV 3 QTY]]+EOPC[[#This Row],[DIV 4 QTY]]+EOPC[[#This Row],[DIV 5 QTY]]+EOPC[[#This Row],[DIV 6 QTY]]+EOPC[[#This Row],[DIV 7 QTY]]+EOPC[[#This Row],[DIV 8 QTY]]+EOPC[[#This Row],[DIV 9 QTY]]+EOPC[[#This Row],[DIV 10 QTY]]","v":0},null,0,{"$f":"EOPC[[#This Row],[TOTAL QTY]]*EOPC[[#This Row],[UNIT PRICE]]","v":0},null,{"$f":"EOPC[[#This Row],[UNIT PRICE]]*EOPC[[#This Row],[DIV 1 QTY]]","v":0},null,{"$f":"EOPC[[#This Row],[UNIT PRICE]]*EOPC[[#This Row],[DIV 2 QTY]]","v":0},null,{"$f":"EOPC[[#This Row],[UNIT PRICE]]*EOPC[[#This Row],[DIV 3 QTY]]","v":0},null,{"$f":"EOPC[[#This Row],[UNIT PRICE]]*EOPC[[#This Row],[DIV 4 QTY]]","v":0},null,{"$f":"EOPC[[#This Row],[UNIT PRICE]]*EOPC[[#This Row],[DIV 5 QTY]]","v":0},null,{"$f":"EOPC[[#This Row],[UNIT PRICE]]*EOPC[[#This Row],[DIV 6 QTY]]","v":0},null,{"$f":"EOPC[[#This Row],[UNIT PRICE]]*EOPC[[#This Row],[DIV 7 QTY]]","v":0},null,{"$f":"EOPC[[#This Row],[UNIT PRICE]]*EOPC[[#This Row],[DIV 8 QTY]]","v":0},null,{"$f":"EOPC[[#This Row],[UNIT PRICE]]*EOPC[[#This Row],[DIV 9 QTY]]","v":0},null,{"$f":"EOPC[[#This Row],[UNIT PRICE]]*EOPC[[#This Row],[DIV 10 QTY]]","v":0}]
[null,null,null,{"$f":"EOPC[[#This Row],[DIV 1 QTY]]+EOPC[[#This Row],[DIV 2 QTY]]+EOPC[[#This Row],[DIV 3 QTY]]+EOPC[[#This Row],[DIV 4 QTY]]+EOPC[[#This Row],[DIV 5 QTY]]+EOPC[[#This Row],[DIV 6 QTY]]+EOPC[[#This Row],[DIV 7 QTY]]+EOPC[[#This Row],[DIV 8 QTY]]+EOPC[[#This Row],[DIV 9 QTY]]+EOPC[[#This Row],[DIV 10 QTY]]","v":0},null,0,{"$f":"EOPC[[#This Row],[TOTAL QTY]]*EOPC[[#This Row],[UNIT PRICE]]","v":0},null,{"$f":"EOPC[[#This Row],[UNIT PRICE]]*EOPC[[#This Row],[DIV 1 QTY]]","v":0},null,{"$f":"EOPC[[#This Row],[UNIT PRICE]]*EOPC[[#This Row],[DIV 2 QTY]]","v":0},null,{"$f":"EOPC[[#This Row],[UNIT PRICE]]*EOPC[[#This Row],[DIV 3 QTY]]","v":0},null,{"$f":"EOPC[[#This Row],[UNIT PRICE]]*EOPC[[#This Row],[DIV 4 QTY]]","v":0},null,{"$f":"EOPC[[#This Row],[UNIT PRICE]]*EOPC[[#This Row],[DIV 5 QTY]]","v":0},null,{"$f":"EOPC[[#This Row],[UNIT PRICE]]*EOPC[[#This Row],[DIV 6 QTY]]","v":0},null,{"$f":"EOPC[[#This Row],[UNIT PRICE]]*EOPC[[#This Row],[DIV 7 QTY]]","v":0},null,{"$f":"EOPC[[#This Row],[UNIT PRICE]]*EOPC[[#This Row],[DIV 8 QTY]]","v":0},null,{"$f":"EOPC[[#This Row],[UNIT PRICE]]*EOPC[[#This Row],[DIV 9 QTY]]","v":0},null,{"$f":"EOPC[[#This Row],[UNIT PRICE]]*EOPC[[#This Row],[DIV 10 QTY]]","v":0}]
[null,null,null,{"$f":"EOPC[[#This Row],[DIV 1 QTY]]+EOPC[[#This Row],[DIV 2 QTY]]+EOPC[[#This Row],[DIV 3 QTY]]+EOPC[[#This Row],[DIV 4 QTY]]+EOPC[[#This Row],[DIV 5 QTY]]+EOPC[[#This Row],[DIV 6 QTY]]+EOPC[[#This Row],[DIV 7 QTY]]+EOPC[[#This Row],[DIV 8 QTY]]+EOPC[[#This Row],[DIV 9 QTY]]+EOPC[[#This Row],[DIV 10 QTY]]","v":0},null,0,{"$f":"EOPC[[#This Row],[TOTAL QTY]]*EOPC[[#This Row],[UNIT PRICE]]","v":0},null,{"$f":"EOPC[[#This Row],[UNIT PRICE]]*EOPC[[#This Row],[DIV 1 QTY]]","v":0},null,{"$f":"EOPC[[#This Row],[UNIT PRICE]]*EOPC[[#This Row],[DIV 2 QTY]]","v":0},null,{"$f":"EOPC[[#This Row],[UNIT PRICE]]*EOPC[[#This Row],[DIV 3 QTY]]","v":0},null,{"$f":"EOPC[[#This Row],[UNIT PRICE]]*EOPC[[#This Row],[DIV 4 QTY]]","v":0},null,{"$f":"EOPC[[#This Row],[UNIT PRICE]]*EOPC[[#This Row],[DIV 5 QTY]]","v":0},null,{"$f":"EOPC[[#This Row],[UNIT PRICE]]*EOPC[[#This Row],[DIV 6 QTY]]","v":0},null,{"$f":"EOPC[[#This Row],[UNIT PRICE]]*EOPC[[#This Row],[DIV 7 QTY]]","v":0},null,{"$f":"EOPC[[#This Row],[UNIT PRICE]]*EOPC[[#This Row],[DIV 8 QTY]]","v":0},null,{"$f":"EOPC[[#This Row],[UNIT PRICE]]*EOPC[[#This Row],[DIV 9 QTY]]","v":0},null,{"$f":"EOPC[[#This Row],[UNIT PRICE]]*EOPC[[#This Row],[DIV 10 QTY]]","v":0}]
[null,null,null,{"$f":"EOPC[[#This Row],[DIV 1 QTY]]+EOPC[[#This Row],[DIV 2 QTY]]+EOPC[[#This Row],[DIV 3 QTY]]+EOPC[[#This Row],[DIV 4 QTY]]+EOPC[[#This Row],[DIV 5 QTY]]+EOPC[[#This Row],[DIV 6 QTY]]+EOPC[[#This Row],[DIV 7 QTY]]+EOPC[[#This Row],[DIV 8 QTY]]+EOPC[[#This Row],[DIV 9 QTY]]+EOPC[[#This Row],[DIV 10 QTY]]","v":0},null,0,{"$f":"EOPC[[#This Row],[TOTAL QTY]]*EOPC[[#This Row],[UNIT PRICE]]","v":0},null,{"$f":"EOPC[[#This Row],[UNIT PRICE]]*EOPC[[#This Row],[DIV 1 QTY]]","v":0},null,{"$f":"EOPC[[#This Row],[UNIT PRICE]]*EOPC[[#This Row],[DIV 2 QTY]]","v":0},null,{"$f":"EOPC[[#This Row],[UNIT PRICE]]*EOPC[[#This Row],[DIV 3 QTY]]","v":0},null,{"$f":"EOPC[[#This Row],[UNIT PRICE]]*EOPC[[#This Row],[DIV 4 QTY]]","v":0},null,{"$f":"EOPC[[#This Row],[UNIT PRICE]]*EOPC[[#This Row],[DIV 5 QTY]]","v":0},null,{"$f":"EOPC[[#This Row],[UNIT PRICE]]*EOPC[[#This Row],[DIV 6 QTY]]","v":0},null,{"$f":"EOPC[[#This Row],[UNIT PRICE]]*EOPC[[#This Row],[DIV 7 QTY]]","v":0},null,{"$f":"EOPC[[#This Row],[UNIT PRICE]]*EOPC[[#This Row],[DIV 8 QTY]]","v":0},null,{"$f":"EOPC[[#This Row],[UNIT PRICE]]*EOPC[[#This Row],[DIV 9 QTY]]","v":0},null,{"$f":"EOPC[[#This Row],[UNIT PRICE]]*EOPC[[#This Row],[DIV 10 QTY]]","v":0}]
[null,null,null,{"$f":"EOPC[[#This Row],[DIV 1 QTY]]+EOPC[[#This Row],[DIV 2 QTY]]+EOPC[[#This Row],[DIV 3 QTY]]+EOPC[[#This Row],[DIV 4 QTY]]+EOPC[[#This Row],[DIV 5 QTY]]+EOPC[[#This Row],[DIV 6 QTY]]+EOPC[[#This Row],[DIV 7 QTY]]+EOPC[[#This Row],[DIV 8 QTY]]+EOPC[[#This Row],[DIV 9 QTY]]+EOPC[[#This Row],[DIV 10 QTY]]","v":0},null,0,{"$f":"EOPC[[#This Row],[TOTAL QTY]]*EOPC[[#This Row],[UNIT PRICE]]","v":0},null,{"$f":"EOPC[[#This Row],[UNIT PRICE]]*EOPC[[#This Row],[DIV 1 QTY]]","v":0},null,{"$f":"EOPC[[#This Row],[UNIT PRICE]]*EOPC[[#This Row],[DIV 2 QTY]]","v":0},null,{"$f":"EOPC[[#This Row],[UNIT PRICE]]*EOPC[[#This Row],[DIV 3 QTY]]","v":0},null,{"$f":"EOPC[[#This Row],[UNIT PRICE]]*EOPC[[#This Row],[DIV 4 QTY]]","v":0},null,{"$f":"EOPC[[#This Row],[UNIT PRICE]]*EOPC[[#This Row],[DIV 5 QTY]]","v":0},null,{"$f":"EOPC[[#This Row],[UNIT PRICE]]*EOPC[[#This Row],[DIV 6 QTY]]","v":0},null,{"$f":"EOPC[[#This Row],[UNIT PRICE]]*EOPC[[#This Row],[DIV 7 QTY]]","v":0},null,{"$f":"EOPC[[#This Row],[UNIT PRICE]]*EOPC[[#This Row],[DIV 8 QTY]]","v":0},null,{"$f":"EOPC[[#This Row],[UNIT PRICE]]*EOPC[[#This Row],[DIV 9 QTY]]","v":0},null,{"$f":"EOPC[[#This Row],[UNIT PRICE]]*EOPC[[#This Row],[DIV 10 QTY]]","v":0}]
[null,null,null,{"$f":"EOPC[[#This Row],[DIV 1 QTY]]+EOPC[[#This Row],[DIV 2 QTY]]+EOPC[[#This Row],[DIV 3 QTY]]+EOPC[[#This Row],[DIV 4 QTY]]+EOPC[[#This Row],[DIV 5 QTY]]+EOPC[[#This Row],[DIV 6 QTY]]+EOPC[[#This Row],[DIV 7 QTY]]+EOPC[[#This Row],[DIV 8 QTY]]+EOPC[[#This Row],[DIV 9 QTY]]+EOPC[[#This Row],[DIV 10 QTY]]","v":0},null,0,{"$f":"EOPC[[#This Row],[TOTAL QTY]]*EOPC[[#This Row],[UNIT PRICE]]","v":0},null,{"$f":"EOPC[[#This Row],[UNIT PRICE]]*EOPC[[#This Row],[DIV 1 QTY]]","v":0},null,{"$f":"EOPC[[#This Row],[UNIT PRICE]]*EOPC[[#This Row],[DIV 2 QTY]]","v":0},null,{"$f":"EOPC[[#This Row],[UNIT PRICE]]*EOPC[[#This Row],[DIV 3 QTY]]","v":0},null,{"$f":"EOPC[[#This Row],[UNIT PRICE]]*EOPC[[#This Row],[DIV 4 QTY]]","v":0},null,{"$f":"EOPC[[#This Row],[UNIT PRICE]]*EOPC[[#This Row],[DIV 5 QTY]]","v":0},null,{"$f":"EOPC[[#This Row],[UNIT PRICE]]*EOPC[[#This Row],[DIV 6 QTY]]","v":0},null,{"$f":"EOPC[[#This Row],[UNIT PRICE]]*EOPC[[#This Row],[DIV 7 QTY]]","v":0},null,{"$f":"EOPC[[#This Row],[UNIT PRICE]]*EOPC[[#This Row],[DIV 8 QTY]]","v":0},null,{"$f":"EOPC[[#This Row],[UNIT PRICE]]*EOPC[[#This Row],[DIV 9 QTY]]","v":0},null,{"$f":"EOPC[[#This Row],[UNIT PRICE]]*EOPC[[#This Row],[DIV 10 QTY]]","v":0}]
[null,null,null,{"$f":"EOPC[[#This Row],[DIV 1 QTY]]+EOPC[[#This Row],[DIV 2 QTY]]+EOPC[[#This Row],[DIV 3 QTY]]+EOPC[[#This Row],[DIV 4 QTY]]+EOPC[[#This Row],[DIV 5 QTY]]+EOPC[[#This Row],[DIV 6 QTY]]+EOPC[[#This Row],[DIV 7 QTY]]+EOPC[[#This Row],[DIV 8 QTY]]+EOPC[[#This Row],[DIV 9 QTY]]+EOPC[[#This Row],[DIV 10 QTY]]","v":0},null,0,{"$f":"EOPC[[#This Row],[TOTAL QTY]]*EOPC[[#This Row],[UNIT PRICE]]","v":0},null,{"$f":"EOPC[[#This Row],[UNIT PRICE]]*EOPC[[#This Row],[DIV 1 QTY]]","v":0},null,{"$f":"EOPC[[#This Row],[UNIT PRICE]]*EOPC[[#This Row],[DIV 2 QTY]]","v":0},null,{"$f":"EOPC[[#This Row],[UNIT PRICE]]*EOPC[[#This Row],[DIV 3 QTY]]","v":0},null,{"$f":"EOPC[[#This Row],[UNIT PRICE]]*EOPC[[#This Row],[DIV 4 QTY]]","v":0},null,{"$f":"EOPC[[#This Row],[UNIT PRICE]]*EOPC[[#This Row],[DIV 5 QTY]]","v":0},null,{"$f":"EOPC[[#This Row],[UNIT PRICE]]*EOPC[[#This Row],[DIV 6 QTY]]","v":0},null,{"$f":"EOPC[[#This Row],[UNIT PRICE]]*EOPC[[#This Row],[DIV 7 QTY]]","v":0},null,{"$f":"EOPC[[#This Row],[UNIT PRICE]]*EOPC[[#This Row],[DIV 8 QTY]]","v":0},null,{"$f":"EOPC[[#This Row],[UNIT PRICE]]*EOPC[[#This Row],[DIV 9 QTY]]","v":0},null,{"$f":"EOPC[[#This Row],[UNIT PRICE]]*EOPC[[#This Row],[DIV 10 QTY]]","v":0}]
[null,null,null,{"$f":"EOPC[[#This Row],[DIV 1 QTY]]+EOPC[[#This Row],[DIV 2 QTY]]+EOPC[[#This Row],[DIV 3 QTY]]+EOPC[[#This Row],[DIV 4 QTY]]+EOPC[[#This Row],[DIV 5 QTY]]+EOPC[[#This Row],[DIV 6 QTY]]+EOPC[[#This Row],[DIV 7 QTY]]+EOPC[[#This Row],[DIV 8 QTY]]+EOPC[[#This Row],[DIV 9 QTY]]+EOPC[[#This Row],[DIV 10 QTY]]","v":0},null,0,{"$f":"EOPC[[#This Row],[TOTAL QTY]]*EOPC[[#This Row],[UNIT PRICE]]","v":0},null,{"$f":"EOPC[[#This Row],[UNIT PRICE]]*EOPC[[#This Row],[DIV 1 QTY]]","v":0},null,{"$f":"EOPC[[#This Row],[UNIT PRICE]]*EOPC[[#This Row],[DIV 2 QTY]]","v":0},null,{"$f":"EOPC[[#This Row],[UNIT PRICE]]*EOPC[[#This Row],[DIV 3 QTY]]","v":0},null,{"$f":"EOPC[[#This Row],[UNIT PRICE]]*EOPC[[#This Row],[DIV 4 QTY]]","v":0},null,{"$f":"EOPC[[#This Row],[UNIT PRICE]]*EOPC[[#This Row],[DIV 5 QTY]]","v":0},null,{"$f":"EOPC[[#This Row],[UNIT PRICE]]*EOPC[[#This Row],[DIV 6 QTY]]","v":0},null,{"$f":"EOPC[[#This Row],[UNIT PRICE]]*EOPC[[#This Row],[DIV 7 QTY]]","v":0},null,{"$f":"EOPC[[#This Row],[UNIT PRICE]]*EOPC[[#This Row],[DIV 8 QTY]]","v":0},null,{"$f":"EOPC[[#This Row],[UNIT PRICE]]*EOPC[[#This Row],[DIV 9 QTY]]","v":0},null,{"$f":"EOPC[[#This Row],[UNIT PRICE]]*EOPC[[#This Row],[DIV 10 QTY]]","v":0}]
[null,null,null,{"$f":"EOPC[[#This Row],[DIV 1 QTY]]+EOPC[[#This Row],[DIV 2 QTY]]+EOPC[[#This Row],[DIV 3 QTY]]+EOPC[[#This Row],[DIV 4 QTY]]+EOPC[[#This Row],[DIV 5 QTY]]+EOPC[[#This Row],[DIV 6 QTY]]+EOPC[[#This Row],[DIV 7 QTY]]+EOPC[[#This Row],[DIV 8 QTY]]+EOPC[[#This Row],[DIV 9 QTY]]+EOPC[[#This Row],[DIV 10 QTY]]","v":0},null,0,{"$f":"EOPC[[#This Row],[TOTAL QTY]]*EOPC[[#This Row],[UNIT PRICE]]","v":0},null,{"$f":"EOPC[[#This Row],[UNIT PRICE]]*EOPC[[#This Row],[DIV 1 QTY]]","v":0},null,{"$f":"EOPC[[#This Row],[UNIT PRICE]]*EOPC[[#This Row],[DIV 2 QTY]]","v":0},null,{"$f":"EOPC[[#This Row],[UNIT PRICE]]*EOPC[[#This Row],[DIV 3 QTY]]","v":0},null,{"$f":"EOPC[[#This Row],[UNIT PRICE]]*EOPC[[#This Row],[DIV 4 QTY]]","v":0},null,{"$f":"EOPC[[#This Row],[UNIT PRICE]]*EOPC[[#This Row],[DIV 5 QTY]]","v":0},null,{"$f":"EOPC[[#This Row],[UNIT PRICE]]*EOPC[[#This Row],[DIV 6 QTY]]","v":0},null,{"$f":"EOPC[[#This Row],[UNIT PRICE]]*EOPC[[#This Row],[DIV 7 QTY]]","v":0},null,{"$f":"EOPC[[#This Row],[UNIT PRICE]]*EOPC[[#This Row],[DIV 8 QTY]]","v":0},null,{"$f":"EOPC[[#This Row],[UNIT PRICE]]*EOPC[[#This Row],[DIV 9 QTY]]","v":0},null,{"$f":"EOPC[[#This Row],[UNIT PRICE]]*EOPC[[#This Row],[DIV 10 QTY]]","v":0}]
[null,null,null,{"$f":"EOPC[[#This Row],[DIV 1 QTY]]+EOPC[[#This Row],[DIV 2 QTY]]+EOPC[[#This Row],[DIV 3 QTY]]+EOPC[[#This Row],[DIV 4 QTY]]+EOPC[[#This Row],[DIV 5 QTY]]+EOPC[[#This Row],[DIV 6 QTY]]+EOPC[[#This Row],[DIV 7 QTY]]+EOPC[[#This Row],[DIV 8 QTY]]+EOPC[[#This Row],[DIV 9 QTY]]+EOPC[[#This Row],[DIV 10 QTY]]","v":0},null,0,{"$f":"EOPC[[#This Row],[TOTAL QTY]]*EOPC[[#This Row],[UNIT PRICE]]","v":0},null,{"$f":"EOPC[[#This Row],[UNIT PRICE]]*EOPC[[#This Row],[DIV 1 QTY]]","v":0},null,{"$f":"EOPC[[#This Row],[UNIT PRICE]]*EOPC[[#This Row],[DIV 2 QTY]]","v":0},null,{"$f":"EOPC[[#This Row],[UNIT PRICE]]*EOPC[[#This Row],[DIV 3 QTY]]","v":0},null,{"$f":"EOPC[[#This Row],[UNIT PRICE]]*EOPC[[#This Row],[DIV 4 QTY]]","v":0},null,{"$f":"EOPC[[#This Row],[UNIT PRICE]]*EOPC[[#This Row],[DIV 5 QTY]]","v":0},null,{"$f":"EOPC[[#This Row],[UNIT PRICE]]*EOPC[[#This Row],[DIV 6 QTY]]","v":0},null,{"$f":"EOPC[[#This Row],[UNIT PRICE]]*EOPC[[#This Row],[DIV 7 QTY]]","v":0},null,{"$f":"EOPC[[#This Row],[UNIT PRICE]]*EOPC[[#This Row],[DIV 8 QTY]]","v":0},null,{"$f":"EOPC[[#This Row],[UNIT PRICE]]*EOPC[[#This Row],[DIV 9 QTY]]","v":0},null,{"$f":"EOPC[[#This Row],[UNIT PRICE]]*EOPC[[#This Row],[DIV 10 QTY]]","v":0}]
[null,null,null,{"$f":"EOPC[[#This Row],[DIV 1 QTY]]+EOPC[[#This Row],[DIV 2 QTY]]+EOPC[[#This Row],[DIV 3 QTY]]+EOPC[[#This Row],[DIV 4 QTY]]+EOPC[[#This Row],[DIV 5 QTY]]+EOPC[[#This Row],[DIV 6 QTY]]+EOPC[[#This Row],[DIV 7 QTY]]+EOPC[[#This Row],[DIV 8 QTY]]+EOPC[[#This Row],[DIV 9 QTY]]+EOPC[[#This Row],[DIV 10 QTY]]","v":0},null,0,{"$f":"EOPC[[#This Row],[TOTAL QTY]]*EOPC[[#This Row],[UNIT PRICE]]","v":0},null,{"$f":"EOPC[[#This Row],[UNIT PRICE]]*EOPC[[#This Row],[DIV 1 QTY]]","v":0},null,{"$f":"EOPC[[#This Row],[UNIT PRICE]]*EOPC[[#This Row],[DIV 2 QTY]]","v":0},null,{"$f":"EOPC[[#This Row],[UNIT PRICE]]*EOPC[[#This Row],[DIV 3 QTY]]","v":0},null,{"$f":"EOPC[[#This Row],[UNIT PRICE]]*EOPC[[#This Row],[DIV 4 QTY]]","v":0},null,{"$f":"EOPC[[#This Row],[UNIT PRICE]]*EOPC[[#This Row],[DIV 5 QTY]]","v":0},null,{"$f":"EOPC[[#This Row],[UNIT PRICE]]*EOPC[[#This Row],[DIV 6 QTY]]","v":0},null,{"$f":"EOPC[[#This Row],[UNIT PRICE]]*EOPC[[#This Row],[DIV 7 QTY]]","v":0},null,{"$f":"EOPC[[#This Row],[UNIT PRICE]]*EOPC[[#This Row],[DIV 8 QTY]]","v":0},null,{"$f":"EOPC[[#This Row],[UNIT PRICE]]*EOPC[[#This Row],[DIV 9 QTY]]","v":0},null,{"$f":"EOPC[[#This Row],[UNIT PRICE]]*EOPC[[#This Row],[DIV 10 QTY]]","v":0}]
[null,null,null,{"$f":"EOPC[[#This Row],[DIV 1 QTY]]+EOPC[[#This Row],[DIV 2 QTY]]+EOPC[[#This Row],[DIV 3 QTY]]+EOPC[[#This Row],[DIV 4 QTY]]+EOPC[[#This Row],[DIV 5 QTY]]+EOPC[[#This Row],[DIV 6 QTY]]+EOPC[[#This Row],[DIV 7 QTY]]+EOPC[[#This Row],[DIV 8 QTY]]+EOPC[[#This Row],[DIV 9 QTY]]+EOPC[[#This Row],[DIV 10 QTY]]","v":0},null,0,{"$f":"EOPC[[#This Row],[TOTAL QTY]]*EOPC[[#This Row],[UNIT PRICE]]","v":0},null,{"$f":"EOPC[[#This Row],[UNIT PRICE]]*EOPC[[#This Row],[DIV 1 QTY]]","v":0},null,{"$f":"EOPC[[#This Row],[UNIT PRICE]]*EOPC[[#This Row],[DIV 2 QTY]]","v":0},null,{"$f":"EOPC[[#This Row],[UNIT PRICE]]*EOPC[[#This Row],[DIV 3 QTY]]","v":0},null,{"$f":"EOPC[[#This Row],[UNIT PRICE]]*EOPC[[#This Row],[DIV 4 QTY]]","v":0},null,{"$f":"EOPC[[#This Row],[UNIT PRICE]]*EOPC[[#This Row],[DIV 5 QTY]]","v":0},null,{"$f":"EOPC[[#This Row],[UNIT PRICE]]*EOPC[[#This Row],[DIV 6 QTY]]","v":0},null,{"$f":"EOPC[[#This Row],[UNIT PRICE]]*EOPC[[#This Row],[DIV 7 QTY]]","v":0},null,{"$f":"EOPC[[#This Row],[UNIT PRICE]]*EOPC[[#This Row],[DIV 8 QTY]]","v":0},null,{"$f":"EOPC[[#This Row],[UNIT PRICE]]*EOPC[[#This Row],[DIV 9 QTY]]","v":0},null,{"$f":"EOPC[[#This Row],[UNIT PRICE]]*EOPC[[#This Row],[DIV 10 QTY]]","v":0}]
[null,null,null,{"$f":"EOPC[[#This Row],[DIV 1 QTY]]+EOPC[[#This Row],[DIV 2 QTY]]+EOPC[[#This Row],[DIV 3 QTY]]+EOPC[[#This Row],[DIV 4 QTY]]+EOPC[[#This Row],[DIV 5 QTY]]+EOPC[[#This Row],[DIV 6 QTY]]+EOPC[[#This Row],[DIV 7 QTY]]+EOPC[[#This Row],[DIV 8 QTY]]+EOPC[[#This Row],[DIV 9 QTY]]+EOPC[[#This Row],[DIV 10 QTY]]","v":0},null,0,{"$f":"EOPC[[#This Row],[TOTAL QTY]]*EOPC[[#This Row],[UNIT PRICE]]","v":0},null,{"$f":"EOPC[[#This Row],[UNIT PRICE]]*EOPC[[#This Row],[DIV 1 QTY]]","v":0},null,{"$f":"EOPC[[#This Row],[UNIT PRICE]]*EOPC[[#This Row],[DIV 2 QTY]]","v":0},null,{"$f":"EOPC[[#This Row],[UNIT PRICE]]*EOPC[[#This Row],[DIV 3 QTY]]","v":0},null,{"$f":"EOPC[[#This Row],[UNIT PRICE]]*EOPC[[#This Row],[DIV 4 QTY]]","v":0},null,{"$f":"EOPC[[#This Row],[UNIT PRICE]]*EOPC[[#This Row],[DIV 5 QTY]]","v":0},null,{"$f":"EOPC[[#This Row],[UNIT PRICE]]*EOPC[[#This Row],[DIV 6 QTY]]","v":0},null,{"$f":"EOPC[[#This Row],[UNIT PRICE]]*EOPC[[#This Row],[DIV 7 QTY]]","v":0},null,{"$f":"EOPC[[#This Row],[UNIT PRICE]]*EOPC[[#This Row],[DIV 8 QTY]]","v":0},null,{"$f":"EOPC[[#This Row],[UNIT PRICE]]*EOPC[[#This Row],[DIV 9 QTY]]","v":0},null,{"$f":"EOPC[[#This Row],[UNIT PRICE]]*EOPC[[#This Row],[DIV 10 QTY]]","v":0}]
[null,null,null,{"$f":"EOPC[[#This Row],[DIV 1 QTY]]+EOPC[[#This Row],[DIV 2 QTY]]+EOPC[[#This Row],[DIV 3 QTY]]+EOPC[[#This Row],[DIV 4 QTY]]+EOPC[[#This Row],[DIV 5 QTY]]+EOPC[[#This Row],[DIV 6 QTY]]+EOPC[[#This Row],[DIV 7 QTY]]+EOPC[[#This Row],[DIV 8 QTY]]+EOPC[[#This Row],[DIV 9 QTY]]+EOPC[[#This Row],[DIV 10 QTY]]","v":0},null,0,{"$f":"EOPC[[#This Row],[TOTAL QTY]]*EOPC[[#This Row],[UNIT PRICE]]","v":0},null,{"$f":"EOPC[[#This Row],[UNIT PRICE]]*EOPC[[#This Row],[DIV 1 QTY]]","v":0},null,{"$f":"EOPC[[#This Row],[UNIT PRICE]]*EOPC[[#This Row],[DIV 2 QTY]]","v":0},null,{"$f":"EOPC[[#This Row],[UNIT PRICE]]*EOPC[[#This Row],[DIV 3 QTY]]","v":0},null,{"$f":"EOPC[[#This Row],[UNIT PRICE]]*EOPC[[#This Row],[DIV 4 QTY]]","v":0},null,{"$f":"EOPC[[#This Row],[UNIT PRICE]]*EOPC[[#This Row],[DIV 5 QTY]]","v":0},null,{"$f":"EOPC[[#This Row],[UNIT PRICE]]*EOPC[[#This Row],[DIV 6 QTY]]","v":0},null,{"$f":"EOPC[[#This Row],[UNIT PRICE]]*EOPC[[#This Row],[DIV 7 QTY]]","v":0},null,{"$f":"EOPC[[#This Row],[UNIT PRICE]]*EOPC[[#This Row],[DIV 8 QTY]]","v":0},null,{"$f":"EOPC[[#This Row],[UNIT PRICE]]*EOPC[[#This Row],[DIV 9 QTY]]","v":0},null,{"$f":"EOPC[[#This Row],[UNIT PRICE]]*EOPC[[#This Row],[DIV 10 QTY]]","v":0}]
[null,null,null,{"$f":"EOPC[[#This Row],[DIV 1 QTY]]+EOPC[[#This Row],[DIV 2 QTY]]+EOPC[[#This Row],[DIV 3 QTY]]+EOPC[[#This Row],[DIV 4 QTY]]+EOPC[[#This Row],[DIV 5 QTY]]+EOPC[[#This Row],[DIV 6 QTY]]+EOPC[[#This Row],[DIV 7 QTY]]+EOPC[[#This Row],[DIV 8 QTY]]+EOPC[[#This Row],[DIV 9 QTY]]+EOPC[[#This Row],[DIV 10 QTY]]","v":0},null,0,{"$f":"EOPC[[#This Row],[TOTAL QTY]]*EOPC[[#This Row],[UNIT PRICE]]","v":0},null,{"$f":"EOPC[[#This Row],[UNIT PRICE]]*EOPC[[#This Row],[DIV 1 QTY]]","v":0},null,{"$f":"EOPC[[#This Row],[UNIT PRICE]]*EOPC[[#This Row],[DIV 2 QTY]]","v":0},null,{"$f":"EOPC[[#This Row],[UNIT PRICE]]*EOPC[[#This Row],[DIV 3 QTY]]","v":0},null,{"$f":"EOPC[[#This Row],[UNIT PRICE]]*EOPC[[#This Row],[DIV 4 QTY]]","v":0},null,{"$f":"EOPC[[#This Row],[UNIT PRICE]]*EOPC[[#This Row],[DIV 5 QTY]]","v":0},null,{"$f":"EOPC[[#This Row],[UNIT PRICE]]*EOPC[[#This Row],[DIV 6 QTY]]","v":0},null,{"$f":"EOPC[[#This Row],[UNIT PRICE]]*EOPC[[#This Row],[DIV 7 QTY]]","v":0},null,{"$f":"EOPC[[#This Row],[UNIT PRICE]]*EOPC[[#This Row],[DIV 8 QTY]]","v":0},null,{"$f":"EOPC[[#This Row],[UNIT PRICE]]*EOPC[[#This Row],[DIV 9 QTY]]","v":0},null,{"$f":"EOPC[[#This Row],[UNIT PRICE]]*EOPC[[#This Row],[DIV 10 QTY]]","v":0}]
[null,null,null,{"$f":"EOPC[[#This Row],[DIV 1 QTY]]+EOPC[[#This Row],[DIV 2 QTY]]+EOPC[[#This Row],[DIV 3 QTY]]+EOPC[[#This Row],[DIV 4 QTY]]+EOPC[[#This Row],[DIV 5 QTY]]+EOPC[[#This Row],[DIV 6 QTY]]+EOPC[[#This Row],[DIV 7 QTY]]+EOPC[[#This Row],[DIV 8 QTY]]+EOPC[[#This Row],[DIV 9 QTY]]+EOPC[[#This Row],[DIV 10 QTY]]","v":0},null,0,{"$f":"EOPC[[#This Row],[TOTAL QTY]]*EOPC[[#This Row],[UNIT PRICE]]","v":0},null,{"$f":"EOPC[[#This Row],[UNIT PRICE]]*EOPC[[#This Row],[DIV 1 QTY]]","v":0},null,{"$f":"EOPC[[#This Row],[UNIT PRICE]]*EOPC[[#This Row],[DIV 2 QTY]]","v":0},null,{"$f":"EOPC[[#This Row],[UNIT PRICE]]*EOPC[[#This Row],[DIV 3 QTY]]","v":0},null,{"$f":"EOPC[[#This Row],[UNIT PRICE]]*EOPC[[#This Row],[DIV 4 QTY]]","v":0},null,{"$f":"EOPC[[#This Row],[UNIT PRICE]]*EOPC[[#This Row],[DIV 5 QTY]]","v":0},null,{"$f":"EOPC[[#This Row],[UNIT PRICE]]*EOPC[[#This Row],[DIV 6 QTY]]","v":0},null,{"$f":"EOPC[[#This Row],[UNIT PRICE]]*EOPC[[#This Row],[DIV 7 QTY]]","v":0},null,{"$f":"EOPC[[#This Row],[UNIT PRICE]]*EOPC[[#This Row],[DIV 8 QTY]]","v":0},null,{"$f":"EOPC[[#This Row],[UNIT PRICE]]*EOPC[[#This Row],[DIV 9 QTY]]","v":0},null,{"$f":"EOPC[[#This Row],[UNIT PRICE]]*EOPC[[#This Row],[DIV 10 QTY]]","v":0}]
[null,null,null,{"$f":"EOPC[[#This Row],[DIV 1 QTY]]+EOPC[[#This Row],[DIV 2 QTY]]+EOPC[[#This Row],[DIV 3 QTY]]+EOPC[[#This Row],[DIV 4 QTY]]+EOPC[[#This Row],[DIV 5 QTY]]+EOPC[[#This Row],[DIV 6 QTY]]+EOPC[[#This Row],[DIV 7 QTY]]+EOPC[[#This Row],[DIV 8 QTY]]+EOPC[[#This Row],[DIV 9 QTY]]+EOPC[[#This Row],[DIV 10 QTY]]","v":0},null,0,{"$f":"EOPC[[#This Row],[TOTAL QTY]]*EOPC[[#This Row],[UNIT PRICE]]","v":0},null,{"$f":"EOPC[[#This Row],[UNIT PRICE]]*EOPC[[#This Row],[DIV 1 QTY]]","v":0},null,{"$f":"EOPC[[#This Row],[UNIT PRICE]]*EOPC[[#This Row],[DIV 2 QTY]]","v":0},null,{"$f":"EOPC[[#This Row],[UNIT PRICE]]*EOPC[[#This Row],[DIV 3 QTY]]","v":0},null,{"$f":"EOPC[[#This Row],[UNIT PRICE]]*EOPC[[#This Row],[DIV 4 QTY]]","v":0},null,{"$f":"EOPC[[#This Row],[UNIT PRICE]]*EOPC[[#This Row],[DIV 5 QTY]]","v":0},null,{"$f":"EOPC[[#This Row],[UNIT PRICE]]*EOPC[[#This Row],[DIV 6 QTY]]","v":0},null,{"$f":"EOPC[[#This Row],[UNIT PRICE]]*EOPC[[#This Row],[DIV 7 QTY]]","v":0},null,{"$f":"EOPC[[#This Row],[UNIT PRICE]]*EOPC[[#This Row],[DIV 8 QTY]]","v":0},null,{"$f":"EOPC[[#This Row],[UNIT PRICE]]*EOPC[[#This Row],[DIV 9 QTY]]","v":0},null,{"$f":"EOPC[[#This Row],[UNIT PRICE]]*EOPC[[#This Row],[DIV 10 QTY]]","v":0}]
[null,null,null,{"$f":"EOPC[[#This Row],[DIV 1 QTY]]+EOPC[[#This Row],[DIV 2 QTY]]+EOPC[[#This Row],[DIV 3 QTY]]+EOPC[[#This Row],[DIV 4 QTY]]+EOPC[[#This Row],[DIV 5 QTY]]+EOPC[[#This Row],[DIV 6 QTY]]+EOPC[[#This Row],[DIV 7 QTY]]+EOPC[[#This Row],[DIV 8 QTY]]+EOPC[[#This Row],[DIV 9 QTY]]+EOPC[[#This Row],[DIV 10 QTY]]","v":0},null,0,{"$f":"EOPC[[#This Row],[TOTAL QTY]]*EOPC[[#This Row],[UNIT PRICE]]","v":0},null,{"$f":"EOPC[[#This Row],[UNIT PRICE]]*EOPC[[#This Row],[DIV 1 QTY]]","v":0},null,{"$f":"EOPC[[#This Row],[UNIT PRICE]]*EOPC[[#This Row],[DIV 2 QTY]]","v":0},null,{"$f":"EOPC[[#This Row],[UNIT PRICE]]*EOPC[[#This Row],[DIV 3 QTY]]","v":0},null,{"$f":"EOPC[[#This Row],[UNIT PRICE]]*EOPC[[#This Row],[DIV 4 QTY]]","v":0},null,{"$f":"EOPC[[#This Row],[UNIT PRICE]]*EOPC[[#This Row],[DIV 5 QTY]]","v":0},null,{"$f":"EOPC[[#This Row],[UNIT PRICE]]*EOPC[[#This Row],[DIV 6 QTY]]","v":0},null,{"$f":"EOPC[[#This Row],[UNIT PRICE]]*EOPC[[#This Row],[DIV 7 QTY]]","v":0},null,{"$f":"EOPC[[#This Row],[UNIT PRICE]]*EOPC[[#This Row],[DIV 8 QTY]]","v":0},null,{"$f":"EOPC[[#This Row],[UNIT PRICE]]*EOPC[[#This Row],[DIV 9 QTY]]","v":0},null,{"$f":"EOPC[[#This Row],[UNIT PRICE]]*EOPC[[#This Row],[DIV 10 QTY]]","v":0}]
[null,null,null,{"$f":"EOPC[[#This Row],[DIV 1 QTY]]+EOPC[[#This Row],[DIV 2 QTY]]+EOPC[[#This Row],[DIV 3 QTY]]+EOPC[[#This Row],[DIV 4 QTY]]+EOPC[[#This Row],[DIV 5 QTY]]+EOPC[[#This Row],[DIV 6 QTY]]+EOPC[[#This Row],[DIV 7 QTY]]+EOPC[[#This Row],[DIV 8 QTY]]+EOPC[[#This Row],[DIV 9 QTY]]+EOPC[[#This Row],[DIV 10 QTY]]","v":0},null,0,{"$f":"EOPC[[#This Row],[TOTAL QTY]]*EOPC[[#This Row],[UNIT PRICE]]","v":0},null,{"$f":"EOPC[[#This Row],[UNIT PRICE]]*EOPC[[#This Row],[DIV 1 QTY]]","v":0},null,{"$f":"EOPC[[#This Row],[UNIT PRICE]]*EOPC[[#This Row],[DIV 2 QTY]]","v":0},null,{"$f":"EOPC[[#This Row],[UNIT PRICE]]*EOPC[[#This Row],[DIV 3 QTY]]","v":0},null,{"$f":"EOPC[[#This Row],[UNIT PRICE]]*EOPC[[#This Row],[DIV 4 QTY]]","v":0},null,{"$f":"EOPC[[#This Row],[UNIT PRICE]]*EOPC[[#This Row],[DIV 5 QTY]]","v":0},null,{"$f":"EOPC[[#This Row],[UNIT PRICE]]*EOPC[[#This Row],[DIV 6 QTY]]","v":0},null,{"$f":"EOPC[[#This Row],[UNIT PRICE]]*EOPC[[#This Row],[DIV 7 QTY]]","v":0},null,{"$f":"EOPC[[#This Row],[UNIT PRICE]]*EOPC[[#This Row],[DIV 8 QTY]]","v":0},null,{"$f":"EOPC[[#This Row],[UNIT PRICE]]*EOPC[[#This Row],[DIV 9 QTY]]","v":0},null,{"$f":"EOPC[[#This Row],[UNIT PRICE]]*EOPC[[#This Row],[DIV 10 QTY]]","v":0}]
[null,null,null,{"$f":"EOPC[[#This Row],[DIV 1 QTY]]+EOPC[[#This Row],[DIV 2 QTY]]+EOPC[[#This Row],[DIV 3 QTY]]+EOPC[[#This Row],[DIV 4 QTY]]+EOPC[[#This Row],[DIV 5 QTY]]+EOPC[[#This Row],[DIV 6 QTY]]+EOPC[[#This Row],[DIV 7 QTY]]+EOPC[[#This Row],[DIV 8 QTY]]+EOPC[[#This Row],[DIV 9 QTY]]+EOPC[[#This Row],[DIV 10 QTY]]","v":0},null,0,{"$f":"EOPC[[#This Row],[TOTAL QTY]]*EOPC[[#This Row],[UNIT PRICE]]","v":0},null,{"$f":"EOPC[[#This Row],[UNIT PRICE]]*EOPC[[#This Row],[DIV 1 QTY]]","v":0},null,{"$f":"EOPC[[#This Row],[UNIT PRICE]]*EOPC[[#This Row],[DIV 2 QTY]]","v":0},null,{"$f":"EOPC[[#This Row],[UNIT PRICE]]*EOPC[[#This Row],[DIV 3 QTY]]","v":0},null,{"$f":"EOPC[[#This Row],[UNIT PRICE]]*EOPC[[#This Row],[DIV 4 QTY]]","v":0},null,{"$f":"EOPC[[#This Row],[UNIT PRICE]]*EOPC[[#This Row],[DIV 5 QTY]]","v":0},null,{"$f":"EOPC[[#This Row],[UNIT PRICE]]*EOPC[[#This Row],[DIV 6 QTY]]","v":0},null,{"$f":"EOPC[[#This Row],[UNIT PRICE]]*EOPC[[#This Row],[DIV 7 QTY]]","v":0},null,{"$f":"EOPC[[#This Row],[UNIT PRICE]]*EOPC[[#This Row],[DIV 8 QTY]]","v":0},null,{"$f":"EOPC[[#This Row],[UNIT PRICE]]*EOPC[[#This Row],[DIV 9 QTY]]","v":0},null,{"$f":"EOPC[[#This Row],[UNIT PRICE]]*EOPC[[#This Row],[DIV 10 QTY]]","v":0}]
[null,null,null,{"$f":"EOPC[[#This Row],[DIV 1 QTY]]+EOPC[[#This Row],[DIV 2 QTY]]+EOPC[[#This Row],[DIV 3 QTY]]+EOPC[[#This Row],[DIV 4 QTY]]+EOPC[[#This Row],[DIV 5 QTY]]+EOPC[[#This Row],[DIV 6 QTY]]+EOPC[[#This Row],[DIV 7 QTY]]+EOPC[[#This Row],[DIV 8 QTY]]+EOPC[[#This Row],[DIV 9 QTY]]+EOPC[[#This Row],[DIV 10 QTY]]","v":0},null,0,{"$f":"EOPC[[#This Row],[TOTAL QTY]]*EOPC[[#This Row],[UNIT PRICE]]","v":0},null,{"$f":"EOPC[[#This Row],[UNIT PRICE]]*EOPC[[#This Row],[DIV 1 QTY]]","v":0},null,{"$f":"EOPC[[#This Row],[UNIT PRICE]]*EOPC[[#This Row],[DIV 2 QTY]]","v":0},null,{"$f":"EOPC[[#This Row],[UNIT PRICE]]*EOPC[[#This Row],[DIV 3 QTY]]","v":0},null,{"$f":"EOPC[[#This Row],[UNIT PRICE]]*EOPC[[#This Row],[DIV 4 QTY]]","v":0},null,{"$f":"EOPC[[#This Row],[UNIT PRICE]]*EOPC[[#This Row],[DIV 5 QTY]]","v":0},null,{"$f":"EOPC[[#This Row],[UNIT PRICE]]*EOPC[[#This Row],[DIV 6 QTY]]","v":0},null,{"$f":"EOPC[[#This Row],[UNIT PRICE]]*EOPC[[#This Row],[DIV 7 QTY]]","v":0},null,{"$f":"EOPC[[#This Row],[UNIT PRICE]]*EOPC[[#This Row],[DIV 8 QTY]]","v":0},null,{"$f":"EOPC[[#This Row],[UNIT PRICE]]*EOPC[[#This Row],[DIV 9 QTY]]","v":0},null,{"$f":"EOPC[[#This Row],[UNIT PRICE]]*EOPC[[#This Row],[DIV 10 QTY]]","v":0}]
[null,null,null,{"$f":"EOPC[[#This Row],[DIV 1 QTY]]+EOPC[[#This Row],[DIV 2 QTY]]+EOPC[[#This Row],[DIV 3 QTY]]+EOPC[[#This Row],[DIV 4 QTY]]+EOPC[[#This Row],[DIV 5 QTY]]+EOPC[[#This Row],[DIV 6 QTY]]+EOPC[[#This Row],[DIV 7 QTY]]+EOPC[[#This Row],[DIV 8 QTY]]+EOPC[[#This Row],[DIV 9 QTY]]+EOPC[[#This Row],[DIV 10 QTY]]","v":0},null,0,{"$f":"EOPC[[#This Row],[TOTAL QTY]]*EOPC[[#This Row],[UNIT PRICE]]","v":0},null,{"$f":"EOPC[[#This Row],[UNIT PRICE]]*EOPC[[#This Row],[DIV 1 QTY]]","v":0},null,{"$f":"EOPC[[#This Row],[UNIT PRICE]]*EOPC[[#This Row],[DIV 2 QTY]]","v":0},null,{"$f":"EOPC[[#This Row],[UNIT PRICE]]*EOPC[[#This Row],[DIV 3 QTY]]","v":0},null,{"$f":"EOPC[[#This Row],[UNIT PRICE]]*EOPC[[#This Row],[DIV 4 QTY]]","v":0},null,{"$f":"EOPC[[#This Row],[UNIT PRICE]]*EOPC[[#This Row],[DIV 5 QTY]]","v":0},null,{"$f":"EOPC[[#This Row],[UNIT PRICE]]*EOPC[[#This Row],[DIV 6 QTY]]","v":0},null,{"$f":"EOPC[[#This Row],[UNIT PRICE]]*EOPC[[#This Row],[DIV 7 QTY]]","v":0},null,{"$f":"EOPC[[#This Row],[UNIT PRICE]]*EOPC[[#This Row],[DIV 8 QTY]]","v":0},null,{"$f":"EOPC[[#This Row],[UNIT PRICE]]*EOPC[[#This Row],[DIV 9 QTY]]","v":0},null,{"$f":"EOPC[[#This Row],[UNIT PRICE]]*EOPC[[#This Row],[DIV 10 QTY]]","v":0}]
[null,null,null,{"$f":"EOPC[[#This Row],[DIV 1 QTY]]+EOPC[[#This Row],[DIV 2 QTY]]+EOPC[[#This Row],[DIV 3 QTY]]+EOPC[[#This Row],[DIV 4 QTY]]+EOPC[[#This Row],[DIV 5 QTY]]+EOPC[[#This Row],[DIV 6 QTY]]+EOPC[[#This Row],[DIV 7 QTY]]+EOPC[[#This Row],[DIV 8 QTY]]+EOPC[[#This Row],[DIV 9 QTY]]+EOPC[[#This Row],[DIV 10 QTY]]","v":0},null,0,{"$f":"EOPC[[#This Row],[TOTAL QTY]]*EOPC[[#This Row],[UNIT PRICE]]","v":0},null,{"$f":"EOPC[[#This Row],[UNIT PRICE]]*EOPC[[#This Row],[DIV 1 QTY]]","v":0},null,{"$f":"EOPC[[#This Row],[UNIT PRICE]]*EOPC[[#This Row],[DIV 2 QTY]]","v":0},null,{"$f":"EOPC[[#This Row],[UNIT PRICE]]*EOPC[[#This Row],[DIV 3 QTY]]","v":0},null,{"$f":"EOPC[[#This Row],[UNIT PRICE]]*EOPC[[#This Row],[DIV 4 QTY]]","v":0},null,{"$f":"EOPC[[#This Row],[UNIT PRICE]]*EOPC[[#This Row],[DIV 5 QTY]]","v":0},null,{"$f":"EOPC[[#This Row],[UNIT PRICE]]*EOPC[[#This Row],[DIV 6 QTY]]","v":0},null,{"$f":"EOPC[[#This Row],[UNIT PRICE]]*EOPC[[#This Row],[DIV 7 QTY]]","v":0},null,{"$f":"EOPC[[#This Row],[UNIT PRICE]]*EOPC[[#This Row],[DIV 8 QTY]]","v":0},null,{"$f":"EOPC[[#This Row],[UNIT PRICE]]*EOPC[[#This Row],[DIV 9 QTY]]","v":0},null,{"$f":"EOPC[[#This Row],[UNIT PRICE]]*EOPC[[#This Row],[DIV 10 QTY]]","v":0}]
[null,null,null,{"$f":"EOPC[[#This Row],[DIV 1 QTY]]+EOPC[[#This Row],[DIV 2 QTY]]+EOPC[[#This Row],[DIV 3 QTY]]+EOPC[[#This Row],[DIV 4 QTY]]+EOPC[[#This Row],[DIV 5 QTY]]+EOPC[[#This Row],[DIV 6 QTY]]+EOPC[[#This Row],[DIV 7 QTY]]+EOPC[[#This Row],[DIV 8 QTY]]+EOPC[[#This Row],[DIV 9 QTY]]+EOPC[[#This Row],[DIV 10 QTY]]","v":0},null,0,{"$f":"EOPC[[#This Row],[TOTAL QTY]]*EOPC[[#This Row],[UNIT PRICE]]","v":0},null,{"$f":"EOPC[[#This Row],[UNIT PRICE]]*EOPC[[#This Row],[DIV 1 QTY]]","v":0},null,{"$f":"EOPC[[#This Row],[UNIT PRICE]]*EOPC[[#This Row],[DIV 2 QTY]]","v":0},null,{"$f":"EOPC[[#This Row],[UNIT PRICE]]*EOPC[[#This Row],[DIV 3 QTY]]","v":0},null,{"$f":"EOPC[[#This Row],[UNIT PRICE]]*EOPC[[#This Row],[DIV 4 QTY]]","v":0},null,{"$f":"EOPC[[#This Row],[UNIT PRICE]]*EOPC[[#This Row],[DIV 5 QTY]]","v":0},null,{"$f":"EOPC[[#This Row],[UNIT PRICE]]*EOPC[[#This Row],[DIV 6 QTY]]","v":0},null,{"$f":"EOPC[[#This Row],[UNIT PRICE]]*EOPC[[#This Row],[DIV 7 QTY]]","v":0},null,{"$f":"EOPC[[#This Row],[UNIT PRICE]]*EOPC[[#This Row],[DIV 8 QTY]]","v":0},null,{"$f":"EOPC[[#This Row],[UNIT PRICE]]*EOPC[[#This Row],[DIV 9 QTY]]","v":0},null,{"$f":"EOPC[[#This Row],[UNIT PRICE]]*EOPC[[#This Row],[DIV 10 QTY]]","v":0}]
[null,null,null,{"$f":"EOPC[[#This Row],[DIV 1 QTY]]+EOPC[[#This Row],[DIV 2 QTY]]+EOPC[[#This Row],[DIV 3 QTY]]+EOPC[[#This Row],[DIV 4 QTY]]+EOPC[[#This Row],[DIV 5 QTY]]+EOPC[[#This Row],[DIV 6 QTY]]+EOPC[[#This Row],[DIV 7 QTY]]+EOPC[[#This Row],[DIV 8 QTY]]+EOPC[[#This Row],[DIV 9 QTY]]+EOPC[[#This Row],[DIV 10 QTY]]","v":0},null,0,{"$f":"EOPC[[#This Row],[TOTAL QTY]]*EOPC[[#This Row],[UNIT PRICE]]","v":0},null,{"$f":"EOPC[[#This Row],[UNIT PRICE]]*EOPC[[#This Row],[DIV 1 QTY]]","v":0},null,{"$f":"EOPC[[#This Row],[UNIT PRICE]]*EOPC[[#This Row],[DIV 2 QTY]]","v":0},null,{"$f":"EOPC[[#This Row],[UNIT PRICE]]*EOPC[[#This Row],[DIV 3 QTY]]","v":0},null,{"$f":"EOPC[[#This Row],[UNIT PRICE]]*EOPC[[#This Row],[DIV 4 QTY]]","v":0},null,{"$f":"EOPC[[#This Row],[UNIT PRICE]]*EOPC[[#This Row],[DIV 5 QTY]]","v":0},null,{"$f":"EOPC[[#This Row],[UNIT PRICE]]*EOPC[[#This Row],[DIV 6 QTY]]","v":0},null,{"$f":"EOPC[[#This Row],[UNIT PRICE]]*EOPC[[#This Row],[DIV 7 QTY]]","v":0},null,{"$f":"EOPC[[#This Row],[UNIT PRICE]]*EOPC[[#This Row],[DIV 8 QTY]]","v":0},null,{"$f":"EOPC[[#This Row],[UNIT PRICE]]*EOPC[[#This Row],[DIV 9 QTY]]","v":0},null,{"$f":"EOPC[[#This Row],[UNIT PRICE]]*EOPC[[#This Row],[DIV 10 QTY]]","v":0}]
[null,null,null,{"$f":"EOPC[[#This Row],[DIV 1 QTY]]+EOPC[[#This Row],[DIV 2 QTY]]+EOPC[[#This Row],[DIV 3 QTY]]+EOPC[[#This Row],[DIV 4 QTY]]+EOPC[[#This Row],[DIV 5 QTY]]+EOPC[[#This Row],[DIV 6 QTY]]+EOPC[[#This Row],[DIV 7 QTY]]+EOPC[[#This Row],[DIV 8 QTY]]+EOPC[[#This Row],[DIV 9 QTY]]+EOPC[[#This Row],[DIV 10 QTY]]","v":0},null,0,{"$f":"EOPC[[#This Row],[TOTAL QTY]]*EOPC[[#This Row],[UNIT PRICE]]","v":0},null,{"$f":"EOPC[[#This Row],[UNIT PRICE]]*EOPC[[#This Row],[DIV 1 QTY]]","v":0},null,{"$f":"EOPC[[#This Row],[UNIT PRICE]]*EOPC[[#This Row],[DIV 2 QTY]]","v":0},null,{"$f":"EOPC[[#This Row],[UNIT PRICE]]*EOPC[[#This Row],[DIV 3 QTY]]","v":0},null,{"$f":"EOPC[[#This Row],[UNIT PRICE]]*EOPC[[#This Row],[DIV 4 QTY]]","v":0},null,{"$f":"EOPC[[#This Row],[UNIT PRICE]]*EOPC[[#This Row],[DIV 5 QTY]]","v":0},null,{"$f":"EOPC[[#This Row],[UNIT PRICE]]*EOPC[[#This Row],[DIV 6 QTY]]","v":0},null,{"$f":"EOPC[[#This Row],[UNIT PRICE]]*EOPC[[#This Row],[DIV 7 QTY]]","v":0},null,{"$f":"EOPC[[#This Row],[UNIT PRICE]]*EOPC[[#This Row],[DIV 8 QTY]]","v":0},null,{"$f":"EOPC[[#This Row],[UNIT PRICE]]*EOPC[[#This Row],[DIV 9 QTY]]","v":0},null,{"$f":"EOPC[[#This Row],[UNIT PRICE]]*EOPC[[#This Row],[DIV 10 QTY]]","v":0}]
[null,null,null,{"$f":"EOPC[[#This Row],[DIV 1 QTY]]+EOPC[[#This Row],[DIV 2 QTY]]+EOPC[[#This Row],[DIV 3 QTY]]+EOPC[[#This Row],[DIV 4 QTY]]+EOPC[[#This Row],[DIV 5 QTY]]+EOPC[[#This Row],[DIV 6 QTY]]+EOPC[[#This Row],[DIV 7 QTY]]+EOPC[[#This Row],[DIV 8 QTY]]+EOPC[[#This Row],[DIV 9 QTY]]+EOPC[[#This Row],[DIV 10 QTY]]","v":0},null,0,{"$f":"EOPC[[#This Row],[TOTAL QTY]]*EOPC[[#This Row],[UNIT PRICE]]","v":0},null,{"$f":"EOPC[[#This Row],[UNIT PRICE]]*EOPC[[#This Row],[DIV 1 QTY]]","v":0},null,{"$f":"EOPC[[#This Row],[UNIT PRICE]]*EOPC[[#This Row],[DIV 2 QTY]]","v":0},null,{"$f":"EOPC[[#This Row],[UNIT PRICE]]*EOPC[[#This Row],[DIV 3 QTY]]","v":0},null,{"$f":"EOPC[[#This Row],[UNIT PRICE]]*EOPC[[#This Row],[DIV 4 QTY]]","v":0},null,{"$f":"EOPC[[#This Row],[UNIT PRICE]]*EOPC[[#This Row],[DIV 5 QTY]]","v":0},null,{"$f":"EOPC[[#This Row],[UNIT PRICE]]*EOPC[[#This Row],[DIV 6 QTY]]","v":0},null,{"$f":"EOPC[[#This Row],[UNIT PRICE]]*EOPC[[#This Row],[DIV 7 QTY]]","v":0},null,{"$f":"EOPC[[#This Row],[UNIT PRICE]]*EOPC[[#This Row],[DIV 8 QTY]]","v":0},null,{"$f":"EOPC[[#This Row],[UNIT PRICE]]*EOPC[[#This Row],[DIV 9 QTY]]","v":0},null,{"$f":"EOPC[[#This Row],[UNIT PRICE]]*EOPC[[#This Row],[DIV 10 QTY]]","v":0}]
[null,null,null,{"$f":"EOPC[[#This Row],[DIV 1 QTY]]+EOPC[[#This Row],[DIV 2 QTY]]+EOPC[[#This Row],[DIV 3 QTY]]+EOPC[[#This Row],[DIV 4 QTY]]+EOPC[[#This Row],[DIV 5 QTY]]+EOPC[[#This Row],[DIV 6 QTY]]+EOPC[[#This Row],[DIV 7 QTY]]+EOPC[[#This Row],[DIV 8 QTY]]+EOPC[[#This Row],[DIV 9 QTY]]+EOPC[[#This Row],[DIV 10 QTY]]","v":0},null,0,{"$f":"EOPC[[#This Row],[TOTAL QTY]]*EOPC[[#This Row],[UNIT PRICE]]","v":0},null,{"$f":"EOPC[[#This Row],[UNIT PRICE]]*EOPC[[#This Row],[DIV 1 QTY]]","v":0},null,{"$f":"EOPC[[#This Row],[UNIT PRICE]]*EOPC[[#This Row],[DIV 2 QTY]]","v":0},null,{"$f":"EOPC[[#This Row],[UNIT PRICE]]*EOPC[[#This Row],[DIV 3 QTY]]","v":0},null,{"$f":"EOPC[[#This Row],[UNIT PRICE]]*EOPC[[#This Row],[DIV 4 QTY]]","v":0},null,{"$f":"EOPC[[#This Row],[UNIT PRICE]]*EOPC[[#This Row],[DIV 5 QTY]]","v":0},null,{"$f":"EOPC[[#This Row],[UNIT PRICE]]*EOPC[[#This Row],[DIV 6 QTY]]","v":0},null,{"$f":"EOPC[[#This Row],[UNIT PRICE]]*EOPC[[#This Row],[DIV 7 QTY]]","v":0},null,{"$f":"EOPC[[#This Row],[UNIT PRICE]]*EOPC[[#This Row],[DIV 8 QTY]]","v":0},null,{"$f":"EOPC[[#This Row],[UNIT PRICE]]*EOPC[[#This Row],[DIV 9 QTY]]","v":0},null,{"$f":"EOPC[[#This Row],[UNIT PRICE]]*EOPC[[#This Row],[DIV 10 QTY]]","v":0}]
[null,null,null,{"$f":"EOPC[[#This Row],[DIV 1 QTY]]+EOPC[[#This Row],[DIV 2 QTY]]+EOPC[[#This Row],[DIV 3 QTY]]+EOPC[[#This Row],[DIV 4 QTY]]+EOPC[[#This Row],[DIV 5 QTY]]+EOPC[[#This Row],[DIV 6 QTY]]+EOPC[[#This Row],[DIV 7 QTY]]+EOPC[[#This Row],[DIV 8 QTY]]+EOPC[[#This Row],[DIV 9 QTY]]+EOPC[[#This Row],[DIV 10 QTY]]","v":0},null,0,{"$f":"EOPC[[#This Row],[TOTAL QTY]]*EOPC[[#This Row],[UNIT PRICE]]","v":0},null,{"$f":"EOPC[[#This Row],[UNIT PRICE]]*EOPC[[#This Row],[DIV 1 QTY]]","v":0},null,{"$f":"EOPC[[#This Row],[UNIT PRICE]]*EOPC[[#This Row],[DIV 2 QTY]]","v":0},null,{"$f":"EOPC[[#This Row],[UNIT PRICE]]*EOPC[[#This Row],[DIV 3 QTY]]","v":0},null,{"$f":"EOPC[[#This Row],[UNIT PRICE]]*EOPC[[#This Row],[DIV 4 QTY]]","v":0},null,{"$f":"EOPC[[#This Row],[UNIT PRICE]]*EOPC[[#This Row],[DIV 5 QTY]]","v":0},null,{"$f":"EOPC[[#This Row],[UNIT PRICE]]*EOPC[[#This Row],[DIV 6 QTY]]","v":0},null,{"$f":"EOPC[[#This Row],[UNIT PRICE]]*EOPC[[#This Row],[DIV 7 QTY]]","v":0},null,{"$f":"EOPC[[#This Row],[UNIT PRICE]]*EOPC[[#This Row],[DIV 8 QTY]]","v":0},null,{"$f":"EOPC[[#This Row],[UNIT PRICE]]*EOPC[[#This Row],[DIV 9 QTY]]","v":0},null,{"$f":"EOPC[[#This Row],[UNIT PRICE]]*EOPC[[#This Row],[DIV 10 QTY]]","v":0}]
[null,null,null,{"$f":"EOPC[[#This Row],[DIV 1 QTY]]+EOPC[[#This Row],[DIV 2 QTY]]+EOPC[[#This Row],[DIV 3 QTY]]+EOPC[[#This Row],[DIV 4 QTY]]+EOPC[[#This Row],[DIV 5 QTY]]+EOPC[[#This Row],[DIV 6 QTY]]+EOPC[[#This Row],[DIV 7 QTY]]+EOPC[[#This Row],[DIV 8 QTY]]+EOPC[[#This Row],[DIV 9 QTY]]+EOPC[[#This Row],[DIV 10 QTY]]","v":0},null,0,{"$f":"EOPC[[#This Row],[TOTAL QTY]]*EOPC[[#This Row],[UNIT PRICE]]","v":0},null,{"$f":"EOPC[[#This Row],[UNIT PRICE]]*EOPC[[#This Row],[DIV 1 QTY]]","v":0},null,{"$f":"EOPC[[#This Row],[UNIT PRICE]]*EOPC[[#This Row],[DIV 2 QTY]]","v":0},null,{"$f":"EOPC[[#This Row],[UNIT PRICE]]*EOPC[[#This Row],[DIV 3 QTY]]","v":0},null,{"$f":"EOPC[[#This Row],[UNIT PRICE]]*EOPC[[#This Row],[DIV 4 QTY]]","v":0},null,{"$f":"EOPC[[#This Row],[UNIT PRICE]]*EOPC[[#This Row],[DIV 5 QTY]]","v":0},null,{"$f":"EOPC[[#This Row],[UNIT PRICE]]*EOPC[[#This Row],[DIV 6 QTY]]","v":0},null,{"$f":"EOPC[[#This Row],[UNIT PRICE]]*EOPC[[#This Row],[DIV 7 QTY]]","v":0},null,{"$f":"EOPC[[#This Row],[UNIT PRICE]]*EOPC[[#This Row],[DIV 8 QTY]]","v":0},null,{"$f":"EOPC[[#This Row],[UNIT PRICE]]*EOPC[[#This Row],[DIV 9 QTY]]","v":0},null,{"$f":"EOPC[[#This Row],[UNIT PRICE]]*EOPC[[#This Row],[DIV 10 QTY]]","v":0}]
[null,null,null,{"$f":"EOPC[[#This Row],[DIV 1 QTY]]+EOPC[[#This Row],[DIV 2 QTY]]+EOPC[[#This Row],[DIV 3 QTY]]+EOPC[[#This Row],[DIV 4 QTY]]+EOPC[[#This Row],[DIV 5 QTY]]+EOPC[[#This Row],[DIV 6 QTY]]+EOPC[[#This Row],[DIV 7 QTY]]+EOPC[[#This Row],[DIV 8 QTY]]+EOPC[[#This Row],[DIV 9 QTY]]+EOPC[[#This Row],[DIV 10 QTY]]","v":0},null,0,{"$f":"EOPC[[#This Row],[TOTAL QTY]]*EOPC[[#This Row],[UNIT PRICE]]","v":0},null,{"$f":"EOPC[[#This Row],[UNIT PRICE]]*EOPC[[#This Row],[DIV 1 QTY]]","v":0},null,{"$f":"EOPC[[#This Row],[UNIT PRICE]]*EOPC[[#This Row],[DIV 2 QTY]]","v":0},null,{"$f":"EOPC[[#This Row],[UNIT PRICE]]*EOPC[[#This Row],[DIV 3 QTY]]","v":0},null,{"$f":"EOPC[[#This Row],[UNIT PRICE]]*EOPC[[#This Row],[DIV 4 QTY]]","v":0},null,{"$f":"EOPC[[#This Row],[UNIT PRICE]]*EOPC[[#This Row],[DIV 5 QTY]]","v":0},null,{"$f":"EOPC[[#This Row],[UNIT PRICE]]*EOPC[[#This Row],[DIV 6 QTY]]","v":0},null,{"$f":"EOPC[[#This Row],[UNIT PRICE]]*EOPC[[#This Row],[DIV 7 QTY]]","v":0},null,{"$f":"EOPC[[#This Row],[UNIT PRICE]]*EOPC[[#This Row],[DIV 8 QTY]]","v":0},null,{"$f":"EOPC[[#This Row],[UNIT PRICE]]*EOPC[[#This Row],[DIV 9 QTY]]","v":0},null,{"$f":"EOPC[[#This Row],[UNIT PRICE]]*EOPC[[#This Row],[DIV 10 QTY]]","v":0}]
[null,null,null,{"$f":"EOPC[[#This Row],[DIV 1 QTY]]+EOPC[[#This Row],[DIV 2 QTY]]+EOPC[[#This Row],[DIV 3 QTY]]+EOPC[[#This Row],[DIV 4 QTY]]+EOPC[[#This Row],[DIV 5 QTY]]+EOPC[[#This Row],[DIV 6 QTY]]+EOPC[[#This Row],[DIV 7 QTY]]+EOPC[[#This Row],[DIV 8 QTY]]+EOPC[[#This Row],[DIV 9 QTY]]+EOPC[[#This Row],[DIV 10 QTY]]","v":0},null,0,{"$f":"EOPC[[#This Row],[TOTAL QTY]]*EOPC[[#This Row],[UNIT PRICE]]","v":0},null,{"$f":"EOPC[[#This Row],[UNIT PRICE]]*EOPC[[#This Row],[DIV 1 QTY]]","v":0},null,{"$f":"EOPC[[#This Row],[UNIT PRICE]]*EOPC[[#This Row],[DIV 2 QTY]]","v":0},null,{"$f":"EOPC[[#This Row],[UNIT PRICE]]*EOPC[[#This Row],[DIV 3 QTY]]","v":0},null,{"$f":"EOPC[[#This Row],[UNIT PRICE]]*EOPC[[#This Row],[DIV 4 QTY]]","v":0},null,{"$f":"EOPC[[#This Row],[UNIT PRICE]]*EOPC[[#This Row],[DIV 5 QTY]]","v":0},null,{"$f":"EOPC[[#This Row],[UNIT PRICE]]*EOPC[[#This Row],[DIV 6 QTY]]","v":0},null,{"$f":"EOPC[[#This Row],[UNIT PRICE]]*EOPC[[#This Row],[DIV 7 QTY]]","v":0},null,{"$f":"EOPC[[#This Row],[UNIT PRICE]]*EOPC[[#This Row],[DIV 8 QTY]]","v":0},null,{"$f":"EOPC[[#This Row],[UNIT PRICE]]*EOPC[[#This Row],[DIV 9 QTY]]","v":0},null,{"$f":"EOPC[[#This Row],[UNIT PRICE]]*EOPC[[#This Row],[DIV 10 QTY]]","v":0}]
[null,null,null,{"$f":"EOPC[[#This Row],[DIV 1 QTY]]+EOPC[[#This Row],[DIV 2 QTY]]+EOPC[[#This Row],[DIV 3 QTY]]+EOPC[[#This Row],[DIV 4 QTY]]+EOPC[[#This Row],[DIV 5 QTY]]+EOPC[[#This Row],[DIV 6 QTY]]+EOPC[[#This Row],[DIV 7 QTY]]+EOPC[[#This Row],[DIV 8 QTY]]+EOPC[[#This Row],[DIV 9 QTY]]+EOPC[[#This Row],[DIV 10 QTY]]","v":0},null,0,{"$f":"EOPC[[#This Row],[TOTAL QTY]]*EOPC[[#This Row],[UNIT PRICE]]","v":0},null,{"$f":"EOPC[[#This Row],[UNIT PRICE]]*EOPC[[#This Row],[DIV 1 QTY]]","v":0},null,{"$f":"EOPC[[#This Row],[UNIT PRICE]]*EOPC[[#This Row],[DIV 2 QTY]]","v":0},null,{"$f":"EOPC[[#This Row],[UNIT PRICE]]*EOPC[[#This Row],[DIV 3 QTY]]","v":0},null,{"$f":"EOPC[[#This Row],[UNIT PRICE]]*EOPC[[#This Row],[DIV 4 QTY]]","v":0},null,{"$f":"EOPC[[#This Row],[UNIT PRICE]]*EOPC[[#This Row],[DIV 5 QTY]]","v":0},null,{"$f":"EOPC[[#This Row],[UNIT PRICE]]*EOPC[[#This Row],[DIV 6 QTY]]","v":0},null,{"$f":"EOPC[[#This Row],[UNIT PRICE]]*EOPC[[#This Row],[DIV 7 QTY]]","v":0},null,{"$f":"EOPC[[#This Row],[UNIT PRICE]]*EOPC[[#This Row],[DIV 8 QTY]]","v":0},null,{"$f":"EOPC[[#This Row],[UNIT PRICE]]*EOPC[[#This Row],[DIV 9 QTY]]","v":0},null,{"$f":"EOPC[[#This Row],[UNIT PRICE]]*EOPC[[#This Row],[DIV 10 QTY]]","v":0}]
[null,null,null,{"$f":"EOPC[[#This Row],[DIV 1 QTY]]+EOPC[[#This Row],[DIV 2 QTY]]+EOPC[[#This Row],[DIV 3 QTY]]+EOPC[[#This Row],[DIV 4 QTY]]+EOPC[[#This Row],[DIV 5 QTY]]+EOPC[[#This Row],[DIV 6 QTY]]+EOPC[[#This Row],[DIV 7 QTY]]+EOPC[[#This Row],[DIV 8 QTY]]+EOPC[[#This Row],[DIV 9 QTY]]+EOPC[[#This Row],[DIV 10 QTY]]","v":0},null,0,{"$f":"EOPC[[#This Row],[TOTAL QTY]]*EOPC[[#This Row],[UNIT PRICE]]","v":0},null,{"$f":"EOPC[[#This Row],[UNIT PRICE]]*EOPC[[#This Row],[DIV 1 QTY]]","v":0},null,{"$f":"EOPC[[#This Row],[UNIT PRICE]]*EOPC[[#This Row],[DIV 2 QTY]]","v":0},null,{"$f":"EOPC[[#This Row],[UNIT PRICE]]*EOPC[[#This Row],[DIV 3 QTY]]","v":0},null,{"$f":"EOPC[[#This Row],[UNIT PRICE]]*EOPC[[#This Row],[DIV 4 QTY]]","v":0},null,{"$f":"EOPC[[#This Row],[UNIT PRICE]]*EOPC[[#This Row],[DIV 5 QTY]]","v":0},null,{"$f":"EOPC[[#This Row],[UNIT PRICE]]*EOPC[[#This Row],[DIV 6 QTY]]","v":0},null,{"$f":"EOPC[[#This Row],[UNIT PRICE]]*EOPC[[#This Row],[DIV 7 QTY]]","v":0},null,{"$f":"EOPC[[#This Row],[UNIT PRICE]]*EOPC[[#This Row],[DIV 8 QTY]]","v":0},null,{"$f":"EOPC[[#This Row],[UNIT PRICE]]*EOPC[[#This Row],[DIV 9 QTY]]","v":0},null,{"$f":"EOPC[[#This Row],[UNIT PRICE]]*EOPC[[#This Row],[DIV 10 QTY]]","v":0}]
[null,null,null,{"$f":"EOPC[[#This Row],[DIV 1 QTY]]+EOPC[[#This Row],[DIV 2 QTY]]+EOPC[[#This Row],[DIV 3 QTY]]+EOPC[[#This Row],[DIV 4 QTY]]+EOPC[[#This Row],[DIV 5 QTY]]+EOPC[[#This Row],[DIV 6 QTY]]+EOPC[[#This Row],[DIV 7 QTY]]+EOPC[[#This Row],[DIV 8 QTY]]+EOPC[[#This Row],[DIV 9 QTY]]+EOPC[[#This Row],[DIV 10 QTY]]","v":0},null,0,{"$f":"EOPC[[#This Row],[TOTAL QTY]]*EOPC[[#This Row],[UNIT PRICE]]","v":0},null,{"$f":"EOPC[[#This Row],[UNIT PRICE]]*EOPC[[#This Row],[DIV 1 QTY]]","v":0},null,{"$f":"EOPC[[#This Row],[UNIT PRICE]]*EOPC[[#This Row],[DIV 2 QTY]]","v":0},null,{"$f":"EOPC[[#This Row],[UNIT PRICE]]*EOPC[[#This Row],[DIV 3 QTY]]","v":0},null,{"$f":"EOPC[[#This Row],[UNIT PRICE]]*EOPC[[#This Row],[DIV 4 QTY]]","v":0},null,{"$f":"EOPC[[#This Row],[UNIT PRICE]]*EOPC[[#This Row],[DIV 5 QTY]]","v":0},null,{"$f":"EOPC[[#This Row],[UNIT PRICE]]*EOPC[[#This Row],[DIV 6 QTY]]","v":0},null,{"$f":"EOPC[[#This Row],[UNIT PRICE]]*EOPC[[#This Row],[DIV 7 QTY]]","v":0},null,{"$f":"EOPC[[#This Row],[UNIT PRICE]]*EOPC[[#This Row],[DIV 8 QTY]]","v":0},null,{"$f":"EOPC[[#This Row],[UNIT PRICE]]*EOPC[[#This Row],[DIV 9 QTY]]","v":0},null,{"$f":"EOPC[[#This Row],[UNIT PRICE]]*EOPC[[#This Row],[DIV 10 QTY]]","v":0}]
[null,null,null,{"$f":"EOPC[[#This Row],[DIV 1 QTY]]+EOPC[[#This Row],[DIV 2 QTY]]+EOPC[[#This Row],[DIV 3 QTY]]+EOPC[[#This Row],[DIV 4 QTY]]+EOPC[[#This Row],[DIV 5 QTY]]+EOPC[[#This Row],[DIV 6 QTY]]+EOPC[[#This Row],[DIV 7 QTY]]+EOPC[[#This Row],[DIV 8 QTY]]+EOPC[[#This Row],[DIV 9 QTY]]+EOPC[[#This Row],[DIV 10 QTY]]","v":0},null,0,{"$f":"EOPC[[#This Row],[TOTAL QTY]]*EOPC[[#This Row],[UNIT PRICE]]","v":0},null,{"$f":"EOPC[[#This Row],[UNIT PRICE]]*EOPC[[#This Row],[DIV 1 QTY]]","v":0},null,{"$f":"EOPC[[#This Row],[UNIT PRICE]]*EOPC[[#This Row],[DIV 2 QTY]]","v":0},null,{"$f":"EOPC[[#This Row],[UNIT PRICE]]*EOPC[[#This Row],[DIV 3 QTY]]","v":0},null,{"$f":"EOPC[[#This Row],[UNIT PRICE]]*EOPC[[#This Row],[DIV 4 QTY]]","v":0},null,{"$f":"EOPC[[#This Row],[UNIT PRICE]]*EOPC[[#This Row],[DIV 5 QTY]]","v":0},null,{"$f":"EOPC[[#This Row],[UNIT PRICE]]*EOPC[[#This Row],[DIV 6 QTY]]","v":0},null,{"$f":"EOPC[[#This Row],[UNIT PRICE]]*EOPC[[#This Row],[DIV 7 QTY]]","v":0},null,{"$f":"EOPC[[#This Row],[UNIT PRICE]]*EOPC[[#This Row],[DIV 8 QTY]]","v":0},null,{"$f":"EOPC[[#This Row],[UNIT PRICE]]*EOPC[[#This Row],[DIV 9 QTY]]","v":0},null,{"$f":"EOPC[[#This Row],[UNIT PRICE]]*EOPC[[#This Row],[DIV 10 QTY]]","v":0}]
[null,null,null,{"$f":"EOPC[[#This Row],[DIV 1 QTY]]+EOPC[[#This Row],[DIV 2 QTY]]+EOPC[[#This Row],[DIV 3 QTY]]+EOPC[[#This Row],[DIV 4 QTY]]+EOPC[[#This Row],[DIV 5 QTY]]+EOPC[[#This Row],[DIV 6 QTY]]+EOPC[[#This Row],[DIV 7 QTY]]+EOPC[[#This Row],[DIV 8 QTY]]+EOPC[[#This Row],[DIV 9 QTY]]+EOPC[[#This Row],[DIV 10 QTY]]","v":0},null,0,{"$f":"EOPC[[#This Row],[TOTAL QTY]]*EOPC[[#This Row],[UNIT PRICE]]","v":0},null,{"$f":"EOPC[[#This Row],[UNIT PRICE]]*EOPC[[#This Row],[DIV 1 QTY]]","v":0},null,{"$f":"EOPC[[#This Row],[UNIT PRICE]]*EOPC[[#This Row],[DIV 2 QTY]]","v":0},null,{"$f":"EOPC[[#This Row],[UNIT PRICE]]*EOPC[[#This Row],[DIV 3 QTY]]","v":0},null,{"$f":"EOPC[[#This Row],[UNIT PRICE]]*EOPC[[#This Row],[DIV 4 QTY]]","v":0},null,{"$f":"EOPC[[#This Row],[UNIT PRICE]]*EOPC[[#This Row],[DIV 5 QTY]]","v":0},null,{"$f":"EOPC[[#This Row],[UNIT PRICE]]*EOPC[[#This Row],[DIV 6 QTY]]","v":0},null,{"$f":"EOPC[[#This Row],[UNIT PRICE]]*EOPC[[#This Row],[DIV 7 QTY]]","v":0},null,{"$f":"EOPC[[#This Row],[UNIT PRICE]]*EOPC[[#This Row],[DIV 8 QTY]]","v":0},null,{"$f":"EOPC[[#This Row],[UNIT PRICE]]*EOPC[[#This Row],[DIV 9 QTY]]","v":0},null,{"$f":"EOPC[[#This Row],[UNIT PRICE]]*EOPC[[#This Row],[DIV 10 QTY]]","v":0}]
[null,null,null,{"$f":"EOPC[[#This Row],[DIV 1 QTY]]+EOPC[[#This Row],[DIV 2 QTY]]+EOPC[[#This Row],[DIV 3 QTY]]+EOPC[[#This Row],[DIV 4 QTY]]+EOPC[[#This Row],[DIV 5 QTY]]+EOPC[[#This Row],[DIV 6 QTY]]+EOPC[[#This Row],[DIV 7 QTY]]+EOPC[[#This Row],[DIV 8 QTY]]+EOPC[[#This Row],[DIV 9 QTY]]+EOPC[[#This Row],[DIV 10 QTY]]","v":0},null,0,{"$f":"EOPC[[#This Row],[TOTAL QTY]]*EOPC[[#This Row],[UNIT PRICE]]","v":0},null,{"$f":"EOPC[[#This Row],[UNIT PRICE]]*EOPC[[#This Row],[DIV 1 QTY]]","v":0},null,{"$f":"EOPC[[#This Row],[UNIT PRICE]]*EOPC[[#This Row],[DIV 2 QTY]]","v":0},null,{"$f":"EOPC[[#This Row],[UNIT PRICE]]*EOPC[[#This Row],[DIV 3 QTY]]","v":0},null,{"$f":"EOPC[[#This Row],[UNIT PRICE]]*EOPC[[#This Row],[DIV 4 QTY]]","v":0},null,{"$f":"EOPC[[#This Row],[UNIT PRICE]]*EOPC[[#This Row],[DIV 5 QTY]]","v":0},null,{"$f":"EOPC[[#This Row],[UNIT PRICE]]*EOPC[[#This Row],[DIV 6 QTY]]","v":0},null,{"$f":"EOPC[[#This Row],[UNIT PRICE]]*EOPC[[#This Row],[DIV 7 QTY]]","v":0},null,{"$f":"EOPC[[#This Row],[UNIT PRICE]]*EOPC[[#This Row],[DIV 8 QTY]]","v":0},null,{"$f":"EOPC[[#This Row],[UNIT PRICE]]*EOPC[[#This Row],[DIV 9 QTY]]","v":0},null,{"$f":"EOPC[[#This Row],[UNIT PRICE]]*EOPC[[#This Row],[DIV 10 QTY]]","v":0}]
[null,null,null,{"$f":"EOPC[[#This Row],[DIV 1 QTY]]+EOPC[[#This Row],[DIV 2 QTY]]+EOPC[[#This Row],[DIV 3 QTY]]+EOPC[[#This Row],[DIV 4 QTY]]+EOPC[[#This Row],[DIV 5 QTY]]+EOPC[[#This Row],[DIV 6 QTY]]+EOPC[[#This Row],[DIV 7 QTY]]+EOPC[[#This Row],[DIV 8 QTY]]+EOPC[[#This Row],[DIV 9 QTY]]+EOPC[[#This Row],[DIV 10 QTY]]","v":0},null,0,{"$f":"EOPC[[#This Row],[TOTAL QTY]]*EOPC[[#This Row],[UNIT PRICE]]","v":0},null,{"$f":"EOPC[[#This Row],[UNIT PRICE]]*EOPC[[#This Row],[DIV 1 QTY]]","v":0},null,{"$f":"EOPC[[#This Row],[UNIT PRICE]]*EOPC[[#This Row],[DIV 2 QTY]]","v":0},null,{"$f":"EOPC[[#This Row],[UNIT PRICE]]*EOPC[[#This Row],[DIV 3 QTY]]","v":0},null,{"$f":"EOPC[[#This Row],[UNIT PRICE]]*EOPC[[#This Row],[DIV 4 QTY]]","v":0},null,{"$f":"EOPC[[#This Row],[UNIT PRICE]]*EOPC[[#This Row],[DIV 5 QTY]]","v":0},null,{"$f":"EOPC[[#This Row],[UNIT PRICE]]*EOPC[[#This Row],[DIV 6 QTY]]","v":0},null,{"$f":"EOPC[[#This Row],[UNIT PRICE]]*EOPC[[#This Row],[DIV 7 QTY]]","v":0},null,{"$f":"EOPC[[#This Row],[UNIT PRICE]]*EOPC[[#This Row],[DIV 8 QTY]]","v":0},null,{"$f":"EOPC[[#This Row],[UNIT PRICE]]*EOPC[[#This Row],[DIV 9 QTY]]","v":0},null,{"$f":"EOPC[[#This Row],[UNIT PRICE]]*EOPC[[#This Row],[DIV 10 QTY]]","v":0}]
[null,null,null,{"$f":"EOPC[[#This Row],[DIV 1 QTY]]+EOPC[[#This Row],[DIV 2 QTY]]+EOPC[[#This Row],[DIV 3 QTY]]+EOPC[[#This Row],[DIV 4 QTY]]+EOPC[[#This Row],[DIV 5 QTY]]+EOPC[[#This Row],[DIV 6 QTY]]+EOPC[[#This Row],[DIV 7 QTY]]+EOPC[[#This Row],[DIV 8 QTY]]+EOPC[[#This Row],[DIV 9 QTY]]+EOPC[[#This Row],[DIV 10 QTY]]","v":0},null,0,{"$f":"EOPC[[#This Row],[TOTAL QTY]]*EOPC[[#This Row],[UNIT PRICE]]","v":0},null,{"$f":"EOPC[[#This Row],[UNIT PRICE]]*EOPC[[#This Row],[DIV 1 QTY]]","v":0},null,{"$f":"EOPC[[#This Row],[UNIT PRICE]]*EOPC[[#This Row],[DIV 2 QTY]]","v":0},null,{"$f":"EOPC[[#This Row],[UNIT PRICE]]*EOPC[[#This Row],[DIV 3 QTY]]","v":0},null,{"$f":"EOPC[[#This Row],[UNIT PRICE]]*EOPC[[#This Row],[DIV 4 QTY]]","v":0},null,{"$f":"EOPC[[#This Row],[UNIT PRICE]]*EOPC[[#This Row],[DIV 5 QTY]]","v":0},null,{"$f":"EOPC[[#This Row],[UNIT PRICE]]*EOPC[[#This Row],[DIV 6 QTY]]","v":0},null,{"$f":"EOPC[[#This Row],[UNIT PRICE]]*EOPC[[#This Row],[DIV 7 QTY]]","v":0},null,{"$f":"EOPC[[#This Row],[UNIT PRICE]]*EOPC[[#This Row],[DIV 8 QTY]]","v":0},null,{"$f":"EOPC[[#This Row],[UNIT PRICE]]*EOPC[[#This Row],[DIV 9 QTY]]","v":0},null,{"$f":"EOPC[[#This Row],[UNIT PRICE]]*EOPC[[#This Row],[DIV 10 QTY]]","v":0}]
[null,null,null,{"$f":"EOPC[[#This Row],[DIV 1 QTY]]+EOPC[[#This Row],[DIV 2 QTY]]+EOPC[[#This Row],[DIV 3 QTY]]+EOPC[[#This Row],[DIV 4 QTY]]+EOPC[[#This Row],[DIV 5 QTY]]+EOPC[[#This Row],[DIV 6 QTY]]+EOPC[[#This Row],[DIV 7 QTY]]+EOPC[[#This Row],[DIV 8 QTY]]+EOPC[[#This Row],[DIV 9 QTY]]+EOPC[[#This Row],[DIV 10 QTY]]","v":0},null,0,{"$f":"EOPC[[#This Row],[TOTAL QTY]]*EOPC[[#This Row],[UNIT PRICE]]","v":0},null,{"$f":"EOPC[[#This Row],[UNIT PRICE]]*EOPC[[#This Row],[DIV 1 QTY]]","v":0},null,{"$f":"EOPC[[#This Row],[UNIT PRICE]]*EOPC[[#This Row],[DIV 2 QTY]]","v":0},null,{"$f":"EOPC[[#This Row],[UNIT PRICE]]*EOPC[[#This Row],[DIV 3 QTY]]","v":0},null,{"$f":"EOPC[[#This Row],[UNIT PRICE]]*EOPC[[#This Row],[DIV 4 QTY]]","v":0},null,{"$f":"EOPC[[#This Row],[UNIT PRICE]]*EOPC[[#This Row],[DIV 5 QTY]]","v":0},null,{"$f":"EOPC[[#This Row],[UNIT PRICE]]*EOPC[[#This Row],[DIV 6 QTY]]","v":0},null,{"$f":"EOPC[[#This Row],[UNIT PRICE]]*EOPC[[#This Row],[DIV 7 QTY]]","v":0},null,{"$f":"EOPC[[#This Row],[UNIT PRICE]]*EOPC[[#This Row],[DIV 8 QTY]]","v":0},null,{"$f":"EOPC[[#This Row],[UNIT PRICE]]*EOPC[[#This Row],[DIV 9 QTY]]","v":0},null,{"$f":"EOPC[[#This Row],[UNIT PRICE]]*EOPC[[#This Row],[DIV 10 QTY]]","v":0}]
[null,null,null,{"$f":"EOPC[[#This Row],[DIV 1 QTY]]+EOPC[[#This Row],[DIV 2 QTY]]+EOPC[[#This Row],[DIV 3 QTY]]+EOPC[[#This Row],[DIV 4 QTY]]+EOPC[[#This Row],[DIV 5 QTY]]+EOPC[[#This Row],[DIV 6 QTY]]+EOPC[[#This Row],[DIV 7 QTY]]+EOPC[[#This Row],[DIV 8 QTY]]+EOPC[[#This Row],[DIV 9 QTY]]+EOPC[[#This Row],[DIV 10 QTY]]","v":0},null,0,{"$f":"EOPC[[#This Row],[TOTAL QTY]]*EOPC[[#This Row],[UNIT PRICE]]","v":0},null,{"$f":"EOPC[[#This Row],[UNIT PRICE]]*EOPC[[#This Row],[DIV 1 QTY]]","v":0},null,{"$f":"EOPC[[#This Row],[UNIT PRICE]]*EOPC[[#This Row],[DIV 2 QTY]]","v":0},null,{"$f":"EOPC[[#This Row],[UNIT PRICE]]*EOPC[[#This Row],[DIV 3 QTY]]","v":0},null,{"$f":"EOPC[[#This Row],[UNIT PRICE]]*EOPC[[#This Row],[DIV 4 QTY]]","v":0},null,{"$f":"EOPC[[#This Row],[UNIT PRICE]]*EOPC[[#This Row],[DIV 5 QTY]]","v":0},null,{"$f":"EOPC[[#This Row],[UNIT PRICE]]*EOPC[[#This Row],[DIV 6 QTY]]","v":0},null,{"$f":"EOPC[[#This Row],[UNIT PRICE]]*EOPC[[#This Row],[DIV 7 QTY]]","v":0},null,{"$f":"EOPC[[#This Row],[UNIT PRICE]]*EOPC[[#This Row],[DIV 8 QTY]]","v":0},null,{"$f":"EOPC[[#This Row],[UNIT PRICE]]*EOPC[[#This Row],[DIV 9 QTY]]","v":0},null,{"$f":"EOPC[[#This Row],[UNIT PRICE]]*EOPC[[#This Row],[DIV 10 QTY]]","v":0}]
[null,null,null,{"$f":"EOPC[[#This Row],[DIV 1 QTY]]+EOPC[[#This Row],[DIV 2 QTY]]+EOPC[[#This Row],[DIV 3 QTY]]+EOPC[[#This Row],[DIV 4 QTY]]+EOPC[[#This Row],[DIV 5 QTY]]+EOPC[[#This Row],[DIV 6 QTY]]+EOPC[[#This Row],[DIV 7 QTY]]+EOPC[[#This Row],[DIV 8 QTY]]+EOPC[[#This Row],[DIV 9 QTY]]+EOPC[[#This Row],[DIV 10 QTY]]","v":0},null,0,{"$f":"EOPC[[#This Row],[TOTAL QTY]]*EOPC[[#This Row],[UNIT PRICE]]","v":0},null,{"$f":"EOPC[[#This Row],[UNIT PRICE]]*EOPC[[#This Row],[DIV 1 QTY]]","v":0},null,{"$f":"EOPC[[#This Row],[UNIT PRICE]]*EOPC[[#This Row],[DIV 2 QTY]]","v":0},null,{"$f":"EOPC[[#This Row],[UNIT PRICE]]*EOPC[[#This Row],[DIV 3 QTY]]","v":0},null,{"$f":"EOPC[[#This Row],[UNIT PRICE]]*EOPC[[#This Row],[DIV 4 QTY]]","v":0},null,{"$f":"EOPC[[#This Row],[UNIT PRICE]]*EOPC[[#This Row],[DIV 5 QTY]]","v":0},null,{"$f":"EOPC[[#This Row],[UNIT PRICE]]*EOPC[[#This Row],[DIV 6 QTY]]","v":0},null,{"$f":"EOPC[[#This Row],[UNIT PRICE]]*EOPC[[#This Row],[DIV 7 QTY]]","v":0},null,{"$f":"EOPC[[#This Row],[UNIT PRICE]]*EOPC[[#This Row],[DIV 8 QTY]]","v":0},null,{"$f":"EOPC[[#This Row],[UNIT PRICE]]*EOPC[[#This Row],[DIV 9 QTY]]","v":0},null,{"$f":"EOPC[[#This Row],[UNIT PRICE]]*EOPC[[#This Row],[DIV 10 QTY]]","v":0}]
[null,null,null,{"$f":"EOPC[[#This Row],[DIV 1 QTY]]+EOPC[[#This Row],[DIV 2 QTY]]+EOPC[[#This Row],[DIV 3 QTY]]+EOPC[[#This Row],[DIV 4 QTY]]+EOPC[[#This Row],[DIV 5 QTY]]+EOPC[[#This Row],[DIV 6 QTY]]+EOPC[[#This Row],[DIV 7 QTY]]+EOPC[[#This Row],[DIV 8 QTY]]+EOPC[[#This Row],[DIV 9 QTY]]+EOPC[[#This Row],[DIV 10 QTY]]","v":0},null,0,{"$f":"EOPC[[#This Row],[TOTAL QTY]]*EOPC[[#This Row],[UNIT PRICE]]","v":0},null,{"$f":"EOPC[[#This Row],[UNIT PRICE]]*EOPC[[#This Row],[DIV 1 QTY]]","v":0},null,{"$f":"EOPC[[#This Row],[UNIT PRICE]]*EOPC[[#This Row],[DIV 2 QTY]]","v":0},null,{"$f":"EOPC[[#This Row],[UNIT PRICE]]*EOPC[[#This Row],[DIV 3 QTY]]","v":0},null,{"$f":"EOPC[[#This Row],[UNIT PRICE]]*EOPC[[#This Row],[DIV 4 QTY]]","v":0},null,{"$f":"EOPC[[#This Row],[UNIT PRICE]]*EOPC[[#This Row],[DIV 5 QTY]]","v":0},null,{"$f":"EOPC[[#This Row],[UNIT PRICE]]*EOPC[[#This Row],[DIV 6 QTY]]","v":0},null,{"$f":"EOPC[[#This Row],[UNIT PRICE]]*EOPC[[#This Row],[DIV 7 QTY]]","v":0},null,{"$f":"EOPC[[#This Row],[UNIT PRICE]]*EOPC[[#This Row],[DIV 8 QTY]]","v":0},null,{"$f":"EOPC[[#This Row],[UNIT PRICE]]*EOPC[[#This Row],[DIV 9 QTY]]","v":0},null,{"$f":"EOPC[[#This Row],[UNIT PRICE]]*EOPC[[#This Row],[DIV 10 QTY]]","v":0}]
[null,null,null,{"$f":"EOPC[[#This Row],[DIV 1 QTY]]+EOPC[[#This Row],[DIV 2 QTY]]+EOPC[[#This Row],[DIV 3 QTY]]+EOPC[[#This Row],[DIV 4 QTY]]+EOPC[[#This Row],[DIV 5 QTY]]+EOPC[[#This Row],[DIV 6 QTY]]+EOPC[[#This Row],[DIV 7 QTY]]+EOPC[[#This Row],[DIV 8 QTY]]+EOPC[[#This Row],[DIV 9 QTY]]+EOPC[[#This Row],[DIV 10 QTY]]","v":0},null,0,{"$f":"EOPC[[#This Row],[TOTAL QTY]]*EOPC[[#This Row],[UNIT PRICE]]","v":0},null,{"$f":"EOPC[[#This Row],[UNIT PRICE]]*EOPC[[#This Row],[DIV 1 QTY]]","v":0},null,{"$f":"EOPC[[#This Row],[UNIT PRICE]]*EOPC[[#This Row],[DIV 2 QTY]]","v":0},null,{"$f":"EOPC[[#This Row],[UNIT PRICE]]*EOPC[[#This Row],[DIV 3 QTY]]","v":0},null,{"$f":"EOPC[[#This Row],[UNIT PRICE]]*EOPC[[#This Row],[DIV 4 QTY]]","v":0},null,{"$f":"EOPC[[#This Row],[UNIT PRICE]]*EOPC[[#This Row],[DIV 5 QTY]]","v":0},null,{"$f":"EOPC[[#This Row],[UNIT PRICE]]*EOPC[[#This Row],[DIV 6 QTY]]","v":0},null,{"$f":"EOPC[[#This Row],[UNIT PRICE]]*EOPC[[#This Row],[DIV 7 QTY]]","v":0},null,{"$f":"EOPC[[#This Row],[UNIT PRICE]]*EOPC[[#This Row],[DIV 8 QTY]]","v":0},null,{"$f":"EOPC[[#This Row],[UNIT PRICE]]*EOPC[[#This Row],[DIV 9 QTY]]","v":0},null,{"$f":"EOPC[[#This Row],[UNIT PRICE]]*EOPC[[#This Row],[DIV 10 QTY]]","v":0}]
[null,null,null,{"$f":"EOPC[[#This Row],[DIV 1 QTY]]+EOPC[[#This Row],[DIV 2 QTY]]+EOPC[[#This Row],[DIV 3 QTY]]+EOPC[[#This Row],[DIV 4 QTY]]+EOPC[[#This Row],[DIV 5 QTY]]+EOPC[[#This Row],[DIV 6 QTY]]+EOPC[[#This Row],[DIV 7 QTY]]+EOPC[[#This Row],[DIV 8 QTY]]+EOPC[[#This Row],[DIV 9 QTY]]+EOPC[[#This Row],[DIV 10 QTY]]","v":0},null,0,{"$f":"EOPC[[#This Row],[TOTAL QTY]]*EOPC[[#This Row],[UNIT PRICE]]","v":0},null,{"$f":"EOPC[[#This Row],[UNIT PRICE]]*EOPC[[#This Row],[DIV 1 QTY]]","v":0},null,{"$f":"EOPC[[#This Row],[UNIT PRICE]]*EOPC[[#This Row],[DIV 2 QTY]]","v":0},null,{"$f":"EOPC[[#This Row],[UNIT PRICE]]*EOPC[[#This Row],[DIV 3 QTY]]","v":0},null,{"$f":"EOPC[[#This Row],[UNIT PRICE]]*EOPC[[#This Row],[DIV 4 QTY]]","v":0},null,{"$f":"EOPC[[#This Row],[UNIT PRICE]]*EOPC[[#This Row],[DIV 5 QTY]]","v":0},null,{"$f":"EOPC[[#This Row],[UNIT PRICE]]*EOPC[[#This Row],[DIV 6 QTY]]","v":0},null,{"$f":"EOPC[[#This Row],[UNIT PRICE]]*EOPC[[#This Row],[DIV 7 QTY]]","v":0},null,{"$f":"EOPC[[#This Row],[UNIT PRICE]]*EOPC[[#This Row],[DIV 8 QTY]]","v":0},null,{"$f":"EOPC[[#This Row],[UNIT PRICE]]*EOPC[[#This Row],[DIV 9 QTY]]","v":0},null,{"$f":"EOPC[[#This Row],[UNIT PRICE]]*EOPC[[#This Row],[DIV 10 QTY]]","v":0}]
[null,null,null,{"$f":"EOPC[[#This Row],[DIV 1 QTY]]+EOPC[[#This Row],[DIV 2 QTY]]+EOPC[[#This Row],[DIV 3 QTY]]+EOPC[[#This Row],[DIV 4 QTY]]+EOPC[[#This Row],[DIV 5 QTY]]+EOPC[[#This Row],[DIV 6 QTY]]+EOPC[[#This Row],[DIV 7 QTY]]+EOPC[[#This Row],[DIV 8 QTY]]+EOPC[[#This Row],[DIV 9 QTY]]+EOPC[[#This Row],[DIV 10 QTY]]","v":0},null,0,{"$f":"EOPC[[#This Row],[TOTAL QTY]]*EOPC[[#This Row],[UNIT PRICE]]","v":0},null,{"$f":"EOPC[[#This Row],[UNIT PRICE]]*EOPC[[#This Row],[DIV 1 QTY]]","v":0},null,{"$f":"EOPC[[#This Row],[UNIT PRICE]]*EOPC[[#This Row],[DIV 2 QTY]]","v":0},null,{"$f":"EOPC[[#This Row],[UNIT PRICE]]*EOPC[[#This Row],[DIV 3 QTY]]","v":0},null,{"$f":"EOPC[[#This Row],[UNIT PRICE]]*EOPC[[#This Row],[DIV 4 QTY]]","v":0},null,{"$f":"EOPC[[#This Row],[UNIT PRICE]]*EOPC[[#This Row],[DIV 5 QTY]]","v":0},null,{"$f":"EOPC[[#This Row],[UNIT PRICE]]*EOPC[[#This Row],[DIV 6 QTY]]","v":0},null,{"$f":"EOPC[[#This Row],[UNIT PRICE]]*EOPC[[#This Row],[DIV 7 QTY]]","v":0},null,{"$f":"EOPC[[#This Row],[UNIT PRICE]]*EOPC[[#This Row],[DIV 8 QTY]]","v":0},null,{"$f":"EOPC[[#This Row],[UNIT PRICE]]*EOPC[[#This Row],[DIV 9 QTY]]","v":0},null,{"$f":"EOPC[[#This Row],[UNIT PRICE]]*EOPC[[#This Row],[DIV 10 QTY]]","v":0}]
[null,null,null,{"$f":"EOPC[[#This Row],[DIV 1 QTY]]+EOPC[[#This Row],[DIV 2 QTY]]+EOPC[[#This Row],[DIV 3 QTY]]+EOPC[[#This Row],[DIV 4 QTY]]+EOPC[[#This Row],[DIV 5 QTY]]+EOPC[[#This Row],[DIV 6 QTY]]+EOPC[[#This Row],[DIV 7 QTY]]+EOPC[[#This Row],[DIV 8 QTY]]+EOPC[[#This Row],[DIV 9 QTY]]+EOPC[[#This Row],[DIV 10 QTY]]","v":0},null,0,{"$f":"EOPC[[#This Row],[TOTAL QTY]]*EOPC[[#This Row],[UNIT PRICE]]","v":0},null,{"$f":"EOPC[[#This Row],[UNIT PRICE]]*EOPC[[#This Row],[DIV 1 QTY]]","v":0},null,{"$f":"EOPC[[#This Row],[UNIT PRICE]]*EOPC[[#This Row],[DIV 2 QTY]]","v":0},null,{"$f":"EOPC[[#This Row],[UNIT PRICE]]*EOPC[[#This Row],[DIV 3 QTY]]","v":0},null,{"$f":"EOPC[[#This Row],[UNIT PRICE]]*EOPC[[#This Row],[DIV 4 QTY]]","v":0},null,{"$f":"EOPC[[#This Row],[UNIT PRICE]]*EOPC[[#This Row],[DIV 5 QTY]]","v":0},null,{"$f":"EOPC[[#This Row],[UNIT PRICE]]*EOPC[[#This Row],[DIV 6 QTY]]","v":0},null,{"$f":"EOPC[[#This Row],[UNIT PRICE]]*EOPC[[#This Row],[DIV 7 QTY]]","v":0},null,{"$f":"EOPC[[#This Row],[UNIT PRICE]]*EOPC[[#This Row],[DIV 8 QTY]]","v":0},null,{"$f":"EOPC[[#This Row],[UNIT PRICE]]*EOPC[[#This Row],[DIV 9 QTY]]","v":0},null,{"$f":"EOPC[[#This Row],[UNIT PRICE]]*EOPC[[#This Row],[DIV 10 QTY]]","v":0}]
[null,null,null,{"$f":"EOPC[[#This Row],[DIV 1 QTY]]+EOPC[[#This Row],[DIV 2 QTY]]+EOPC[[#This Row],[DIV 3 QTY]]+EOPC[[#This Row],[DIV 4 QTY]]+EOPC[[#This Row],[DIV 5 QTY]]+EOPC[[#This Row],[DIV 6 QTY]]+EOPC[[#This Row],[DIV 7 QTY]]+EOPC[[#This Row],[DIV 8 QTY]]+EOPC[[#This Row],[DIV 9 QTY]]+EOPC[[#This Row],[DIV 10 QTY]]","v":0},null,0,{"$f":"EOPC[[#This Row],[TOTAL QTY]]*EOPC[[#This Row],[UNIT PRICE]]","v":0},null,{"$f":"EOPC[[#This Row],[UNIT PRICE]]*EOPC[[#This Row],[DIV 1 QTY]]","v":0},null,{"$f":"EOPC[[#This Row],[UNIT PRICE]]*EOPC[[#This Row],[DIV 2 QTY]]","v":0},null,{"$f":"EOPC[[#This Row],[UNIT PRICE]]*EOPC[[#This Row],[DIV 3 QTY]]","v":0},null,{"$f":"EOPC[[#This Row],[UNIT PRICE]]*EOPC[[#This Row],[DIV 4 QTY]]","v":0},null,{"$f":"EOPC[[#This Row],[UNIT PRICE]]*EOPC[[#This Row],[DIV 5 QTY]]","v":0},null,{"$f":"EOPC[[#This Row],[UNIT PRICE]]*EOPC[[#This Row],[DIV 6 QTY]]","v":0},null,{"$f":"EOPC[[#This Row],[UNIT PRICE]]*EOPC[[#This Row],[DIV 7 QTY]]","v":0},null,{"$f":"EOPC[[#This Row],[UNIT PRICE]]*EOPC[[#This Row],[DIV 8 QTY]]","v":0},null,{"$f":"EOPC[[#This Row],[UNIT PRICE]]*EOPC[[#This Row],[DIV 9 QTY]]","v":0},null,{"$f":"EOPC[[#This Row],[UNIT PRICE]]*EOPC[[#This Row],[DIV 10 QTY]]","v":0}]
[null,null,null,{"$f":"EOPC[[#This Row],[DIV 1 QTY]]+EOPC[[#This Row],[DIV 2 QTY]]+EOPC[[#This Row],[DIV 3 QTY]]+EOPC[[#This Row],[DIV 4 QTY]]+EOPC[[#This Row],[DIV 5 QTY]]+EOPC[[#This Row],[DIV 6 QTY]]+EOPC[[#This Row],[DIV 7 QTY]]+EOPC[[#This Row],[DIV 8 QTY]]+EOPC[[#This Row],[DIV 9 QTY]]+EOPC[[#This Row],[DIV 10 QTY]]","v":0},null,0,{"$f":"EOPC[[#This Row],[TOTAL QTY]]*EOPC[[#This Row],[UNIT PRICE]]","v":0},null,{"$f":"EOPC[[#This Row],[UNIT PRICE]]*EOPC[[#This Row],[DIV 1 QTY]]","v":0},null,{"$f":"EOPC[[#This Row],[UNIT PRICE]]*EOPC[[#This Row],[DIV 2 QTY]]","v":0},null,{"$f":"EOPC[[#This Row],[UNIT PRICE]]*EOPC[[#This Row],[DIV 3 QTY]]","v":0},null,{"$f":"EOPC[[#This Row],[UNIT PRICE]]*EOPC[[#This Row],[DIV 4 QTY]]","v":0},null,{"$f":"EOPC[[#This Row],[UNIT PRICE]]*EOPC[[#This Row],[DIV 5 QTY]]","v":0},null,{"$f":"EOPC[[#This Row],[UNIT PRICE]]*EOPC[[#This Row],[DIV 6 QTY]]","v":0},null,{"$f":"EOPC[[#This Row],[UNIT PRICE]]*EOPC[[#This Row],[DIV 7 QTY]]","v":0},null,{"$f":"EOPC[[#This Row],[UNIT PRICE]]*EOPC[[#This Row],[DIV 8 QTY]]","v":0},null,{"$f":"EOPC[[#This Row],[UNIT PRICE]]*EOPC[[#This Row],[DIV 9 QTY]]","v":0},null,{"$f":"EOPC[[#This Row],[UNIT PRICE]]*EOPC[[#This Row],[DIV 10 QTY]]","v":0}]
[null,null,null,{"$f":"EOPC[[#This Row],[DIV 1 QTY]]+EOPC[[#This Row],[DIV 2 QTY]]+EOPC[[#This Row],[DIV 3 QTY]]+EOPC[[#This Row],[DIV 4 QTY]]+EOPC[[#This Row],[DIV 5 QTY]]+EOPC[[#This Row],[DIV 6 QTY]]+EOPC[[#This Row],[DIV 7 QTY]]+EOPC[[#This Row],[DIV 8 QTY]]+EOPC[[#This Row],[DIV 9 QTY]]+EOPC[[#This Row],[DIV 10 QTY]]","v":0},null,0,{"$f":"EOPC[[#This Row],[TOTAL QTY]]*EOPC[[#This Row],[UNIT PRICE]]","v":0},null,{"$f":"EOPC[[#This Row],[UNIT PRICE]]*EOPC[[#This Row],[DIV 1 QTY]]","v":0},null,{"$f":"EOPC[[#This Row],[UNIT PRICE]]*EOPC[[#This Row],[DIV 2 QTY]]","v":0},null,{"$f":"EOPC[[#This Row],[UNIT PRICE]]*EOPC[[#This Row],[DIV 3 QTY]]","v":0},null,{"$f":"EOPC[[#This Row],[UNIT PRICE]]*EOPC[[#This Row],[DIV 4 QTY]]","v":0},null,{"$f":"EOPC[[#This Row],[UNIT PRICE]]*EOPC[[#This Row],[DIV 5 QTY]]","v":0},null,{"$f":"EOPC[[#This Row],[UNIT PRICE]]*EOPC[[#This Row],[DIV 6 QTY]]","v":0},null,{"$f":"EOPC[[#This Row],[UNIT PRICE]]*EOPC[[#This Row],[DIV 7 QTY]]","v":0},null,{"$f":"EOPC[[#This Row],[UNIT PRICE]]*EOPC[[#This Row],[DIV 8 QTY]]","v":0},null,{"$f":"EOPC[[#This Row],[UNIT PRICE]]*EOPC[[#This Row],[DIV 9 QTY]]","v":0},null,{"$f":"EOPC[[#This Row],[UNIT PRICE]]*EOPC[[#This Row],[DIV 10 QTY]]","v":0}]
[null,null,null,{"$f":"EOPC[[#This Row],[DIV 1 QTY]]+EOPC[[#This Row],[DIV 2 QTY]]+EOPC[[#This Row],[DIV 3 QTY]]+EOPC[[#This Row],[DIV 4 QTY]]+EOPC[[#This Row],[DIV 5 QTY]]+EOPC[[#This Row],[DIV 6 QTY]]+EOPC[[#This Row],[DIV 7 QTY]]+EOPC[[#This Row],[DIV 8 QTY]]+EOPC[[#This Row],[DIV 9 QTY]]+EOPC[[#This Row],[DIV 10 QTY]]","v":0},null,0,{"$f":"EOPC[[#This Row],[TOTAL QTY]]*EOPC[[#This Row],[UNIT PRICE]]","v":0},null,{"$f":"EOPC[[#This Row],[UNIT PRICE]]*EOPC[[#This Row],[DIV 1 QTY]]","v":0},null,{"$f":"EOPC[[#This Row],[UNIT PRICE]]*EOPC[[#This Row],[DIV 2 QTY]]","v":0},null,{"$f":"EOPC[[#This Row],[UNIT PRICE]]*EOPC[[#This Row],[DIV 3 QTY]]","v":0},null,{"$f":"EOPC[[#This Row],[UNIT PRICE]]*EOPC[[#This Row],[DIV 4 QTY]]","v":0},null,{"$f":"EOPC[[#This Row],[UNIT PRICE]]*EOPC[[#This Row],[DIV 5 QTY]]","v":0},null,{"$f":"EOPC[[#This Row],[UNIT PRICE]]*EOPC[[#This Row],[DIV 6 QTY]]","v":0},null,{"$f":"EOPC[[#This Row],[UNIT PRICE]]*EOPC[[#This Row],[DIV 7 QTY]]","v":0},null,{"$f":"EOPC[[#This Row],[UNIT PRICE]]*EOPC[[#This Row],[DIV 8 QTY]]","v":0},null,{"$f":"EOPC[[#This Row],[UNIT PRICE]]*EOPC[[#This Row],[DIV 9 QTY]]","v":0},null,{"$f":"EOPC[[#This Row],[UNIT PRICE]]*EOPC[[#This Row],[DIV 10 QTY]]","v":0}]
[null,null,null,{"$f":"EOPC[[#This Row],[DIV 1 QTY]]+EOPC[[#This Row],[DIV 2 QTY]]+EOPC[[#This Row],[DIV 3 QTY]]+EOPC[[#This Row],[DIV 4 QTY]]+EOPC[[#This Row],[DIV 5 QTY]]+EOPC[[#This Row],[DIV 6 QTY]]+EOPC[[#This Row],[DIV 7 QTY]]+EOPC[[#This Row],[DIV 8 QTY]]+EOPC[[#This Row],[DIV 9 QTY]]+EOPC[[#This Row],[DIV 10 QTY]]","v":0},null,0,{"$f":"EOPC[[#This Row],[TOTAL QTY]]*EOPC[[#This Row],[UNIT PRICE]]","v":0},null,{"$f":"EOPC[[#This Row],[UNIT PRICE]]*EOPC[[#This Row],[DIV 1 QTY]]","v":0},null,{"$f":"EOPC[[#This Row],[UNIT PRICE]]*EOPC[[#This Row],[DIV 2 QTY]]","v":0},null,{"$f":"EOPC[[#This Row],[UNIT PRICE]]*EOPC[[#This Row],[DIV 3 QTY]]","v":0},null,{"$f":"EOPC[[#This Row],[UNIT PRICE]]*EOPC[[#This Row],[DIV 4 QTY]]","v":0},null,{"$f":"EOPC[[#This Row],[UNIT PRICE]]*EOPC[[#This Row],[DIV 5 QTY]]","v":0},null,{"$f":"EOPC[[#This Row],[UNIT PRICE]]*EOPC[[#This Row],[DIV 6 QTY]]","v":0},null,{"$f":"EOPC[[#This Row],[UNIT PRICE]]*EOPC[[#This Row],[DIV 7 QTY]]","v":0},null,{"$f":"EOPC[[#This Row],[UNIT PRICE]]*EOPC[[#This Row],[DIV 8 QTY]]","v":0},null,{"$f":"EOPC[[#This Row],[UNIT PRICE]]*EOPC[[#This Row],[DIV 9 QTY]]","v":0},null,{"$f":"EOPC[[#This Row],[UNIT PRICE]]*EOPC[[#This Row],[DIV 10 QTY]]","v":0}]
[null,null,null,{"$f":"EOPC[[#This Row],[DIV 1 QTY]]+EOPC[[#This Row],[DIV 2 QTY]]+EOPC[[#This Row],[DIV 3 QTY]]+EOPC[[#This Row],[DIV 4 QTY]]+EOPC[[#This Row],[DIV 5 QTY]]+EOPC[[#This Row],[DIV 6 QTY]]+EOPC[[#This Row],[DIV 7 QTY]]+EOPC[[#This Row],[DIV 8 QTY]]+EOPC[[#This Row],[DIV 9 QTY]]+EOPC[[#This Row],[DIV 10 QTY]]","v":0},null,0,{"$f":"EOPC[[#This Row],[TOTAL QTY]]*EOPC[[#This Row],[UNIT PRICE]]","v":0},null,{"$f":"EOPC[[#This Row],[UNIT PRICE]]*EOPC[[#This Row],[DIV 1 QTY]]","v":0},null,{"$f":"EOPC[[#This Row],[UNIT PRICE]]*EOPC[[#This Row],[DIV 2 QTY]]","v":0},null,{"$f":"EOPC[[#This Row],[UNIT PRICE]]*EOPC[[#This Row],[DIV 3 QTY]]","v":0},null,{"$f":"EOPC[[#This Row],[UNIT PRICE]]*EOPC[[#This Row],[DIV 4 QTY]]","v":0},null,{"$f":"EOPC[[#This Row],[UNIT PRICE]]*EOPC[[#This Row],[DIV 5 QTY]]","v":0},null,{"$f":"EOPC[[#This Row],[UNIT PRICE]]*EOPC[[#This Row],[DIV 6 QTY]]","v":0},null,{"$f":"EOPC[[#This Row],[UNIT PRICE]]*EOPC[[#This Row],[DIV 7 QTY]]","v":0},null,{"$f":"EOPC[[#This Row],[UNIT PRICE]]*EOPC[[#This Row],[DIV 8 QTY]]","v":0},null,{"$f":"EOPC[[#This Row],[UNIT PRICE]]*EOPC[[#This Row],[DIV 9 QTY]]","v":0},null,{"$f":"EOPC[[#This Row],[UNIT PRICE]]*EOPC[[#This Row],[DIV 10 QTY]]","v":0}]
[null,null,null,{"$f":"EOPC[[#This Row],[DIV 1 QTY]]+EOPC[[#This Row],[DIV 2 QTY]]+EOPC[[#This Row],[DIV 3 QTY]]+EOPC[[#This Row],[DIV 4 QTY]]+EOPC[[#This Row],[DIV 5 QTY]]+EOPC[[#This Row],[DIV 6 QTY]]+EOPC[[#This Row],[DIV 7 QTY]]+EOPC[[#This Row],[DIV 8 QTY]]+EOPC[[#This Row],[DIV 9 QTY]]+EOPC[[#This Row],[DIV 10 QTY]]","v":0},null,0,{"$f":"EOPC[[#This Row],[TOTAL QTY]]*EOPC[[#This Row],[UNIT PRICE]]","v":0},null,{"$f":"EOPC[[#This Row],[UNIT PRICE]]*EOPC[[#This Row],[DIV 1 QTY]]","v":0},null,{"$f":"EOPC[[#This Row],[UNIT PRICE]]*EOPC[[#This Row],[DIV 2 QTY]]","v":0},null,{"$f":"EOPC[[#This Row],[UNIT PRICE]]*EOPC[[#This Row],[DIV 3 QTY]]","v":0},null,{"$f":"EOPC[[#This Row],[UNIT PRICE]]*EOPC[[#This Row],[DIV 4 QTY]]","v":0},null,{"$f":"EOPC[[#This Row],[UNIT PRICE]]*EOPC[[#This Row],[DIV 5 QTY]]","v":0},null,{"$f":"EOPC[[#This Row],[UNIT PRICE]]*EOPC[[#This Row],[DIV 6 QTY]]","v":0},null,{"$f":"EOPC[[#This Row],[UNIT PRICE]]*EOPC[[#This Row],[DIV 7 QTY]]","v":0},null,{"$f":"EOPC[[#This Row],[UNIT PRICE]]*EOPC[[#This Row],[DIV 8 QTY]]","v":0},null,{"$f":"EOPC[[#This Row],[UNIT PRICE]]*EOPC[[#This Row],[DIV 9 QTY]]","v":0},null,{"$f":"EOPC[[#This Row],[UNIT PRICE]]*EOPC[[#This Row],[DIV 10 QTY]]","v":0}]
[null,null,null,{"$f":"EOPC[[#This Row],[DIV 1 QTY]]+EOPC[[#This Row],[DIV 2 QTY]]+EOPC[[#This Row],[DIV 3 QTY]]+EOPC[[#This Row],[DIV 4 QTY]]+EOPC[[#This Row],[DIV 5 QTY]]+EOPC[[#This Row],[DIV 6 QTY]]+EOPC[[#This Row],[DIV 7 QTY]]+EOPC[[#This Row],[DIV 8 QTY]]+EOPC[[#This Row],[DIV 9 QTY]]+EOPC[[#This Row],[DIV 10 QTY]]","v":0},null,0,{"$f":"EOPC[[#This Row],[TOTAL QTY]]*EOPC[[#This Row],[UNIT PRICE]]","v":0},null,{"$f":"EOPC[[#This Row],[UNIT PRICE]]*EOPC[[#This Row],[DIV 1 QTY]]","v":0},null,{"$f":"EOPC[[#This Row],[UNIT PRICE]]*EOPC[[#This Row],[DIV 2 QTY]]","v":0},null,{"$f":"EOPC[[#This Row],[UNIT PRICE]]*EOPC[[#This Row],[DIV 3 QTY]]","v":0},null,{"$f":"EOPC[[#This Row],[UNIT PRICE]]*EOPC[[#This Row],[DIV 4 QTY]]","v":0},null,{"$f":"EOPC[[#This Row],[UNIT PRICE]]*EOPC[[#This Row],[DIV 5 QTY]]","v":0},null,{"$f":"EOPC[[#This Row],[UNIT PRICE]]*EOPC[[#This Row],[DIV 6 QTY]]","v":0},null,{"$f":"EOPC[[#This Row],[UNIT PRICE]]*EOPC[[#This Row],[DIV 7 QTY]]","v":0},null,{"$f":"EOPC[[#This Row],[UNIT PRICE]]*EOPC[[#This Row],[DIV 8 QTY]]","v":0},null,{"$f":"EOPC[[#This Row],[UNIT PRICE]]*EOPC[[#This Row],[DIV 9 QTY]]","v":0},null,{"$f":"EOPC[[#This Row],[UNIT PRICE]]*EOPC[[#This Row],[DIV 10 QTY]]","v":0}]
[null,null,null,{"$f":"EOPC[[#This Row],[DIV 1 QTY]]+EOPC[[#This Row],[DIV 2 QTY]]+EOPC[[#This Row],[DIV 3 QTY]]+EOPC[[#This Row],[DIV 4 QTY]]+EOPC[[#This Row],[DIV 5 QTY]]+EOPC[[#This Row],[DIV 6 QTY]]+EOPC[[#This Row],[DIV 7 QTY]]+EOPC[[#This Row],[DIV 8 QTY]]+EOPC[[#This Row],[DIV 9 QTY]]+EOPC[[#This Row],[DIV 10 QTY]]","v":0},null,0,{"$f":"EOPC[[#This Row],[TOTAL QTY]]*EOPC[[#This Row],[UNIT PRICE]]","v":0},null,{"$f":"EOPC[[#This Row],[UNIT PRICE]]*EOPC[[#This Row],[DIV 1 QTY]]","v":0},null,{"$f":"EOPC[[#This Row],[UNIT PRICE]]*EOPC[[#This Row],[DIV 2 QTY]]","v":0},null,{"$f":"EOPC[[#This Row],[UNIT PRICE]]*EOPC[[#This Row],[DIV 3 QTY]]","v":0},null,{"$f":"EOPC[[#This Row],[UNIT PRICE]]*EOPC[[#This Row],[DIV 4 QTY]]","v":0},null,{"$f":"EOPC[[#This Row],[UNIT PRICE]]*EOPC[[#This Row],[DIV 5 QTY]]","v":0},null,{"$f":"EOPC[[#This Row],[UNIT PRICE]]*EOPC[[#This Row],[DIV 6 QTY]]","v":0},null,{"$f":"EOPC[[#This Row],[UNIT PRICE]]*EOPC[[#This Row],[DIV 7 QTY]]","v":0},null,{"$f":"EOPC[[#This Row],[UNIT PRICE]]*EOPC[[#This Row],[DIV 8 QTY]]","v":0},null,{"$f":"EOPC[[#This Row],[UNIT PRICE]]*EOPC[[#This Row],[DIV 9 QTY]]","v":0},null,{"$f":"EOPC[[#This Row],[UNIT PRICE]]*EOPC[[#This Row],[DIV 10 QTY]]","v":0}]
[null,null,null,{"$f":"EOPC[[#This Row],[DIV 1 QTY]]+EOPC[[#This Row],[DIV 2 QTY]]+EOPC[[#This Row],[DIV 3 QTY]]+EOPC[[#This Row],[DIV 4 QTY]]+EOPC[[#This Row],[DIV 5 QTY]]+EOPC[[#This Row],[DIV 6 QTY]]+EOPC[[#This Row],[DIV 7 QTY]]+EOPC[[#This Row],[DIV 8 QTY]]+EOPC[[#This Row],[DIV 9 QTY]]+EOPC[[#This Row],[DIV 10 QTY]]","v":0},null,0,{"$f":"EOPC[[#This Row],[TOTAL QTY]]*EOPC[[#This Row],[UNIT PRICE]]","v":0},null,{"$f":"EOPC[[#This Row],[UNIT PRICE]]*EOPC[[#This Row],[DIV 1 QTY]]","v":0},null,{"$f":"EOPC[[#This Row],[UNIT PRICE]]*EOPC[[#This Row],[DIV 2 QTY]]","v":0},null,{"$f":"EOPC[[#This Row],[UNIT PRICE]]*EOPC[[#This Row],[DIV 3 QTY]]","v":0},null,{"$f":"EOPC[[#This Row],[UNIT PRICE]]*EOPC[[#This Row],[DIV 4 QTY]]","v":0},null,{"$f":"EOPC[[#This Row],[UNIT PRICE]]*EOPC[[#This Row],[DIV 5 QTY]]","v":0},null,{"$f":"EOPC[[#This Row],[UNIT PRICE]]*EOPC[[#This Row],[DIV 6 QTY]]","v":0},null,{"$f":"EOPC[[#This Row],[UNIT PRICE]]*EOPC[[#This Row],[DIV 7 QTY]]","v":0},null,{"$f":"EOPC[[#This Row],[UNIT PRICE]]*EOPC[[#This Row],[DIV 8 QTY]]","v":0},null,{"$f":"EOPC[[#This Row],[UNIT PRICE]]*EOPC[[#This Row],[DIV 9 QTY]]","v":0},null,{"$f":"EOPC[[#This Row],[UNIT PRICE]]*EOPC[[#This Row],[DIV 10 QTY]]","v":0}]
[null,null,null,{"$f":"EOPC[[#This Row],[DIV 1 QTY]]+EOPC[[#This Row],[DIV 2 QTY]]+EOPC[[#This Row],[DIV 3 QTY]]+EOPC[[#This Row],[DIV 4 QTY]]+EOPC[[#This Row],[DIV 5 QTY]]+EOPC[[#This Row],[DIV 6 QTY]]+EOPC[[#This Row],[DIV 7 QTY]]+EOPC[[#This Row],[DIV 8 QTY]]+EOPC[[#This Row],[DIV 9 QTY]]+EOPC[[#This Row],[DIV 10 QTY]]","v":0},null,0,{"$f":"EOPC[[#This Row],[TOTAL QTY]]*EOPC[[#This Row],[UNIT PRICE]]","v":0},null,{"$f":"EOPC[[#This Row],[UNIT PRICE]]*EOPC[[#This Row],[DIV 1 QTY]]","v":0},null,{"$f":"EOPC[[#This Row],[UNIT PRICE]]*EOPC[[#This Row],[DIV 2 QTY]]","v":0},null,{"$f":"EOPC[[#This Row],[UNIT PRICE]]*EOPC[[#This Row],[DIV 3 QTY]]","v":0},null,{"$f":"EOPC[[#This Row],[UNIT PRICE]]*EOPC[[#This Row],[DIV 4 QTY]]","v":0},null,{"$f":"EOPC[[#This Row],[UNIT PRICE]]*EOPC[[#This Row],[DIV 5 QTY]]","v":0},null,{"$f":"EOPC[[#This Row],[UNIT PRICE]]*EOPC[[#This Row],[DIV 6 QTY]]","v":0},null,{"$f":"EOPC[[#This Row],[UNIT PRICE]]*EOPC[[#This Row],[DIV 7 QTY]]","v":0},null,{"$f":"EOPC[[#This Row],[UNIT PRICE]]*EOPC[[#This Row],[DIV 8 QTY]]","v":0},null,{"$f":"EOPC[[#This Row],[UNIT PRICE]]*EOPC[[#This Row],[DIV 9 QTY]]","v":0},null,{"$f":"EOPC[[#This Row],[UNIT PRICE]]*EOPC[[#This Row],[DIV 10 QTY]]","v":0}]
[null,null,null,{"$f":"EOPC[[#This Row],[DIV 1 QTY]]+EOPC[[#This Row],[DIV 2 QTY]]+EOPC[[#This Row],[DIV 3 QTY]]+EOPC[[#This Row],[DIV 4 QTY]]+EOPC[[#This Row],[DIV 5 QTY]]+EOPC[[#This Row],[DIV 6 QTY]]+EOPC[[#This Row],[DIV 7 QTY]]+EOPC[[#This Row],[DIV 8 QTY]]+EOPC[[#This Row],[DIV 9 QTY]]+EOPC[[#This Row],[DIV 10 QTY]]","v":0},null,0,{"$f":"EOPC[[#This Row],[TOTAL QTY]]*EOPC[[#This Row],[UNIT PRICE]]","v":0},null,{"$f":"EOPC[[#This Row],[UNIT PRICE]]*EOPC[[#This Row],[DIV 1 QTY]]","v":0},null,{"$f":"EOPC[[#This Row],[UNIT PRICE]]*EOPC[[#This Row],[DIV 2 QTY]]","v":0},null,{"$f":"EOPC[[#This Row],[UNIT PRICE]]*EOPC[[#This Row],[DIV 3 QTY]]","v":0},null,{"$f":"EOPC[[#This Row],[UNIT PRICE]]*EOPC[[#This Row],[DIV 4 QTY]]","v":0},null,{"$f":"EOPC[[#This Row],[UNIT PRICE]]*EOPC[[#This Row],[DIV 5 QTY]]","v":0},null,{"$f":"EOPC[[#This Row],[UNIT PRICE]]*EOPC[[#This Row],[DIV 6 QTY]]","v":0},null,{"$f":"EOPC[[#This Row],[UNIT PRICE]]*EOPC[[#This Row],[DIV 7 QTY]]","v":0},null,{"$f":"EOPC[[#This Row],[UNIT PRICE]]*EOPC[[#This Row],[DIV 8 QTY]]","v":0},null,{"$f":"EOPC[[#This Row],[UNIT PRICE]]*EOPC[[#This Row],[DIV 9 QTY]]","v":0},null,{"$f":"EOPC[[#This Row],[UNIT PRICE]]*EOPC[[#This Row],[DIV 10 QTY]]","v":0}]
[null,null,null,{"$f":"EOPC[[#This Row],[DIV 1 QTY]]+EOPC[[#This Row],[DIV 2 QTY]]+EOPC[[#This Row],[DIV 3 QTY]]+EOPC[[#This Row],[DIV 4 QTY]]+EOPC[[#This Row],[DIV 5 QTY]]+EOPC[[#This Row],[DIV 6 QTY]]+EOPC[[#This Row],[DIV 7 QTY]]+EOPC[[#This Row],[DIV 8 QTY]]+EOPC[[#This Row],[DIV 9 QTY]]+EOPC[[#This Row],[DIV 10 QTY]]","v":0},null,0,{"$f":"EOPC[[#This Row],[TOTAL QTY]]*EOPC[[#This Row],[UNIT PRICE]]","v":0},null,{"$f":"EOPC[[#This Row],[UNIT PRICE]]*EOPC[[#This Row],[DIV 1 QTY]]","v":0},null,{"$f":"EOPC[[#This Row],[UNIT PRICE]]*EOPC[[#This Row],[DIV 2 QTY]]","v":0},null,{"$f":"EOPC[[#This Row],[UNIT PRICE]]*EOPC[[#This Row],[DIV 3 QTY]]","v":0},null,{"$f":"EOPC[[#This Row],[UNIT PRICE]]*EOPC[[#This Row],[DIV 4 QTY]]","v":0},null,{"$f":"EOPC[[#This Row],[UNIT PRICE]]*EOPC[[#This Row],[DIV 5 QTY]]","v":0},null,{"$f":"EOPC[[#This Row],[UNIT PRICE]]*EOPC[[#This Row],[DIV 6 QTY]]","v":0},null,{"$f":"EOPC[[#This Row],[UNIT PRICE]]*EOPC[[#This Row],[DIV 7 QTY]]","v":0},null,{"$f":"EOPC[[#This Row],[UNIT PRICE]]*EOPC[[#This Row],[DIV 8 QTY]]","v":0},null,{"$f":"EOPC[[#This Row],[UNIT PRICE]]*EOPC[[#This Row],[DIV 9 QTY]]","v":0},null,{"$f":"EOPC[[#This Row],[UNIT PRICE]]*EOPC[[#This Row],[DIV 10 QTY]]","v":0}]
[null,null,null,{"$f":"EOPC[[#This Row],[DIV 1 QTY]]+EOPC[[#This Row],[DIV 2 QTY]]+EOPC[[#This Row],[DIV 3 QTY]]+EOPC[[#This Row],[DIV 4 QTY]]+EOPC[[#This Row],[DIV 5 QTY]]+EOPC[[#This Row],[DIV 6 QTY]]+EOPC[[#This Row],[DIV 7 QTY]]+EOPC[[#This Row],[DIV 8 QTY]]+EOPC[[#This Row],[DIV 9 QTY]]+EOPC[[#This Row],[DIV 10 QTY]]","v":0},null,0,{"$f":"EOPC[[#This Row],[TOTAL QTY]]*EOPC[[#This Row],[UNIT PRICE]]","v":0},null,{"$f":"EOPC[[#This Row],[UNIT PRICE]]*EOPC[[#This Row],[DIV 1 QTY]]","v":0},null,{"$f":"EOPC[[#This Row],[UNIT PRICE]]*EOPC[[#This Row],[DIV 2 QTY]]","v":0},null,{"$f":"EOPC[[#This Row],[UNIT PRICE]]*EOPC[[#This Row],[DIV 3 QTY]]","v":0},null,{"$f":"EOPC[[#This Row],[UNIT PRICE]]*EOPC[[#This Row],[DIV 4 QTY]]","v":0},null,{"$f":"EOPC[[#This Row],[UNIT PRICE]]*EOPC[[#This Row],[DIV 5 QTY]]","v":0},null,{"$f":"EOPC[[#This Row],[UNIT PRICE]]*EOPC[[#This Row],[DIV 6 QTY]]","v":0},null,{"$f":"EOPC[[#This Row],[UNIT PRICE]]*EOPC[[#This Row],[DIV 7 QTY]]","v":0},null,{"$f":"EOPC[[#This Row],[UNIT PRICE]]*EOPC[[#This Row],[DIV 8 QTY]]","v":0},null,{"$f":"EOPC[[#This Row],[UNIT PRICE]]*EOPC[[#This Row],[DIV 9 QTY]]","v":0},null,{"$f":"EOPC[[#This Row],[UNIT PRICE]]*EOPC[[#This Row],[DIV 10 QTY]]","v":0}]
[null,null,null,{"$f":"EOPC[[#This Row],[DIV 1 QTY]]+EOPC[[#This Row],[DIV 2 QTY]]+EOPC[[#This Row],[DIV 3 QTY]]+EOPC[[#This Row],[DIV 4 QTY]]+EOPC[[#This Row],[DIV 5 QTY]]+EOPC[[#This Row],[DIV 6 QTY]]+EOPC[[#This Row],[DIV 7 QTY]]+EOPC[[#This Row],[DIV 8 QTY]]+EOPC[[#This Row],[DIV 9 QTY]]+EOPC[[#This Row],[DIV 10 QTY]]","v":0},null,0,{"$f":"EOPC[[#This Row],[TOTAL QTY]]*EOPC[[#This Row],[UNIT PRICE]]","v":0},null,{"$f":"EOPC[[#This Row],[UNIT PRICE]]*EOPC[[#This Row],[DIV 1 QTY]]","v":0},null,{"$f":"EOPC[[#This Row],[UNIT PRICE]]*EOPC[[#This Row],[DIV 2 QTY]]","v":0},null,{"$f":"EOPC[[#This Row],[UNIT PRICE]]*EOPC[[#This Row],[DIV 3 QTY]]","v":0},null,{"$f":"EOPC[[#This Row],[UNIT PRICE]]*EOPC[[#This Row],[DIV 4 QTY]]","v":0},null,{"$f":"EOPC[[#This Row],[UNIT PRICE]]*EOPC[[#This Row],[DIV 5 QTY]]","v":0},null,{"$f":"EOPC[[#This Row],[UNIT PRICE]]*EOPC[[#This Row],[DIV 6 QTY]]","v":0},null,{"$f":"EOPC[[#This Row],[UNIT PRICE]]*EOPC[[#This Row],[DIV 7 QTY]]","v":0},null,{"$f":"EOPC[[#This Row],[UNIT PRICE]]*EOPC[[#This Row],[DIV 8 QTY]]","v":0},null,{"$f":"EOPC[[#This Row],[UNIT PRICE]]*EOPC[[#This Row],[DIV 9 QTY]]","v":0},null,{"$f":"EOPC[[#This Row],[UNIT PRICE]]*EOPC[[#This Row],[DIV 10 QTY]]","v":0}]
[null,null,null,{"$f":"EOPC[[#This Row],[DIV 1 QTY]]+EOPC[[#This Row],[DIV 2 QTY]]+EOPC[[#This Row],[DIV 3 QTY]]+EOPC[[#This Row],[DIV 4 QTY]]+EOPC[[#This Row],[DIV 5 QTY]]+EOPC[[#This Row],[DIV 6 QTY]]+EOPC[[#This Row],[DIV 7 QTY]]+EOPC[[#This Row],[DIV 8 QTY]]+EOPC[[#This Row],[DIV 9 QTY]]+EOPC[[#This Row],[DIV 10 QTY]]","v":0},null,0,{"$f":"EOPC[[#This Row],[TOTAL QTY]]*EOPC[[#This Row],[UNIT PRICE]]","v":0},null,{"$f":"EOPC[[#This Row],[UNIT PRICE]]*EOPC[[#This Row],[DIV 1 QTY]]","v":0},null,{"$f":"EOPC[[#This Row],[UNIT PRICE]]*EOPC[[#This Row],[DIV 2 QTY]]","v":0},null,{"$f":"EOPC[[#This Row],[UNIT PRICE]]*EOPC[[#This Row],[DIV 3 QTY]]","v":0},null,{"$f":"EOPC[[#This Row],[UNIT PRICE]]*EOPC[[#This Row],[DIV 4 QTY]]","v":0},null,{"$f":"EOPC[[#This Row],[UNIT PRICE]]*EOPC[[#This Row],[DIV 5 QTY]]","v":0},null,{"$f":"EOPC[[#This Row],[UNIT PRICE]]*EOPC[[#This Row],[DIV 6 QTY]]","v":0},null,{"$f":"EOPC[[#This Row],[UNIT PRICE]]*EOPC[[#This Row],[DIV 7 QTY]]","v":0},null,{"$f":"EOPC[[#This Row],[UNIT PRICE]]*EOPC[[#This Row],[DIV 8 QTY]]","v":0},null,{"$f":"EOPC[[#This Row],[UNIT PRICE]]*EOPC[[#This Row],[DIV 9 QTY]]","v":0},null,{"$f":"EOPC[[#This Row],[UNIT PRICE]]*EOPC[[#This Row],[DIV 10 QTY]]","v":0}]
[null,null,null,{"$f":"EOPC[[#This Row],[DIV 1 QTY]]+EOPC[[#This Row],[DIV 2 QTY]]+EOPC[[#This Row],[DIV 3 QTY]]+EOPC[[#This Row],[DIV 4 QTY]]+EOPC[[#This Row],[DIV 5 QTY]]+EOPC[[#This Row],[DIV 6 QTY]]+EOPC[[#This Row],[DIV 7 QTY]]+EOPC[[#This Row],[DIV 8 QTY]]+EOPC[[#This Row],[DIV 9 QTY]]+EOPC[[#This Row],[DIV 10 QTY]]","v":0},null,0,{"$f":"EOPC[[#This Row],[TOTAL QTY]]*EOPC[[#This Row],[UNIT PRICE]]","v":0},null,{"$f":"EOPC[[#This Row],[UNIT PRICE]]*EOPC[[#This Row],[DIV 1 QTY]]","v":0},null,{"$f":"EOPC[[#This Row],[UNIT PRICE]]*EOPC[[#This Row],[DIV 2 QTY]]","v":0},null,{"$f":"EOPC[[#This Row],[UNIT PRICE]]*EOPC[[#This Row],[DIV 3 QTY]]","v":0},null,{"$f":"EOPC[[#This Row],[UNIT PRICE]]*EOPC[[#This Row],[DIV 4 QTY]]","v":0},null,{"$f":"EOPC[[#This Row],[UNIT PRICE]]*EOPC[[#This Row],[DIV 5 QTY]]","v":0},null,{"$f":"EOPC[[#This Row],[UNIT PRICE]]*EOPC[[#This Row],[DIV 6 QTY]]","v":0},null,{"$f":"EOPC[[#This Row],[UNIT PRICE]]*EOPC[[#This Row],[DIV 7 QTY]]","v":0},null,{"$f":"EOPC[[#This Row],[UNIT PRICE]]*EOPC[[#This Row],[DIV 8 QTY]]","v":0},null,{"$f":"EOPC[[#This Row],[UNIT PRICE]]*EOPC[[#This Row],[DIV 9 QTY]]","v":0},null,{"$f":"EOPC[[#This Row],[UNIT PRICE]]*EOPC[[#This Row],[DIV 10 QTY]]","v":0}]
[null,null,null,{"$f":"EOPC[[#This Row],[DIV 1 QTY]]+EOPC[[#This Row],[DIV 2 QTY]]+EOPC[[#This Row],[DIV 3 QTY]]+EOPC[[#This Row],[DIV 4 QTY]]+EOPC[[#This Row],[DIV 5 QTY]]+EOPC[[#This Row],[DIV 6 QTY]]+EOPC[[#This Row],[DIV 7 QTY]]+EOPC[[#This Row],[DIV 8 QTY]]+EOPC[[#This Row],[DIV 9 QTY]]+EOPC[[#This Row],[DIV 10 QTY]]","v":0},null,0,{"$f":"EOPC[[#This Row],[TOTAL QTY]]*EOPC[[#This Row],[UNIT PRICE]]","v":0},null,{"$f":"EOPC[[#This Row],[UNIT PRICE]]*EOPC[[#This Row],[DIV 1 QTY]]","v":0},null,{"$f":"EOPC[[#This Row],[UNIT PRICE]]*EOPC[[#This Row],[DIV 2 QTY]]","v":0},null,{"$f":"EOPC[[#This Row],[UNIT PRICE]]*EOPC[[#This Row],[DIV 3 QTY]]","v":0},null,{"$f":"EOPC[[#This Row],[UNIT PRICE]]*EOPC[[#This Row],[DIV 4 QTY]]","v":0},null,{"$f":"EOPC[[#This Row],[UNIT PRICE]]*EOPC[[#This Row],[DIV 5 QTY]]","v":0},null,{"$f":"EOPC[[#This Row],[UNIT PRICE]]*EOPC[[#This Row],[DIV 6 QTY]]","v":0},null,{"$f":"EOPC[[#This Row],[UNIT PRICE]]*EOPC[[#This Row],[DIV 7 QTY]]","v":0},null,{"$f":"EOPC[[#This Row],[UNIT PRICE]]*EOPC[[#This Row],[DIV 8 QTY]]","v":0},null,{"$f":"EOPC[[#This Row],[UNIT PRICE]]*EOPC[[#This Row],[DIV 9 QTY]]","v":0},null,{"$f":"EOPC[[#This Row],[UNIT PRICE]]*EOPC[[#This Row],[DIV 10 QTY]]","v":0}]
[null,null,null,{"$f":"EOPC[[#This Row],[DIV 1 QTY]]+EOPC[[#This Row],[DIV 2 QTY]]+EOPC[[#This Row],[DIV 3 QTY]]+EOPC[[#This Row],[DIV 4 QTY]]+EOPC[[#This Row],[DIV 5 QTY]]+EOPC[[#This Row],[DIV 6 QTY]]+EOPC[[#This Row],[DIV 7 QTY]]+EOPC[[#This Row],[DIV 8 QTY]]+EOPC[[#This Row],[DIV 9 QTY]]+EOPC[[#This Row],[DIV 10 QTY]]","v":0},null,0,{"$f":"EOPC[[#This Row],[TOTAL QTY]]*EOPC[[#This Row],[UNIT PRICE]]","v":0},null,{"$f":"EOPC[[#This Row],[UNIT PRICE]]*EOPC[[#This Row],[DIV 1 QTY]]","v":0},null,{"$f":"EOPC[[#This Row],[UNIT PRICE]]*EOPC[[#This Row],[DIV 2 QTY]]","v":0},null,{"$f":"EOPC[[#This Row],[UNIT PRICE]]*EOPC[[#This Row],[DIV 3 QTY]]","v":0},null,{"$f":"EOPC[[#This Row],[UNIT PRICE]]*EOPC[[#This Row],[DIV 4 QTY]]","v":0},null,{"$f":"EOPC[[#This Row],[UNIT PRICE]]*EOPC[[#This Row],[DIV 5 QTY]]","v":0},null,{"$f":"EOPC[[#This Row],[UNIT PRICE]]*EOPC[[#This Row],[DIV 6 QTY]]","v":0},null,{"$f":"EOPC[[#This Row],[UNIT PRICE]]*EOPC[[#This Row],[DIV 7 QTY]]","v":0},null,{"$f":"EOPC[[#This Row],[UNIT PRICE]]*EOPC[[#This Row],[DIV 8 QTY]]","v":0},null,{"$f":"EOPC[[#This Row],[UNIT PRICE]]*EOPC[[#This Row],[DIV 9 QTY]]","v":0},null,{"$f":"EOPC[[#This Row],[UNIT PRICE]]*EOPC[[#This Row],[DIV 10 QTY]]","v":0}]
[null,null,null,{"$f":"EOPC[[#This Row],[DIV 1 QTY]]+EOPC[[#This Row],[DIV 2 QTY]]+EOPC[[#This Row],[DIV 3 QTY]]+EOPC[[#This Row],[DIV 4 QTY]]+EOPC[[#This Row],[DIV 5 QTY]]+EOPC[[#This Row],[DIV 6 QTY]]+EOPC[[#This Row],[DIV 7 QTY]]+EOPC[[#This Row],[DIV 8 QTY]]+EOPC[[#This Row],[DIV 9 QTY]]+EOPC[[#This Row],[DIV 10 QTY]]","v":0},null,0,{"$f":"EOPC[[#This Row],[TOTAL QTY]]*EOPC[[#This Row],[UNIT PRICE]]","v":0},null,{"$f":"EOPC[[#This Row],[UNIT PRICE]]*EOPC[[#This Row],[DIV 1 QTY]]","v":0},null,{"$f":"EOPC[[#This Row],[UNIT PRICE]]*EOPC[[#This Row],[DIV 2 QTY]]","v":0},null,{"$f":"EOPC[[#This Row],[UNIT PRICE]]*EOPC[[#This Row],[DIV 3 QTY]]","v":0},null,{"$f":"EOPC[[#This Row],[UNIT PRICE]]*EOPC[[#This Row],[DIV 4 QTY]]","v":0},null,{"$f":"EOPC[[#This Row],[UNIT PRICE]]*EOPC[[#This Row],[DIV 5 QTY]]","v":0},null,{"$f":"EOPC[[#This Row],[UNIT PRICE]]*EOPC[[#This Row],[DIV 6 QTY]]","v":0},null,{"$f":"EOPC[[#This Row],[UNIT PRICE]]*EOPC[[#This Row],[DIV 7 QTY]]","v":0},null,{"$f":"EOPC[[#This Row],[UNIT PRICE]]*EOPC[[#This Row],[DIV 8 QTY]]","v":0},null,{"$f":"EOPC[[#This Row],[UNIT PRICE]]*EOPC[[#This Row],[DIV 9 QTY]]","v":0},null,{"$f":"EOPC[[#This Row],[UNIT PRICE]]*EOPC[[#This Row],[DIV 10 QTY]]","v":0}]
[null,null,null,{"$f":"EOPC[[#This Row],[DIV 1 QTY]]+EOPC[[#This Row],[DIV 2 QTY]]+EOPC[[#This Row],[DIV 3 QTY]]+EOPC[[#This Row],[DIV 4 QTY]]+EOPC[[#This Row],[DIV 5 QTY]]+EOPC[[#This Row],[DIV 6 QTY]]+EOPC[[#This Row],[DIV 7 QTY]]+EOPC[[#This Row],[DIV 8 QTY]]+EOPC[[#This Row],[DIV 9 QTY]]+EOPC[[#This Row],[DIV 10 QTY]]","v":0},null,0,{"$f":"EOPC[[#This Row],[TOTAL QTY]]*EOPC[[#This Row],[UNIT PRICE]]","v":0},null,{"$f":"EOPC[[#This Row],[UNIT PRICE]]*EOPC[[#This Row],[DIV 1 QTY]]","v":0},null,{"$f":"EOPC[[#This Row],[UNIT PRICE]]*EOPC[[#This Row],[DIV 2 QTY]]","v":0},null,{"$f":"EOPC[[#This Row],[UNIT PRICE]]*EOPC[[#This Row],[DIV 3 QTY]]","v":0},null,{"$f":"EOPC[[#This Row],[UNIT PRICE]]*EOPC[[#This Row],[DIV 4 QTY]]","v":0},null,{"$f":"EOPC[[#This Row],[UNIT PRICE]]*EOPC[[#This Row],[DIV 5 QTY]]","v":0},null,{"$f":"EOPC[[#This Row],[UNIT PRICE]]*EOPC[[#This Row],[DIV 6 QTY]]","v":0},null,{"$f":"EOPC[[#This Row],[UNIT PRICE]]*EOPC[[#This Row],[DIV 7 QTY]]","v":0},null,{"$f":"EOPC[[#This Row],[UNIT PRICE]]*EOPC[[#This Row],[DIV 8 QTY]]","v":0},null,{"$f":"EOPC[[#This Row],[UNIT PRICE]]*EOPC[[#This Row],[DIV 9 QTY]]","v":0},null,{"$f":"EOPC[[#This Row],[UNIT PRICE]]*EOPC[[#This Row],[DIV 10 QTY]]","v":0}]
[null,null,null,{"$f":"EOPC[[#This Row],[DIV 1 QTY]]+EOPC[[#This Row],[DIV 2 QTY]]+EOPC[[#This Row],[DIV 3 QTY]]+EOPC[[#This Row],[DIV 4 QTY]]+EOPC[[#This Row],[DIV 5 QTY]]+EOPC[[#This Row],[DIV 6 QTY]]+EOPC[[#This Row],[DIV 7 QTY]]+EOPC[[#This Row],[DIV 8 QTY]]+EOPC[[#This Row],[DIV 9 QTY]]+EOPC[[#This Row],[DIV 10 QTY]]","v":0},null,0,{"$f":"EOPC[[#This Row],[TOTAL QTY]]*EOPC[[#This Row],[UNIT PRICE]]","v":0},null,{"$f":"EOPC[[#This Row],[UNIT PRICE]]*EOPC[[#This Row],[DIV 1 QTY]]","v":0},null,{"$f":"EOPC[[#This Row],[UNIT PRICE]]*EOPC[[#This Row],[DIV 2 QTY]]","v":0},null,{"$f":"EOPC[[#This Row],[UNIT PRICE]]*EOPC[[#This Row],[DIV 3 QTY]]","v":0},null,{"$f":"EOPC[[#This Row],[UNIT PRICE]]*EOPC[[#This Row],[DIV 4 QTY]]","v":0},null,{"$f":"EOPC[[#This Row],[UNIT PRICE]]*EOPC[[#This Row],[DIV 5 QTY]]","v":0},null,{"$f":"EOPC[[#This Row],[UNIT PRICE]]*EOPC[[#This Row],[DIV 6 QTY]]","v":0},null,{"$f":"EOPC[[#This Row],[UNIT PRICE]]*EOPC[[#This Row],[DIV 7 QTY]]","v":0},null,{"$f":"EOPC[[#This Row],[UNIT PRICE]]*EOPC[[#This Row],[DIV 8 QTY]]","v":0},null,{"$f":"EOPC[[#This Row],[UNIT PRICE]]*EOPC[[#This Row],[DIV 9 QTY]]","v":0},null,{"$f":"EOPC[[#This Row],[UNIT PRICE]]*EOPC[[#This Row],[DIV 10 QTY]]","v":0}]
[null,null,null,{"$f":"EOPC[[#This Row],[DIV 1 QTY]]+EOPC[[#This Row],[DIV 2 QTY]]+EOPC[[#This Row],[DIV 3 QTY]]+EOPC[[#This Row],[DIV 4 QTY]]+EOPC[[#This Row],[DIV 5 QTY]]+EOPC[[#This Row],[DIV 6 QTY]]+EOPC[[#This Row],[DIV 7 QTY]]+EOPC[[#This Row],[DIV 8 QTY]]+EOPC[[#This Row],[DIV 9 QTY]]+EOPC[[#This Row],[DIV 10 QTY]]","v":0},null,0,{"$f":"EOPC[[#This Row],[TOTAL QTY]]*EOPC[[#This Row],[UNIT PRICE]]","v":0},null,{"$f":"EOPC[[#This Row],[UNIT PRICE]]*EOPC[[#This Row],[DIV 1 QTY]]","v":0},null,{"$f":"EOPC[[#This Row],[UNIT PRICE]]*EOPC[[#This Row],[DIV 2 QTY]]","v":0},null,{"$f":"EOPC[[#This Row],[UNIT PRICE]]*EOPC[[#This Row],[DIV 3 QTY]]","v":0},null,{"$f":"EOPC[[#This Row],[UNIT PRICE]]*EOPC[[#This Row],[DIV 4 QTY]]","v":0},null,{"$f":"EOPC[[#This Row],[UNIT PRICE]]*EOPC[[#This Row],[DIV 5 QTY]]","v":0},null,{"$f":"EOPC[[#This Row],[UNIT PRICE]]*EOPC[[#This Row],[DIV 6 QTY]]","v":0},null,{"$f":"EOPC[[#This Row],[UNIT PRICE]]*EOPC[[#This Row],[DIV 7 QTY]]","v":0},null,{"$f":"EOPC[[#This Row],[UNIT PRICE]]*EOPC[[#This Row],[DIV 8 QTY]]","v":0},null,{"$f":"EOPC[[#This Row],[UNIT PRICE]]*EOPC[[#This Row],[DIV 9 QTY]]","v":0},null,{"$f":"EOPC[[#This Row],[UNIT PRICE]]*EOPC[[#This Row],[DIV 10 QTY]]","v":0}]
[null,null,null,{"$f":"EOPC[[#This Row],[DIV 1 QTY]]+EOPC[[#This Row],[DIV 2 QTY]]+EOPC[[#This Row],[DIV 3 QTY]]+EOPC[[#This Row],[DIV 4 QTY]]+EOPC[[#This Row],[DIV 5 QTY]]+EOPC[[#This Row],[DIV 6 QTY]]+EOPC[[#This Row],[DIV 7 QTY]]+EOPC[[#This Row],[DIV 8 QTY]]+EOPC[[#This Row],[DIV 9 QTY]]+EOPC[[#This Row],[DIV 10 QTY]]","v":0},null,0,{"$f":"EOPC[[#This Row],[TOTAL QTY]]*EOPC[[#This Row],[UNIT PRICE]]","v":0},null,{"$f":"EOPC[[#This Row],[UNIT PRICE]]*EOPC[[#This Row],[DIV 1 QTY]]","v":0},null,{"$f":"EOPC[[#This Row],[UNIT PRICE]]*EOPC[[#This Row],[DIV 2 QTY]]","v":0},null,{"$f":"EOPC[[#This Row],[UNIT PRICE]]*EOPC[[#This Row],[DIV 3 QTY]]","v":0},null,{"$f":"EOPC[[#This Row],[UNIT PRICE]]*EOPC[[#This Row],[DIV 4 QTY]]","v":0},null,{"$f":"EOPC[[#This Row],[UNIT PRICE]]*EOPC[[#This Row],[DIV 5 QTY]]","v":0},null,{"$f":"EOPC[[#This Row],[UNIT PRICE]]*EOPC[[#This Row],[DIV 6 QTY]]","v":0},null,{"$f":"EOPC[[#This Row],[UNIT PRICE]]*EOPC[[#This Row],[DIV 7 QTY]]","v":0},null,{"$f":"EOPC[[#This Row],[UNIT PRICE]]*EOPC[[#This Row],[DIV 8 QTY]]","v":0},null,{"$f":"EOPC[[#This Row],[UNIT PRICE]]*EOPC[[#This Row],[DIV 9 QTY]]","v":0},null,{"$f":"EOPC[[#This Row],[UNIT PRICE]]*EOPC[[#This Row],[DIV 10 QTY]]","v":0}]
[null,null,null,{"$f":"EOPC[[#This Row],[DIV 1 QTY]]+EOPC[[#This Row],[DIV 2 QTY]]+EOPC[[#This Row],[DIV 3 QTY]]+EOPC[[#This Row],[DIV 4 QTY]]+EOPC[[#This Row],[DIV 5 QTY]]+EOPC[[#This Row],[DIV 6 QTY]]+EOPC[[#This Row],[DIV 7 QTY]]+EOPC[[#This Row],[DIV 8 QTY]]+EOPC[[#This Row],[DIV 9 QTY]]+EOPC[[#This Row],[DIV 10 QTY]]","v":0},null,0,{"$f":"EOPC[[#This Row],[TOTAL QTY]]*EOPC[[#This Row],[UNIT PRICE]]","v":0},null,{"$f":"EOPC[[#This Row],[UNIT PRICE]]*EOPC[[#This Row],[DIV 1 QTY]]","v":0},null,{"$f":"EOPC[[#This Row],[UNIT PRICE]]*EOPC[[#This Row],[DIV 2 QTY]]","v":0},null,{"$f":"EOPC[[#This Row],[UNIT PRICE]]*EOPC[[#This Row],[DIV 3 QTY]]","v":0},null,{"$f":"EOPC[[#This Row],[UNIT PRICE]]*EOPC[[#This Row],[DIV 4 QTY]]","v":0},null,{"$f":"EOPC[[#This Row],[UNIT PRICE]]*EOPC[[#This Row],[DIV 5 QTY]]","v":0},null,{"$f":"EOPC[[#This Row],[UNIT PRICE]]*EOPC[[#This Row],[DIV 6 QTY]]","v":0},null,{"$f":"EOPC[[#This Row],[UNIT PRICE]]*EOPC[[#This Row],[DIV 7 QTY]]","v":0},null,{"$f":"EOPC[[#This Row],[UNIT PRICE]]*EOPC[[#This Row],[DIV 8 QTY]]","v":0},null,{"$f":"EOPC[[#This Row],[UNIT PRICE]]*EOPC[[#This Row],[DIV 9 QTY]]","v":0},null,{"$f":"EOPC[[#This Row],[UNIT PRICE]]*EOPC[[#This Row],[DIV 10 QTY]]","v":0}]
[null,null,null,{"$f":"EOPC[[#This Row],[DIV 1 QTY]]+EOPC[[#This Row],[DIV 2 QTY]]+EOPC[[#This Row],[DIV 3 QTY]]+EOPC[[#This Row],[DIV 4 QTY]]+EOPC[[#This Row],[DIV 5 QTY]]+EOPC[[#This Row],[DIV 6 QTY]]+EOPC[[#This Row],[DIV 7 QTY]]+EOPC[[#This Row],[DIV 8 QTY]]+EOPC[[#This Row],[DIV 9 QTY]]+EOPC[[#This Row],[DIV 10 QTY]]","v":0},null,0,{"$f":"EOPC[[#This Row],[TOTAL QTY]]*EOPC[[#This Row],[UNIT PRICE]]","v":0},null,{"$f":"EOPC[[#This Row],[UNIT PRICE]]*EOPC[[#This Row],[DIV 1 QTY]]","v":0},null,{"$f":"EOPC[[#This Row],[UNIT PRICE]]*EOPC[[#This Row],[DIV 2 QTY]]","v":0},null,{"$f":"EOPC[[#This Row],[UNIT PRICE]]*EOPC[[#This Row],[DIV 3 QTY]]","v":0},null,{"$f":"EOPC[[#This Row],[UNIT PRICE]]*EOPC[[#This Row],[DIV 4 QTY]]","v":0},null,{"$f":"EOPC[[#This Row],[UNIT PRICE]]*EOPC[[#This Row],[DIV 5 QTY]]","v":0},null,{"$f":"EOPC[[#This Row],[UNIT PRICE]]*EOPC[[#This Row],[DIV 6 QTY]]","v":0},null,{"$f":"EOPC[[#This Row],[UNIT PRICE]]*EOPC[[#This Row],[DIV 7 QTY]]","v":0},null,{"$f":"EOPC[[#This Row],[UNIT PRICE]]*EOPC[[#This Row],[DIV 8 QTY]]","v":0},null,{"$f":"EOPC[[#This Row],[UNIT PRICE]]*EOPC[[#This Row],[DIV 9 QTY]]","v":0},null,{"$f":"EOPC[[#This Row],[UNIT PRICE]]*EOPC[[#This Row],[DIV 10 QTY]]","v":0}]
[null,null,null,{"$f":"EOPC[[#This Row],[DIV 1 QTY]]+EOPC[[#This Row],[DIV 2 QTY]]+EOPC[[#This Row],[DIV 3 QTY]]+EOPC[[#This Row],[DIV 4 QTY]]+EOPC[[#This Row],[DIV 5 QTY]]+EOPC[[#This Row],[DIV 6 QTY]]+EOPC[[#This Row],[DIV 7 QTY]]+EOPC[[#This Row],[DIV 8 QTY]]+EOPC[[#This Row],[DIV 9 QTY]]+EOPC[[#This Row],[DIV 10 QTY]]","v":0},null,0,{"$f":"EOPC[[#This Row],[TOTAL QTY]]*EOPC[[#This Row],[UNIT PRICE]]","v":0},null,{"$f":"EOPC[[#This Row],[UNIT PRICE]]*EOPC[[#This Row],[DIV 1 QTY]]","v":0},null,{"$f":"EOPC[[#This Row],[UNIT PRICE]]*EOPC[[#This Row],[DIV 2 QTY]]","v":0},null,{"$f":"EOPC[[#This Row],[UNIT PRICE]]*EOPC[[#This Row],[DIV 3 QTY]]","v":0},null,{"$f":"EOPC[[#This Row],[UNIT PRICE]]*EOPC[[#This Row],[DIV 4 QTY]]","v":0},null,{"$f":"EOPC[[#This Row],[UNIT PRICE]]*EOPC[[#This Row],[DIV 5 QTY]]","v":0},null,{"$f":"EOPC[[#This Row],[UNIT PRICE]]*EOPC[[#This Row],[DIV 6 QTY]]","v":0},null,{"$f":"EOPC[[#This Row],[UNIT PRICE]]*EOPC[[#This Row],[DIV 7 QTY]]","v":0},null,{"$f":"EOPC[[#This Row],[UNIT PRICE]]*EOPC[[#This Row],[DIV 8 QTY]]","v":0},null,{"$f":"EOPC[[#This Row],[UNIT PRICE]]*EOPC[[#This Row],[DIV 9 QTY]]","v":0},null,{"$f":"EOPC[[#This Row],[UNIT PRICE]]*EOPC[[#This Row],[DIV 10 QTY]]","v":0}]
[null,null,null,{"$f":"EOPC[[#This Row],[DIV 1 QTY]]+EOPC[[#This Row],[DIV 2 QTY]]+EOPC[[#This Row],[DIV 3 QTY]]+EOPC[[#This Row],[DIV 4 QTY]]+EOPC[[#This Row],[DIV 5 QTY]]+EOPC[[#This Row],[DIV 6 QTY]]+EOPC[[#This Row],[DIV 7 QTY]]+EOPC[[#This Row],[DIV 8 QTY]]+EOPC[[#This Row],[DIV 9 QTY]]+EOPC[[#This Row],[DIV 10 QTY]]","v":0},null,0,{"$f":"EOPC[[#This Row],[TOTAL QTY]]*EOPC[[#This Row],[UNIT PRICE]]","v":0},null,{"$f":"EOPC[[#This Row],[UNIT PRICE]]*EOPC[[#This Row],[DIV 1 QTY]]","v":0},null,{"$f":"EOPC[[#This Row],[UNIT PRICE]]*EOPC[[#This Row],[DIV 2 QTY]]","v":0},null,{"$f":"EOPC[[#This Row],[UNIT PRICE]]*EOPC[[#This Row],[DIV 3 QTY]]","v":0},null,{"$f":"EOPC[[#This Row],[UNIT PRICE]]*EOPC[[#This Row],[DIV 4 QTY]]","v":0},null,{"$f":"EOPC[[#This Row],[UNIT PRICE]]*EOPC[[#This Row],[DIV 5 QTY]]","v":0},null,{"$f":"EOPC[[#This Row],[UNIT PRICE]]*EOPC[[#This Row],[DIV 6 QTY]]","v":0},null,{"$f":"EOPC[[#This Row],[UNIT PRICE]]*EOPC[[#This Row],[DIV 7 QTY]]","v":0},null,{"$f":"EOPC[[#This Row],[UNIT PRICE]]*EOPC[[#This Row],[DIV 8 QTY]]","v":0},null,{"$f":"EOPC[[#This Row],[UNIT PRICE]]*EOPC[[#This Row],[DIV 9 QTY]]","v":0},null,{"$f":"EOPC[[#This Row],[UNIT PRICE]]*EOPC[[#This Row],[DIV 10 QTY]]","v":0}]
[null,null,null,{"$f":"EOPC[[#This Row],[DIV 1 QTY]]+EOPC[[#This Row],[DIV 2 QTY]]+EOPC[[#This Row],[DIV 3 QTY]]+EOPC[[#This Row],[DIV 4 QTY]]+EOPC[[#This Row],[DIV 5 QTY]]+EOPC[[#This Row],[DIV 6 QTY]]+EOPC[[#This Row],[DIV 7 QTY]]+EOPC[[#This Row],[DIV 8 QTY]]+EOPC[[#This Row],[DIV 9 QTY]]+EOPC[[#This Row],[DIV 10 QTY]]","v":0},null,0,{"$f":"EOPC[[#This Row],[TOTAL QTY]]*EOPC[[#This Row],[UNIT PRICE]]","v":0},null,{"$f":"EOPC[[#This Row],[UNIT PRICE]]*EOPC[[#This Row],[DIV 1 QTY]]","v":0},null,{"$f":"EOPC[[#This Row],[UNIT PRICE]]*EOPC[[#This Row],[DIV 2 QTY]]","v":0},null,{"$f":"EOPC[[#This Row],[UNIT PRICE]]*EOPC[[#This Row],[DIV 3 QTY]]","v":0},null,{"$f":"EOPC[[#This Row],[UNIT PRICE]]*EOPC[[#This Row],[DIV 4 QTY]]","v":0},null,{"$f":"EOPC[[#This Row],[UNIT PRICE]]*EOPC[[#This Row],[DIV 5 QTY]]","v":0},null,{"$f":"EOPC[[#This Row],[UNIT PRICE]]*EOPC[[#This Row],[DIV 6 QTY]]","v":0},null,{"$f":"EOPC[[#This Row],[UNIT PRICE]]*EOPC[[#This Row],[DIV 7 QTY]]","v":0},null,{"$f":"EOPC[[#This Row],[UNIT PRICE]]*EOPC[[#This Row],[DIV 8 QTY]]","v":0},null,{"$f":"EOPC[[#This Row],[UNIT PRICE]]*EOPC[[#This Row],[DIV 9 QTY]]","v":0},null,{"$f":"EOPC[[#This Row],[UNIT PRICE]]*EOPC[[#This Row],[DIV 10 QTY]]","v":0}]
[null,null,null,{"$f":"EOPC[[#This Row],[DIV 1 QTY]]+EOPC[[#This Row],[DIV 2 QTY]]+EOPC[[#This Row],[DIV 3 QTY]]+EOPC[[#This Row],[DIV 4 QTY]]+EOPC[[#This Row],[DIV 5 QTY]]+EOPC[[#This Row],[DIV 6 QTY]]+EOPC[[#This Row],[DIV 7 QTY]]+EOPC[[#This Row],[DIV 8 QTY]]+EOPC[[#This Row],[DIV 9 QTY]]+EOPC[[#This Row],[DIV 10 QTY]]","v":0},null,0,{"$f":"EOPC[[#This Row],[TOTAL QTY]]*EOPC[[#This Row],[UNIT PRICE]]","v":0},null,{"$f":"EOPC[[#This Row],[UNIT PRICE]]*EOPC[[#This Row],[DIV 1 QTY]]","v":0},null,{"$f":"EOPC[[#This Row],[UNIT PRICE]]*EOPC[[#This Row],[DIV 2 QTY]]","v":0},null,{"$f":"EOPC[[#This Row],[UNIT PRICE]]*EOPC[[#This Row],[DIV 3 QTY]]","v":0},null,{"$f":"EOPC[[#This Row],[UNIT PRICE]]*EOPC[[#This Row],[DIV 4 QTY]]","v":0},null,{"$f":"EOPC[[#This Row],[UNIT PRICE]]*EOPC[[#This Row],[DIV 5 QTY]]","v":0},null,{"$f":"EOPC[[#This Row],[UNIT PRICE]]*EOPC[[#This Row],[DIV 6 QTY]]","v":0},null,{"$f":"EOPC[[#This Row],[UNIT PRICE]]*EOPC[[#This Row],[DIV 7 QTY]]","v":0},null,{"$f":"EOPC[[#This Row],[UNIT PRICE]]*EOPC[[#This Row],[DIV 8 QTY]]","v":0},null,{"$f":"EOPC[[#This Row],[UNIT PRICE]]*EOPC[[#This Row],[DIV 9 QTY]]","v":0},null,{"$f":"EOPC[[#This Row],[UNIT PRICE]]*EOPC[[#This Row],[DIV 10 QTY]]","v":0}]
[null,null,null,{"$f":"EOPC[[#This Row],[DIV 1 QTY]]+EOPC[[#This Row],[DIV 2 QTY]]+EOPC[[#This Row],[DIV 3 QTY]]+EOPC[[#This Row],[DIV 4 QTY]]+EOPC[[#This Row],[DIV 5 QTY]]+EOPC[[#This Row],[DIV 6 QTY]]+EOPC[[#This Row],[DIV 7 QTY]]+EOPC[[#This Row],[DIV 8 QTY]]+EOPC[[#This Row],[DIV 9 QTY]]+EOPC[[#This Row],[DIV 10 QTY]]","v":0},null,0,{"$f":"EOPC[[#This Row],[TOTAL QTY]]*EOPC[[#This Row],[UNIT PRICE]]","v":0},null,{"$f":"EOPC[[#This Row],[UNIT PRICE]]*EOPC[[#This Row],[DIV 1 QTY]]","v":0},null,{"$f":"EOPC[[#This Row],[UNIT PRICE]]*EOPC[[#This Row],[DIV 2 QTY]]","v":0},null,{"$f":"EOPC[[#This Row],[UNIT PRICE]]*EOPC[[#This Row],[DIV 3 QTY]]","v":0},null,{"$f":"EOPC[[#This Row],[UNIT PRICE]]*EOPC[[#This Row],[DIV 4 QTY]]","v":0},null,{"$f":"EOPC[[#This Row],[UNIT PRICE]]*EOPC[[#This Row],[DIV 5 QTY]]","v":0},null,{"$f":"EOPC[[#This Row],[UNIT PRICE]]*EOPC[[#This Row],[DIV 6 QTY]]","v":0},null,{"$f":"EOPC[[#This Row],[UNIT PRICE]]*EOPC[[#This Row],[DIV 7 QTY]]","v":0},null,{"$f":"EOPC[[#This Row],[UNIT PRICE]]*EOPC[[#This Row],[DIV 8 QTY]]","v":0},null,{"$f":"EOPC[[#This Row],[UNIT PRICE]]*EOPC[[#This Row],[DIV 9 QTY]]","v":0},null,{"$f":"EOPC[[#This Row],[UNIT PRICE]]*EOPC[[#This Row],[DIV 10 QTY]]","v":0}]
[null,null,null,{"$f":"EOPC[[#This Row],[DIV 1 QTY]]+EOPC[[#This Row],[DIV 2 QTY]]+EOPC[[#This Row],[DIV 3 QTY]]+EOPC[[#This Row],[DIV 4 QTY]]+EOPC[[#This Row],[DIV 5 QTY]]+EOPC[[#This Row],[DIV 6 QTY]]+EOPC[[#This Row],[DIV 7 QTY]]+EOPC[[#This Row],[DIV 8 QTY]]+EOPC[[#This Row],[DIV 9 QTY]]+EOPC[[#This Row],[DIV 10 QTY]]","v":0},null,0,{"$f":"EOPC[[#This Row],[TOTAL QTY]]*EOPC[[#This Row],[UNIT PRICE]]","v":0},null,{"$f":"EOPC[[#This Row],[UNIT PRICE]]*EOPC[[#This Row],[DIV 1 QTY]]","v":0},null,{"$f":"EOPC[[#This Row],[UNIT PRICE]]*EOPC[[#This Row],[DIV 2 QTY]]","v":0},null,{"$f":"EOPC[[#This Row],[UNIT PRICE]]*EOPC[[#This Row],[DIV 3 QTY]]","v":0},null,{"$f":"EOPC[[#This Row],[UNIT PRICE]]*EOPC[[#This Row],[DIV 4 QTY]]","v":0},null,{"$f":"EOPC[[#This Row],[UNIT PRICE]]*EOPC[[#This Row],[DIV 5 QTY]]","v":0},null,{"$f":"EOPC[[#This Row],[UNIT PRICE]]*EOPC[[#This Row],[DIV 6 QTY]]","v":0},null,{"$f":"EOPC[[#This Row],[UNIT PRICE]]*EOPC[[#This Row],[DIV 7 QTY]]","v":0},null,{"$f":"EOPC[[#This Row],[UNIT PRICE]]*EOPC[[#This Row],[DIV 8 QTY]]","v":0},null,{"$f":"EOPC[[#This Row],[UNIT PRICE]]*EOPC[[#This Row],[DIV 9 QTY]]","v":0},null,{"$f":"EOPC[[#This Row],[UNIT PRICE]]*EOPC[[#This Row],[DIV 10 QTY]]","v":0}]
[null,null,null,{"$f":"EOPC[[#This Row],[DIV 1 QTY]]+EOPC[[#This Row],[DIV 2 QTY]]+EOPC[[#This Row],[DIV 3 QTY]]+EOPC[[#This Row],[DIV 4 QTY]]+EOPC[[#This Row],[DIV 5 QTY]]+EOPC[[#This Row],[DIV 6 QTY]]+EOPC[[#This Row],[DIV 7 QTY]]+EOPC[[#This Row],[DIV 8 QTY]]+EOPC[[#This Row],[DIV 9 QTY]]+EOPC[[#This Row],[DIV 10 QTY]]","v":0},null,0,{"$f":"EOPC[[#This Row],[TOTAL QTY]]*EOPC[[#This Row],[UNIT PRICE]]","v":0},null,{"$f":"EOPC[[#This Row],[UNIT PRICE]]*EOPC[[#This Row],[DIV 1 QTY]]","v":0},null,{"$f":"EOPC[[#This Row],[UNIT PRICE]]*EOPC[[#This Row],[DIV 2 QTY]]","v":0},null,{"$f":"EOPC[[#This Row],[UNIT PRICE]]*EOPC[[#This Row],[DIV 3 QTY]]","v":0},null,{"$f":"EOPC[[#This Row],[UNIT PRICE]]*EOPC[[#This Row],[DIV 4 QTY]]","v":0},null,{"$f":"EOPC[[#This Row],[UNIT PRICE]]*EOPC[[#This Row],[DIV 5 QTY]]","v":0},null,{"$f":"EOPC[[#This Row],[UNIT PRICE]]*EOPC[[#This Row],[DIV 6 QTY]]","v":0},null,{"$f":"EOPC[[#This Row],[UNIT PRICE]]*EOPC[[#This Row],[DIV 7 QTY]]","v":0},null,{"$f":"EOPC[[#This Row],[UNIT PRICE]]*EOPC[[#This Row],[DIV 8 QTY]]","v":0},null,{"$f":"EOPC[[#This Row],[UNIT PRICE]]*EOPC[[#This Row],[DIV 9 QTY]]","v":0},null,{"$f":"EOPC[[#This Row],[UNIT PRICE]]*EOPC[[#This Row],[DIV 10 QTY]]","v":0}]
[null,null,null,{"$f":"EOPC[[#This Row],[DIV 1 QTY]]+EOPC[[#This Row],[DIV 2 QTY]]+EOPC[[#This Row],[DIV 3 QTY]]+EOPC[[#This Row],[DIV 4 QTY]]+EOPC[[#This Row],[DIV 5 QTY]]+EOPC[[#This Row],[DIV 6 QTY]]+EOPC[[#This Row],[DIV 7 QTY]]+EOPC[[#This Row],[DIV 8 QTY]]+EOPC[[#This Row],[DIV 9 QTY]]+EOPC[[#This Row],[DIV 10 QTY]]","v":0},null,0,{"$f":"EOPC[[#This Row],[TOTAL QTY]]*EOPC[[#This Row],[UNIT PRICE]]","v":0},null,{"$f":"EOPC[[#This Row],[UNIT PRICE]]*EOPC[[#This Row],[DIV 1 QTY]]","v":0},null,{"$f":"EOPC[[#This Row],[UNIT PRICE]]*EOPC[[#This Row],[DIV 2 QTY]]","v":0},null,{"$f":"EOPC[[#This Row],[UNIT PRICE]]*EOPC[[#This Row],[DIV 3 QTY]]","v":0},null,{"$f":"EOPC[[#This Row],[UNIT PRICE]]*EOPC[[#This Row],[DIV 4 QTY]]","v":0},null,{"$f":"EOPC[[#This Row],[UNIT PRICE]]*EOPC[[#This Row],[DIV 5 QTY]]","v":0},null,{"$f":"EOPC[[#This Row],[UNIT PRICE]]*EOPC[[#This Row],[DIV 6 QTY]]","v":0},null,{"$f":"EOPC[[#This Row],[UNIT PRICE]]*EOPC[[#This Row],[DIV 7 QTY]]","v":0},null,{"$f":"EOPC[[#This Row],[UNIT PRICE]]*EOPC[[#This Row],[DIV 8 QTY]]","v":0},null,{"$f":"EOPC[[#This Row],[UNIT PRICE]]*EOPC[[#This Row],[DIV 9 QTY]]","v":0},null,{"$f":"EOPC[[#This Row],[UNIT PRICE]]*EOPC[[#This Row],[DIV 10 QTY]]","v":0}]
[null,null,null,{"$f":"EOPC[[#This Row],[DIV 1 QTY]]+EOPC[[#This Row],[DIV 2 QTY]]+EOPC[[#This Row],[DIV 3 QTY]]+EOPC[[#This Row],[DIV 4 QTY]]+EOPC[[#This Row],[DIV 5 QTY]]+EOPC[[#This Row],[DIV 6 QTY]]+EOPC[[#This Row],[DIV 7 QTY]]+EOPC[[#This Row],[DIV 8 QTY]]+EOPC[[#This Row],[DIV 9 QTY]]+EOPC[[#This Row],[DIV 10 QTY]]","v":0},null,0,{"$f":"EOPC[[#This Row],[TOTAL QTY]]*EOPC[[#This Row],[UNIT PRICE]]","v":0},null,{"$f":"EOPC[[#This Row],[UNIT PRICE]]*EOPC[[#This Row],[DIV 1 QTY]]","v":0},null,{"$f":"EOPC[[#This Row],[UNIT PRICE]]*EOPC[[#This Row],[DIV 2 QTY]]","v":0},null,{"$f":"EOPC[[#This Row],[UNIT PRICE]]*EOPC[[#This Row],[DIV 3 QTY]]","v":0},null,{"$f":"EOPC[[#This Row],[UNIT PRICE]]*EOPC[[#This Row],[DIV 4 QTY]]","v":0},null,{"$f":"EOPC[[#This Row],[UNIT PRICE]]*EOPC[[#This Row],[DIV 5 QTY]]","v":0},null,{"$f":"EOPC[[#This Row],[UNIT PRICE]]*EOPC[[#This Row],[DIV 6 QTY]]","v":0},null,{"$f":"EOPC[[#This Row],[UNIT PRICE]]*EOPC[[#This Row],[DIV 7 QTY]]","v":0},null,{"$f":"EOPC[[#This Row],[UNIT PRICE]]*EOPC[[#This Row],[DIV 8 QTY]]","v":0},null,{"$f":"EOPC[[#This Row],[UNIT PRICE]]*EOPC[[#This Row],[DIV 9 QTY]]","v":0},null,{"$f":"EOPC[[#This Row],[UNIT PRICE]]*EOPC[[#This Row],[DIV 10 QTY]]","v":0}]
[null,null,null,{"$f":"EOPC[[#This Row],[DIV 1 QTY]]+EOPC[[#This Row],[DIV 2 QTY]]+EOPC[[#This Row],[DIV 3 QTY]]+EOPC[[#This Row],[DIV 4 QTY]]+EOPC[[#This Row],[DIV 5 QTY]]+EOPC[[#This Row],[DIV 6 QTY]]+EOPC[[#This Row],[DIV 7 QTY]]+EOPC[[#This Row],[DIV 8 QTY]]+EOPC[[#This Row],[DIV 9 QTY]]+EOPC[[#This Row],[DIV 10 QTY]]","v":0},null,0,{"$f":"EOPC[[#This Row],[TOTAL QTY]]*EOPC[[#This Row],[UNIT PRICE]]","v":0},null,{"$f":"EOPC[[#This Row],[UNIT PRICE]]*EOPC[[#This Row],[DIV 1 QTY]]","v":0},null,{"$f":"EOPC[[#This Row],[UNIT PRICE]]*EOPC[[#This Row],[DIV 2 QTY]]","v":0},null,{"$f":"EOPC[[#This Row],[UNIT PRICE]]*EOPC[[#This Row],[DIV 3 QTY]]","v":0},null,{"$f":"EOPC[[#This Row],[UNIT PRICE]]*EOPC[[#This Row],[DIV 4 QTY]]","v":0},null,{"$f":"EOPC[[#This Row],[UNIT PRICE]]*EOPC[[#This Row],[DIV 5 QTY]]","v":0},null,{"$f":"EOPC[[#This Row],[UNIT PRICE]]*EOPC[[#This Row],[DIV 6 QTY]]","v":0},null,{"$f":"EOPC[[#This Row],[UNIT PRICE]]*EOPC[[#This Row],[DIV 7 QTY]]","v":0},null,{"$f":"EOPC[[#This Row],[UNIT PRICE]]*EOPC[[#This Row],[DIV 8 QTY]]","v":0},null,{"$f":"EOPC[[#This Row],[UNIT PRICE]]*EOPC[[#This Row],[DIV 9 QTY]]","v":0},null,{"$f":"EOPC[[#This Row],[UNIT PRICE]]*EOPC[[#This Row],[DIV 10 QTY]]","v":0}]
[null,null,null,{"$f":"EOPC[[#This Row],[DIV 1 QTY]]+EOPC[[#This Row],[DIV 2 QTY]]+EOPC[[#This Row],[DIV 3 QTY]]+EOPC[[#This Row],[DIV 4 QTY]]+EOPC[[#This Row],[DIV 5 QTY]]+EOPC[[#This Row],[DIV 6 QTY]]+EOPC[[#This Row],[DIV 7 QTY]]+EOPC[[#This Row],[DIV 8 QTY]]+EOPC[[#This Row],[DIV 9 QTY]]+EOPC[[#This Row],[DIV 10 QTY]]","v":0},null,0,{"$f":"EOPC[[#This Row],[TOTAL QTY]]*EOPC[[#This Row],[UNIT PRICE]]","v":0},null,{"$f":"EOPC[[#This Row],[UNIT PRICE]]*EOPC[[#This Row],[DIV 1 QTY]]","v":0},null,{"$f":"EOPC[[#This Row],[UNIT PRICE]]*EOPC[[#This Row],[DIV 2 QTY]]","v":0},null,{"$f":"EOPC[[#This Row],[UNIT PRICE]]*EOPC[[#This Row],[DIV 3 QTY]]","v":0},null,{"$f":"EOPC[[#This Row],[UNIT PRICE]]*EOPC[[#This Row],[DIV 4 QTY]]","v":0},null,{"$f":"EOPC[[#This Row],[UNIT PRICE]]*EOPC[[#This Row],[DIV 5 QTY]]","v":0},null,{"$f":"EOPC[[#This Row],[UNIT PRICE]]*EOPC[[#This Row],[DIV 6 QTY]]","v":0},null,{"$f":"EOPC[[#This Row],[UNIT PRICE]]*EOPC[[#This Row],[DIV 7 QTY]]","v":0},null,{"$f":"EOPC[[#This Row],[UNIT PRICE]]*EOPC[[#This Row],[DIV 8 QTY]]","v":0},null,{"$f":"EOPC[[#This Row],[UNIT PRICE]]*EOPC[[#This Row],[DIV 9 QTY]]","v":0},null,{"$f":"EOPC[[#This Row],[UNIT PRICE]]*EOPC[[#This Row],[DIV 10 QTY]]","v":0}]
[null,null,null,{"$f":"EOPC[[#This Row],[DIV 1 QTY]]+EOPC[[#This Row],[DIV 2 QTY]]+EOPC[[#This Row],[DIV 3 QTY]]+EOPC[[#This Row],[DIV 4 QTY]]+EOPC[[#This Row],[DIV 5 QTY]]+EOPC[[#This Row],[DIV 6 QTY]]+EOPC[[#This Row],[DIV 7 QTY]]+EOPC[[#This Row],[DIV 8 QTY]]+EOPC[[#This Row],[DIV 9 QTY]]+EOPC[[#This Row],[DIV 10 QTY]]","v":0},null,0,{"$f":"EOPC[[#This Row],[TOTAL QTY]]*EOPC[[#This Row],[UNIT PRICE]]","v":0},null,{"$f":"EOPC[[#This Row],[UNIT PRICE]]*EOPC[[#This Row],[DIV 1 QTY]]","v":0},null,{"$f":"EOPC[[#This Row],[UNIT PRICE]]*EOPC[[#This Row],[DIV 2 QTY]]","v":0},null,{"$f":"EOPC[[#This Row],[UNIT PRICE]]*EOPC[[#This Row],[DIV 3 QTY]]","v":0},null,{"$f":"EOPC[[#This Row],[UNIT PRICE]]*EOPC[[#This Row],[DIV 4 QTY]]","v":0},null,{"$f":"EOPC[[#This Row],[UNIT PRICE]]*EOPC[[#This Row],[DIV 5 QTY]]","v":0},null,{"$f":"EOPC[[#This Row],[UNIT PRICE]]*EOPC[[#This Row],[DIV 6 QTY]]","v":0},null,{"$f":"EOPC[[#This Row],[UNIT PRICE]]*EOPC[[#This Row],[DIV 7 QTY]]","v":0},null,{"$f":"EOPC[[#This Row],[UNIT PRICE]]*EOPC[[#This Row],[DIV 8 QTY]]","v":0},null,{"$f":"EOPC[[#This Row],[UNIT PRICE]]*EOPC[[#This Row],[DIV 9 QTY]]","v":0},null,{"$f":"EOPC[[#This Row],[UNIT PRICE]]*EOPC[[#This Row],[DIV 10 QTY]]","v":0}]
[null,null,null,{"$f":"EOPC[[#This Row],[DIV 1 QTY]]+EOPC[[#This Row],[DIV 2 QTY]]+EOPC[[#This Row],[DIV 3 QTY]]+EOPC[[#This Row],[DIV 4 QTY]]+EOPC[[#This Row],[DIV 5 QTY]]+EOPC[[#This Row],[DIV 6 QTY]]+EOPC[[#This Row],[DIV 7 QTY]]+EOPC[[#This Row],[DIV 8 QTY]]+EOPC[[#This Row],[DIV 9 QTY]]+EOPC[[#This Row],[DIV 10 QTY]]","v":0},null,0,{"$f":"EOPC[[#This Row],[TOTAL QTY]]*EOPC[[#This Row],[UNIT PRICE]]","v":0},null,{"$f":"EOPC[[#This Row],[UNIT PRICE]]*EOPC[[#This Row],[DIV 1 QTY]]","v":0},null,{"$f":"EOPC[[#This Row],[UNIT PRICE]]*EOPC[[#This Row],[DIV 2 QTY]]","v":0},null,{"$f":"EOPC[[#This Row],[UNIT PRICE]]*EOPC[[#This Row],[DIV 3 QTY]]","v":0},null,{"$f":"EOPC[[#This Row],[UNIT PRICE]]*EOPC[[#This Row],[DIV 4 QTY]]","v":0},null,{"$f":"EOPC[[#This Row],[UNIT PRICE]]*EOPC[[#This Row],[DIV 5 QTY]]","v":0},null,{"$f":"EOPC[[#This Row],[UNIT PRICE]]*EOPC[[#This Row],[DIV 6 QTY]]","v":0},null,{"$f":"EOPC[[#This Row],[UNIT PRICE]]*EOPC[[#This Row],[DIV 7 QTY]]","v":0},null,{"$f":"EOPC[[#This Row],[UNIT PRICE]]*EOPC[[#This Row],[DIV 8 QTY]]","v":0},null,{"$f":"EOPC[[#This Row],[UNIT PRICE]]*EOPC[[#This Row],[DIV 9 QTY]]","v":0},null,{"$f":"EOPC[[#This Row],[UNIT PRICE]]*EOPC[[#This Row],[DIV 10 QTY]]","v":0}]
[null,null,null,{"$f":"EOPC[[#This Row],[DIV 1 QTY]]+EOPC[[#This Row],[DIV 2 QTY]]+EOPC[[#This Row],[DIV 3 QTY]]+EOPC[[#This Row],[DIV 4 QTY]]+EOPC[[#This Row],[DIV 5 QTY]]+EOPC[[#This Row],[DIV 6 QTY]]+EOPC[[#This Row],[DIV 7 QTY]]+EOPC[[#This Row],[DIV 8 QTY]]+EOPC[[#This Row],[DIV 9 QTY]]+EOPC[[#This Row],[DIV 10 QTY]]","v":0},null,0,{"$f":"EOPC[[#This Row],[TOTAL QTY]]*EOPC[[#This Row],[UNIT PRICE]]","v":0},null,{"$f":"EOPC[[#This Row],[UNIT PRICE]]*EOPC[[#This Row],[DIV 1 QTY]]","v":0},null,{"$f":"EOPC[[#This Row],[UNIT PRICE]]*EOPC[[#This Row],[DIV 2 QTY]]","v":0},null,{"$f":"EOPC[[#This Row],[UNIT PRICE]]*EOPC[[#This Row],[DIV 3 QTY]]","v":0},null,{"$f":"EOPC[[#This Row],[UNIT PRICE]]*EOPC[[#This Row],[DIV 4 QTY]]","v":0},null,{"$f":"EOPC[[#This Row],[UNIT PRICE]]*EOPC[[#This Row],[DIV 5 QTY]]","v":0},null,{"$f":"EOPC[[#This Row],[UNIT PRICE]]*EOPC[[#This Row],[DIV 6 QTY]]","v":0},null,{"$f":"EOPC[[#This Row],[UNIT PRICE]]*EOPC[[#This Row],[DIV 7 QTY]]","v":0},null,{"$f":"EOPC[[#This Row],[UNIT PRICE]]*EOPC[[#This Row],[DIV 8 QTY]]","v":0},null,{"$f":"EOPC[[#This Row],[UNIT PRICE]]*EOPC[[#This Row],[DIV 9 QTY]]","v":0},null,{"$f":"EOPC[[#This Row],[UNIT PRICE]]*EOPC[[#This Row],[DIV 10 QTY]]","v":0}]
[null,null,null,{"$f":"EOPC[[#This Row],[DIV 1 QTY]]+EOPC[[#This Row],[DIV 2 QTY]]+EOPC[[#This Row],[DIV 3 QTY]]+EOPC[[#This Row],[DIV 4 QTY]]+EOPC[[#This Row],[DIV 5 QTY]]+EOPC[[#This Row],[DIV 6 QTY]]+EOPC[[#This Row],[DIV 7 QTY]]+EOPC[[#This Row],[DIV 8 QTY]]+EOPC[[#This Row],[DIV 9 QTY]]+EOPC[[#This Row],[DIV 10 QTY]]","v":0},null,0,{"$f":"EOPC[[#This Row],[TOTAL QTY]]*EOPC[[#This Row],[UNIT PRICE]]","v":0},null,{"$f":"EOPC[[#This Row],[UNIT PRICE]]*EOPC[[#This Row],[DIV 1 QTY]]","v":0},null,{"$f":"EOPC[[#This Row],[UNIT PRICE]]*EOPC[[#This Row],[DIV 2 QTY]]","v":0},null,{"$f":"EOPC[[#This Row],[UNIT PRICE]]*EOPC[[#This Row],[DIV 3 QTY]]","v":0},null,{"$f":"EOPC[[#This Row],[UNIT PRICE]]*EOPC[[#This Row],[DIV 4 QTY]]","v":0},null,{"$f":"EOPC[[#This Row],[UNIT PRICE]]*EOPC[[#This Row],[DIV 5 QTY]]","v":0},null,{"$f":"EOPC[[#This Row],[UNIT PRICE]]*EOPC[[#This Row],[DIV 6 QTY]]","v":0},null,{"$f":"EOPC[[#This Row],[UNIT PRICE]]*EOPC[[#This Row],[DIV 7 QTY]]","v":0},null,{"$f":"EOPC[[#This Row],[UNIT PRICE]]*EOPC[[#This Row],[DIV 8 QTY]]","v":0},null,{"$f":"EOPC[[#This Row],[UNIT PRICE]]*EOPC[[#This Row],[DIV 9 QTY]]","v":0},null,{"$f":"EOPC[[#This Row],[UNIT PRICE]]*EOPC[[#This Row],[DIV 10 QTY]]","v":0}]
[null,null,null,{"$f":"EOPC[[#This Row],[DIV 1 QTY]]+EOPC[[#This Row],[DIV 2 QTY]]+EOPC[[#This Row],[DIV 3 QTY]]+EOPC[[#This Row],[DIV 4 QTY]]+EOPC[[#This Row],[DIV 5 QTY]]+EOPC[[#This Row],[DIV 6 QTY]]+EOPC[[#This Row],[DIV 7 QTY]]+EOPC[[#This Row],[DIV 8 QTY]]+EOPC[[#This Row],[DIV 9 QTY]]+EOPC[[#This Row],[DIV 10 QTY]]","v":0},null,0,{"$f":"EOPC[[#This Row],[TOTAL QTY]]*EOPC[[#This Row],[UNIT PRICE]]","v":0},null,{"$f":"EOPC[[#This Row],[UNIT PRICE]]*EOPC[[#This Row],[DIV 1 QTY]]","v":0},null,{"$f":"EOPC[[#This Row],[UNIT PRICE]]*EOPC[[#This Row],[DIV 2 QTY]]","v":0},null,{"$f":"EOPC[[#This Row],[UNIT PRICE]]*EOPC[[#This Row],[DIV 3 QTY]]","v":0},null,{"$f":"EOPC[[#This Row],[UNIT PRICE]]*EOPC[[#This Row],[DIV 4 QTY]]","v":0},null,{"$f":"EOPC[[#This Row],[UNIT PRICE]]*EOPC[[#This Row],[DIV 5 QTY]]","v":0},null,{"$f":"EOPC[[#This Row],[UNIT PRICE]]*EOPC[[#This Row],[DIV 6 QTY]]","v":0},null,{"$f":"EOPC[[#This Row],[UNIT PRICE]]*EOPC[[#This Row],[DIV 7 QTY]]","v":0},null,{"$f":"EOPC[[#This Row],[UNIT PRICE]]*EOPC[[#This Row],[DIV 8 QTY]]","v":0},null,{"$f":"EOPC[[#This Row],[UNIT PRICE]]*EOPC[[#This Row],[DIV 9 QTY]]","v":0},null,{"$f":"EOPC[[#This Row],[UNIT PRICE]]*EOPC[[#This Row],[DIV 10 QTY]]","v":0}]
[null,null,null,{"$f":"EOPC[[#This Row],[DIV 1 QTY]]+EOPC[[#This Row],[DIV 2 QTY]]+EOPC[[#This Row],[DIV 3 QTY]]+EOPC[[#This Row],[DIV 4 QTY]]+EOPC[[#This Row],[DIV 5 QTY]]+EOPC[[#This Row],[DIV 6 QTY]]+EOPC[[#This Row],[DIV 7 QTY]]+EOPC[[#This Row],[DIV 8 QTY]]+EOPC[[#This Row],[DIV 9 QTY]]+EOPC[[#This Row],[DIV 10 QTY]]","v":0},null,0,{"$f":"EOPC[[#This Row],[TOTAL QTY]]*EOPC[[#This Row],[UNIT PRICE]]","v":0},null,{"$f":"EOPC[[#This Row],[UNIT PRICE]]*EOPC[[#This Row],[DIV 1 QTY]]","v":0},null,{"$f":"EOPC[[#This Row],[UNIT PRICE]]*EOPC[[#This Row],[DIV 2 QTY]]","v":0},null,{"$f":"EOPC[[#This Row],[UNIT PRICE]]*EOPC[[#This Row],[DIV 3 QTY]]","v":0},null,{"$f":"EOPC[[#This Row],[UNIT PRICE]]*EOPC[[#This Row],[DIV 4 QTY]]","v":0},null,{"$f":"EOPC[[#This Row],[UNIT PRICE]]*EOPC[[#This Row],[DIV 5 QTY]]","v":0},null,{"$f":"EOPC[[#This Row],[UNIT PRICE]]*EOPC[[#This Row],[DIV 6 QTY]]","v":0},null,{"$f":"EOPC[[#This Row],[UNIT PRICE]]*EOPC[[#This Row],[DIV 7 QTY]]","v":0},null,{"$f":"EOPC[[#This Row],[UNIT PRICE]]*EOPC[[#This Row],[DIV 8 QTY]]","v":0},null,{"$f":"EOPC[[#This Row],[UNIT PRICE]]*EOPC[[#This Row],[DIV 9 QTY]]","v":0},null,{"$f":"EOPC[[#This Row],[UNIT PRICE]]*EOPC[[#This Row],[DIV 10 QTY]]","v":0}]
[null,null,null,{"$f":"EOPC[[#This Row],[DIV 1 QTY]]+EOPC[[#This Row],[DIV 2 QTY]]+EOPC[[#This Row],[DIV 3 QTY]]+EOPC[[#This Row],[DIV 4 QTY]]+EOPC[[#This Row],[DIV 5 QTY]]+EOPC[[#This Row],[DIV 6 QTY]]+EOPC[[#This Row],[DIV 7 QTY]]+EOPC[[#This Row],[DIV 8 QTY]]+EOPC[[#This Row],[DIV 9 QTY]]+EOPC[[#This Row],[DIV 10 QTY]]","v":0},null,0,{"$f":"EOPC[[#This Row],[TOTAL QTY]]*EOPC[[#This Row],[UNIT PRICE]]","v":0},null,{"$f":"EOPC[[#This Row],[UNIT PRICE]]*EOPC[[#This Row],[DIV 1 QTY]]","v":0},null,{"$f":"EOPC[[#This Row],[UNIT PRICE]]*EOPC[[#This Row],[DIV 2 QTY]]","v":0},null,{"$f":"EOPC[[#This Row],[UNIT PRICE]]*EOPC[[#This Row],[DIV 3 QTY]]","v":0},null,{"$f":"EOPC[[#This Row],[UNIT PRICE]]*EOPC[[#This Row],[DIV 4 QTY]]","v":0},null,{"$f":"EOPC[[#This Row],[UNIT PRICE]]*EOPC[[#This Row],[DIV 5 QTY]]","v":0},null,{"$f":"EOPC[[#This Row],[UNIT PRICE]]*EOPC[[#This Row],[DIV 6 QTY]]","v":0},null,{"$f":"EOPC[[#This Row],[UNIT PRICE]]*EOPC[[#This Row],[DIV 7 QTY]]","v":0},null,{"$f":"EOPC[[#This Row],[UNIT PRICE]]*EOPC[[#This Row],[DIV 8 QTY]]","v":0},null,{"$f":"EOPC[[#This Row],[UNIT PRICE]]*EOPC[[#This Row],[DIV 9 QTY]]","v":0},null,{"$f":"EOPC[[#This Row],[UNIT PRICE]]*EOPC[[#This Row],[DIV 10 QTY]]","v":0}]
[null,null,null,{"$f":"EOPC[[#This Row],[DIV 1 QTY]]+EOPC[[#This Row],[DIV 2 QTY]]+EOPC[[#This Row],[DIV 3 QTY]]+EOPC[[#This Row],[DIV 4 QTY]]+EOPC[[#This Row],[DIV 5 QTY]]+EOPC[[#This Row],[DIV 6 QTY]]+EOPC[[#This Row],[DIV 7 QTY]]+EOPC[[#This Row],[DIV 8 QTY]]+EOPC[[#This Row],[DIV 9 QTY]]+EOPC[[#This Row],[DIV 10 QTY]]","v":0},null,0,{"$f":"EOPC[[#This Row],[TOTAL QTY]]*EOPC[[#This Row],[UNIT PRICE]]","v":0},null,{"$f":"EOPC[[#This Row],[UNIT PRICE]]*EOPC[[#This Row],[DIV 1 QTY]]","v":0},null,{"$f":"EOPC[[#This Row],[UNIT PRICE]]*EOPC[[#This Row],[DIV 2 QTY]]","v":0},null,{"$f":"EOPC[[#This Row],[UNIT PRICE]]*EOPC[[#This Row],[DIV 3 QTY]]","v":0},null,{"$f":"EOPC[[#This Row],[UNIT PRICE]]*EOPC[[#This Row],[DIV 4 QTY]]","v":0},null,{"$f":"EOPC[[#This Row],[UNIT PRICE]]*EOPC[[#This Row],[DIV 5 QTY]]","v":0},null,{"$f":"EOPC[[#This Row],[UNIT PRICE]]*EOPC[[#This Row],[DIV 6 QTY]]","v":0},null,{"$f":"EOPC[[#This Row],[UNIT PRICE]]*EOPC[[#This Row],[DIV 7 QTY]]","v":0},null,{"$f":"EOPC[[#This Row],[UNIT PRICE]]*EOPC[[#This Row],[DIV 8 QTY]]","v":0},null,{"$f":"EOPC[[#This Row],[UNIT PRICE]]*EOPC[[#This Row],[DIV 9 QTY]]","v":0},null,{"$f":"EOPC[[#This Row],[UNIT PRICE]]*EOPC[[#This Row],[DIV 10 QTY]]","v":0}]
[null,null,null,{"$f":"EOPC[[#This Row],[DIV 1 QTY]]+EOPC[[#This Row],[DIV 2 QTY]]+EOPC[[#This Row],[DIV 3 QTY]]+EOPC[[#This Row],[DIV 4 QTY]]+EOPC[[#This Row],[DIV 5 QTY]]+EOPC[[#This Row],[DIV 6 QTY]]+EOPC[[#This Row],[DIV 7 QTY]]+EOPC[[#This Row],[DIV 8 QTY]]+EOPC[[#This Row],[DIV 9 QTY]]+EOPC[[#This Row],[DIV 10 QTY]]","v":0},null,0,{"$f":"EOPC[[#This Row],[TOTAL QTY]]*EOPC[[#This Row],[UNIT PRICE]]","v":0},null,{"$f":"EOPC[[#This Row],[UNIT PRICE]]*EOPC[[#This Row],[DIV 1 QTY]]","v":0},null,{"$f":"EOPC[[#This Row],[UNIT PRICE]]*EOPC[[#This Row],[DIV 2 QTY]]","v":0},null,{"$f":"EOPC[[#This Row],[UNIT PRICE]]*EOPC[[#This Row],[DIV 3 QTY]]","v":0},null,{"$f":"EOPC[[#This Row],[UNIT PRICE]]*EOPC[[#This Row],[DIV 4 QTY]]","v":0},null,{"$f":"EOPC[[#This Row],[UNIT PRICE]]*EOPC[[#This Row],[DIV 5 QTY]]","v":0},null,{"$f":"EOPC[[#This Row],[UNIT PRICE]]*EOPC[[#This Row],[DIV 6 QTY]]","v":0},null,{"$f":"EOPC[[#This Row],[UNIT PRICE]]*EOPC[[#This Row],[DIV 7 QTY]]","v":0},null,{"$f":"EOPC[[#This Row],[UNIT PRICE]]*EOPC[[#This Row],[DIV 8 QTY]]","v":0},null,{"$f":"EOPC[[#This Row],[UNIT PRICE]]*EOPC[[#This Row],[DIV 9 QTY]]","v":0},null,{"$f":"EOPC[[#This Row],[UNIT PRICE]]*EOPC[[#This Row],[DIV 10 QTY]]","v":0}]
[null,null,null,{"$f":"EOPC[[#This Row],[DIV 1 QTY]]+EOPC[[#This Row],[DIV 2 QTY]]+EOPC[[#This Row],[DIV 3 QTY]]+EOPC[[#This Row],[DIV 4 QTY]]+EOPC[[#This Row],[DIV 5 QTY]]+EOPC[[#This Row],[DIV 6 QTY]]+EOPC[[#This Row],[DIV 7 QTY]]+EOPC[[#This Row],[DIV 8 QTY]]+EOPC[[#This Row],[DIV 9 QTY]]+EOPC[[#This Row],[DIV 10 QTY]]","v":0},null,0,{"$f":"EOPC[[#This Row],[TOTAL QTY]]*EOPC[[#This Row],[UNIT PRICE]]","v":0},null,{"$f":"EOPC[[#This Row],[UNIT PRICE]]*EOPC[[#This Row],[DIV 1 QTY]]","v":0},null,{"$f":"EOPC[[#This Row],[UNIT PRICE]]*EOPC[[#This Row],[DIV 2 QTY]]","v":0},null,{"$f":"EOPC[[#This Row],[UNIT PRICE]]*EOPC[[#This Row],[DIV 3 QTY]]","v":0},null,{"$f":"EOPC[[#This Row],[UNIT PRICE]]*EOPC[[#This Row],[DIV 4 QTY]]","v":0},null,{"$f":"EOPC[[#This Row],[UNIT PRICE]]*EOPC[[#This Row],[DIV 5 QTY]]","v":0},null,{"$f":"EOPC[[#This Row],[UNIT PRICE]]*EOPC[[#This Row],[DIV 6 QTY]]","v":0},null,{"$f":"EOPC[[#This Row],[UNIT PRICE]]*EOPC[[#This Row],[DIV 7 QTY]]","v":0},null,{"$f":"EOPC[[#This Row],[UNIT PRICE]]*EOPC[[#This Row],[DIV 8 QTY]]","v":0},null,{"$f":"EOPC[[#This Row],[UNIT PRICE]]*EOPC[[#This Row],[DIV 9 QTY]]","v":0},null,{"$f":"EOPC[[#This Row],[UNIT PRICE]]*EOPC[[#This Row],[DIV 10 QTY]]","v":0}]
[null,null,null,{"$f":"EOPC[[#This Row],[DIV 1 QTY]]+EOPC[[#This Row],[DIV 2 QTY]]+EOPC[[#This Row],[DIV 3 QTY]]+EOPC[[#This Row],[DIV 4 QTY]]+EOPC[[#This Row],[DIV 5 QTY]]+EOPC[[#This Row],[DIV 6 QTY]]+EOPC[[#This Row],[DIV 7 QTY]]+EOPC[[#This Row],[DIV 8 QTY]]+EOPC[[#This Row],[DIV 9 QTY]]+EOPC[[#This Row],[DIV 10 QTY]]","v":0},null,0,{"$f":"EOPC[[#This Row],[TOTAL QTY]]*EOPC[[#This Row],[UNIT PRICE]]","v":0},null,{"$f":"EOPC[[#This Row],[UNIT PRICE]]*EOPC[[#This Row],[DIV 1 QTY]]","v":0},null,{"$f":"EOPC[[#This Row],[UNIT PRICE]]*EOPC[[#This Row],[DIV 2 QTY]]","v":0},null,{"$f":"EOPC[[#This Row],[UNIT PRICE]]*EOPC[[#This Row],[DIV 3 QTY]]","v":0},null,{"$f":"EOPC[[#This Row],[UNIT PRICE]]*EOPC[[#This Row],[DIV 4 QTY]]","v":0},null,{"$f":"EOPC[[#This Row],[UNIT PRICE]]*EOPC[[#This Row],[DIV 5 QTY]]","v":0},null,{"$f":"EOPC[[#This Row],[UNIT PRICE]]*EOPC[[#This Row],[DIV 6 QTY]]","v":0},null,{"$f":"EOPC[[#This Row],[UNIT PRICE]]*EOPC[[#This Row],[DIV 7 QTY]]","v":0},null,{"$f":"EOPC[[#This Row],[UNIT PRICE]]*EOPC[[#This Row],[DIV 8 QTY]]","v":0},null,{"$f":"EOPC[[#This Row],[UNIT PRICE]]*EOPC[[#This Row],[DIV 9 QTY]]","v":0},null,{"$f":"EOPC[[#This Row],[UNIT PRICE]]*EOPC[[#This Row],[DIV 10 QTY]]","v":0}]
[null,null,null,{"$f":"EOPC[[#This Row],[DIV 1 QTY]]+EOPC[[#This Row],[DIV 2 QTY]]+EOPC[[#This Row],[DIV 3 QTY]]+EOPC[[#This Row],[DIV 4 QTY]]+EOPC[[#This Row],[DIV 5 QTY]]+EOPC[[#This Row],[DIV 6 QTY]]+EOPC[[#This Row],[DIV 7 QTY]]+EOPC[[#This Row],[DIV 8 QTY]]+EOPC[[#This Row],[DIV 9 QTY]]+EOPC[[#This Row],[DIV 10 QTY]]","v":0},null,0,{"$f":"EOPC[[#This Row],[TOTAL QTY]]*EOPC[[#This Row],[UNIT PRICE]]","v":0},null,{"$f":"EOPC[[#This Row],[UNIT PRICE]]*EOPC[[#This Row],[DIV 1 QTY]]","v":0},null,{"$f":"EOPC[[#This Row],[UNIT PRICE]]*EOPC[[#This Row],[DIV 2 QTY]]","v":0},null,{"$f":"EOPC[[#This Row],[UNIT PRICE]]*EOPC[[#This Row],[DIV 3 QTY]]","v":0},null,{"$f":"EOPC[[#This Row],[UNIT PRICE]]*EOPC[[#This Row],[DIV 4 QTY]]","v":0},null,{"$f":"EOPC[[#This Row],[UNIT PRICE]]*EOPC[[#This Row],[DIV 5 QTY]]","v":0},null,{"$f":"EOPC[[#This Row],[UNIT PRICE]]*EOPC[[#This Row],[DIV 6 QTY]]","v":0},null,{"$f":"EOPC[[#This Row],[UNIT PRICE]]*EOPC[[#This Row],[DIV 7 QTY]]","v":0},null,{"$f":"EOPC[[#This Row],[UNIT PRICE]]*EOPC[[#This Row],[DIV 8 QTY]]","v":0},null,{"$f":"EOPC[[#This Row],[UNIT PRICE]]*EOPC[[#This Row],[DIV 9 QTY]]","v":0},null,{"$f":"EOPC[[#This Row],[UNIT PRICE]]*EOPC[[#This Row],[DIV 10 QTY]]","v":0}]
[null,null,null,{"$f":"EOPC[[#This Row],[DIV 1 QTY]]+EOPC[[#This Row],[DIV 2 QTY]]+EOPC[[#This Row],[DIV 3 QTY]]+EOPC[[#This Row],[DIV 4 QTY]]+EOPC[[#This Row],[DIV 5 QTY]]+EOPC[[#This Row],[DIV 6 QTY]]+EOPC[[#This Row],[DIV 7 QTY]]+EOPC[[#This Row],[DIV 8 QTY]]+EOPC[[#This Row],[DIV 9 QTY]]+EOPC[[#This Row],[DIV 10 QTY]]","v":0},null,0,{"$f":"EOPC[[#This Row],[TOTAL QTY]]*EOPC[[#This Row],[UNIT PRICE]]","v":0},null,{"$f":"EOPC[[#This Row],[UNIT PRICE]]*EOPC[[#This Row],[DIV 1 QTY]]","v":0},null,{"$f":"EOPC[[#This Row],[UNIT PRICE]]*EOPC[[#This Row],[DIV 2 QTY]]","v":0},null,{"$f":"EOPC[[#This Row],[UNIT PRICE]]*EOPC[[#This Row],[DIV 3 QTY]]","v":0},null,{"$f":"EOPC[[#This Row],[UNIT PRICE]]*EOPC[[#This Row],[DIV 4 QTY]]","v":0},null,{"$f":"EOPC[[#This Row],[UNIT PRICE]]*EOPC[[#This Row],[DIV 5 QTY]]","v":0},null,{"$f":"EOPC[[#This Row],[UNIT PRICE]]*EOPC[[#This Row],[DIV 6 QTY]]","v":0},null,{"$f":"EOPC[[#This Row],[UNIT PRICE]]*EOPC[[#This Row],[DIV 7 QTY]]","v":0},null,{"$f":"EOPC[[#This Row],[UNIT PRICE]]*EOPC[[#This Row],[DIV 8 QTY]]","v":0},null,{"$f":"EOPC[[#This Row],[UNIT PRICE]]*EOPC[[#This Row],[DIV 9 QTY]]","v":0},null,{"$f":"EOPC[[#This Row],[UNIT PRICE]]*EOPC[[#This Row],[DIV 10 QTY]]","v":0}]
[null,null,null,{"$f":"EOPC[[#This Row],[DIV 1 QTY]]+EOPC[[#This Row],[DIV 2 QTY]]+EOPC[[#This Row],[DIV 3 QTY]]+EOPC[[#This Row],[DIV 4 QTY]]+EOPC[[#This Row],[DIV 5 QTY]]+EOPC[[#This Row],[DIV 6 QTY]]+EOPC[[#This Row],[DIV 7 QTY]]+EOPC[[#This Row],[DIV 8 QTY]]+EOPC[[#This Row],[DIV 9 QTY]]+EOPC[[#This Row],[DIV 10 QTY]]","v":0},null,0,{"$f":"EOPC[[#This Row],[TOTAL QTY]]*EOPC[[#This Row],[UNIT PRICE]]","v":0},null,{"$f":"EOPC[[#This Row],[UNIT PRICE]]*EOPC[[#This Row],[DIV 1 QTY]]","v":0},null,{"$f":"EOPC[[#This Row],[UNIT PRICE]]*EOPC[[#This Row],[DIV 2 QTY]]","v":0},null,{"$f":"EOPC[[#This Row],[UNIT PRICE]]*EOPC[[#This Row],[DIV 3 QTY]]","v":0},null,{"$f":"EOPC[[#This Row],[UNIT PRICE]]*EOPC[[#This Row],[DIV 4 QTY]]","v":0},null,{"$f":"EOPC[[#This Row],[UNIT PRICE]]*EOPC[[#This Row],[DIV 5 QTY]]","v":0},null,{"$f":"EOPC[[#This Row],[UNIT PRICE]]*EOPC[[#This Row],[DIV 6 QTY]]","v":0},null,{"$f":"EOPC[[#This Row],[UNIT PRICE]]*EOPC[[#This Row],[DIV 7 QTY]]","v":0},null,{"$f":"EOPC[[#This Row],[UNIT PRICE]]*EOPC[[#This Row],[DIV 8 QTY]]","v":0},null,{"$f":"EOPC[[#This Row],[UNIT PRICE]]*EOPC[[#This Row],[DIV 9 QTY]]","v":0},null,{"$f":"EOPC[[#This Row],[UNIT PRICE]]*EOPC[[#This Row],[DIV 10 QTY]]","v":0}]
[null,null,null,{"$f":"EOPC[[#This Row],[DIV 1 QTY]]+EOPC[[#This Row],[DIV 2 QTY]]+EOPC[[#This Row],[DIV 3 QTY]]+EOPC[[#This Row],[DIV 4 QTY]]+EOPC[[#This Row],[DIV 5 QTY]]+EOPC[[#This Row],[DIV 6 QTY]]+EOPC[[#This Row],[DIV 7 QTY]]+EOPC[[#This Row],[DIV 8 QTY]]+EOPC[[#This Row],[DIV 9 QTY]]+EOPC[[#This Row],[DIV 10 QTY]]","v":0},null,0,{"$f":"EOPC[[#This Row],[TOTAL QTY]]*EOPC[[#This Row],[UNIT PRICE]]","v":0},null,{"$f":"EOPC[[#This Row],[UNIT PRICE]]*EOPC[[#This Row],[DIV 1 QTY]]","v":0},null,{"$f":"EOPC[[#This Row],[UNIT PRICE]]*EOPC[[#This Row],[DIV 2 QTY]]","v":0},null,{"$f":"EOPC[[#This Row],[UNIT PRICE]]*EOPC[[#This Row],[DIV 3 QTY]]","v":0},null,{"$f":"EOPC[[#This Row],[UNIT PRICE]]*EOPC[[#This Row],[DIV 4 QTY]]","v":0},null,{"$f":"EOPC[[#This Row],[UNIT PRICE]]*EOPC[[#This Row],[DIV 5 QTY]]","v":0},null,{"$f":"EOPC[[#This Row],[UNIT PRICE]]*EOPC[[#This Row],[DIV 6 QTY]]","v":0},null,{"$f":"EOPC[[#This Row],[UNIT PRICE]]*EOPC[[#This Row],[DIV 7 QTY]]","v":0},null,{"$f":"EOPC[[#This Row],[UNIT PRICE]]*EOPC[[#This Row],[DIV 8 QTY]]","v":0},null,{"$f":"EOPC[[#This Row],[UNIT PRICE]]*EOPC[[#This Row],[DIV 9 QTY]]","v":0},null,{"$f":"EOPC[[#This Row],[UNIT PRICE]]*EOPC[[#This Row],[DIV 10 QTY]]","v":0}]
[null,null,null,{"$f":"EOPC[[#This Row],[DIV 1 QTY]]+EOPC[[#This Row],[DIV 2 QTY]]+EOPC[[#This Row],[DIV 3 QTY]]+EOPC[[#This Row],[DIV 4 QTY]]+EOPC[[#This Row],[DIV 5 QTY]]+EOPC[[#This Row],[DIV 6 QTY]]+EOPC[[#This Row],[DIV 7 QTY]]+EOPC[[#This Row],[DIV 8 QTY]]+EOPC[[#This Row],[DIV 9 QTY]]+EOPC[[#This Row],[DIV 10 QTY]]","v":0},null,0,{"$f":"EOPC[[#This Row],[TOTAL QTY]]*EOPC[[#This Row],[UNIT PRICE]]","v":0},null,{"$f":"EOPC[[#This Row],[UNIT PRICE]]*EOPC[[#This Row],[DIV 1 QTY]]","v":0},null,{"$f":"EOPC[[#This Row],[UNIT PRICE]]*EOPC[[#This Row],[DIV 2 QTY]]","v":0},null,{"$f":"EOPC[[#This Row],[UNIT PRICE]]*EOPC[[#This Row],[DIV 3 QTY]]","v":0},null,{"$f":"EOPC[[#This Row],[UNIT PRICE]]*EOPC[[#This Row],[DIV 4 QTY]]","v":0},null,{"$f":"EOPC[[#This Row],[UNIT PRICE]]*EOPC[[#This Row],[DIV 5 QTY]]","v":0},null,{"$f":"EOPC[[#This Row],[UNIT PRICE]]*EOPC[[#This Row],[DIV 6 QTY]]","v":0},null,{"$f":"EOPC[[#This Row],[UNIT PRICE]]*EOPC[[#This Row],[DIV 7 QTY]]","v":0},null,{"$f":"EOPC[[#This Row],[UNIT PRICE]]*EOPC[[#This Row],[DIV 8 QTY]]","v":0},null,{"$f":"EOPC[[#This Row],[UNIT PRICE]]*EOPC[[#This Row],[DIV 9 QTY]]","v":0},null,{"$f":"EOPC[[#This Row],[UNIT PRICE]]*EOPC[[#This Row],[DIV 10 QTY]]","v":0}]
[null,null,null,{"$f":"EOPC[[#This Row],[DIV 1 QTY]]+EOPC[[#This Row],[DIV 2 QTY]]+EOPC[[#This Row],[DIV 3 QTY]]+EOPC[[#This Row],[DIV 4 QTY]]+EOPC[[#This Row],[DIV 5 QTY]]+EOPC[[#This Row],[DIV 6 QTY]]+EOPC[[#This Row],[DIV 7 QTY]]+EOPC[[#This Row],[DIV 8 QTY]]+EOPC[[#This Row],[DIV 9 QTY]]+EOPC[[#This Row],[DIV 10 QTY]]","v":0},null,0,{"$f":"EOPC[[#This Row],[TOTAL QTY]]*EOPC[[#This Row],[UNIT PRICE]]","v":0},null,{"$f":"EOPC[[#This Row],[UNIT PRICE]]*EOPC[[#This Row],[DIV 1 QTY]]","v":0},null,{"$f":"EOPC[[#This Row],[UNIT PRICE]]*EOPC[[#This Row],[DIV 2 QTY]]","v":0},null,{"$f":"EOPC[[#This Row],[UNIT PRICE]]*EOPC[[#This Row],[DIV 3 QTY]]","v":0},null,{"$f":"EOPC[[#This Row],[UNIT PRICE]]*EOPC[[#This Row],[DIV 4 QTY]]","v":0},null,{"$f":"EOPC[[#This Row],[UNIT PRICE]]*EOPC[[#This Row],[DIV 5 QTY]]","v":0},null,{"$f":"EOPC[[#This Row],[UNIT PRICE]]*EOPC[[#This Row],[DIV 6 QTY]]","v":0},null,{"$f":"EOPC[[#This Row],[UNIT PRICE]]*EOPC[[#This Row],[DIV 7 QTY]]","v":0},null,{"$f":"EOPC[[#This Row],[UNIT PRICE]]*EOPC[[#This Row],[DIV 8 QTY]]","v":0},null,{"$f":"EOPC[[#This Row],[UNIT PRICE]]*EOPC[[#This Row],[DIV 9 QTY]]","v":0},null,{"$f":"EOPC[[#This Row],[UNIT PRICE]]*EOPC[[#This Row],[DIV 10 QTY]]","v":0}]
[null,null,null,{"$f":"EOPC[[#This Row],[DIV 1 QTY]]+EOPC[[#This Row],[DIV 2 QTY]]+EOPC[[#This Row],[DIV 3 QTY]]+EOPC[[#This Row],[DIV 4 QTY]]+EOPC[[#This Row],[DIV 5 QTY]]+EOPC[[#This Row],[DIV 6 QTY]]+EOPC[[#This Row],[DIV 7 QTY]]+EOPC[[#This Row],[DIV 8 QTY]]+EOPC[[#This Row],[DIV 9 QTY]]+EOPC[[#This Row],[DIV 10 QTY]]","v":0},null,0,{"$f":"EOPC[[#This Row],[TOTAL QTY]]*EOPC[[#This Row],[UNIT PRICE]]","v":0},null,{"$f":"EOPC[[#This Row],[UNIT PRICE]]*EOPC[[#This Row],[DIV 1 QTY]]","v":0},null,{"$f":"EOPC[[#This Row],[UNIT PRICE]]*EOPC[[#This Row],[DIV 2 QTY]]","v":0},null,{"$f":"EOPC[[#This Row],[UNIT PRICE]]*EOPC[[#This Row],[DIV 3 QTY]]","v":0},null,{"$f":"EOPC[[#This Row],[UNIT PRICE]]*EOPC[[#This Row],[DIV 4 QTY]]","v":0},null,{"$f":"EOPC[[#This Row],[UNIT PRICE]]*EOPC[[#This Row],[DIV 5 QTY]]","v":0},null,{"$f":"EOPC[[#This Row],[UNIT PRICE]]*EOPC[[#This Row],[DIV 6 QTY]]","v":0},null,{"$f":"EOPC[[#This Row],[UNIT PRICE]]*EOPC[[#This Row],[DIV 7 QTY]]","v":0},null,{"$f":"EOPC[[#This Row],[UNIT PRICE]]*EOPC[[#This Row],[DIV 8 QTY]]","v":0},null,{"$f":"EOPC[[#This Row],[UNIT PRICE]]*EOPC[[#This Row],[DIV 9 QTY]]","v":0},null,{"$f":"EOPC[[#This Row],[UNIT PRICE]]*EOPC[[#This Row],[DIV 10 QTY]]","v":0}]
[null,null,null,{"$f":"EOPC[[#This Row],[DIV 1 QTY]]+EOPC[[#This Row],[DIV 2 QTY]]+EOPC[[#This Row],[DIV 3 QTY]]+EOPC[[#This Row],[DIV 4 QTY]]+EOPC[[#This Row],[DIV 5 QTY]]+EOPC[[#This Row],[DIV 6 QTY]]+EOPC[[#This Row],[DIV 7 QTY]]+EOPC[[#This Row],[DIV 8 QTY]]+EOPC[[#This Row],[DIV 9 QTY]]+EOPC[[#This Row],[DIV 10 QTY]]","v":0},null,0,{"$f":"EOPC[[#This Row],[TOTAL QTY]]*EOPC[[#This Row],[UNIT PRICE]]","v":0},null,{"$f":"EOPC[[#This Row],[UNIT PRICE]]*EOPC[[#This Row],[DIV 1 QTY]]","v":0},null,{"$f":"EOPC[[#This Row],[UNIT PRICE]]*EOPC[[#This Row],[DIV 2 QTY]]","v":0},null,{"$f":"EOPC[[#This Row],[UNIT PRICE]]*EOPC[[#This Row],[DIV 3 QTY]]","v":0},null,{"$f":"EOPC[[#This Row],[UNIT PRICE]]*EOPC[[#This Row],[DIV 4 QTY]]","v":0},null,{"$f":"EOPC[[#This Row],[UNIT PRICE]]*EOPC[[#This Row],[DIV 5 QTY]]","v":0},null,{"$f":"EOPC[[#This Row],[UNIT PRICE]]*EOPC[[#This Row],[DIV 6 QTY]]","v":0},null,{"$f":"EOPC[[#This Row],[UNIT PRICE]]*EOPC[[#This Row],[DIV 7 QTY]]","v":0},null,{"$f":"EOPC[[#This Row],[UNIT PRICE]]*EOPC[[#This Row],[DIV 8 QTY]]","v":0},null,{"$f":"EOPC[[#This Row],[UNIT PRICE]]*EOPC[[#This Row],[DIV 9 QTY]]","v":0},null,{"$f":"EOPC[[#This Row],[UNIT PRICE]]*EOPC[[#This Row],[DIV 10 QTY]]","v":0}]
[null,null,null,{"$f":"EOPC[[#This Row],[DIV 1 QTY]]+EOPC[[#This Row],[DIV 2 QTY]]+EOPC[[#This Row],[DIV 3 QTY]]+EOPC[[#This Row],[DIV 4 QTY]]+EOPC[[#This Row],[DIV 5 QTY]]+EOPC[[#This Row],[DIV 6 QTY]]+EOPC[[#This Row],[DIV 7 QTY]]+EOPC[[#This Row],[DIV 8 QTY]]+EOPC[[#This Row],[DIV 9 QTY]]+EOPC[[#This Row],[DIV 10 QTY]]","v":0},null,0,{"$f":"EOPC[[#This Row],[TOTAL QTY]]*EOPC[[#This Row],[UNIT PRICE]]","v":0},null,{"$f":"EOPC[[#This Row],[UNIT PRICE]]*EOPC[[#This Row],[DIV 1 QTY]]","v":0},null,{"$f":"EOPC[[#This Row],[UNIT PRICE]]*EOPC[[#This Row],[DIV 2 QTY]]","v":0},null,{"$f":"EOPC[[#This Row],[UNIT PRICE]]*EOPC[[#This Row],[DIV 3 QTY]]","v":0},null,{"$f":"EOPC[[#This Row],[UNIT PRICE]]*EOPC[[#This Row],[DIV 4 QTY]]","v":0},null,{"$f":"EOPC[[#This Row],[UNIT PRICE]]*EOPC[[#This Row],[DIV 5 QTY]]","v":0},null,{"$f":"EOPC[[#This Row],[UNIT PRICE]]*EOPC[[#This Row],[DIV 6 QTY]]","v":0},null,{"$f":"EOPC[[#This Row],[UNIT PRICE]]*EOPC[[#This Row],[DIV 7 QTY]]","v":0},null,{"$f":"EOPC[[#This Row],[UNIT PRICE]]*EOPC[[#This Row],[DIV 8 QTY]]","v":0},null,{"$f":"EOPC[[#This Row],[UNIT PRICE]]*EOPC[[#This Row],[DIV 9 QTY]]","v":0},null,{"$f":"EOPC[[#This Row],[UNIT PRICE]]*EOPC[[#This Row],[DIV 10 QTY]]","v":0}]
[null,null,null,{"$f":"EOPC[[#This Row],[DIV 1 QTY]]+EOPC[[#This Row],[DIV 2 QTY]]+EOPC[[#This Row],[DIV 3 QTY]]+EOPC[[#This Row],[DIV 4 QTY]]+EOPC[[#This Row],[DIV 5 QTY]]+EOPC[[#This Row],[DIV 6 QTY]]+EOPC[[#This Row],[DIV 7 QTY]]+EOPC[[#This Row],[DIV 8 QTY]]+EOPC[[#This Row],[DIV 9 QTY]]+EOPC[[#This Row],[DIV 10 QTY]]","v":0},null,0,{"$f":"EOPC[[#This Row],[TOTAL QTY]]*EOPC[[#This Row],[UNIT PRICE]]","v":0},null,{"$f":"EOPC[[#This Row],[UNIT PRICE]]*EOPC[[#This Row],[DIV 1 QTY]]","v":0},null,{"$f":"EOPC[[#This Row],[UNIT PRICE]]*EOPC[[#This Row],[DIV 2 QTY]]","v":0},null,{"$f":"EOPC[[#This Row],[UNIT PRICE]]*EOPC[[#This Row],[DIV 3 QTY]]","v":0},null,{"$f":"EOPC[[#This Row],[UNIT PRICE]]*EOPC[[#This Row],[DIV 4 QTY]]","v":0},null,{"$f":"EOPC[[#This Row],[UNIT PRICE]]*EOPC[[#This Row],[DIV 5 QTY]]","v":0},null,{"$f":"EOPC[[#This Row],[UNIT PRICE]]*EOPC[[#This Row],[DIV 6 QTY]]","v":0},null,{"$f":"EOPC[[#This Row],[UNIT PRICE]]*EOPC[[#This Row],[DIV 7 QTY]]","v":0},null,{"$f":"EOPC[[#This Row],[UNIT PRICE]]*EOPC[[#This Row],[DIV 8 QTY]]","v":0},null,{"$f":"EOPC[[#This Row],[UNIT PRICE]]*EOPC[[#This Row],[DIV 9 QTY]]","v":0},null,{"$f":"EOPC[[#This Row],[UNIT PRICE]]*EOPC[[#This Row],[DIV 10 QTY]]","v":0}]
[null,null,null,{"$f":"EOPC[[#This Row],[DIV 1 QTY]]+EOPC[[#This Row],[DIV 2 QTY]]+EOPC[[#This Row],[DIV 3 QTY]]+EOPC[[#This Row],[DIV 4 QTY]]+EOPC[[#This Row],[DIV 5 QTY]]+EOPC[[#This Row],[DIV 6 QTY]]+EOPC[[#This Row],[DIV 7 QTY]]+EOPC[[#This Row],[DIV 8 QTY]]+EOPC[[#This Row],[DIV 9 QTY]]+EOPC[[#This Row],[DIV 10 QTY]]","v":0},null,0,{"$f":"EOPC[[#This Row],[TOTAL QTY]]*EOPC[[#This Row],[UNIT PRICE]]","v":0},null,{"$f":"EOPC[[#This Row],[UNIT PRICE]]*EOPC[[#This Row],[DIV 1 QTY]]","v":0},null,{"$f":"EOPC[[#This Row],[UNIT PRICE]]*EOPC[[#This Row],[DIV 2 QTY]]","v":0},null,{"$f":"EOPC[[#This Row],[UNIT PRICE]]*EOPC[[#This Row],[DIV 3 QTY]]","v":0},null,{"$f":"EOPC[[#This Row],[UNIT PRICE]]*EOPC[[#This Row],[DIV 4 QTY]]","v":0},null,{"$f":"EOPC[[#This Row],[UNIT PRICE]]*EOPC[[#This Row],[DIV 5 QTY]]","v":0},null,{"$f":"EOPC[[#This Row],[UNIT PRICE]]*EOPC[[#This Row],[DIV 6 QTY]]","v":0},null,{"$f":"EOPC[[#This Row],[UNIT PRICE]]*EOPC[[#This Row],[DIV 7 QTY]]","v":0},null,{"$f":"EOPC[[#This Row],[UNIT PRICE]]*EOPC[[#This Row],[DIV 8 QTY]]","v":0},null,{"$f":"EOPC[[#This Row],[UNIT PRICE]]*EOPC[[#This Row],[DIV 9 QTY]]","v":0},null,{"$f":"EOPC[[#This Row],[UNIT PRICE]]*EOPC[[#This Row],[DIV 10 QTY]]","v":0}]
[null,null,null,{"$f":"EOPC[[#This Row],[DIV 1 QTY]]+EOPC[[#This Row],[DIV 2 QTY]]+EOPC[[#This Row],[DIV 3 QTY]]+EOPC[[#This Row],[DIV 4 QTY]]+EOPC[[#This Row],[DIV 5 QTY]]+EOPC[[#This Row],[DIV 6 QTY]]+EOPC[[#This Row],[DIV 7 QTY]]+EOPC[[#This Row],[DIV 8 QTY]]+EOPC[[#This Row],[DIV 9 QTY]]+EOPC[[#This Row],[DIV 10 QTY]]","v":0},null,0,{"$f":"EOPC[[#This Row],[TOTAL QTY]]*EOPC[[#This Row],[UNIT PRICE]]","v":0},null,{"$f":"EOPC[[#This Row],[UNIT PRICE]]*EOPC[[#This Row],[DIV 1 QTY]]","v":0},null,{"$f":"EOPC[[#This Row],[UNIT PRICE]]*EOPC[[#This Row],[DIV 2 QTY]]","v":0},null,{"$f":"EOPC[[#This Row],[UNIT PRICE]]*EOPC[[#This Row],[DIV 3 QTY]]","v":0},null,{"$f":"EOPC[[#This Row],[UNIT PRICE]]*EOPC[[#This Row],[DIV 4 QTY]]","v":0},null,{"$f":"EOPC[[#This Row],[UNIT PRICE]]*EOPC[[#This Row],[DIV 5 QTY]]","v":0},null,{"$f":"EOPC[[#This Row],[UNIT PRICE]]*EOPC[[#This Row],[DIV 6 QTY]]","v":0},null,{"$f":"EOPC[[#This Row],[UNIT PRICE]]*EOPC[[#This Row],[DIV 7 QTY]]","v":0},null,{"$f":"EOPC[[#This Row],[UNIT PRICE]]*EOPC[[#This Row],[DIV 8 QTY]]","v":0},null,{"$f":"EOPC[[#This Row],[UNIT PRICE]]*EOPC[[#This Row],[DIV 9 QTY]]","v":0},null,{"$f":"EOPC[[#This Row],[UNIT PRICE]]*EOPC[[#This Row],[DIV 10 QTY]]","v":0}]
[null,null,null,{"$f":"EOPC[[#This Row],[DIV 1 QTY]]+EOPC[[#This Row],[DIV 2 QTY]]+EOPC[[#This Row],[DIV 3 QTY]]+EOPC[[#This Row],[DIV 4 QTY]]+EOPC[[#This Row],[DIV 5 QTY]]+EOPC[[#This Row],[DIV 6 QTY]]+EOPC[[#This Row],[DIV 7 QTY]]+EOPC[[#This Row],[DIV 8 QTY]]+EOPC[[#This Row],[DIV 9 QTY]]+EOPC[[#This Row],[DIV 10 QTY]]","v":0},null,0,{"$f":"EOPC[[#This Row],[TOTAL QTY]]*EOPC[[#This Row],[UNIT PRICE]]","v":0},null,{"$f":"EOPC[[#This Row],[UNIT PRICE]]*EOPC[[#This Row],[DIV 1 QTY]]","v":0},null,{"$f":"EOPC[[#This Row],[UNIT PRICE]]*EOPC[[#This Row],[DIV 2 QTY]]","v":0},null,{"$f":"EOPC[[#This Row],[UNIT PRICE]]*EOPC[[#This Row],[DIV 3 QTY]]","v":0},null,{"$f":"EOPC[[#This Row],[UNIT PRICE]]*EOPC[[#This Row],[DIV 4 QTY]]","v":0},null,{"$f":"EOPC[[#This Row],[UNIT PRICE]]*EOPC[[#This Row],[DIV 5 QTY]]","v":0},null,{"$f":"EOPC[[#This Row],[UNIT PRICE]]*EOPC[[#This Row],[DIV 6 QTY]]","v":0},null,{"$f":"EOPC[[#This Row],[UNIT PRICE]]*EOPC[[#This Row],[DIV 7 QTY]]","v":0},null,{"$f":"EOPC[[#This Row],[UNIT PRICE]]*EOPC[[#This Row],[DIV 8 QTY]]","v":0},null,{"$f":"EOPC[[#This Row],[UNIT PRICE]]*EOPC[[#This Row],[DIV 9 QTY]]","v":0},null,{"$f":"EOPC[[#This Row],[UNIT PRICE]]*EOPC[[#This Row],[DIV 10 QTY]]","v":0}]
[null,null,null,{"$f":"EOPC[[#This Row],[DIV 1 QTY]]+EOPC[[#This Row],[DIV 2 QTY]]+EOPC[[#This Row],[DIV 3 QTY]]+EOPC[[#This Row],[DIV 4 QTY]]+EOPC[[#This Row],[DIV 5 QTY]]+EOPC[[#This Row],[DIV 6 QTY]]+EOPC[[#This Row],[DIV 7 QTY]]+EOPC[[#This Row],[DIV 8 QTY]]+EOPC[[#This Row],[DIV 9 QTY]]+EOPC[[#This Row],[DIV 10 QTY]]","v":0},null,0,{"$f":"EOPC[[#This Row],[TOTAL QTY]]*EOPC[[#This Row],[UNIT PRICE]]","v":0},null,{"$f":"EOPC[[#This Row],[UNIT PRICE]]*EOPC[[#This Row],[DIV 1 QTY]]","v":0},null,{"$f":"EOPC[[#This Row],[UNIT PRICE]]*EOPC[[#This Row],[DIV 2 QTY]]","v":0},null,{"$f":"EOPC[[#This Row],[UNIT PRICE]]*EOPC[[#This Row],[DIV 3 QTY]]","v":0},null,{"$f":"EOPC[[#This Row],[UNIT PRICE]]*EOPC[[#This Row],[DIV 4 QTY]]","v":0},null,{"$f":"EOPC[[#This Row],[UNIT PRICE]]*EOPC[[#This Row],[DIV 5 QTY]]","v":0},null,{"$f":"EOPC[[#This Row],[UNIT PRICE]]*EOPC[[#This Row],[DIV 6 QTY]]","v":0},null,{"$f":"EOPC[[#This Row],[UNIT PRICE]]*EOPC[[#This Row],[DIV 7 QTY]]","v":0},null,{"$f":"EOPC[[#This Row],[UNIT PRICE]]*EOPC[[#This Row],[DIV 8 QTY]]","v":0},null,{"$f":"EOPC[[#This Row],[UNIT PRICE]]*EOPC[[#This Row],[DIV 9 QTY]]","v":0},null,{"$f":"EOPC[[#This Row],[UNIT PRICE]]*EOPC[[#This Row],[DIV 10 QTY]]","v":0}]
[null,null,null,{"$f":"EOPC[[#This Row],[DIV 1 QTY]]+EOPC[[#This Row],[DIV 2 QTY]]+EOPC[[#This Row],[DIV 3 QTY]]+EOPC[[#This Row],[DIV 4 QTY]]+EOPC[[#This Row],[DIV 5 QTY]]+EOPC[[#This Row],[DIV 6 QTY]]+EOPC[[#This Row],[DIV 7 QTY]]+EOPC[[#This Row],[DIV 8 QTY]]+EOPC[[#This Row],[DIV 9 QTY]]+EOPC[[#This Row],[DIV 10 QTY]]","v":0},null,0,{"$f":"EOPC[[#This Row],[TOTAL QTY]]*EOPC[[#This Row],[UNIT PRICE]]","v":0},null,{"$f":"EOPC[[#This Row],[UNIT PRICE]]*EOPC[[#This Row],[DIV 1 QTY]]","v":0},null,{"$f":"EOPC[[#This Row],[UNIT PRICE]]*EOPC[[#This Row],[DIV 2 QTY]]","v":0},null,{"$f":"EOPC[[#This Row],[UNIT PRICE]]*EOPC[[#This Row],[DIV 3 QTY]]","v":0},null,{"$f":"EOPC[[#This Row],[UNIT PRICE]]*EOPC[[#This Row],[DIV 4 QTY]]","v":0},null,{"$f":"EOPC[[#This Row],[UNIT PRICE]]*EOPC[[#This Row],[DIV 5 QTY]]","v":0},null,{"$f":"EOPC[[#This Row],[UNIT PRICE]]*EOPC[[#This Row],[DIV 6 QTY]]","v":0},null,{"$f":"EOPC[[#This Row],[UNIT PRICE]]*EOPC[[#This Row],[DIV 7 QTY]]","v":0},null,{"$f":"EOPC[[#This Row],[UNIT PRICE]]*EOPC[[#This Row],[DIV 8 QTY]]","v":0},null,{"$f":"EOPC[[#This Row],[UNIT PRICE]]*EOPC[[#This Row],[DIV 9 QTY]]","v":0},null,{"$f":"EOPC[[#This Row],[UNIT PRICE]]*EOPC[[#This Row],[DIV 10 QTY]]","v":0}]
[null,null,null,{"$f":"EOPC[[#This Row],[DIV 1 QTY]]+EOPC[[#This Row],[DIV 2 QTY]]+EOPC[[#This Row],[DIV 3 QTY]]+EOPC[[#This Row],[DIV 4 QTY]]+EOPC[[#This Row],[DIV 5 QTY]]+EOPC[[#This Row],[DIV 6 QTY]]+EOPC[[#This Row],[DIV 7 QTY]]+EOPC[[#This Row],[DIV 8 QTY]]+EOPC[[#This Row],[DIV 9 QTY]]+EOPC[[#This Row],[DIV 10 QTY]]","v":0},null,0,{"$f":"EOPC[[#This Row],[TOTAL QTY]]*EOPC[[#This Row],[UNIT PRICE]]","v":0},null,{"$f":"EOPC[[#This Row],[UNIT PRICE]]*EOPC[[#This Row],[DIV 1 QTY]]","v":0},null,{"$f":"EOPC[[#This Row],[UNIT PRICE]]*EOPC[[#This Row],[DIV 2 QTY]]","v":0},null,{"$f":"EOPC[[#This Row],[UNIT PRICE]]*EOPC[[#This Row],[DIV 3 QTY]]","v":0},null,{"$f":"EOPC[[#This Row],[UNIT PRICE]]*EOPC[[#This Row],[DIV 4 QTY]]","v":0},null,{"$f":"EOPC[[#This Row],[UNIT PRICE]]*EOPC[[#This Row],[DIV 5 QTY]]","v":0},null,{"$f":"EOPC[[#This Row],[UNIT PRICE]]*EOPC[[#This Row],[DIV 6 QTY]]","v":0},null,{"$f":"EOPC[[#This Row],[UNIT PRICE]]*EOPC[[#This Row],[DIV 7 QTY]]","v":0},null,{"$f":"EOPC[[#This Row],[UNIT PRICE]]*EOPC[[#This Row],[DIV 8 QTY]]","v":0},null,{"$f":"EOPC[[#This Row],[UNIT PRICE]]*EOPC[[#This Row],[DIV 9 QTY]]","v":0},null,{"$f":"EOPC[[#This Row],[UNIT PRICE]]*EOPC[[#This Row],[DIV 10 QTY]]","v":0}]
[null,null,null,{"$f":"EOPC[[#This Row],[DIV 1 QTY]]+EOPC[[#This Row],[DIV 2 QTY]]+EOPC[[#This Row],[DIV 3 QTY]]+EOPC[[#This Row],[DIV 4 QTY]]+EOPC[[#This Row],[DIV 5 QTY]]+EOPC[[#This Row],[DIV 6 QTY]]+EOPC[[#This Row],[DIV 7 QTY]]+EOPC[[#This Row],[DIV 8 QTY]]+EOPC[[#This Row],[DIV 9 QTY]]+EOPC[[#This Row],[DIV 10 QTY]]","v":0},null,0,{"$f":"EOPC[[#This Row],[TOTAL QTY]]*EOPC[[#This Row],[UNIT PRICE]]","v":0},null,{"$f":"EOPC[[#This Row],[UNIT PRICE]]*EOPC[[#This Row],[DIV 1 QTY]]","v":0},null,{"$f":"EOPC[[#This Row],[UNIT PRICE]]*EOPC[[#This Row],[DIV 2 QTY]]","v":0},null,{"$f":"EOPC[[#This Row],[UNIT PRICE]]*EOPC[[#This Row],[DIV 3 QTY]]","v":0},null,{"$f":"EOPC[[#This Row],[UNIT PRICE]]*EOPC[[#This Row],[DIV 4 QTY]]","v":0},null,{"$f":"EOPC[[#This Row],[UNIT PRICE]]*EOPC[[#This Row],[DIV 5 QTY]]","v":0},null,{"$f":"EOPC[[#This Row],[UNIT PRICE]]*EOPC[[#This Row],[DIV 6 QTY]]","v":0},null,{"$f":"EOPC[[#This Row],[UNIT PRICE]]*EOPC[[#This Row],[DIV 7 QTY]]","v":0},null,{"$f":"EOPC[[#This Row],[UNIT PRICE]]*EOPC[[#This Row],[DIV 8 QTY]]","v":0},null,{"$f":"EOPC[[#This Row],[UNIT PRICE]]*EOPC[[#This Row],[DIV 9 QTY]]","v":0},null,{"$f":"EOPC[[#This Row],[UNIT PRICE]]*EOPC[[#This Row],[DIV 10 QTY]]","v":0}]
[null,null,null,{"$f":"EOPC[[#This Row],[DIV 1 QTY]]+EOPC[[#This Row],[DIV 2 QTY]]+EOPC[[#This Row],[DIV 3 QTY]]+EOPC[[#This Row],[DIV 4 QTY]]+EOPC[[#This Row],[DIV 5 QTY]]+EOPC[[#This Row],[DIV 6 QTY]]+EOPC[[#This Row],[DIV 7 QTY]]+EOPC[[#This Row],[DIV 8 QTY]]+EOPC[[#This Row],[DIV 9 QTY]]+EOPC[[#This Row],[DIV 10 QTY]]","v":0},null,0,{"$f":"EOPC[[#This Row],[TOTAL QTY]]*EOPC[[#This Row],[UNIT PRICE]]","v":0},null,{"$f":"EOPC[[#This Row],[UNIT PRICE]]*EOPC[[#This Row],[DIV 1 QTY]]","v":0},null,{"$f":"EOPC[[#This Row],[UNIT PRICE]]*EOPC[[#This Row],[DIV 2 QTY]]","v":0},null,{"$f":"EOPC[[#This Row],[UNIT PRICE]]*EOPC[[#This Row],[DIV 3 QTY]]","v":0},null,{"$f":"EOPC[[#This Row],[UNIT PRICE]]*EOPC[[#This Row],[DIV 4 QTY]]","v":0},null,{"$f":"EOPC[[#This Row],[UNIT PRICE]]*EOPC[[#This Row],[DIV 5 QTY]]","v":0},null,{"$f":"EOPC[[#This Row],[UNIT PRICE]]*EOPC[[#This Row],[DIV 6 QTY]]","v":0},null,{"$f":"EOPC[[#This Row],[UNIT PRICE]]*EOPC[[#This Row],[DIV 7 QTY]]","v":0},null,{"$f":"EOPC[[#This Row],[UNIT PRICE]]*EOPC[[#This Row],[DIV 8 QTY]]","v":0},null,{"$f":"EOPC[[#This Row],[UNIT PRICE]]*EOPC[[#This Row],[DIV 9 QTY]]","v":0},null,{"$f":"EOPC[[#This Row],[UNIT PRICE]]*EOPC[[#This Row],[DIV 10 QTY]]","v":0}]
[null,null,null,{"$f":"EOPC[[#This Row],[DIV 1 QTY]]+EOPC[[#This Row],[DIV 2 QTY]]+EOPC[[#This Row],[DIV 3 QTY]]+EOPC[[#This Row],[DIV 4 QTY]]+EOPC[[#This Row],[DIV 5 QTY]]+EOPC[[#This Row],[DIV 6 QTY]]+EOPC[[#This Row],[DIV 7 QTY]]+EOPC[[#This Row],[DIV 8 QTY]]+EOPC[[#This Row],[DIV 9 QTY]]+EOPC[[#This Row],[DIV 10 QTY]]","v":0},null,0,{"$f":"EOPC[[#This Row],[TOTAL QTY]]*EOPC[[#This Row],[UNIT PRICE]]","v":0},null,{"$f":"EOPC[[#This Row],[UNIT PRICE]]*EOPC[[#This Row],[DIV 1 QTY]]","v":0},null,{"$f":"EOPC[[#This Row],[UNIT PRICE]]*EOPC[[#This Row],[DIV 2 QTY]]","v":0},null,{"$f":"EOPC[[#This Row],[UNIT PRICE]]*EOPC[[#This Row],[DIV 3 QTY]]","v":0},null,{"$f":"EOPC[[#This Row],[UNIT PRICE]]*EOPC[[#This Row],[DIV 4 QTY]]","v":0},null,{"$f":"EOPC[[#This Row],[UNIT PRICE]]*EOPC[[#This Row],[DIV 5 QTY]]","v":0},null,{"$f":"EOPC[[#This Row],[UNIT PRICE]]*EOPC[[#This Row],[DIV 6 QTY]]","v":0},null,{"$f":"EOPC[[#This Row],[UNIT PRICE]]*EOPC[[#This Row],[DIV 7 QTY]]","v":0},null,{"$f":"EOPC[[#This Row],[UNIT PRICE]]*EOPC[[#This Row],[DIV 8 QTY]]","v":0},null,{"$f":"EOPC[[#This Row],[UNIT PRICE]]*EOPC[[#This Row],[DIV 9 QTY]]","v":0},null,{"$f":"EOPC[[#This Row],[UNIT PRICE]]*EOPC[[#This Row],[DIV 10 QTY]]","v":0}]
[null,null,null,{"$f":"EOPC[[#This Row],[DIV 1 QTY]]+EOPC[[#This Row],[DIV 2 QTY]]+EOPC[[#This Row],[DIV 3 QTY]]+EOPC[[#This Row],[DIV 4 QTY]]+EOPC[[#This Row],[DIV 5 QTY]]+EOPC[[#This Row],[DIV 6 QTY]]+EOPC[[#This Row],[DIV 7 QTY]]+EOPC[[#This Row],[DIV 8 QTY]]+EOPC[[#This Row],[DIV 9 QTY]]+EOPC[[#This Row],[DIV 10 QTY]]","v":0},null,0,{"$f":"EOPC[[#This Row],[TOTAL QTY]]*EOPC[[#This Row],[UNIT PRICE]]","v":0},null,{"$f":"EOPC[[#This Row],[UNIT PRICE]]*EOPC[[#This Row],[DIV 1 QTY]]","v":0},null,{"$f":"EOPC[[#This Row],[UNIT PRICE]]*EOPC[[#This Row],[DIV 2 QTY]]","v":0},null,{"$f":"EOPC[[#This Row],[UNIT PRICE]]*EOPC[[#This Row],[DIV 3 QTY]]","v":0},null,{"$f":"EOPC[[#This Row],[UNIT PRICE]]*EOPC[[#This Row],[DIV 4 QTY]]","v":0},null,{"$f":"EOPC[[#This Row],[UNIT PRICE]]*EOPC[[#This Row],[DIV 5 QTY]]","v":0},null,{"$f":"EOPC[[#This Row],[UNIT PRICE]]*EOPC[[#This Row],[DIV 6 QTY]]","v":0},null,{"$f":"EOPC[[#This Row],[UNIT PRICE]]*EOPC[[#This Row],[DIV 7 QTY]]","v":0},null,{"$f":"EOPC[[#This Row],[UNIT PRICE]]*EOPC[[#This Row],[DIV 8 QTY]]","v":0},null,{"$f":"EOPC[[#This Row],[UNIT PRICE]]*EOPC[[#This Row],[DIV 9 QTY]]","v":0},null,{"$f":"EOPC[[#This Row],[UNIT PRICE]]*EOPC[[#This Row],[DIV 10 QTY]]","v":0}]
[null,null,null,{"$f":"EOPC[[#This Row],[DIV 1 QTY]]+EOPC[[#This Row],[DIV 2 QTY]]+EOPC[[#This Row],[DIV 3 QTY]]+EOPC[[#This Row],[DIV 4 QTY]]+EOPC[[#This Row],[DIV 5 QTY]]+EOPC[[#This Row],[DIV 6 QTY]]+EOPC[[#This Row],[DIV 7 QTY]]+EOPC[[#This Row],[DIV 8 QTY]]+EOPC[[#This Row],[DIV 9 QTY]]+EOPC[[#This Row],[DIV 10 QTY]]","v":0},null,0,{"$f":"EOPC[[#This Row],[TOTAL QTY]]*EOPC[[#This Row],[UNIT PRICE]]","v":0},null,{"$f":"EOPC[[#This Row],[UNIT PRICE]]*EOPC[[#This Row],[DIV 1 QTY]]","v":0},null,{"$f":"EOPC[[#This Row],[UNIT PRICE]]*EOPC[[#This Row],[DIV 2 QTY]]","v":0},null,{"$f":"EOPC[[#This Row],[UNIT PRICE]]*EOPC[[#This Row],[DIV 3 QTY]]","v":0},null,{"$f":"EOPC[[#This Row],[UNIT PRICE]]*EOPC[[#This Row],[DIV 4 QTY]]","v":0},null,{"$f":"EOPC[[#This Row],[UNIT PRICE]]*EOPC[[#This Row],[DIV 5 QTY]]","v":0},null,{"$f":"EOPC[[#This Row],[UNIT PRICE]]*EOPC[[#This Row],[DIV 6 QTY]]","v":0},null,{"$f":"EOPC[[#This Row],[UNIT PRICE]]*EOPC[[#This Row],[DIV 7 QTY]]","v":0},null,{"$f":"EOPC[[#This Row],[UNIT PRICE]]*EOPC[[#This Row],[DIV 8 QTY]]","v":0},null,{"$f":"EOPC[[#This Row],[UNIT PRICE]]*EOPC[[#This Row],[DIV 9 QTY]]","v":0},null,{"$f":"EOPC[[#This Row],[UNIT PRICE]]*EOPC[[#This Row],[DIV 10 QTY]]","v":0}]
[null,null,null,{"$f":"EOPC[[#This Row],[DIV 1 QTY]]+EOPC[[#This Row],[DIV 2 QTY]]+EOPC[[#This Row],[DIV 3 QTY]]+EOPC[[#This Row],[DIV 4 QTY]]+EOPC[[#This Row],[DIV 5 QTY]]+EOPC[[#This Row],[DIV 6 QTY]]+EOPC[[#This Row],[DIV 7 QTY]]+EOPC[[#This Row],[DIV 8 QTY]]+EOPC[[#This Row],[DIV 9 QTY]]+EOPC[[#This Row],[DIV 10 QTY]]","v":0},null,0,{"$f":"EOPC[[#This Row],[TOTAL QTY]]*EOPC[[#This Row],[UNIT PRICE]]","v":0},null,{"$f":"EOPC[[#This Row],[UNIT PRICE]]*EOPC[[#This Row],[DIV 1 QTY]]","v":0},null,{"$f":"EOPC[[#This Row],[UNIT PRICE]]*EOPC[[#This Row],[DIV 2 QTY]]","v":0},null,{"$f":"EOPC[[#This Row],[UNIT PRICE]]*EOPC[[#This Row],[DIV 3 QTY]]","v":0},null,{"$f":"EOPC[[#This Row],[UNIT PRICE]]*EOPC[[#This Row],[DIV 4 QTY]]","v":0},null,{"$f":"EOPC[[#This Row],[UNIT PRICE]]*EOPC[[#This Row],[DIV 5 QTY]]","v":0},null,{"$f":"EOPC[[#This Row],[UNIT PRICE]]*EOPC[[#This Row],[DIV 6 QTY]]","v":0},null,{"$f":"EOPC[[#This Row],[UNIT PRICE]]*EOPC[[#This Row],[DIV 7 QTY]]","v":0},null,{"$f":"EOPC[[#This Row],[UNIT PRICE]]*EOPC[[#This Row],[DIV 8 QTY]]","v":0},null,{"$f":"EOPC[[#This Row],[UNIT PRICE]]*EOPC[[#This Row],[DIV 9 QTY]]","v":0},null,{"$f":"EOPC[[#This Row],[UNIT PRICE]]*EOPC[[#This Row],[DIV 10 QTY]]","v":0}]
[null,null,null,{"$f":"EOPC[[#This Row],[DIV 1 QTY]]+EOPC[[#This Row],[DIV 2 QTY]]+EOPC[[#This Row],[DIV 3 QTY]]+EOPC[[#This Row],[DIV 4 QTY]]+EOPC[[#This Row],[DIV 5 QTY]]+EOPC[[#This Row],[DIV 6 QTY]]+EOPC[[#This Row],[DIV 7 QTY]]+EOPC[[#This Row],[DIV 8 QTY]]+EOPC[[#This Row],[DIV 9 QTY]]+EOPC[[#This Row],[DIV 10 QTY]]","v":0},null,0,{"$f":"EOPC[[#This Row],[TOTAL QTY]]*EOPC[[#This Row],[UNIT PRICE]]","v":0},null,{"$f":"EOPC[[#This Row],[UNIT PRICE]]*EOPC[[#This Row],[DIV 1 QTY]]","v":0},null,{"$f":"EOPC[[#This Row],[UNIT PRICE]]*EOPC[[#This Row],[DIV 2 QTY]]","v":0},null,{"$f":"EOPC[[#This Row],[UNIT PRICE]]*EOPC[[#This Row],[DIV 3 QTY]]","v":0},null,{"$f":"EOPC[[#This Row],[UNIT PRICE]]*EOPC[[#This Row],[DIV 4 QTY]]","v":0},null,{"$f":"EOPC[[#This Row],[UNIT PRICE]]*EOPC[[#This Row],[DIV 5 QTY]]","v":0},null,{"$f":"EOPC[[#This Row],[UNIT PRICE]]*EOPC[[#This Row],[DIV 6 QTY]]","v":0},null,{"$f":"EOPC[[#This Row],[UNIT PRICE]]*EOPC[[#This Row],[DIV 7 QTY]]","v":0},null,{"$f":"EOPC[[#This Row],[UNIT PRICE]]*EOPC[[#This Row],[DIV 8 QTY]]","v":0},null,{"$f":"EOPC[[#This Row],[UNIT PRICE]]*EOPC[[#This Row],[DIV 9 QTY]]","v":0},null,{"$f":"EOPC[[#This Row],[UNIT PRICE]]*EOPC[[#This Row],[DIV 10 QTY]]","v":0}]
[null,null,null,{"$f":"EOPC[[#This Row],[DIV 1 QTY]]+EOPC[[#This Row],[DIV 2 QTY]]+EOPC[[#This Row],[DIV 3 QTY]]+EOPC[[#This Row],[DIV 4 QTY]]+EOPC[[#This Row],[DIV 5 QTY]]+EOPC[[#This Row],[DIV 6 QTY]]+EOPC[[#This Row],[DIV 7 QTY]]+EOPC[[#This Row],[DIV 8 QTY]]+EOPC[[#This Row],[DIV 9 QTY]]+EOPC[[#This Row],[DIV 10 QTY]]","v":0},null,0,{"$f":"EOPC[[#This Row],[TOTAL QTY]]*EOPC[[#This Row],[UNIT PRICE]]","v":0},null,{"$f":"EOPC[[#This Row],[UNIT PRICE]]*EOPC[[#This Row],[DIV 1 QTY]]","v":0},null,{"$f":"EOPC[[#This Row],[UNIT PRICE]]*EOPC[[#This Row],[DIV 2 QTY]]","v":0},null,{"$f":"EOPC[[#This Row],[UNIT PRICE]]*EOPC[[#This Row],[DIV 3 QTY]]","v":0},null,{"$f":"EOPC[[#This Row],[UNIT PRICE]]*EOPC[[#This Row],[DIV 4 QTY]]","v":0},null,{"$f":"EOPC[[#This Row],[UNIT PRICE]]*EOPC[[#This Row],[DIV 5 QTY]]","v":0},null,{"$f":"EOPC[[#This Row],[UNIT PRICE]]*EOPC[[#This Row],[DIV 6 QTY]]","v":0},null,{"$f":"EOPC[[#This Row],[UNIT PRICE]]*EOPC[[#This Row],[DIV 7 QTY]]","v":0},null,{"$f":"EOPC[[#This Row],[UNIT PRICE]]*EOPC[[#This Row],[DIV 8 QTY]]","v":0},null,{"$f":"EOPC[[#This Row],[UNIT PRICE]]*EOPC[[#This Row],[DIV 9 QTY]]","v":0},null,{"$f":"EOPC[[#This Row],[UNIT PRICE]]*EOPC[[#This Row],[DIV 10 QTY]]","v":0}]
[null,null,null,{"$f":"EOPC[[#This Row],[DIV 1 QTY]]+EOPC[[#This Row],[DIV 2 QTY]]+EOPC[[#This Row],[DIV 3 QTY]]+EOPC[[#This Row],[DIV 4 QTY]]+EOPC[[#This Row],[DIV 5 QTY]]+EOPC[[#This Row],[DIV 6 QTY]]+EOPC[[#This Row],[DIV 7 QTY]]+EOPC[[#This Row],[DIV 8 QTY]]+EOPC[[#This Row],[DIV 9 QTY]]+EOPC[[#This Row],[DIV 10 QTY]]","v":0},null,0,{"$f":"EOPC[[#This Row],[TOTAL QTY]]*EOPC[[#This Row],[UNIT PRICE]]","v":0},null,{"$f":"EOPC[[#This Row],[UNIT PRICE]]*EOPC[[#This Row],[DIV 1 QTY]]","v":0},null,{"$f":"EOPC[[#This Row],[UNIT PRICE]]*EOPC[[#This Row],[DIV 2 QTY]]","v":0},null,{"$f":"EOPC[[#This Row],[UNIT PRICE]]*EOPC[[#This Row],[DIV 3 QTY]]","v":0},null,{"$f":"EOPC[[#This Row],[UNIT PRICE]]*EOPC[[#This Row],[DIV 4 QTY]]","v":0},null,{"$f":"EOPC[[#This Row],[UNIT PRICE]]*EOPC[[#This Row],[DIV 5 QTY]]","v":0},null,{"$f":"EOPC[[#This Row],[UNIT PRICE]]*EOPC[[#This Row],[DIV 6 QTY]]","v":0},null,{"$f":"EOPC[[#This Row],[UNIT PRICE]]*EOPC[[#This Row],[DIV 7 QTY]]","v":0},null,{"$f":"EOPC[[#This Row],[UNIT PRICE]]*EOPC[[#This Row],[DIV 8 QTY]]","v":0},null,{"$f":"EOPC[[#This Row],[UNIT PRICE]]*EOPC[[#This Row],[DIV 9 QTY]]","v":0},null,{"$f":"EOPC[[#This Row],[UNIT PRICE]]*EOPC[[#This Row],[DIV 10 QTY]]","v":0}]
[null,null,null,{"$f":"EOPC[[#This Row],[DIV 1 QTY]]+EOPC[[#This Row],[DIV 2 QTY]]+EOPC[[#This Row],[DIV 3 QTY]]+EOPC[[#This Row],[DIV 4 QTY]]+EOPC[[#This Row],[DIV 5 QTY]]+EOPC[[#This Row],[DIV 6 QTY]]+EOPC[[#This Row],[DIV 7 QTY]]+EOPC[[#This Row],[DIV 8 QTY]]+EOPC[[#This Row],[DIV 9 QTY]]+EOPC[[#This Row],[DIV 10 QTY]]","v":0},null,0,{"$f":"EOPC[[#This Row],[TOTAL QTY]]*EOPC[[#This Row],[UNIT PRICE]]","v":0},null,{"$f":"EOPC[[#This Row],[UNIT PRICE]]*EOPC[[#This Row],[DIV 1 QTY]]","v":0},null,{"$f":"EOPC[[#This Row],[UNIT PRICE]]*EOPC[[#This Row],[DIV 2 QTY]]","v":0},null,{"$f":"EOPC[[#This Row],[UNIT PRICE]]*EOPC[[#This Row],[DIV 3 QTY]]","v":0},null,{"$f":"EOPC[[#This Row],[UNIT PRICE]]*EOPC[[#This Row],[DIV 4 QTY]]","v":0},null,{"$f":"EOPC[[#This Row],[UNIT PRICE]]*EOPC[[#This Row],[DIV 5 QTY]]","v":0},null,{"$f":"EOPC[[#This Row],[UNIT PRICE]]*EOPC[[#This Row],[DIV 6 QTY]]","v":0},null,{"$f":"EOPC[[#This Row],[UNIT PRICE]]*EOPC[[#This Row],[DIV 7 QTY]]","v":0},null,{"$f":"EOPC[[#This Row],[UNIT PRICE]]*EOPC[[#This Row],[DIV 8 QTY]]","v":0},null,{"$f":"EOPC[[#This Row],[UNIT PRICE]]*EOPC[[#This Row],[DIV 9 QTY]]","v":0},null,{"$f":"EOPC[[#This Row],[UNIT PRICE]]*EOPC[[#This Row],[DIV 10 QTY]]","v":0}]
[null,null,null,{"$f":"EOPC[[#This Row],[DIV 1 QTY]]+EOPC[[#This Row],[DIV 2 QTY]]+EOPC[[#This Row],[DIV 3 QTY]]+EOPC[[#This Row],[DIV 4 QTY]]+EOPC[[#This Row],[DIV 5 QTY]]+EOPC[[#This Row],[DIV 6 QTY]]+EOPC[[#This Row],[DIV 7 QTY]]+EOPC[[#This Row],[DIV 8 QTY]]+EOPC[[#This Row],[DIV 9 QTY]]+EOPC[[#This Row],[DIV 10 QTY]]","v":0},null,0,{"$f":"EOPC[[#This Row],[TOTAL QTY]]*EOPC[[#This Row],[UNIT PRICE]]","v":0},null,{"$f":"EOPC[[#This Row],[UNIT PRICE]]*EOPC[[#This Row],[DIV 1 QTY]]","v":0},null,{"$f":"EOPC[[#This Row],[UNIT PRICE]]*EOPC[[#This Row],[DIV 2 QTY]]","v":0},null,{"$f":"EOPC[[#This Row],[UNIT PRICE]]*EOPC[[#This Row],[DIV 3 QTY]]","v":0},null,{"$f":"EOPC[[#This Row],[UNIT PRICE]]*EOPC[[#This Row],[DIV 4 QTY]]","v":0},null,{"$f":"EOPC[[#This Row],[UNIT PRICE]]*EOPC[[#This Row],[DIV 5 QTY]]","v":0},null,{"$f":"EOPC[[#This Row],[UNIT PRICE]]*EOPC[[#This Row],[DIV 6 QTY]]","v":0},null,{"$f":"EOPC[[#This Row],[UNIT PRICE]]*EOPC[[#This Row],[DIV 7 QTY]]","v":0},null,{"$f":"EOPC[[#This Row],[UNIT PRICE]]*EOPC[[#This Row],[DIV 8 QTY]]","v":0},null,{"$f":"EOPC[[#This Row],[UNIT PRICE]]*EOPC[[#This Row],[DIV 9 QTY]]","v":0},null,{"$f":"EOPC[[#This Row],[UNIT PRICE]]*EOPC[[#This Row],[DIV 10 QTY]]","v":0}]
[null,null,null,{"$f":"EOPC[[#This Row],[DIV 1 QTY]]+EOPC[[#This Row],[DIV 2 QTY]]+EOPC[[#This Row],[DIV 3 QTY]]+EOPC[[#This Row],[DIV 4 QTY]]+EOPC[[#This Row],[DIV 5 QTY]]+EOPC[[#This Row],[DIV 6 QTY]]+EOPC[[#This Row],[DIV 7 QTY]]+EOPC[[#This Row],[DIV 8 QTY]]+EOPC[[#This Row],[DIV 9 QTY]]+EOPC[[#This Row],[DIV 10 QTY]]","v":0},null,0,{"$f":"EOPC[[#This Row],[TOTAL QTY]]*EOPC[[#This Row],[UNIT PRICE]]","v":0},null,{"$f":"EOPC[[#This Row],[UNIT PRICE]]*EOPC[[#This Row],[DIV 1 QTY]]","v":0},null,{"$f":"EOPC[[#This Row],[UNIT PRICE]]*EOPC[[#This Row],[DIV 2 QTY]]","v":0},null,{"$f":"EOPC[[#This Row],[UNIT PRICE]]*EOPC[[#This Row],[DIV 3 QTY]]","v":0},null,{"$f":"EOPC[[#This Row],[UNIT PRICE]]*EOPC[[#This Row],[DIV 4 QTY]]","v":0},null,{"$f":"EOPC[[#This Row],[UNIT PRICE]]*EOPC[[#This Row],[DIV 5 QTY]]","v":0},null,{"$f":"EOPC[[#This Row],[UNIT PRICE]]*EOPC[[#This Row],[DIV 6 QTY]]","v":0},null,{"$f":"EOPC[[#This Row],[UNIT PRICE]]*EOPC[[#This Row],[DIV 7 QTY]]","v":0},null,{"$f":"EOPC[[#This Row],[UNIT PRICE]]*EOPC[[#This Row],[DIV 8 QTY]]","v":0},null,{"$f":"EOPC[[#This Row],[UNIT PRICE]]*EOPC[[#This Row],[DIV 9 QTY]]","v":0},null,{"$f":"EOPC[[#This Row],[UNIT PRICE]]*EOPC[[#This Row],[DIV 10 QTY]]","v":0}]
[null,null,null,{"$f":"EOPC[[#This Row],[DIV 1 QTY]]+EOPC[[#This Row],[DIV 2 QTY]]+EOPC[[#This Row],[DIV 3 QTY]]+EOPC[[#This Row],[DIV 4 QTY]]+EOPC[[#This Row],[DIV 5 QTY]]+EOPC[[#This Row],[DIV 6 QTY]]+EOPC[[#This Row],[DIV 7 QTY]]+EOPC[[#This Row],[DIV 8 QTY]]+EOPC[[#This Row],[DIV 9 QTY]]+EOPC[[#This Row],[DIV 10 QTY]]","v":0},null,0,{"$f":"EOPC[[#This Row],[TOTAL QTY]]*EOPC[[#This Row],[UNIT PRICE]]","v":0},null,{"$f":"EOPC[[#This Row],[UNIT PRICE]]*EOPC[[#This Row],[DIV 1 QTY]]","v":0},null,{"$f":"EOPC[[#This Row],[UNIT PRICE]]*EOPC[[#This Row],[DIV 2 QTY]]","v":0},null,{"$f":"EOPC[[#This Row],[UNIT PRICE]]*EOPC[[#This Row],[DIV 3 QTY]]","v":0},null,{"$f":"EOPC[[#This Row],[UNIT PRICE]]*EOPC[[#This Row],[DIV 4 QTY]]","v":0},null,{"$f":"EOPC[[#This Row],[UNIT PRICE]]*EOPC[[#This Row],[DIV 5 QTY]]","v":0},null,{"$f":"EOPC[[#This Row],[UNIT PRICE]]*EOPC[[#This Row],[DIV 6 QTY]]","v":0},null,{"$f":"EOPC[[#This Row],[UNIT PRICE]]*EOPC[[#This Row],[DIV 7 QTY]]","v":0},null,{"$f":"EOPC[[#This Row],[UNIT PRICE]]*EOPC[[#This Row],[DIV 8 QTY]]","v":0},null,{"$f":"EOPC[[#This Row],[UNIT PRICE]]*EOPC[[#This Row],[DIV 9 QTY]]","v":0},null,{"$f":"EOPC[[#This Row],[UNIT PRICE]]*EOPC[[#This Row],[DIV 10 QTY]]","v":0}]
[null,null,null,{"$f":"EOPC[[#This Row],[DIV 1 QTY]]+EOPC[[#This Row],[DIV 2 QTY]]+EOPC[[#This Row],[DIV 3 QTY]]+EOPC[[#This Row],[DIV 4 QTY]]+EOPC[[#This Row],[DIV 5 QTY]]+EOPC[[#This Row],[DIV 6 QTY]]+EOPC[[#This Row],[DIV 7 QTY]]+EOPC[[#This Row],[DIV 8 QTY]]+EOPC[[#This Row],[DIV 9 QTY]]+EOPC[[#This Row],[DIV 10 QTY]]","v":0},null,0,{"$f":"EOPC[[#This Row],[TOTAL QTY]]*EOPC[[#This Row],[UNIT PRICE]]","v":0},null,{"$f":"EOPC[[#This Row],[UNIT PRICE]]*EOPC[[#This Row],[DIV 1 QTY]]","v":0},null,{"$f":"EOPC[[#This Row],[UNIT PRICE]]*EOPC[[#This Row],[DIV 2 QTY]]","v":0},null,{"$f":"EOPC[[#This Row],[UNIT PRICE]]*EOPC[[#This Row],[DIV 3 QTY]]","v":0},null,{"$f":"EOPC[[#This Row],[UNIT PRICE]]*EOPC[[#This Row],[DIV 4 QTY]]","v":0},null,{"$f":"EOPC[[#This Row],[UNIT PRICE]]*EOPC[[#This Row],[DIV 5 QTY]]","v":0},null,{"$f":"EOPC[[#This Row],[UNIT PRICE]]*EOPC[[#This Row],[DIV 6 QTY]]","v":0},null,{"$f":"EOPC[[#This Row],[UNIT PRICE]]*EOPC[[#This Row],[DIV 7 QTY]]","v":0},null,{"$f":"EOPC[[#This Row],[UNIT PRICE]]*EOPC[[#This Row],[DIV 8 QTY]]","v":0},null,{"$f":"EOPC[[#This Row],[UNIT PRICE]]*EOPC[[#This Row],[DIV 9 QTY]]","v":0},null,{"$f":"EOPC[[#This Row],[UNIT PRICE]]*EOPC[[#This Row],[DIV 10 QTY]]","v":0}]
[null,null,null,{"$f":"EOPC[[#This Row],[DIV 1 QTY]]+EOPC[[#This Row],[DIV 2 QTY]]+EOPC[[#This Row],[DIV 3 QTY]]+EOPC[[#This Row],[DIV 4 QTY]]+EOPC[[#This Row],[DIV 5 QTY]]+EOPC[[#This Row],[DIV 6 QTY]]+EOPC[[#This Row],[DIV 7 QTY]]+EOPC[[#This Row],[DIV 8 QTY]]+EOPC[[#This Row],[DIV 9 QTY]]+EOPC[[#This Row],[DIV 10 QTY]]","v":0},null,0,{"$f":"EOPC[[#This Row],[TOTAL QTY]]*EOPC[[#This Row],[UNIT PRICE]]","v":0},null,{"$f":"EOPC[[#This Row],[UNIT PRICE]]*EOPC[[#This Row],[DIV 1 QTY]]","v":0},null,{"$f":"EOPC[[#This Row],[UNIT PRICE]]*EOPC[[#This Row],[DIV 2 QTY]]","v":0},null,{"$f":"EOPC[[#This Row],[UNIT PRICE]]*EOPC[[#This Row],[DIV 3 QTY]]","v":0},null,{"$f":"EOPC[[#This Row],[UNIT PRICE]]*EOPC[[#This Row],[DIV 4 QTY]]","v":0},null,{"$f":"EOPC[[#This Row],[UNIT PRICE]]*EOPC[[#This Row],[DIV 5 QTY]]","v":0},null,{"$f":"EOPC[[#This Row],[UNIT PRICE]]*EOPC[[#This Row],[DIV 6 QTY]]","v":0},null,{"$f":"EOPC[[#This Row],[UNIT PRICE]]*EOPC[[#This Row],[DIV 7 QTY]]","v":0},null,{"$f":"EOPC[[#This Row],[UNIT PRICE]]*EOPC[[#This Row],[DIV 8 QTY]]","v":0},null,{"$f":"EOPC[[#This Row],[UNIT PRICE]]*EOPC[[#This Row],[DIV 9 QTY]]","v":0},null,{"$f":"EOPC[[#This Row],[UNIT PRICE]]*EOPC[[#This Row],[DIV 10 QTY]]","v":0}]
[null,null,null,{"$f":"EOPC[[#This Row],[DIV 1 QTY]]+EOPC[[#This Row],[DIV 2 QTY]]+EOPC[[#This Row],[DIV 3 QTY]]+EOPC[[#This Row],[DIV 4 QTY]]+EOPC[[#This Row],[DIV 5 QTY]]+EOPC[[#This Row],[DIV 6 QTY]]+EOPC[[#This Row],[DIV 7 QTY]]+EOPC[[#This Row],[DIV 8 QTY]]+EOPC[[#This Row],[DIV 9 QTY]]+EOPC[[#This Row],[DIV 10 QTY]]","v":0},null,0,{"$f":"EOPC[[#This Row],[TOTAL QTY]]*EOPC[[#This Row],[UNIT PRICE]]","v":0},null,{"$f":"EOPC[[#This Row],[UNIT PRICE]]*EOPC[[#This Row],[DIV 1 QTY]]","v":0},null,{"$f":"EOPC[[#This Row],[UNIT PRICE]]*EOPC[[#This Row],[DIV 2 QTY]]","v":0},null,{"$f":"EOPC[[#This Row],[UNIT PRICE]]*EOPC[[#This Row],[DIV 3 QTY]]","v":0},null,{"$f":"EOPC[[#This Row],[UNIT PRICE]]*EOPC[[#This Row],[DIV 4 QTY]]","v":0},null,{"$f":"EOPC[[#This Row],[UNIT PRICE]]*EOPC[[#This Row],[DIV 5 QTY]]","v":0},null,{"$f":"EOPC[[#This Row],[UNIT PRICE]]*EOPC[[#This Row],[DIV 6 QTY]]","v":0},null,{"$f":"EOPC[[#This Row],[UNIT PRICE]]*EOPC[[#This Row],[DIV 7 QTY]]","v":0},null,{"$f":"EOPC[[#This Row],[UNIT PRICE]]*EOPC[[#This Row],[DIV 8 QTY]]","v":0},null,{"$f":"EOPC[[#This Row],[UNIT PRICE]]*EOPC[[#This Row],[DIV 9 QTY]]","v":0},null,{"$f":"EOPC[[#This Row],[UNIT PRICE]]*EOPC[[#This Row],[DIV 10 QTY]]","v":0}]
[null,null,null,{"$f":"EOPC[[#This Row],[DIV 1 QTY]]+EOPC[[#This Row],[DIV 2 QTY]]+EOPC[[#This Row],[DIV 3 QTY]]+EOPC[[#This Row],[DIV 4 QTY]]+EOPC[[#This Row],[DIV 5 QTY]]+EOPC[[#This Row],[DIV 6 QTY]]+EOPC[[#This Row],[DIV 7 QTY]]+EOPC[[#This Row],[DIV 8 QTY]]+EOPC[[#This Row],[DIV 9 QTY]]+EOPC[[#This Row],[DIV 10 QTY]]","v":0},null,0,{"$f":"EOPC[[#This Row],[TOTAL QTY]]*EOPC[[#This Row],[UNIT PRICE]]","v":0},null,{"$f":"EOPC[[#This Row],[UNIT PRICE]]*EOPC[[#This Row],[DIV 1 QTY]]","v":0},null,{"$f":"EOPC[[#This Row],[UNIT PRICE]]*EOPC[[#This Row],[DIV 2 QTY]]","v":0},null,{"$f":"EOPC[[#This Row],[UNIT PRICE]]*EOPC[[#This Row],[DIV 3 QTY]]","v":0},null,{"$f":"EOPC[[#This Row],[UNIT PRICE]]*EOPC[[#This Row],[DIV 4 QTY]]","v":0},null,{"$f":"EOPC[[#This Row],[UNIT PRICE]]*EOPC[[#This Row],[DIV 5 QTY]]","v":0},null,{"$f":"EOPC[[#This Row],[UNIT PRICE]]*EOPC[[#This Row],[DIV 6 QTY]]","v":0},null,{"$f":"EOPC[[#This Row],[UNIT PRICE]]*EOPC[[#This Row],[DIV 7 QTY]]","v":0},null,{"$f":"EOPC[[#This Row],[UNIT PRICE]]*EOPC[[#This Row],[DIV 8 QTY]]","v":0},null,{"$f":"EOPC[[#This Row],[UNIT PRICE]]*EOPC[[#This Row],[DIV 9 QTY]]","v":0},null,{"$f":"EOPC[[#This Row],[UNIT PRICE]]*EOPC[[#This Row],[DIV 10 QTY]]","v":0}]
[null,null,null,{"$f":"EOPC[[#This Row],[DIV 1 QTY]]+EOPC[[#This Row],[DIV 2 QTY]]+EOPC[[#This Row],[DIV 3 QTY]]+EOPC[[#This Row],[DIV 4 QTY]]+EOPC[[#This Row],[DIV 5 QTY]]+EOPC[[#This Row],[DIV 6 QTY]]+EOPC[[#This Row],[DIV 7 QTY]]+EOPC[[#This Row],[DIV 8 QTY]]+EOPC[[#This Row],[DIV 9 QTY]]+EOPC[[#This Row],[DIV 10 QTY]]","v":0},null,0,{"$f":"EOPC[[#This Row],[TOTAL QTY]]*EOPC[[#This Row],[UNIT PRICE]]","v":0},null,{"$f":"EOPC[[#This Row],[UNIT PRICE]]*EOPC[[#This Row],[DIV 1 QTY]]","v":0},null,{"$f":"EOPC[[#This Row],[UNIT PRICE]]*EOPC[[#This Row],[DIV 2 QTY]]","v":0},null,{"$f":"EOPC[[#This Row],[UNIT PRICE]]*EOPC[[#This Row],[DIV 3 QTY]]","v":0},null,{"$f":"EOPC[[#This Row],[UNIT PRICE]]*EOPC[[#This Row],[DIV 4 QTY]]","v":0},null,{"$f":"EOPC[[#This Row],[UNIT PRICE]]*EOPC[[#This Row],[DIV 5 QTY]]","v":0},null,{"$f":"EOPC[[#This Row],[UNIT PRICE]]*EOPC[[#This Row],[DIV 6 QTY]]","v":0},null,{"$f":"EOPC[[#This Row],[UNIT PRICE]]*EOPC[[#This Row],[DIV 7 QTY]]","v":0},null,{"$f":"EOPC[[#This Row],[UNIT PRICE]]*EOPC[[#This Row],[DIV 8 QTY]]","v":0},null,{"$f":"EOPC[[#This Row],[UNIT PRICE]]*EOPC[[#This Row],[DIV 9 QTY]]","v":0},null,{"$f":"EOPC[[#This Row],[UNIT PRICE]]*EOPC[[#This Row],[DIV 10 QTY]]","v":0}]
[null,null,null,{"$f":"EOPC[[#This Row],[DIV 1 QTY]]+EOPC[[#This Row],[DIV 2 QTY]]+EOPC[[#This Row],[DIV 3 QTY]]+EOPC[[#This Row],[DIV 4 QTY]]+EOPC[[#This Row],[DIV 5 QTY]]+EOPC[[#This Row],[DIV 6 QTY]]+EOPC[[#This Row],[DIV 7 QTY]]+EOPC[[#This Row],[DIV 8 QTY]]+EOPC[[#This Row],[DIV 9 QTY]]+EOPC[[#This Row],[DIV 10 QTY]]","v":0},null,0,{"$f":"EOPC[[#This Row],[TOTAL QTY]]*EOPC[[#This Row],[UNIT PRICE]]","v":0},null,{"$f":"EOPC[[#This Row],[UNIT PRICE]]*EOPC[[#This Row],[DIV 1 QTY]]","v":0},null,{"$f":"EOPC[[#This Row],[UNIT PRICE]]*EOPC[[#This Row],[DIV 2 QTY]]","v":0},null,{"$f":"EOPC[[#This Row],[UNIT PRICE]]*EOPC[[#This Row],[DIV 3 QTY]]","v":0},null,{"$f":"EOPC[[#This Row],[UNIT PRICE]]*EOPC[[#This Row],[DIV 4 QTY]]","v":0},null,{"$f":"EOPC[[#This Row],[UNIT PRICE]]*EOPC[[#This Row],[DIV 5 QTY]]","v":0},null,{"$f":"EOPC[[#This Row],[UNIT PRICE]]*EOPC[[#This Row],[DIV 6 QTY]]","v":0},null,{"$f":"EOPC[[#This Row],[UNIT PRICE]]*EOPC[[#This Row],[DIV 7 QTY]]","v":0},null,{"$f":"EOPC[[#This Row],[UNIT PRICE]]*EOPC[[#This Row],[DIV 8 QTY]]","v":0},null,{"$f":"EOPC[[#This Row],[UNIT PRICE]]*EOPC[[#This Row],[DIV 9 QTY]]","v":0},null,{"$f":"EOPC[[#This Row],[UNIT PRICE]]*EOPC[[#This Row],[DIV 10 QTY]]","v":0}]
[null,null,null,{"$f":"EOPC[[#This Row],[DIV 1 QTY]]+EOPC[[#This Row],[DIV 2 QTY]]+EOPC[[#This Row],[DIV 3 QTY]]+EOPC[[#This Row],[DIV 4 QTY]]+EOPC[[#This Row],[DIV 5 QTY]]+EOPC[[#This Row],[DIV 6 QTY]]+EOPC[[#This Row],[DIV 7 QTY]]+EOPC[[#This Row],[DIV 8 QTY]]+EOPC[[#This Row],[DIV 9 QTY]]+EOPC[[#This Row],[DIV 10 QTY]]","v":0},null,0,{"$f":"EOPC[[#This Row],[TOTAL QTY]]*EOPC[[#This Row],[UNIT PRICE]]","v":0},null,{"$f":"EOPC[[#This Row],[UNIT PRICE]]*EOPC[[#This Row],[DIV 1 QTY]]","v":0},null,{"$f":"EOPC[[#This Row],[UNIT PRICE]]*EOPC[[#This Row],[DIV 2 QTY]]","v":0},null,{"$f":"EOPC[[#This Row],[UNIT PRICE]]*EOPC[[#This Row],[DIV 3 QTY]]","v":0},null,{"$f":"EOPC[[#This Row],[UNIT PRICE]]*EOPC[[#This Row],[DIV 4 QTY]]","v":0},null,{"$f":"EOPC[[#This Row],[UNIT PRICE]]*EOPC[[#This Row],[DIV 5 QTY]]","v":0},null,{"$f":"EOPC[[#This Row],[UNIT PRICE]]*EOPC[[#This Row],[DIV 6 QTY]]","v":0},null,{"$f":"EOPC[[#This Row],[UNIT PRICE]]*EOPC[[#This Row],[DIV 7 QTY]]","v":0},null,{"$f":"EOPC[[#This Row],[UNIT PRICE]]*EOPC[[#This Row],[DIV 8 QTY]]","v":0},null,{"$f":"EOPC[[#This Row],[UNIT PRICE]]*EOPC[[#This Row],[DIV 9 QTY]]","v":0},null,{"$f":"EOPC[[#This Row],[UNIT PRICE]]*EOPC[[#This Row],[DIV 10 QTY]]","v":0}]
[null,null,null,{"$f":"EOPC[[#This Row],[DIV 1 QTY]]+EOPC[[#This Row],[DIV 2 QTY]]+EOPC[[#This Row],[DIV 3 QTY]]+EOPC[[#This Row],[DIV 4 QTY]]+EOPC[[#This Row],[DIV 5 QTY]]+EOPC[[#This Row],[DIV 6 QTY]]+EOPC[[#This Row],[DIV 7 QTY]]+EOPC[[#This Row],[DIV 8 QTY]]+EOPC[[#This Row],[DIV 9 QTY]]+EOPC[[#This Row],[DIV 10 QTY]]","v":0},null,0,{"$f":"EOPC[[#This Row],[TOTAL QTY]]*EOPC[[#This Row],[UNIT PRICE]]","v":0},null,{"$f":"EOPC[[#This Row],[UNIT PRICE]]*EOPC[[#This Row],[DIV 1 QTY]]","v":0},null,{"$f":"EOPC[[#This Row],[UNIT PRICE]]*EOPC[[#This Row],[DIV 2 QTY]]","v":0},null,{"$f":"EOPC[[#This Row],[UNIT PRICE]]*EOPC[[#This Row],[DIV 3 QTY]]","v":0},null,{"$f":"EOPC[[#This Row],[UNIT PRICE]]*EOPC[[#This Row],[DIV 4 QTY]]","v":0},null,{"$f":"EOPC[[#This Row],[UNIT PRICE]]*EOPC[[#This Row],[DIV 5 QTY]]","v":0},null,{"$f":"EOPC[[#This Row],[UNIT PRICE]]*EOPC[[#This Row],[DIV 6 QTY]]","v":0},null,{"$f":"EOPC[[#This Row],[UNIT PRICE]]*EOPC[[#This Row],[DIV 7 QTY]]","v":0},null,{"$f":"EOPC[[#This Row],[UNIT PRICE]]*EOPC[[#This Row],[DIV 8 QTY]]","v":0},null,{"$f":"EOPC[[#This Row],[UNIT PRICE]]*EOPC[[#This Row],[DIV 9 QTY]]","v":0},null,{"$f":"EOPC[[#This Row],[UNIT PRICE]]*EOPC[[#This Row],[DIV 10 QTY]]","v":0}]
[null,null,null,{"$f":"EOPC[[#This Row],[DIV 1 QTY]]+EOPC[[#This Row],[DIV 2 QTY]]+EOPC[[#This Row],[DIV 3 QTY]]+EOPC[[#This Row],[DIV 4 QTY]]+EOPC[[#This Row],[DIV 5 QTY]]+EOPC[[#This Row],[DIV 6 QTY]]+EOPC[[#This Row],[DIV 7 QTY]]+EOPC[[#This Row],[DIV 8 QTY]]+EOPC[[#This Row],[DIV 9 QTY]]+EOPC[[#This Row],[DIV 10 QTY]]","v":0},null,0,{"$f":"EOPC[[#This Row],[TOTAL QTY]]*EOPC[[#This Row],[UNIT PRICE]]","v":0},null,{"$f":"EOPC[[#This Row],[UNIT PRICE]]*EOPC[[#This Row],[DIV 1 QTY]]","v":0},null,{"$f":"EOPC[[#This Row],[UNIT PRICE]]*EOPC[[#This Row],[DIV 2 QTY]]","v":0},null,{"$f":"EOPC[[#This Row],[UNIT PRICE]]*EOPC[[#This Row],[DIV 3 QTY]]","v":0},null,{"$f":"EOPC[[#This Row],[UNIT PRICE]]*EOPC[[#This Row],[DIV 4 QTY]]","v":0},null,{"$f":"EOPC[[#This Row],[UNIT PRICE]]*EOPC[[#This Row],[DIV 5 QTY]]","v":0},null,{"$f":"EOPC[[#This Row],[UNIT PRICE]]*EOPC[[#This Row],[DIV 6 QTY]]","v":0},null,{"$f":"EOPC[[#This Row],[UNIT PRICE]]*EOPC[[#This Row],[DIV 7 QTY]]","v":0},null,{"$f":"EOPC[[#This Row],[UNIT PRICE]]*EOPC[[#This Row],[DIV 8 QTY]]","v":0},null,{"$f":"EOPC[[#This Row],[UNIT PRICE]]*EOPC[[#This Row],[DIV 9 QTY]]","v":0},null,{"$f":"EOPC[[#This Row],[UNIT PRICE]]*EOPC[[#This Row],[DIV 10 QTY]]","v":0}]
[null,null,null,{"$f":"EOPC[[#This Row],[DIV 1 QTY]]+EOPC[[#This Row],[DIV 2 QTY]]+EOPC[[#This Row],[DIV 3 QTY]]+EOPC[[#This Row],[DIV 4 QTY]]+EOPC[[#This Row],[DIV 5 QTY]]+EOPC[[#This Row],[DIV 6 QTY]]+EOPC[[#This Row],[DIV 7 QTY]]+EOPC[[#This Row],[DIV 8 QTY]]+EOPC[[#This Row],[DIV 9 QTY]]+EOPC[[#This Row],[DIV 10 QTY]]","v":0},null,0,{"$f":"EOPC[[#This Row],[TOTAL QTY]]*EOPC[[#This Row],[UNIT PRICE]]","v":0},null,{"$f":"EOPC[[#This Row],[UNIT PRICE]]*EOPC[[#This Row],[DIV 1 QTY]]","v":0},null,{"$f":"EOPC[[#This Row],[UNIT PRICE]]*EOPC[[#This Row],[DIV 2 QTY]]","v":0},null,{"$f":"EOPC[[#This Row],[UNIT PRICE]]*EOPC[[#This Row],[DIV 3 QTY]]","v":0},null,{"$f":"EOPC[[#This Row],[UNIT PRICE]]*EOPC[[#This Row],[DIV 4 QTY]]","v":0},null,{"$f":"EOPC[[#This Row],[UNIT PRICE]]*EOPC[[#This Row],[DIV 5 QTY]]","v":0},null,{"$f":"EOPC[[#This Row],[UNIT PRICE]]*EOPC[[#This Row],[DIV 6 QTY]]","v":0},null,{"$f":"EOPC[[#This Row],[UNIT PRICE]]*EOPC[[#This Row],[DIV 7 QTY]]","v":0},null,{"$f":"EOPC[[#This Row],[UNIT PRICE]]*EOPC[[#This Row],[DIV 8 QTY]]","v":0},null,{"$f":"EOPC[[#This Row],[UNIT PRICE]]*EOPC[[#This Row],[DIV 9 QTY]]","v":0},null,{"$f":"EOPC[[#This Row],[UNIT PRICE]]*EOPC[[#This Row],[DIV 10 QTY]]","v":0}]
[null,null,null,{"$f":"EOPC[[#This Row],[DIV 1 QTY]]+EOPC[[#This Row],[DIV 2 QTY]]+EOPC[[#This Row],[DIV 3 QTY]]+EOPC[[#This Row],[DIV 4 QTY]]+EOPC[[#This Row],[DIV 5 QTY]]+EOPC[[#This Row],[DIV 6 QTY]]+EOPC[[#This Row],[DIV 7 QTY]]+EOPC[[#This Row],[DIV 8 QTY]]+EOPC[[#This Row],[DIV 9 QTY]]+EOPC[[#This Row],[DIV 10 QTY]]","v":0},null,0,{"$f":"EOPC[[#This Row],[TOTAL QTY]]*EOPC[[#This Row],[UNIT PRICE]]","v":0},null,{"$f":"EOPC[[#This Row],[UNIT PRICE]]*EOPC[[#This Row],[DIV 1 QTY]]","v":0},null,{"$f":"EOPC[[#This Row],[UNIT PRICE]]*EOPC[[#This Row],[DIV 2 QTY]]","v":0},null,{"$f":"EOPC[[#This Row],[UNIT PRICE]]*EOPC[[#This Row],[DIV 3 QTY]]","v":0},null,{"$f":"EOPC[[#This Row],[UNIT PRICE]]*EOPC[[#This Row],[DIV 4 QTY]]","v":0},null,{"$f":"EOPC[[#This Row],[UNIT PRICE]]*EOPC[[#This Row],[DIV 5 QTY]]","v":0},null,{"$f":"EOPC[[#This Row],[UNIT PRICE]]*EOPC[[#This Row],[DIV 6 QTY]]","v":0},null,{"$f":"EOPC[[#This Row],[UNIT PRICE]]*EOPC[[#This Row],[DIV 7 QTY]]","v":0},null,{"$f":"EOPC[[#This Row],[UNIT PRICE]]*EOPC[[#This Row],[DIV 8 QTY]]","v":0},null,{"$f":"EOPC[[#This Row],[UNIT PRICE]]*EOPC[[#This Row],[DIV 9 QTY]]","v":0},null,{"$f":"EOPC[[#This Row],[UNIT PRICE]]*EOPC[[#This Row],[DIV 10 QTY]]","v":0}]
[null,null,null,{"$f":"EOPC[[#This Row],[DIV 1 QTY]]+EOPC[[#This Row],[DIV 2 QTY]]+EOPC[[#This Row],[DIV 3 QTY]]+EOPC[[#This Row],[DIV 4 QTY]]+EOPC[[#This Row],[DIV 5 QTY]]+EOPC[[#This Row],[DIV 6 QTY]]+EOPC[[#This Row],[DIV 7 QTY]]+EOPC[[#This Row],[DIV 8 QTY]]+EOPC[[#This Row],[DIV 9 QTY]]+EOPC[[#This Row],[DIV 10 QTY]]","v":0},null,0,{"$f":"EOPC[[#This Row],[TOTAL QTY]]*EOPC[[#This Row],[UNIT PRICE]]","v":0},null,{"$f":"EOPC[[#This Row],[UNIT PRICE]]*EOPC[[#This Row],[DIV 1 QTY]]","v":0},null,{"$f":"EOPC[[#This Row],[UNIT PRICE]]*EOPC[[#This Row],[DIV 2 QTY]]","v":0},null,{"$f":"EOPC[[#This Row],[UNIT PRICE]]*EOPC[[#This Row],[DIV 3 QTY]]","v":0},null,{"$f":"EOPC[[#This Row],[UNIT PRICE]]*EOPC[[#This Row],[DIV 4 QTY]]","v":0},null,{"$f":"EOPC[[#This Row],[UNIT PRICE]]*EOPC[[#This Row],[DIV 5 QTY]]","v":0},null,{"$f":"EOPC[[#This Row],[UNIT PRICE]]*EOPC[[#This Row],[DIV 6 QTY]]","v":0},null,{"$f":"EOPC[[#This Row],[UNIT PRICE]]*EOPC[[#This Row],[DIV 7 QTY]]","v":0},null,{"$f":"EOPC[[#This Row],[UNIT PRICE]]*EOPC[[#This Row],[DIV 8 QTY]]","v":0},null,{"$f":"EOPC[[#This Row],[UNIT PRICE]]*EOPC[[#This Row],[DIV 9 QTY]]","v":0},null,{"$f":"EOPC[[#This Row],[UNIT PRICE]]*EOPC[[#This Row],[DIV 10 QTY]]","v":0}]
[null,null,null,{"$f":"EOPC[[#This Row],[DIV 1 QTY]]+EOPC[[#This Row],[DIV 2 QTY]]+EOPC[[#This Row],[DIV 3 QTY]]+EOPC[[#This Row],[DIV 4 QTY]]+EOPC[[#This Row],[DIV 5 QTY]]+EOPC[[#This Row],[DIV 6 QTY]]+EOPC[[#This Row],[DIV 7 QTY]]+EOPC[[#This Row],[DIV 8 QTY]]+EOPC[[#This Row],[DIV 9 QTY]]+EOPC[[#This Row],[DIV 10 QTY]]","v":0},null,0,{"$f":"EOPC[[#This Row],[TOTAL QTY]]*EOPC[[#This Row],[UNIT PRICE]]","v":0},null,{"$f":"EOPC[[#This Row],[UNIT PRICE]]*EOPC[[#This Row],[DIV 1 QTY]]","v":0},null,{"$f":"EOPC[[#This Row],[UNIT PRICE]]*EOPC[[#This Row],[DIV 2 QTY]]","v":0},null,{"$f":"EOPC[[#This Row],[UNIT PRICE]]*EOPC[[#This Row],[DIV 3 QTY]]","v":0},null,{"$f":"EOPC[[#This Row],[UNIT PRICE]]*EOPC[[#This Row],[DIV 4 QTY]]","v":0},null,{"$f":"EOPC[[#This Row],[UNIT PRICE]]*EOPC[[#This Row],[DIV 5 QTY]]","v":0},null,{"$f":"EOPC[[#This Row],[UNIT PRICE]]*EOPC[[#This Row],[DIV 6 QTY]]","v":0},null,{"$f":"EOPC[[#This Row],[UNIT PRICE]]*EOPC[[#This Row],[DIV 7 QTY]]","v":0},null,{"$f":"EOPC[[#This Row],[UNIT PRICE]]*EOPC[[#This Row],[DIV 8 QTY]]","v":0},null,{"$f":"EOPC[[#This Row],[UNIT PRICE]]*EOPC[[#This Row],[DIV 9 QTY]]","v":0},null,{"$f":"EOPC[[#This Row],[UNIT PRICE]]*EOPC[[#This Row],[DIV 10 QTY]]","v":0}]
[null,null,null,{"$f":"EOPC[[#This Row],[DIV 1 QTY]]+EOPC[[#This Row],[DIV 2 QTY]]+EOPC[[#This Row],[DIV 3 QTY]]+EOPC[[#This Row],[DIV 4 QTY]]+EOPC[[#This Row],[DIV 5 QTY]]+EOPC[[#This Row],[DIV 6 QTY]]+EOPC[[#This Row],[DIV 7 QTY]]+EOPC[[#This Row],[DIV 8 QTY]]+EOPC[[#This Row],[DIV 9 QTY]]+EOPC[[#This Row],[DIV 10 QTY]]","v":0},null,0,{"$f":"EOPC[[#This Row],[TOTAL QTY]]*EOPC[[#This Row],[UNIT PRICE]]","v":0},null,{"$f":"EOPC[[#This Row],[UNIT PRICE]]*EOPC[[#This Row],[DIV 1 QTY]]","v":0},null,{"$f":"EOPC[[#This Row],[UNIT PRICE]]*EOPC[[#This Row],[DIV 2 QTY]]","v":0},null,{"$f":"EOPC[[#This Row],[UNIT PRICE]]*EOPC[[#This Row],[DIV 3 QTY]]","v":0},null,{"$f":"EOPC[[#This Row],[UNIT PRICE]]*EOPC[[#This Row],[DIV 4 QTY]]","v":0},null,{"$f":"EOPC[[#This Row],[UNIT PRICE]]*EOPC[[#This Row],[DIV 5 QTY]]","v":0},null,{"$f":"EOPC[[#This Row],[UNIT PRICE]]*EOPC[[#This Row],[DIV 6 QTY]]","v":0},null,{"$f":"EOPC[[#This Row],[UNIT PRICE]]*EOPC[[#This Row],[DIV 7 QTY]]","v":0},null,{"$f":"EOPC[[#This Row],[UNIT PRICE]]*EOPC[[#This Row],[DIV 8 QTY]]","v":0},null,{"$f":"EOPC[[#This Row],[UNIT PRICE]]*EOPC[[#This Row],[DIV 9 QTY]]","v":0},null,{"$f":"EOPC[[#This Row],[UNIT PRICE]]*EOPC[[#This Row],[DIV 10 QTY]]","v":0}]
[null,null,null,{"$f":"EOPC[[#This Row],[DIV 1 QTY]]+EOPC[[#This Row],[DIV 2 QTY]]+EOPC[[#This Row],[DIV 3 QTY]]+EOPC[[#This Row],[DIV 4 QTY]]+EOPC[[#This Row],[DIV 5 QTY]]+EOPC[[#This Row],[DIV 6 QTY]]+EOPC[[#This Row],[DIV 7 QTY]]+EOPC[[#This Row],[DIV 8 QTY]]+EOPC[[#This Row],[DIV 9 QTY]]+EOPC[[#This Row],[DIV 10 QTY]]","v":0},null,0,{"$f":"EOPC[[#This Row],[TOTAL QTY]]*EOPC[[#This Row],[UNIT PRICE]]","v":0},null,{"$f":"EOPC[[#This Row],[UNIT PRICE]]*EOPC[[#This Row],[DIV 1 QTY]]","v":0},null,{"$f":"EOPC[[#This Row],[UNIT PRICE]]*EOPC[[#This Row],[DIV 2 QTY]]","v":0},null,{"$f":"EOPC[[#This Row],[UNIT PRICE]]*EOPC[[#This Row],[DIV 3 QTY]]","v":0},null,{"$f":"EOPC[[#This Row],[UNIT PRICE]]*EOPC[[#This Row],[DIV 4 QTY]]","v":0},null,{"$f":"EOPC[[#This Row],[UNIT PRICE]]*EOPC[[#This Row],[DIV 5 QTY]]","v":0},null,{"$f":"EOPC[[#This Row],[UNIT PRICE]]*EOPC[[#This Row],[DIV 6 QTY]]","v":0},null,{"$f":"EOPC[[#This Row],[UNIT PRICE]]*EOPC[[#This Row],[DIV 7 QTY]]","v":0},null,{"$f":"EOPC[[#This Row],[UNIT PRICE]]*EOPC[[#This Row],[DIV 8 QTY]]","v":0},null,{"$f":"EOPC[[#This Row],[UNIT PRICE]]*EOPC[[#This Row],[DIV 9 QTY]]","v":0},null,{"$f":"EOPC[[#This Row],[UNIT PRICE]]*EOPC[[#This Row],[DIV 10 QTY]]","v":0}]
[null,null,null,{"$f":"EOPC[[#This Row],[DIV 1 QTY]]+EOPC[[#This Row],[DIV 2 QTY]]+EOPC[[#This Row],[DIV 3 QTY]]+EOPC[[#This Row],[DIV 4 QTY]]+EOPC[[#This Row],[DIV 5 QTY]]+EOPC[[#This Row],[DIV 6 QTY]]+EOPC[[#This Row],[DIV 7 QTY]]+EOPC[[#This Row],[DIV 8 QTY]]+EOPC[[#This Row],[DIV 9 QTY]]+EOPC[[#This Row],[DIV 10 QTY]]","v":0},null,0,{"$f":"EOPC[[#This Row],[TOTAL QTY]]*EOPC[[#This Row],[UNIT PRICE]]","v":0},null,{"$f":"EOPC[[#This Row],[UNIT PRICE]]*EOPC[[#This Row],[DIV 1 QTY]]","v":0},null,{"$f":"EOPC[[#This Row],[UNIT PRICE]]*EOPC[[#This Row],[DIV 2 QTY]]","v":0},null,{"$f":"EOPC[[#This Row],[UNIT PRICE]]*EOPC[[#This Row],[DIV 3 QTY]]","v":0},null,{"$f":"EOPC[[#This Row],[UNIT PRICE]]*EOPC[[#This Row],[DIV 4 QTY]]","v":0},null,{"$f":"EOPC[[#This Row],[UNIT PRICE]]*EOPC[[#This Row],[DIV 5 QTY]]","v":0},null,{"$f":"EOPC[[#This Row],[UNIT PRICE]]*EOPC[[#This Row],[DIV 6 QTY]]","v":0},null,{"$f":"EOPC[[#This Row],[UNIT PRICE]]*EOPC[[#This Row],[DIV 7 QTY]]","v":0},null,{"$f":"EOPC[[#This Row],[UNIT PRICE]]*EOPC[[#This Row],[DIV 8 QTY]]","v":0},null,{"$f":"EOPC[[#This Row],[UNIT PRICE]]*EOPC[[#This Row],[DIV 9 QTY]]","v":0},null,{"$f":"EOPC[[#This Row],[UNIT PRICE]]*EOPC[[#This Row],[DIV 10 QTY]]","v":0}]
[null,null,null,{"$f":"EOPC[[#This Row],[DIV 1 QTY]]+EOPC[[#This Row],[DIV 2 QTY]]+EOPC[[#This Row],[DIV 3 QTY]]+EOPC[[#This Row],[DIV 4 QTY]]+EOPC[[#This Row],[DIV 5 QTY]]+EOPC[[#This Row],[DIV 6 QTY]]+EOPC[[#This Row],[DIV 7 QTY]]+EOPC[[#This Row],[DIV 8 QTY]]+EOPC[[#This Row],[DIV 9 QTY]]+EOPC[[#This Row],[DIV 10 QTY]]","v":0},null,0,{"$f":"EOPC[[#This Row],[TOTAL QTY]]*EOPC[[#This Row],[UNIT PRICE]]","v":0},null,{"$f":"EOPC[[#This Row],[UNIT PRICE]]*EOPC[[#This Row],[DIV 1 QTY]]","v":0},null,{"$f":"EOPC[[#This Row],[UNIT PRICE]]*EOPC[[#This Row],[DIV 2 QTY]]","v":0},null,{"$f":"EOPC[[#This Row],[UNIT PRICE]]*EOPC[[#This Row],[DIV 3 QTY]]","v":0},null,{"$f":"EOPC[[#This Row],[UNIT PRICE]]*EOPC[[#This Row],[DIV 4 QTY]]","v":0},null,{"$f":"EOPC[[#This Row],[UNIT PRICE]]*EOPC[[#This Row],[DIV 5 QTY]]","v":0},null,{"$f":"EOPC[[#This Row],[UNIT PRICE]]*EOPC[[#This Row],[DIV 6 QTY]]","v":0},null,{"$f":"EOPC[[#This Row],[UNIT PRICE]]*EOPC[[#This Row],[DIV 7 QTY]]","v":0},null,{"$f":"EOPC[[#This Row],[UNIT PRICE]]*EOPC[[#This Row],[DIV 8 QTY]]","v":0},null,{"$f":"EOPC[[#This Row],[UNIT PRICE]]*EOPC[[#This Row],[DIV 9 QTY]]","v":0},null,{"$f":"EOPC[[#This Row],[UNIT PRICE]]*EOPC[[#This Row],[DIV 10 QTY]]","v":0}]
[null,null,null,{"$f":"EOPC[[#This Row],[DIV 1 QTY]]+EOPC[[#This Row],[DIV 2 QTY]]+EOPC[[#This Row],[DIV 3 QTY]]+EOPC[[#This Row],[DIV 4 QTY]]+EOPC[[#This Row],[DIV 5 QTY]]+EOPC[[#This Row],[DIV 6 QTY]]+EOPC[[#This Row],[DIV 7 QTY]]+EOPC[[#This Row],[DIV 8 QTY]]+EOPC[[#This Row],[DIV 9 QTY]]+EOPC[[#This Row],[DIV 10 QTY]]","v":0},null,0,{"$f":"EOPC[[#This Row],[TOTAL QTY]]*EOPC[[#This Row],[UNIT PRICE]]","v":0},null,{"$f":"EOPC[[#This Row],[UNIT PRICE]]*EOPC[[#This Row],[DIV 1 QTY]]","v":0},null,{"$f":"EOPC[[#This Row],[UNIT PRICE]]*EOPC[[#This Row],[DIV 2 QTY]]","v":0},null,{"$f":"EOPC[[#This Row],[UNIT PRICE]]*EOPC[[#This Row],[DIV 3 QTY]]","v":0},null,{"$f":"EOPC[[#This Row],[UNIT PRICE]]*EOPC[[#This Row],[DIV 4 QTY]]","v":0},null,{"$f":"EOPC[[#This Row],[UNIT PRICE]]*EOPC[[#This Row],[DIV 5 QTY]]","v":0},null,{"$f":"EOPC[[#This Row],[UNIT PRICE]]*EOPC[[#This Row],[DIV 6 QTY]]","v":0},null,{"$f":"EOPC[[#This Row],[UNIT PRICE]]*EOPC[[#This Row],[DIV 7 QTY]]","v":0},null,{"$f":"EOPC[[#This Row],[UNIT PRICE]]*EOPC[[#This Row],[DIV 8 QTY]]","v":0},null,{"$f":"EOPC[[#This Row],[UNIT PRICE]]*EOPC[[#This Row],[DIV 9 QTY]]","v":0},null,{"$f":"EOPC[[#This Row],[UNIT PRICE]]*EOPC[[#This Row],[DIV 10 QTY]]","v":0}]
[null,null,null,{"$f":"EOPC[[#This Row],[DIV 1 QTY]]+EOPC[[#This Row],[DIV 2 QTY]]+EOPC[[#This Row],[DIV 3 QTY]]+EOPC[[#This Row],[DIV 4 QTY]]+EOPC[[#This Row],[DIV 5 QTY]]+EOPC[[#This Row],[DIV 6 QTY]]+EOPC[[#This Row],[DIV 7 QTY]]+EOPC[[#This Row],[DIV 8 QTY]]+EOPC[[#This Row],[DIV 9 QTY]]+EOPC[[#This Row],[DIV 10 QTY]]","v":0},null,0,{"$f":"EOPC[[#This Row],[TOTAL QTY]]*EOPC[[#This Row],[UNIT PRICE]]","v":0},null,{"$f":"EOPC[[#This Row],[UNIT PRICE]]*EOPC[[#This Row],[DIV 1 QTY]]","v":0},null,{"$f":"EOPC[[#This Row],[UNIT PRICE]]*EOPC[[#This Row],[DIV 2 QTY]]","v":0},null,{"$f":"EOPC[[#This Row],[UNIT PRICE]]*EOPC[[#This Row],[DIV 3 QTY]]","v":0},null,{"$f":"EOPC[[#This Row],[UNIT PRICE]]*EOPC[[#This Row],[DIV 4 QTY]]","v":0},null,{"$f":"EOPC[[#This Row],[UNIT PRICE]]*EOPC[[#This Row],[DIV 5 QTY]]","v":0},null,{"$f":"EOPC[[#This Row],[UNIT PRICE]]*EOPC[[#This Row],[DIV 6 QTY]]","v":0},null,{"$f":"EOPC[[#This Row],[UNIT PRICE]]*EOPC[[#This Row],[DIV 7 QTY]]","v":0},null,{"$f":"EOPC[[#This Row],[UNIT PRICE]]*EOPC[[#This Row],[DIV 8 QTY]]","v":0},null,{"$f":"EOPC[[#This Row],[UNIT PRICE]]*EOPC[[#This Row],[DIV 9 QTY]]","v":0},null,{"$f":"EOPC[[#This Row],[UNIT PRICE]]*EOPC[[#This Row],[DIV 10 QTY]]","v":0}]
[null,null,null,{"$f":"EOPC[[#This Row],[DIV 1 QTY]]+EOPC[[#This Row],[DIV 2 QTY]]+EOPC[[#This Row],[DIV 3 QTY]]+EOPC[[#This Row],[DIV 4 QTY]]+EOPC[[#This Row],[DIV 5 QTY]]+EOPC[[#This Row],[DIV 6 QTY]]+EOPC[[#This Row],[DIV 7 QTY]]+EOPC[[#This Row],[DIV 8 QTY]]+EOPC[[#This Row],[DIV 9 QTY]]+EOPC[[#This Row],[DIV 10 QTY]]","v":0},null,0,{"$f":"EOPC[[#This Row],[TOTAL QTY]]*EOPC[[#This Row],[UNIT PRICE]]","v":0},null,{"$f":"EOPC[[#This Row],[UNIT PRICE]]*EOPC[[#This Row],[DIV 1 QTY]]","v":0},null,{"$f":"EOPC[[#This Row],[UNIT PRICE]]*EOPC[[#This Row],[DIV 2 QTY]]","v":0},null,{"$f":"EOPC[[#This Row],[UNIT PRICE]]*EOPC[[#This Row],[DIV 3 QTY]]","v":0},null,{"$f":"EOPC[[#This Row],[UNIT PRICE]]*EOPC[[#This Row],[DIV 4 QTY]]","v":0},null,{"$f":"EOPC[[#This Row],[UNIT PRICE]]*EOPC[[#This Row],[DIV 5 QTY]]","v":0},null,{"$f":"EOPC[[#This Row],[UNIT PRICE]]*EOPC[[#This Row],[DIV 6 QTY]]","v":0},null,{"$f":"EOPC[[#This Row],[UNIT PRICE]]*EOPC[[#This Row],[DIV 7 QTY]]","v":0},null,{"$f":"EOPC[[#This Row],[UNIT PRICE]]*EOPC[[#This Row],[DIV 8 QTY]]","v":0},null,{"$f":"EOPC[[#This Row],[UNIT PRICE]]*EOPC[[#This Row],[DIV 9 QTY]]","v":0},null,{"$f":"EOPC[[#This Row],[UNIT PRICE]]*EOPC[[#This Row],[DIV 10 QTY]]","v":0}]
[null,null,null,{"$f":"EOPC[[#This Row],[DIV 1 QTY]]+EOPC[[#This Row],[DIV 2 QTY]]+EOPC[[#This Row],[DIV 3 QTY]]+EOPC[[#This Row],[DIV 4 QTY]]+EOPC[[#This Row],[DIV 5 QTY]]+EOPC[[#This Row],[DIV 6 QTY]]+EOPC[[#This Row],[DIV 7 QTY]]+EOPC[[#This Row],[DIV 8 QTY]]+EOPC[[#This Row],[DIV 9 QTY]]+EOPC[[#This Row],[DIV 10 QTY]]","v":0},null,0,{"$f":"EOPC[[#This Row],[TOTAL QTY]]*EOPC[[#This Row],[UNIT PRICE]]","v":0},null,{"$f":"EOPC[[#This Row],[UNIT PRICE]]*EOPC[[#This Row],[DIV 1 QTY]]","v":0},null,{"$f":"EOPC[[#This Row],[UNIT PRICE]]*EOPC[[#This Row],[DIV 2 QTY]]","v":0},null,{"$f":"EOPC[[#This Row],[UNIT PRICE]]*EOPC[[#This Row],[DIV 3 QTY]]","v":0},null,{"$f":"EOPC[[#This Row],[UNIT PRICE]]*EOPC[[#This Row],[DIV 4 QTY]]","v":0},null,{"$f":"EOPC[[#This Row],[UNIT PRICE]]*EOPC[[#This Row],[DIV 5 QTY]]","v":0},null,{"$f":"EOPC[[#This Row],[UNIT PRICE]]*EOPC[[#This Row],[DIV 6 QTY]]","v":0},null,{"$f":"EOPC[[#This Row],[UNIT PRICE]]*EOPC[[#This Row],[DIV 7 QTY]]","v":0},null,{"$f":"EOPC[[#This Row],[UNIT PRICE]]*EOPC[[#This Row],[DIV 8 QTY]]","v":0},null,{"$f":"EOPC[[#This Row],[UNIT PRICE]]*EOPC[[#This Row],[DIV 9 QTY]]","v":0},null,{"$f":"EOPC[[#This Row],[UNIT PRICE]]*EOPC[[#This Row],[DIV 10 QTY]]","v":0}]
[null,null,null,{"$f":"EOPC[[#This Row],[DIV 1 QTY]]+EOPC[[#This Row],[DIV 2 QTY]]+EOPC[[#This Row],[DIV 3 QTY]]+EOPC[[#This Row],[DIV 4 QTY]]+EOPC[[#This Row],[DIV 5 QTY]]+EOPC[[#This Row],[DIV 6 QTY]]+EOPC[[#This Row],[DIV 7 QTY]]+EOPC[[#This Row],[DIV 8 QTY]]+EOPC[[#This Row],[DIV 9 QTY]]+EOPC[[#This Row],[DIV 10 QTY]]","v":0},null,0,{"$f":"EOPC[[#This Row],[TOTAL QTY]]*EOPC[[#This Row],[UNIT PRICE]]","v":0},null,{"$f":"EOPC[[#This Row],[UNIT PRICE]]*EOPC[[#This Row],[DIV 1 QTY]]","v":0},null,{"$f":"EOPC[[#This Row],[UNIT PRICE]]*EOPC[[#This Row],[DIV 2 QTY]]","v":0},null,{"$f":"EOPC[[#This Row],[UNIT PRICE]]*EOPC[[#This Row],[DIV 3 QTY]]","v":0},null,{"$f":"EOPC[[#This Row],[UNIT PRICE]]*EOPC[[#This Row],[DIV 4 QTY]]","v":0},null,{"$f":"EOPC[[#This Row],[UNIT PRICE]]*EOPC[[#This Row],[DIV 5 QTY]]","v":0},null,{"$f":"EOPC[[#This Row],[UNIT PRICE]]*EOPC[[#This Row],[DIV 6 QTY]]","v":0},null,{"$f":"EOPC[[#This Row],[UNIT PRICE]]*EOPC[[#This Row],[DIV 7 QTY]]","v":0},null,{"$f":"EOPC[[#This Row],[UNIT PRICE]]*EOPC[[#This Row],[DIV 8 QTY]]","v":0},null,{"$f":"EOPC[[#This Row],[UNIT PRICE]]*EOPC[[#This Row],[DIV 9 QTY]]","v":0},null,{"$f":"EOPC[[#This Row],[UNIT PRICE]]*EOPC[[#This Row],[DIV 10 QTY]]","v":0}]
[null,null,null,{"$f":"EOPC[[#This Row],[DIV 1 QTY]]+EOPC[[#This Row],[DIV 2 QTY]]+EOPC[[#This Row],[DIV 3 QTY]]+EOPC[[#This Row],[DIV 4 QTY]]+EOPC[[#This Row],[DIV 5 QTY]]+EOPC[[#This Row],[DIV 6 QTY]]+EOPC[[#This Row],[DIV 7 QTY]]+EOPC[[#This Row],[DIV 8 QTY]]+EOPC[[#This Row],[DIV 9 QTY]]+EOPC[[#This Row],[DIV 10 QTY]]","v":0},null,0,{"$f":"EOPC[[#This Row],[TOTAL QTY]]*EOPC[[#This Row],[UNIT PRICE]]","v":0},null,{"$f":"EOPC[[#This Row],[UNIT PRICE]]*EOPC[[#This Row],[DIV 1 QTY]]","v":0},null,{"$f":"EOPC[[#This Row],[UNIT PRICE]]*EOPC[[#This Row],[DIV 2 QTY]]","v":0},null,{"$f":"EOPC[[#This Row],[UNIT PRICE]]*EOPC[[#This Row],[DIV 3 QTY]]","v":0},null,{"$f":"EOPC[[#This Row],[UNIT PRICE]]*EOPC[[#This Row],[DIV 4 QTY]]","v":0},null,{"$f":"EOPC[[#This Row],[UNIT PRICE]]*EOPC[[#This Row],[DIV 5 QTY]]","v":0},null,{"$f":"EOPC[[#This Row],[UNIT PRICE]]*EOPC[[#This Row],[DIV 6 QTY]]","v":0},null,{"$f":"EOPC[[#This Row],[UNIT PRICE]]*EOPC[[#This Row],[DIV 7 QTY]]","v":0},null,{"$f":"EOPC[[#This Row],[UNIT PRICE]]*EOPC[[#This Row],[DIV 8 QTY]]","v":0},null,{"$f":"EOPC[[#This Row],[UNIT PRICE]]*EOPC[[#This Row],[DIV 9 QTY]]","v":0},null,{"$f":"EOPC[[#This Row],[UNIT PRICE]]*EOPC[[#This Row],[DIV 10 QTY]]","v":0}]
[null,null,null,{"$f":"EOPC[[#This Row],[DIV 1 QTY]]+EOPC[[#This Row],[DIV 2 QTY]]+EOPC[[#This Row],[DIV 3 QTY]]+EOPC[[#This Row],[DIV 4 QTY]]+EOPC[[#This Row],[DIV 5 QTY]]+EOPC[[#This Row],[DIV 6 QTY]]+EOPC[[#This Row],[DIV 7 QTY]]+EOPC[[#This Row],[DIV 8 QTY]]+EOPC[[#This Row],[DIV 9 QTY]]+EOPC[[#This Row],[DIV 10 QTY]]","v":0},null,0,{"$f":"EOPC[[#This Row],[TOTAL QTY]]*EOPC[[#This Row],[UNIT PRICE]]","v":0},null,{"$f":"EOPC[[#This Row],[UNIT PRICE]]*EOPC[[#This Row],[DIV 1 QTY]]","v":0},null,{"$f":"EOPC[[#This Row],[UNIT PRICE]]*EOPC[[#This Row],[DIV 2 QTY]]","v":0},null,{"$f":"EOPC[[#This Row],[UNIT PRICE]]*EOPC[[#This Row],[DIV 3 QTY]]","v":0},null,{"$f":"EOPC[[#This Row],[UNIT PRICE]]*EOPC[[#This Row],[DIV 4 QTY]]","v":0},null,{"$f":"EOPC[[#This Row],[UNIT PRICE]]*EOPC[[#This Row],[DIV 5 QTY]]","v":0},null,{"$f":"EOPC[[#This Row],[UNIT PRICE]]*EOPC[[#This Row],[DIV 6 QTY]]","v":0},null,{"$f":"EOPC[[#This Row],[UNIT PRICE]]*EOPC[[#This Row],[DIV 7 QTY]]","v":0},null,{"$f":"EOPC[[#This Row],[UNIT PRICE]]*EOPC[[#This Row],[DIV 8 QTY]]","v":0},null,{"$f":"EOPC[[#This Row],[UNIT PRICE]]*EOPC[[#This Row],[DIV 9 QTY]]","v":0},null,{"$f":"EOPC[[#This Row],[UNIT PRICE]]*EOPC[[#This Row],[DIV 10 QTY]]","v":0}]
[null,null,null,{"$f":"EOPC[[#This Row],[DIV 1 QTY]]+EOPC[[#This Row],[DIV 2 QTY]]+EOPC[[#This Row],[DIV 3 QTY]]+EOPC[[#This Row],[DIV 4 QTY]]+EOPC[[#This Row],[DIV 5 QTY]]+EOPC[[#This Row],[DIV 6 QTY]]+EOPC[[#This Row],[DIV 7 QTY]]+EOPC[[#This Row],[DIV 8 QTY]]+EOPC[[#This Row],[DIV 9 QTY]]+EOPC[[#This Row],[DIV 10 QTY]]","v":0},null,0,{"$f":"EOPC[[#This Row],[TOTAL QTY]]*EOPC[[#This Row],[UNIT PRICE]]","v":0},null,{"$f":"EOPC[[#This Row],[UNIT PRICE]]*EOPC[[#This Row],[DIV 1 QTY]]","v":0},null,{"$f":"EOPC[[#This Row],[UNIT PRICE]]*EOPC[[#This Row],[DIV 2 QTY]]","v":0},null,{"$f":"EOPC[[#This Row],[UNIT PRICE]]*EOPC[[#This Row],[DIV 3 QTY]]","v":0},null,{"$f":"EOPC[[#This Row],[UNIT PRICE]]*EOPC[[#This Row],[DIV 4 QTY]]","v":0},null,{"$f":"EOPC[[#This Row],[UNIT PRICE]]*EOPC[[#This Row],[DIV 5 QTY]]","v":0},null,{"$f":"EOPC[[#This Row],[UNIT PRICE]]*EOPC[[#This Row],[DIV 6 QTY]]","v":0},null,{"$f":"EOPC[[#This Row],[UNIT PRICE]]*EOPC[[#This Row],[DIV 7 QTY]]","v":0},null,{"$f":"EOPC[[#This Row],[UNIT PRICE]]*EOPC[[#This Row],[DIV 8 QTY]]","v":0},null,{"$f":"EOPC[[#This Row],[UNIT PRICE]]*EOPC[[#This Row],[DIV 9 QTY]]","v":0},null,{"$f":"EOPC[[#This Row],[UNIT PRICE]]*EOPC[[#This Row],[DIV 10 QTY]]","v":0}]
[null,null,null,{"$f":"EOPC[[#This Row],[DIV 1 QTY]]+EOPC[[#This Row],[DIV 2 QTY]]+EOPC[[#This Row],[DIV 3 QTY]]+EOPC[[#This Row],[DIV 4 QTY]]+EOPC[[#This Row],[DIV 5 QTY]]+EOPC[[#This Row],[DIV 6 QTY]]+EOPC[[#This Row],[DIV 7 QTY]]+EOPC[[#This Row],[DIV 8 QTY]]+EOPC[[#This Row],[DIV 9 QTY]]+EOPC[[#This Row],[DIV 10 QTY]]","v":0},null,0,{"$f":"EOPC[[#This Row],[TOTAL QTY]]*EOPC[[#This Row],[UNIT PRICE]]","v":0},null,{"$f":"EOPC[[#This Row],[UNIT PRICE]]*EOPC[[#This Row],[DIV 1 QTY]]","v":0},null,{"$f":"EOPC[[#This Row],[UNIT PRICE]]*EOPC[[#This Row],[DIV 2 QTY]]","v":0},null,{"$f":"EOPC[[#This Row],[UNIT PRICE]]*EOPC[[#This Row],[DIV 3 QTY]]","v":0},null,{"$f":"EOPC[[#This Row],[UNIT PRICE]]*EOPC[[#This Row],[DIV 4 QTY]]","v":0},null,{"$f":"EOPC[[#This Row],[UNIT PRICE]]*EOPC[[#This Row],[DIV 5 QTY]]","v":0},null,{"$f":"EOPC[[#This Row],[UNIT PRICE]]*EOPC[[#This Row],[DIV 6 QTY]]","v":0},null,{"$f":"EOPC[[#This Row],[UNIT PRICE]]*EOPC[[#This Row],[DIV 7 QTY]]","v":0},null,{"$f":"EOPC[[#This Row],[UNIT PRICE]]*EOPC[[#This Row],[DIV 8 QTY]]","v":0},null,{"$f":"EOPC[[#This Row],[UNIT PRICE]]*EOPC[[#This Row],[DIV 9 QTY]]","v":0},null,{"$f":"EOPC[[#This Row],[UNIT PRICE]]*EOPC[[#This Row],[DIV 10 QTY]]","v":0}]
[null,null,null,{"$f":"EOPC[[#This Row],[DIV 1 QTY]]+EOPC[[#This Row],[DIV 2 QTY]]+EOPC[[#This Row],[DIV 3 QTY]]+EOPC[[#This Row],[DIV 4 QTY]]+EOPC[[#This Row],[DIV 5 QTY]]+EOPC[[#This Row],[DIV 6 QTY]]+EOPC[[#This Row],[DIV 7 QTY]]+EOPC[[#This Row],[DIV 8 QTY]]+EOPC[[#This Row],[DIV 9 QTY]]+EOPC[[#This Row],[DIV 10 QTY]]","v":0},null,0,{"$f":"EOPC[[#This Row],[TOTAL QTY]]*EOPC[[#This Row],[UNIT PRICE]]","v":0},null,{"$f":"EOPC[[#This Row],[UNIT PRICE]]*EOPC[[#This Row],[DIV 1 QTY]]","v":0},null,{"$f":"EOPC[[#This Row],[UNIT PRICE]]*EOPC[[#This Row],[DIV 2 QTY]]","v":0},null,{"$f":"EOPC[[#This Row],[UNIT PRICE]]*EOPC[[#This Row],[DIV 3 QTY]]","v":0},null,{"$f":"EOPC[[#This Row],[UNIT PRICE]]*EOPC[[#This Row],[DIV 4 QTY]]","v":0},null,{"$f":"EOPC[[#This Row],[UNIT PRICE]]*EOPC[[#This Row],[DIV 5 QTY]]","v":0},null,{"$f":"EOPC[[#This Row],[UNIT PRICE]]*EOPC[[#This Row],[DIV 6 QTY]]","v":0},null,{"$f":"EOPC[[#This Row],[UNIT PRICE]]*EOPC[[#This Row],[DIV 7 QTY]]","v":0},null,{"$f":"EOPC[[#This Row],[UNIT PRICE]]*EOPC[[#This Row],[DIV 8 QTY]]","v":0},null,{"$f":"EOPC[[#This Row],[UNIT PRICE]]*EOPC[[#This Row],[DIV 9 QTY]]","v":0},null,{"$f":"EOPC[[#This Row],[UNIT PRICE]]*EOPC[[#This Row],[DIV 10 QTY]]","v":0}]
[null,null,null,{"$f":"EOPC[[#This Row],[DIV 1 QTY]]+EOPC[[#This Row],[DIV 2 QTY]]+EOPC[[#This Row],[DIV 3 QTY]]+EOPC[[#This Row],[DIV 4 QTY]]+EOPC[[#This Row],[DIV 5 QTY]]+EOPC[[#This Row],[DIV 6 QTY]]+EOPC[[#This Row],[DIV 7 QTY]]+EOPC[[#This Row],[DIV 8 QTY]]+EOPC[[#This Row],[DIV 9 QTY]]+EOPC[[#This Row],[DIV 10 QTY]]","v":0},null,0,{"$f":"EOPC[[#This Row],[TOTAL QTY]]*EOPC[[#This Row],[UNIT PRICE]]","v":0},null,{"$f":"EOPC[[#This Row],[UNIT PRICE]]*EOPC[[#This Row],[DIV 1 QTY]]","v":0},null,{"$f":"EOPC[[#This Row],[UNIT PRICE]]*EOPC[[#This Row],[DIV 2 QTY]]","v":0},null,{"$f":"EOPC[[#This Row],[UNIT PRICE]]*EOPC[[#This Row],[DIV 3 QTY]]","v":0},null,{"$f":"EOPC[[#This Row],[UNIT PRICE]]*EOPC[[#This Row],[DIV 4 QTY]]","v":0},null,{"$f":"EOPC[[#This Row],[UNIT PRICE]]*EOPC[[#This Row],[DIV 5 QTY]]","v":0},null,{"$f":"EOPC[[#This Row],[UNIT PRICE]]*EOPC[[#This Row],[DIV 6 QTY]]","v":0},null,{"$f":"EOPC[[#This Row],[UNIT PRICE]]*EOPC[[#This Row],[DIV 7 QTY]]","v":0},null,{"$f":"EOPC[[#This Row],[UNIT PRICE]]*EOPC[[#This Row],[DIV 8 QTY]]","v":0},null,{"$f":"EOPC[[#This Row],[UNIT PRICE]]*EOPC[[#This Row],[DIV 9 QTY]]","v":0},null,{"$f":"EOPC[[#This Row],[UNIT PRICE]]*EOPC[[#This Row],[DIV 10 QTY]]","v":0}]
[null,null,null,{"$f":"EOPC[[#This Row],[DIV 1 QTY]]+EOPC[[#This Row],[DIV 2 QTY]]+EOPC[[#This Row],[DIV 3 QTY]]+EOPC[[#This Row],[DIV 4 QTY]]+EOPC[[#This Row],[DIV 5 QTY]]+EOPC[[#This Row],[DIV 6 QTY]]+EOPC[[#This Row],[DIV 7 QTY]]+EOPC[[#This Row],[DIV 8 QTY]]+EOPC[[#This Row],[DIV 9 QTY]]+EOPC[[#This Row],[DIV 10 QTY]]","v":0},null,0,{"$f":"EOPC[[#This Row],[TOTAL QTY]]*EOPC[[#This Row],[UNIT PRICE]]","v":0},null,{"$f":"EOPC[[#This Row],[UNIT PRICE]]*EOPC[[#This Row],[DIV 1 QTY]]","v":0},null,{"$f":"EOPC[[#This Row],[UNIT PRICE]]*EOPC[[#This Row],[DIV 2 QTY]]","v":0},null,{"$f":"EOPC[[#This Row],[UNIT PRICE]]*EOPC[[#This Row],[DIV 3 QTY]]","v":0},null,{"$f":"EOPC[[#This Row],[UNIT PRICE]]*EOPC[[#This Row],[DIV 4 QTY]]","v":0},null,{"$f":"EOPC[[#This Row],[UNIT PRICE]]*EOPC[[#This Row],[DIV 5 QTY]]","v":0},null,{"$f":"EOPC[[#This Row],[UNIT PRICE]]*EOPC[[#This Row],[DIV 6 QTY]]","v":0},null,{"$f":"EOPC[[#This Row],[UNIT PRICE]]*EOPC[[#This Row],[DIV 7 QTY]]","v":0},null,{"$f":"EOPC[[#This Row],[UNIT PRICE]]*EOPC[[#This Row],[DIV 8 QTY]]","v":0},null,{"$f":"EOPC[[#This Row],[UNIT PRICE]]*EOPC[[#This Row],[DIV 9 QTY]]","v":0},null,{"$f":"EOPC[[#This Row],[UNIT PRICE]]*EOPC[[#This Row],[DIV 10 QTY]]","v":0}]
[null,null,null,{"$f":"EOPC[[#This Row],[DIV 1 QTY]]+EOPC[[#This Row],[DIV 2 QTY]]+EOPC[[#This Row],[DIV 3 QTY]]+EOPC[[#This Row],[DIV 4 QTY]]+EOPC[[#This Row],[DIV 5 QTY]]+EOPC[[#This Row],[DIV 6 QTY]]+EOPC[[#This Row],[DIV 7 QTY]]+EOPC[[#This Row],[DIV 8 QTY]]+EOPC[[#This Row],[DIV 9 QTY]]+EOPC[[#This Row],[DIV 10 QTY]]","v":0},null,0,{"$f":"EOPC[[#This Row],[TOTAL QTY]]*EOPC[[#This Row],[UNIT PRICE]]","v":0},null,{"$f":"EOPC[[#This Row],[UNIT PRICE]]*EOPC[[#This Row],[DIV 1 QTY]]","v":0},null,{"$f":"EOPC[[#This Row],[UNIT PRICE]]*EOPC[[#This Row],[DIV 2 QTY]]","v":0},null,{"$f":"EOPC[[#This Row],[UNIT PRICE]]*EOPC[[#This Row],[DIV 3 QTY]]","v":0},null,{"$f":"EOPC[[#This Row],[UNIT PRICE]]*EOPC[[#This Row],[DIV 4 QTY]]","v":0},null,{"$f":"EOPC[[#This Row],[UNIT PRICE]]*EOPC[[#This Row],[DIV 5 QTY]]","v":0},null,{"$f":"EOPC[[#This Row],[UNIT PRICE]]*EOPC[[#This Row],[DIV 6 QTY]]","v":0},null,{"$f":"EOPC[[#This Row],[UNIT PRICE]]*EOPC[[#This Row],[DIV 7 QTY]]","v":0},null,{"$f":"EOPC[[#This Row],[UNIT PRICE]]*EOPC[[#This Row],[DIV 8 QTY]]","v":0},null,{"$f":"EOPC[[#This Row],[UNIT PRICE]]*EOPC[[#This Row],[DIV 9 QTY]]","v":0},null,{"$f":"EOPC[[#This Row],[UNIT PRICE]]*EOPC[[#This Row],[DIV 10 QTY]]","v":0}]
[null,null,null,{"$f":"EOPC[[#This Row],[DIV 1 QTY]]+EOPC[[#This Row],[DIV 2 QTY]]+EOPC[[#This Row],[DIV 3 QTY]]+EOPC[[#This Row],[DIV 4 QTY]]+EOPC[[#This Row],[DIV 5 QTY]]+EOPC[[#This Row],[DIV 6 QTY]]+EOPC[[#This Row],[DIV 7 QTY]]+EOPC[[#This Row],[DIV 8 QTY]]+EOPC[[#This Row],[DIV 9 QTY]]+EOPC[[#This Row],[DIV 10 QTY]]","v":0},null,0,{"$f":"EOPC[[#This Row],[TOTAL QTY]]*EOPC[[#This Row],[UNIT PRICE]]","v":0},null,{"$f":"EOPC[[#This Row],[UNIT PRICE]]*EOPC[[#This Row],[DIV 1 QTY]]","v":0},null,{"$f":"EOPC[[#This Row],[UNIT PRICE]]*EOPC[[#This Row],[DIV 2 QTY]]","v":0},null,{"$f":"EOPC[[#This Row],[UNIT PRICE]]*EOPC[[#This Row],[DIV 3 QTY]]","v":0},null,{"$f":"EOPC[[#This Row],[UNIT PRICE]]*EOPC[[#This Row],[DIV 4 QTY]]","v":0},null,{"$f":"EOPC[[#This Row],[UNIT PRICE]]*EOPC[[#This Row],[DIV 5 QTY]]","v":0},null,{"$f":"EOPC[[#This Row],[UNIT PRICE]]*EOPC[[#This Row],[DIV 6 QTY]]","v":0},null,{"$f":"EOPC[[#This Row],[UNIT PRICE]]*EOPC[[#This Row],[DIV 7 QTY]]","v":0},null,{"$f":"EOPC[[#This Row],[UNIT PRICE]]*EOPC[[#This Row],[DIV 8 QTY]]","v":0},null,{"$f":"EOPC[[#This Row],[UNIT PRICE]]*EOPC[[#This Row],[DIV 9 QTY]]","v":0},null,{"$f":"EOPC[[#This Row],[UNIT PRICE]]*EOPC[[#This Row],[DIV 10 QTY]]","v":0}]
[null,null,null,{"$f":"EOPC[[#This Row],[DIV 1 QTY]]+EOPC[[#This Row],[DIV 2 QTY]]+EOPC[[#This Row],[DIV 3 QTY]]+EOPC[[#This Row],[DIV 4 QTY]]+EOPC[[#This Row],[DIV 5 QTY]]+EOPC[[#This Row],[DIV 6 QTY]]+EOPC[[#This Row],[DIV 7 QTY]]+EOPC[[#This Row],[DIV 8 QTY]]+EOPC[[#This Row],[DIV 9 QTY]]+EOPC[[#This Row],[DIV 10 QTY]]","v":0},null,0,{"$f":"EOPC[[#This Row],[TOTAL QTY]]*EOPC[[#This Row],[UNIT PRICE]]","v":0},null,{"$f":"EOPC[[#This Row],[UNIT PRICE]]*EOPC[[#This Row],[DIV 1 QTY]]","v":0},null,{"$f":"EOPC[[#This Row],[UNIT PRICE]]*EOPC[[#This Row],[DIV 2 QTY]]","v":0},null,{"$f":"EOPC[[#This Row],[UNIT PRICE]]*EOPC[[#This Row],[DIV 3 QTY]]","v":0},null,{"$f":"EOPC[[#This Row],[UNIT PRICE]]*EOPC[[#This Row],[DIV 4 QTY]]","v":0},null,{"$f":"EOPC[[#This Row],[UNIT PRICE]]*EOPC[[#This Row],[DIV 5 QTY]]","v":0},null,{"$f":"EOPC[[#This Row],[UNIT PRICE]]*EOPC[[#This Row],[DIV 6 QTY]]","v":0},null,{"$f":"EOPC[[#This Row],[UNIT PRICE]]*EOPC[[#This Row],[DIV 7 QTY]]","v":0},null,{"$f":"EOPC[[#This Row],[UNIT PRICE]]*EOPC[[#This Row],[DIV 8 QTY]]","v":0},null,{"$f":"EOPC[[#This Row],[UNIT PRICE]]*EOPC[[#This Row],[DIV 9 QTY]]","v":0},null,{"$f":"EOPC[[#This Row],[UNIT PRICE]]*EOPC[[#This Row],[DIV 10 QTY]]","v":0}]
[null,null,null,{"$f":"EOPC[[#This Row],[DIV 1 QTY]]+EOPC[[#This Row],[DIV 2 QTY]]+EOPC[[#This Row],[DIV 3 QTY]]+EOPC[[#This Row],[DIV 4 QTY]]+EOPC[[#This Row],[DIV 5 QTY]]+EOPC[[#This Row],[DIV 6 QTY]]+EOPC[[#This Row],[DIV 7 QTY]]+EOPC[[#This Row],[DIV 8 QTY]]+EOPC[[#This Row],[DIV 9 QTY]]+EOPC[[#This Row],[DIV 10 QTY]]","v":0},null,0,{"$f":"EOPC[[#This Row],[TOTAL QTY]]*EOPC[[#This Row],[UNIT PRICE]]","v":0},null,{"$f":"EOPC[[#This Row],[UNIT PRICE]]*EOPC[[#This Row],[DIV 1 QTY]]","v":0},null,{"$f":"EOPC[[#This Row],[UNIT PRICE]]*EOPC[[#This Row],[DIV 2 QTY]]","v":0},null,{"$f":"EOPC[[#This Row],[UNIT PRICE]]*EOPC[[#This Row],[DIV 3 QTY]]","v":0},null,{"$f":"EOPC[[#This Row],[UNIT PRICE]]*EOPC[[#This Row],[DIV 4 QTY]]","v":0},null,{"$f":"EOPC[[#This Row],[UNIT PRICE]]*EOPC[[#This Row],[DIV 5 QTY]]","v":0},null,{"$f":"EOPC[[#This Row],[UNIT PRICE]]*EOPC[[#This Row],[DIV 6 QTY]]","v":0},null,{"$f":"EOPC[[#This Row],[UNIT PRICE]]*EOPC[[#This Row],[DIV 7 QTY]]","v":0},null,{"$f":"EOPC[[#This Row],[UNIT PRICE]]*EOPC[[#This Row],[DIV 8 QTY]]","v":0},null,{"$f":"EOPC[[#This Row],[UNIT PRICE]]*EOPC[[#This Row],[DIV 9 QTY]]","v":0},null,{"$f":"EOPC[[#This Row],[UNIT PRICE]]*EOPC[[#This Row],[DIV 10 QTY]]","v":0}]
[null,null,null,{"$f":"EOPC[[#This Row],[DIV 1 QTY]]+EOPC[[#This Row],[DIV 2 QTY]]+EOPC[[#This Row],[DIV 3 QTY]]+EOPC[[#This Row],[DIV 4 QTY]]+EOPC[[#This Row],[DIV 5 QTY]]+EOPC[[#This Row],[DIV 6 QTY]]+EOPC[[#This Row],[DIV 7 QTY]]+EOPC[[#This Row],[DIV 8 QTY]]+EOPC[[#This Row],[DIV 9 QTY]]+EOPC[[#This Row],[DIV 10 QTY]]","v":0},null,0,{"$f":"EOPC[[#This Row],[TOTAL QTY]]*EOPC[[#This Row],[UNIT PRICE]]","v":0},null,{"$f":"EOPC[[#This Row],[UNIT PRICE]]*EOPC[[#This Row],[DIV 1 QTY]]","v":0},null,{"$f":"EOPC[[#This Row],[UNIT PRICE]]*EOPC[[#This Row],[DIV 2 QTY]]","v":0},null,{"$f":"EOPC[[#This Row],[UNIT PRICE]]*EOPC[[#This Row],[DIV 3 QTY]]","v":0},null,{"$f":"EOPC[[#This Row],[UNIT PRICE]]*EOPC[[#This Row],[DIV 4 QTY]]","v":0},null,{"$f":"EOPC[[#This Row],[UNIT PRICE]]*EOPC[[#This Row],[DIV 5 QTY]]","v":0},null,{"$f":"EOPC[[#This Row],[UNIT PRICE]]*EOPC[[#This Row],[DIV 6 QTY]]","v":0},null,{"$f":"EOPC[[#This Row],[UNIT PRICE]]*EOPC[[#This Row],[DIV 7 QTY]]","v":0},null,{"$f":"EOPC[[#This Row],[UNIT PRICE]]*EOPC[[#This Row],[DIV 8 QTY]]","v":0},null,{"$f":"EOPC[[#This Row],[UNIT PRICE]]*EOPC[[#This Row],[DIV 9 QTY]]","v":0},null,{"$f":"EOPC[[#This Row],[UNIT PRICE]]*EOPC[[#This Row],[DIV 10 QTY]]","v":0}]
[null,null,null,{"$f":"EOPC[[#This Row],[DIV 1 QTY]]+EOPC[[#This Row],[DIV 2 QTY]]+EOPC[[#This Row],[DIV 3 QTY]]+EOPC[[#This Row],[DIV 4 QTY]]+EOPC[[#This Row],[DIV 5 QTY]]+EOPC[[#This Row],[DIV 6 QTY]]+EOPC[[#This Row],[DIV 7 QTY]]+EOPC[[#This Row],[DIV 8 QTY]]+EOPC[[#This Row],[DIV 9 QTY]]+EOPC[[#This Row],[DIV 10 QTY]]","v":0},null,0,{"$f":"EOPC[[#This Row],[TOTAL QTY]]*EOPC[[#This Row],[UNIT PRICE]]","v":0},null,{"$f":"EOPC[[#This Row],[UNIT PRICE]]*EOPC[[#This Row],[DIV 1 QTY]]","v":0},null,{"$f":"EOPC[[#This Row],[UNIT PRICE]]*EOPC[[#This Row],[DIV 2 QTY]]","v":0},null,{"$f":"EOPC[[#This Row],[UNIT PRICE]]*EOPC[[#This Row],[DIV 3 QTY]]","v":0},null,{"$f":"EOPC[[#This Row],[UNIT PRICE]]*EOPC[[#This Row],[DIV 4 QTY]]","v":0},null,{"$f":"EOPC[[#This Row],[UNIT PRICE]]*EOPC[[#This Row],[DIV 5 QTY]]","v":0},null,{"$f":"EOPC[[#This Row],[UNIT PRICE]]*EOPC[[#This Row],[DIV 6 QTY]]","v":0},null,{"$f":"EOPC[[#This Row],[UNIT PRICE]]*EOPC[[#This Row],[DIV 7 QTY]]","v":0},null,{"$f":"EOPC[[#This Row],[UNIT PRICE]]*EOPC[[#This Row],[DIV 8 QTY]]","v":0},null,{"$f":"EOPC[[#This Row],[UNIT PRICE]]*EOPC[[#This Row],[DIV 9 QTY]]","v":0},null,{"$f":"EOPC[[#This Row],[UNIT PRICE]]*EOPC[[#This Row],[DIV 10 QTY]]","v":0}]
[null,null,null,{"$f":"EOPC[[#This Row],[DIV 1 QTY]]+EOPC[[#This Row],[DIV 2 QTY]]+EOPC[[#This Row],[DIV 3 QTY]]+EOPC[[#This Row],[DIV 4 QTY]]+EOPC[[#This Row],[DIV 5 QTY]]+EOPC[[#This Row],[DIV 6 QTY]]+EOPC[[#This Row],[DIV 7 QTY]]+EOPC[[#This Row],[DIV 8 QTY]]+EOPC[[#This Row],[DIV 9 QTY]]+EOPC[[#This Row],[DIV 10 QTY]]","v":0},null,0,{"$f":"EOPC[[#This Row],[TOTAL QTY]]*EOPC[[#This Row],[UNIT PRICE]]","v":0},null,{"$f":"EOPC[[#This Row],[UNIT PRICE]]*EOPC[[#This Row],[DIV 1 QTY]]","v":0},null,{"$f":"EOPC[[#This Row],[UNIT PRICE]]*EOPC[[#This Row],[DIV 2 QTY]]","v":0},null,{"$f":"EOPC[[#This Row],[UNIT PRICE]]*EOPC[[#This Row],[DIV 3 QTY]]","v":0},null,{"$f":"EOPC[[#This Row],[UNIT PRICE]]*EOPC[[#This Row],[DIV 4 QTY]]","v":0},null,{"$f":"EOPC[[#This Row],[UNIT PRICE]]*EOPC[[#This Row],[DIV 5 QTY]]","v":0},null,{"$f":"EOPC[[#This Row],[UNIT PRICE]]*EOPC[[#This Row],[DIV 6 QTY]]","v":0},null,{"$f":"EOPC[[#This Row],[UNIT PRICE]]*EOPC[[#This Row],[DIV 7 QTY]]","v":0},null,{"$f":"EOPC[[#This Row],[UNIT PRICE]]*EOPC[[#This Row],[DIV 8 QTY]]","v":0},null,{"$f":"EOPC[[#This Row],[UNIT PRICE]]*EOPC[[#This Row],[DIV 9 QTY]]","v":0},null,{"$f":"EOPC[[#This Row],[UNIT PRICE]]*EOPC[[#This Row],[DIV 10 QTY]]","v":0}]
[null,null,null,{"$f":"EOPC[[#This Row],[DIV 1 QTY]]+EOPC[[#This Row],[DIV 2 QTY]]+EOPC[[#This Row],[DIV 3 QTY]]+EOPC[[#This Row],[DIV 4 QTY]]+EOPC[[#This Row],[DIV 5 QTY]]+EOPC[[#This Row],[DIV 6 QTY]]+EOPC[[#This Row],[DIV 7 QTY]]+EOPC[[#This Row],[DIV 8 QTY]]+EOPC[[#This Row],[DIV 9 QTY]]+EOPC[[#This Row],[DIV 10 QTY]]","v":0},null,0,{"$f":"EOPC[[#This Row],[TOTAL QTY]]*EOPC[[#This Row],[UNIT PRICE]]","v":0},null,{"$f":"EOPC[[#This Row],[UNIT PRICE]]*EOPC[[#This Row],[DIV 1 QTY]]","v":0},null,{"$f":"EOPC[[#This Row],[UNIT PRICE]]*EOPC[[#This Row],[DIV 2 QTY]]","v":0},null,{"$f":"EOPC[[#This Row],[UNIT PRICE]]*EOPC[[#This Row],[DIV 3 QTY]]","v":0},null,{"$f":"EOPC[[#This Row],[UNIT PRICE]]*EOPC[[#This Row],[DIV 4 QTY]]","v":0},null,{"$f":"EOPC[[#This Row],[UNIT PRICE]]*EOPC[[#This Row],[DIV 5 QTY]]","v":0},null,{"$f":"EOPC[[#This Row],[UNIT PRICE]]*EOPC[[#This Row],[DIV 6 QTY]]","v":0},null,{"$f":"EOPC[[#This Row],[UNIT PRICE]]*EOPC[[#This Row],[DIV 7 QTY]]","v":0},null,{"$f":"EOPC[[#This Row],[UNIT PRICE]]*EOPC[[#This Row],[DIV 8 QTY]]","v":0},null,{"$f":"EOPC[[#This Row],[UNIT PRICE]]*EOPC[[#This Row],[DIV 9 QTY]]","v":0},null,{"$f":"EOPC[[#This Row],[UNIT PRICE]]*EOPC[[#This Row],[DIV 10 QTY]]","v":0}]
[null,null,null,{"$f":"EOPC[[#This Row],[DIV 1 QTY]]+EOPC[[#This Row],[DIV 2 QTY]]+EOPC[[#This Row],[DIV 3 QTY]]+EOPC[[#This Row],[DIV 4 QTY]]+EOPC[[#This Row],[DIV 5 QTY]]+EOPC[[#This Row],[DIV 6 QTY]]+EOPC[[#This Row],[DIV 7 QTY]]+EOPC[[#This Row],[DIV 8 QTY]]+EOPC[[#This Row],[DIV 9 QTY]]+EOPC[[#This Row],[DIV 10 QTY]]","v":0},null,0,{"$f":"EOPC[[#This Row],[TOTAL QTY]]*EOPC[[#This Row],[UNIT PRICE]]","v":0},null,{"$f":"EOPC[[#This Row],[UNIT PRICE]]*EOPC[[#This Row],[DIV 1 QTY]]","v":0},null,{"$f":"EOPC[[#This Row],[UNIT PRICE]]*EOPC[[#This Row],[DIV 2 QTY]]","v":0},null,{"$f":"EOPC[[#This Row],[UNIT PRICE]]*EOPC[[#This Row],[DIV 3 QTY]]","v":0},null,{"$f":"EOPC[[#This Row],[UNIT PRICE]]*EOPC[[#This Row],[DIV 4 QTY]]","v":0},null,{"$f":"EOPC[[#This Row],[UNIT PRICE]]*EOPC[[#This Row],[DIV 5 QTY]]","v":0},null,{"$f":"EOPC[[#This Row],[UNIT PRICE]]*EOPC[[#This Row],[DIV 6 QTY]]","v":0},null,{"$f":"EOPC[[#This Row],[UNIT PRICE]]*EOPC[[#This Row],[DIV 7 QTY]]","v":0},null,{"$f":"EOPC[[#This Row],[UNIT PRICE]]*EOPC[[#This Row],[DIV 8 QTY]]","v":0},null,{"$f":"EOPC[[#This Row],[UNIT PRICE]]*EOPC[[#This Row],[DIV 9 QTY]]","v":0},null,{"$f":"EOPC[[#This Row],[UNIT PRICE]]*EOPC[[#This Row],[DIV 10 QTY]]","v":0}]
[null,null,null,{"$f":"EOPC[[#This Row],[DIV 1 QTY]]+EOPC[[#This Row],[DIV 2 QTY]]+EOPC[[#This Row],[DIV 3 QTY]]+EOPC[[#This Row],[DIV 4 QTY]]+EOPC[[#This Row],[DIV 5 QTY]]+EOPC[[#This Row],[DIV 6 QTY]]+EOPC[[#This Row],[DIV 7 QTY]]+EOPC[[#This Row],[DIV 8 QTY]]+EOPC[[#This Row],[DIV 9 QTY]]+EOPC[[#This Row],[DIV 10 QTY]]","v":0},null,0,{"$f":"EOPC[[#This Row],[TOTAL QTY]]*EOPC[[#This Row],[UNIT PRICE]]","v":0},null,{"$f":"EOPC[[#This Row],[UNIT PRICE]]*EOPC[[#This Row],[DIV 1 QTY]]","v":0},null,{"$f":"EOPC[[#This Row],[UNIT PRICE]]*EOPC[[#This Row],[DIV 2 QTY]]","v":0},null,{"$f":"EOPC[[#This Row],[UNIT PRICE]]*EOPC[[#This Row],[DIV 3 QTY]]","v":0},null,{"$f":"EOPC[[#This Row],[UNIT PRICE]]*EOPC[[#This Row],[DIV 4 QTY]]","v":0},null,{"$f":"EOPC[[#This Row],[UNIT PRICE]]*EOPC[[#This Row],[DIV 5 QTY]]","v":0},null,{"$f":"EOPC[[#This Row],[UNIT PRICE]]*EOPC[[#This Row],[DIV 6 QTY]]","v":0},null,{"$f":"EOPC[[#This Row],[UNIT PRICE]]*EOPC[[#This Row],[DIV 7 QTY]]","v":0},null,{"$f":"EOPC[[#This Row],[UNIT PRICE]]*EOPC[[#This Row],[DIV 8 QTY]]","v":0},null,{"$f":"EOPC[[#This Row],[UNIT PRICE]]*EOPC[[#This Row],[DIV 9 QTY]]","v":0},null,{"$f":"EOPC[[#This Row],[UNIT PRICE]]*EOPC[[#This Row],[DIV 10 QTY]]","v":0}]
[null,null,null,{"$f":"EOPC[[#This Row],[DIV 1 QTY]]+EOPC[[#This Row],[DIV 2 QTY]]+EOPC[[#This Row],[DIV 3 QTY]]+EOPC[[#This Row],[DIV 4 QTY]]+EOPC[[#This Row],[DIV 5 QTY]]+EOPC[[#This Row],[DIV 6 QTY]]+EOPC[[#This Row],[DIV 7 QTY]]+EOPC[[#This Row],[DIV 8 QTY]]+EOPC[[#This Row],[DIV 9 QTY]]+EOPC[[#This Row],[DIV 10 QTY]]","v":0},null,0,{"$f":"EOPC[[#This Row],[TOTAL QTY]]*EOPC[[#This Row],[UNIT PRICE]]","v":0},null,{"$f":"EOPC[[#This Row],[UNIT PRICE]]*EOPC[[#This Row],[DIV 1 QTY]]","v":0},null,{"$f":"EOPC[[#This Row],[UNIT PRICE]]*EOPC[[#This Row],[DIV 2 QTY]]","v":0},null,{"$f":"EOPC[[#This Row],[UNIT PRICE]]*EOPC[[#This Row],[DIV 3 QTY]]","v":0},null,{"$f":"EOPC[[#This Row],[UNIT PRICE]]*EOPC[[#This Row],[DIV 4 QTY]]","v":0},null,{"$f":"EOPC[[#This Row],[UNIT PRICE]]*EOPC[[#This Row],[DIV 5 QTY]]","v":0},null,{"$f":"EOPC[[#This Row],[UNIT PRICE]]*EOPC[[#This Row],[DIV 6 QTY]]","v":0},null,{"$f":"EOPC[[#This Row],[UNIT PRICE]]*EOPC[[#This Row],[DIV 7 QTY]]","v":0},null,{"$f":"EOPC[[#This Row],[UNIT PRICE]]*EOPC[[#This Row],[DIV 8 QTY]]","v":0},null,{"$f":"EOPC[[#This Row],[UNIT PRICE]]*EOPC[[#This Row],[DIV 9 QTY]]","v":0},null,{"$f":"EOPC[[#This Row],[UNIT PRICE]]*EOPC[[#This Row],[DIV 10 QTY]]","v":0}]
[null,null,null,{"$f":"EOPC[[#This Row],[DIV 1 QTY]]+EOPC[[#This Row],[DIV 2 QTY]]+EOPC[[#This Row],[DIV 3 QTY]]+EOPC[[#This Row],[DIV 4 QTY]]+EOPC[[#This Row],[DIV 5 QTY]]+EOPC[[#This Row],[DIV 6 QTY]]+EOPC[[#This Row],[DIV 7 QTY]]+EOPC[[#This Row],[DIV 8 QTY]]+EOPC[[#This Row],[DIV 9 QTY]]+EOPC[[#This Row],[DIV 10 QTY]]","v":0},null,0,{"$f":"EOPC[[#This Row],[TOTAL QTY]]*EOPC[[#This Row],[UNIT PRICE]]","v":0},null,{"$f":"EOPC[[#This Row],[UNIT PRICE]]*EOPC[[#This Row],[DIV 1 QTY]]","v":0},null,{"$f":"EOPC[[#This Row],[UNIT PRICE]]*EOPC[[#This Row],[DIV 2 QTY]]","v":0},null,{"$f":"EOPC[[#This Row],[UNIT PRICE]]*EOPC[[#This Row],[DIV 3 QTY]]","v":0},null,{"$f":"EOPC[[#This Row],[UNIT PRICE]]*EOPC[[#This Row],[DIV 4 QTY]]","v":0},null,{"$f":"EOPC[[#This Row],[UNIT PRICE]]*EOPC[[#This Row],[DIV 5 QTY]]","v":0},null,{"$f":"EOPC[[#This Row],[UNIT PRICE]]*EOPC[[#This Row],[DIV 6 QTY]]","v":0},null,{"$f":"EOPC[[#This Row],[UNIT PRICE]]*EOPC[[#This Row],[DIV 7 QTY]]","v":0},null,{"$f":"EOPC[[#This Row],[UNIT PRICE]]*EOPC[[#This Row],[DIV 8 QTY]]","v":0},null,{"$f":"EOPC[[#This Row],[UNIT PRICE]]*EOPC[[#This Row],[DIV 9 QTY]]","v":0},null,{"$f":"EOPC[[#This Row],[UNIT PRICE]]*EOPC[[#This Row],[DIV 10 QTY]]","v":0}]
[null,null,null,{"$f":"EOPC[[#This Row],[DIV 1 QTY]]+EOPC[[#This Row],[DIV 2 QTY]]+EOPC[[#This Row],[DIV 3 QTY]]+EOPC[[#This Row],[DIV 4 QTY]]+EOPC[[#This Row],[DIV 5 QTY]]+EOPC[[#This Row],[DIV 6 QTY]]+EOPC[[#This Row],[DIV 7 QTY]]+EOPC[[#This Row],[DIV 8 QTY]]+EOPC[[#This Row],[DIV 9 QTY]]+EOPC[[#This Row],[DIV 10 QTY]]","v":0},null,0,{"$f":"EOPC[[#This Row],[TOTAL QTY]]*EOPC[[#This Row],[UNIT PRICE]]","v":0},null,{"$f":"EOPC[[#This Row],[UNIT PRICE]]*EOPC[[#This Row],[DIV 1 QTY]]","v":0},null,{"$f":"EOPC[[#This Row],[UNIT PRICE]]*EOPC[[#This Row],[DIV 2 QTY]]","v":0},null,{"$f":"EOPC[[#This Row],[UNIT PRICE]]*EOPC[[#This Row],[DIV 3 QTY]]","v":0},null,{"$f":"EOPC[[#This Row],[UNIT PRICE]]*EOPC[[#This Row],[DIV 4 QTY]]","v":0},null,{"$f":"EOPC[[#This Row],[UNIT PRICE]]*EOPC[[#This Row],[DIV 5 QTY]]","v":0},null,{"$f":"EOPC[[#This Row],[UNIT PRICE]]*EOPC[[#This Row],[DIV 6 QTY]]","v":0},null,{"$f":"EOPC[[#This Row],[UNIT PRICE]]*EOPC[[#This Row],[DIV 7 QTY]]","v":0},null,{"$f":"EOPC[[#This Row],[UNIT PRICE]]*EOPC[[#This Row],[DIV 8 QTY]]","v":0},null,{"$f":"EOPC[[#This Row],[UNIT PRICE]]*EOPC[[#This Row],[DIV 9 QTY]]","v":0},null,{"$f":"EOPC[[#This Row],[UNIT PRICE]]*EOPC[[#This Row],[DIV 10 QTY]]","v":0}]
[null,null,null,{"$f":"EOPC[[#This Row],[DIV 1 QTY]]+EOPC[[#This Row],[DIV 2 QTY]]+EOPC[[#This Row],[DIV 3 QTY]]+EOPC[[#This Row],[DIV 4 QTY]]+EOPC[[#This Row],[DIV 5 QTY]]+EOPC[[#This Row],[DIV 6 QTY]]+EOPC[[#This Row],[DIV 7 QTY]]+EOPC[[#This Row],[DIV 8 QTY]]+EOPC[[#This Row],[DIV 9 QTY]]+EOPC[[#This Row],[DIV 10 QTY]]","v":0},null,0,{"$f":"EOPC[[#This Row],[TOTAL QTY]]*EOPC[[#This Row],[UNIT PRICE]]","v":0},null,{"$f":"EOPC[[#This Row],[UNIT PRICE]]*EOPC[[#This Row],[DIV 1 QTY]]","v":0},null,{"$f":"EOPC[[#This Row],[UNIT PRICE]]*EOPC[[#This Row],[DIV 2 QTY]]","v":0},null,{"$f":"EOPC[[#This Row],[UNIT PRICE]]*EOPC[[#This Row],[DIV 3 QTY]]","v":0},null,{"$f":"EOPC[[#This Row],[UNIT PRICE]]*EOPC[[#This Row],[DIV 4 QTY]]","v":0},null,{"$f":"EOPC[[#This Row],[UNIT PRICE]]*EOPC[[#This Row],[DIV 5 QTY]]","v":0},null,{"$f":"EOPC[[#This Row],[UNIT PRICE]]*EOPC[[#This Row],[DIV 6 QTY]]","v":0},null,{"$f":"EOPC[[#This Row],[UNIT PRICE]]*EOPC[[#This Row],[DIV 7 QTY]]","v":0},null,{"$f":"EOPC[[#This Row],[UNIT PRICE]]*EOPC[[#This Row],[DIV 8 QTY]]","v":0},null,{"$f":"EOPC[[#This Row],[UNIT PRICE]]*EOPC[[#This Row],[DIV 9 QTY]]","v":0},null,{"$f":"EOPC[[#This Row],[UNIT PRICE]]*EOPC[[#This Row],[DIV 10 QTY]]","v":0}]
[null,null,null,{"$f":"EOPC[[#This Row],[DIV 1 QTY]]+EOPC[[#This Row],[DIV 2 QTY]]+EOPC[[#This Row],[DIV 3 QTY]]+EOPC[[#This Row],[DIV 4 QTY]]+EOPC[[#This Row],[DIV 5 QTY]]+EOPC[[#This Row],[DIV 6 QTY]]+EOPC[[#This Row],[DIV 7 QTY]]+EOPC[[#This Row],[DIV 8 QTY]]+EOPC[[#This Row],[DIV 9 QTY]]+EOPC[[#This Row],[DIV 10 QTY]]","v":0},null,0,{"$f":"EOPC[[#This Row],[TOTAL QTY]]*EOPC[[#This Row],[UNIT PRICE]]","v":0},null,{"$f":"EOPC[[#This Row],[UNIT PRICE]]*EOPC[[#This Row],[DIV 1 QTY]]","v":0},null,{"$f":"EOPC[[#This Row],[UNIT PRICE]]*EOPC[[#This Row],[DIV 2 QTY]]","v":0},null,{"$f":"EOPC[[#This Row],[UNIT PRICE]]*EOPC[[#This Row],[DIV 3 QTY]]","v":0},null,{"$f":"EOPC[[#This Row],[UNIT PRICE]]*EOPC[[#This Row],[DIV 4 QTY]]","v":0},null,{"$f":"EOPC[[#This Row],[UNIT PRICE]]*EOPC[[#This Row],[DIV 5 QTY]]","v":0},null,{"$f":"EOPC[[#This Row],[UNIT PRICE]]*EOPC[[#This Row],[DIV 6 QTY]]","v":0},null,{"$f":"EOPC[[#This Row],[UNIT PRICE]]*EOPC[[#This Row],[DIV 7 QTY]]","v":0},null,{"$f":"EOPC[[#This Row],[UNIT PRICE]]*EOPC[[#This Row],[DIV 8 QTY]]","v":0},null,{"$f":"EOPC[[#This Row],[UNIT PRICE]]*EOPC[[#This Row],[DIV 9 QTY]]","v":0},null,{"$f":"EOPC[[#This Row],[UNIT PRICE]]*EOPC[[#This Row],[DIV 10 QTY]]","v":0}]
[null,null,null,{"$f":"EOPC[[#This Row],[DIV 1 QTY]]+EOPC[[#This Row],[DIV 2 QTY]]+EOPC[[#This Row],[DIV 3 QTY]]+EOPC[[#This Row],[DIV 4 QTY]]+EOPC[[#This Row],[DIV 5 QTY]]+EOPC[[#This Row],[DIV 6 QTY]]+EOPC[[#This Row],[DIV 7 QTY]]+EOPC[[#This Row],[DIV 8 QTY]]+EOPC[[#This Row],[DIV 9 QTY]]+EOPC[[#This Row],[DIV 10 QTY]]","v":0},null,0,{"$f":"EOPC[[#This Row],[TOTAL QTY]]*EOPC[[#This Row],[UNIT PRICE]]","v":0},null,{"$f":"EOPC[[#This Row],[UNIT PRICE]]*EOPC[[#This Row],[DIV 1 QTY]]","v":0},null,{"$f":"EOPC[[#This Row],[UNIT PRICE]]*EOPC[[#This Row],[DIV 2 QTY]]","v":0},null,{"$f":"EOPC[[#This Row],[UNIT PRICE]]*EOPC[[#This Row],[DIV 3 QTY]]","v":0},null,{"$f":"EOPC[[#This Row],[UNIT PRICE]]*EOPC[[#This Row],[DIV 4 QTY]]","v":0},null,{"$f":"EOPC[[#This Row],[UNIT PRICE]]*EOPC[[#This Row],[DIV 5 QTY]]","v":0},null,{"$f":"EOPC[[#This Row],[UNIT PRICE]]*EOPC[[#This Row],[DIV 6 QTY]]","v":0},null,{"$f":"EOPC[[#This Row],[UNIT PRICE]]*EOPC[[#This Row],[DIV 7 QTY]]","v":0},null,{"$f":"EOPC[[#This Row],[UNIT PRICE]]*EOPC[[#This Row],[DIV 8 QTY]]","v":0},null,{"$f":"EOPC[[#This Row],[UNIT PRICE]]*EOPC[[#This Row],[DIV 9 QTY]]","v":0},null,{"$f":"EOPC[[#This Row],[UNIT PRICE]]*EOPC[[#This Row],[DIV 10 QTY]]","v":0}]
[null,null,null,{"$f":"EOPC[[#This Row],[DIV 1 QTY]]+EOPC[[#This Row],[DIV 2 QTY]]+EOPC[[#This Row],[DIV 3 QTY]]+EOPC[[#This Row],[DIV 4 QTY]]+EOPC[[#This Row],[DIV 5 QTY]]+EOPC[[#This Row],[DIV 6 QTY]]+EOPC[[#This Row],[DIV 7 QTY]]+EOPC[[#This Row],[DIV 8 QTY]]+EOPC[[#This Row],[DIV 9 QTY]]+EOPC[[#This Row],[DIV 10 QTY]]","v":0},null,0,{"$f":"EOPC[[#This Row],[TOTAL QTY]]*EOPC[[#This Row],[UNIT PRICE]]","v":0},null,{"$f":"EOPC[[#This Row],[UNIT PRICE]]*EOPC[[#This Row],[DIV 1 QTY]]","v":0},null,{"$f":"EOPC[[#This Row],[UNIT PRICE]]*EOPC[[#This Row],[DIV 2 QTY]]","v":0},null,{"$f":"EOPC[[#This Row],[UNIT PRICE]]*EOPC[[#This Row],[DIV 3 QTY]]","v":0},null,{"$f":"EOPC[[#This Row],[UNIT PRICE]]*EOPC[[#This Row],[DIV 4 QTY]]","v":0},null,{"$f":"EOPC[[#This Row],[UNIT PRICE]]*EOPC[[#This Row],[DIV 5 QTY]]","v":0},null,{"$f":"EOPC[[#This Row],[UNIT PRICE]]*EOPC[[#This Row],[DIV 6 QTY]]","v":0},null,{"$f":"EOPC[[#This Row],[UNIT PRICE]]*EOPC[[#This Row],[DIV 7 QTY]]","v":0},null,{"$f":"EOPC[[#This Row],[UNIT PRICE]]*EOPC[[#This Row],[DIV 8 QTY]]","v":0},null,{"$f":"EOPC[[#This Row],[UNIT PRICE]]*EOPC[[#This Row],[DIV 9 QTY]]","v":0},null,{"$f":"EOPC[[#This Row],[UNIT PRICE]]*EOPC[[#This Row],[DIV 10 QTY]]","v":0}]
[null,null,null,{"$f":"EOPC[[#This Row],[DIV 1 QTY]]+EOPC[[#This Row],[DIV 2 QTY]]+EOPC[[#This Row],[DIV 3 QTY]]+EOPC[[#This Row],[DIV 4 QTY]]+EOPC[[#This Row],[DIV 5 QTY]]+EOPC[[#This Row],[DIV 6 QTY]]+EOPC[[#This Row],[DIV 7 QTY]]+EOPC[[#This Row],[DIV 8 QTY]]+EOPC[[#This Row],[DIV 9 QTY]]+EOPC[[#This Row],[DIV 10 QTY]]","v":0},null,0,{"$f":"EOPC[[#This Row],[TOTAL QTY]]*EOPC[[#This Row],[UNIT PRICE]]","v":0},null,{"$f":"EOPC[[#This Row],[UNIT PRICE]]*EOPC[[#This Row],[DIV 1 QTY]]","v":0},null,{"$f":"EOPC[[#This Row],[UNIT PRICE]]*EOPC[[#This Row],[DIV 2 QTY]]","v":0},null,{"$f":"EOPC[[#This Row],[UNIT PRICE]]*EOPC[[#This Row],[DIV 3 QTY]]","v":0},null,{"$f":"EOPC[[#This Row],[UNIT PRICE]]*EOPC[[#This Row],[DIV 4 QTY]]","v":0},null,{"$f":"EOPC[[#This Row],[UNIT PRICE]]*EOPC[[#This Row],[DIV 5 QTY]]","v":0},null,{"$f":"EOPC[[#This Row],[UNIT PRICE]]*EOPC[[#This Row],[DIV 6 QTY]]","v":0},null,{"$f":"EOPC[[#This Row],[UNIT PRICE]]*EOPC[[#This Row],[DIV 7 QTY]]","v":0},null,{"$f":"EOPC[[#This Row],[UNIT PRICE]]*EOPC[[#This Row],[DIV 8 QTY]]","v":0},null,{"$f":"EOPC[[#This Row],[UNIT PRICE]]*EOPC[[#This Row],[DIV 9 QTY]]","v":0},null,{"$f":"EOPC[[#This Row],[UNIT PRICE]]*EOPC[[#This Row],[DIV 10 QTY]]","v":0}]
[null,null,null,{"$f":"EOPC[[#This Row],[DIV 1 QTY]]+EOPC[[#This Row],[DIV 2 QTY]]+EOPC[[#This Row],[DIV 3 QTY]]+EOPC[[#This Row],[DIV 4 QTY]]+EOPC[[#This Row],[DIV 5 QTY]]+EOPC[[#This Row],[DIV 6 QTY]]+EOPC[[#This Row],[DIV 7 QTY]]+EOPC[[#This Row],[DIV 8 QTY]]+EOPC[[#This Row],[DIV 9 QTY]]+EOPC[[#This Row],[DIV 10 QTY]]","v":0},null,0,{"$f":"EOPC[[#This Row],[TOTAL QTY]]*EOPC[[#This Row],[UNIT PRICE]]","v":0},null,{"$f":"EOPC[[#This Row],[UNIT PRICE]]*EOPC[[#This Row],[DIV 1 QTY]]","v":0},null,{"$f":"EOPC[[#This Row],[UNIT PRICE]]*EOPC[[#This Row],[DIV 2 QTY]]","v":0},null,{"$f":"EOPC[[#This Row],[UNIT PRICE]]*EOPC[[#This Row],[DIV 3 QTY]]","v":0},null,{"$f":"EOPC[[#This Row],[UNIT PRICE]]*EOPC[[#This Row],[DIV 4 QTY]]","v":0},null,{"$f":"EOPC[[#This Row],[UNIT PRICE]]*EOPC[[#This Row],[DIV 5 QTY]]","v":0},null,{"$f":"EOPC[[#This Row],[UNIT PRICE]]*EOPC[[#This Row],[DIV 6 QTY]]","v":0},null,{"$f":"EOPC[[#This Row],[UNIT PRICE]]*EOPC[[#This Row],[DIV 7 QTY]]","v":0},null,{"$f":"EOPC[[#This Row],[UNIT PRICE]]*EOPC[[#This Row],[DIV 8 QTY]]","v":0},null,{"$f":"EOPC[[#This Row],[UNIT PRICE]]*EOPC[[#This Row],[DIV 9 QTY]]","v":0},null,{"$f":"EOPC[[#This Row],[UNIT PRICE]]*EOPC[[#This Row],[DIV 10 QTY]]","v":0}]
[null,null,null,{"$f":"EOPC[[#This Row],[DIV 1 QTY]]+EOPC[[#This Row],[DIV 2 QTY]]+EOPC[[#This Row],[DIV 3 QTY]]+EOPC[[#This Row],[DIV 4 QTY]]+EOPC[[#This Row],[DIV 5 QTY]]+EOPC[[#This Row],[DIV 6 QTY]]+EOPC[[#This Row],[DIV 7 QTY]]+EOPC[[#This Row],[DIV 8 QTY]]+EOPC[[#This Row],[DIV 9 QTY]]+EOPC[[#This Row],[DIV 10 QTY]]","v":0},null,0,{"$f":"EOPC[[#This Row],[TOTAL QTY]]*EOPC[[#This Row],[UNIT PRICE]]","v":0},null,{"$f":"EOPC[[#This Row],[UNIT PRICE]]*EOPC[[#This Row],[DIV 1 QTY]]","v":0},null,{"$f":"EOPC[[#This Row],[UNIT PRICE]]*EOPC[[#This Row],[DIV 2 QTY]]","v":0},null,{"$f":"EOPC[[#This Row],[UNIT PRICE]]*EOPC[[#This Row],[DIV 3 QTY]]","v":0},null,{"$f":"EOPC[[#This Row],[UNIT PRICE]]*EOPC[[#This Row],[DIV 4 QTY]]","v":0},null,{"$f":"EOPC[[#This Row],[UNIT PRICE]]*EOPC[[#This Row],[DIV 5 QTY]]","v":0},null,{"$f":"EOPC[[#This Row],[UNIT PRICE]]*EOPC[[#This Row],[DIV 6 QTY]]","v":0},null,{"$f":"EOPC[[#This Row],[UNIT PRICE]]*EOPC[[#This Row],[DIV 7 QTY]]","v":0},null,{"$f":"EOPC[[#This Row],[UNIT PRICE]]*EOPC[[#This Row],[DIV 8 QTY]]","v":0},null,{"$f":"EOPC[[#This Row],[UNIT PRICE]]*EOPC[[#This Row],[DIV 9 QTY]]","v":0},null,{"$f":"EOPC[[#This Row],[UNIT PRICE]]*EOPC[[#This Row],[DIV 10 QTY]]","v":0}]
[null,null,null,{"$f":"EOPC[[#This Row],[DIV 1 QTY]]+EOPC[[#This Row],[DIV 2 QTY]]+EOPC[[#This Row],[DIV 3 QTY]]+EOPC[[#This Row],[DIV 4 QTY]]+EOPC[[#This Row],[DIV 5 QTY]]+EOPC[[#This Row],[DIV 6 QTY]]+EOPC[[#This Row],[DIV 7 QTY]]+EOPC[[#This Row],[DIV 8 QTY]]+EOPC[[#This Row],[DIV 9 QTY]]+EOPC[[#This Row],[DIV 10 QTY]]","v":0},null,0,{"$f":"EOPC[[#This Row],[TOTAL QTY]]*EOPC[[#This Row],[UNIT PRICE]]","v":0},null,{"$f":"EOPC[[#This Row],[UNIT PRICE]]*EOPC[[#This Row],[DIV 1 QTY]]","v":0},null,{"$f":"EOPC[[#This Row],[UNIT PRICE]]*EOPC[[#This Row],[DIV 2 QTY]]","v":0},null,{"$f":"EOPC[[#This Row],[UNIT PRICE]]*EOPC[[#This Row],[DIV 3 QTY]]","v":0},null,{"$f":"EOPC[[#This Row],[UNIT PRICE]]*EOPC[[#This Row],[DIV 4 QTY]]","v":0},null,{"$f":"EOPC[[#This Row],[UNIT PRICE]]*EOPC[[#This Row],[DIV 5 QTY]]","v":0},null,{"$f":"EOPC[[#This Row],[UNIT PRICE]]*EOPC[[#This Row],[DIV 6 QTY]]","v":0},null,{"$f":"EOPC[[#This Row],[UNIT PRICE]]*EOPC[[#This Row],[DIV 7 QTY]]","v":0},null,{"$f":"EOPC[[#This Row],[UNIT PRICE]]*EOPC[[#This Row],[DIV 8 QTY]]","v":0},null,{"$f":"EOPC[[#This Row],[UNIT PRICE]]*EOPC[[#This Row],[DIV 9 QTY]]","v":0},null,{"$f":"EOPC[[#This Row],[UNIT PRICE]]*EOPC[[#This Row],[DIV 10 QTY]]","v":0}]
[null,null,null,{"$f":"EOPC[[#This Row],[DIV 1 QTY]]+EOPC[[#This Row],[DIV 2 QTY]]+EOPC[[#This Row],[DIV 3 QTY]]+EOPC[[#This Row],[DIV 4 QTY]]+EOPC[[#This Row],[DIV 5 QTY]]+EOPC[[#This Row],[DIV 6 QTY]]+EOPC[[#This Row],[DIV 7 QTY]]+EOPC[[#This Row],[DIV 8 QTY]]+EOPC[[#This Row],[DIV 9 QTY]]+EOPC[[#This Row],[DIV 10 QTY]]","v":0},null,0,{"$f":"EOPC[[#This Row],[TOTAL QTY]]*EOPC[[#This Row],[UNIT PRICE]]","v":0},null,{"$f":"EOPC[[#This Row],[UNIT PRICE]]*EOPC[[#This Row],[DIV 1 QTY]]","v":0},null,{"$f":"EOPC[[#This Row],[UNIT PRICE]]*EOPC[[#This Row],[DIV 2 QTY]]","v":0},null,{"$f":"EOPC[[#This Row],[UNIT PRICE]]*EOPC[[#This Row],[DIV 3 QTY]]","v":0},null,{"$f":"EOPC[[#This Row],[UNIT PRICE]]*EOPC[[#This Row],[DIV 4 QTY]]","v":0},null,{"$f":"EOPC[[#This Row],[UNIT PRICE]]*EOPC[[#This Row],[DIV 5 QTY]]","v":0},null,{"$f":"EOPC[[#This Row],[UNIT PRICE]]*EOPC[[#This Row],[DIV 6 QTY]]","v":0},null,{"$f":"EOPC[[#This Row],[UNIT PRICE]]*EOPC[[#This Row],[DIV 7 QTY]]","v":0},null,{"$f":"EOPC[[#This Row],[UNIT PRICE]]*EOPC[[#This Row],[DIV 8 QTY]]","v":0},null,{"$f":"EOPC[[#This Row],[UNIT PRICE]]*EOPC[[#This Row],[DIV 9 QTY]]","v":0},null,{"$f":"EOPC[[#This Row],[UNIT PRICE]]*EOPC[[#This Row],[DIV 10 QTY]]","v":0}]
[null,null,null,{"$f":"EOPC[[#This Row],[DIV 1 QTY]]+EOPC[[#This Row],[DIV 2 QTY]]+EOPC[[#This Row],[DIV 3 QTY]]+EOPC[[#This Row],[DIV 4 QTY]]+EOPC[[#This Row],[DIV 5 QTY]]+EOPC[[#This Row],[DIV 6 QTY]]+EOPC[[#This Row],[DIV 7 QTY]]+EOPC[[#This Row],[DIV 8 QTY]]+EOPC[[#This Row],[DIV 9 QTY]]+EOPC[[#This Row],[DIV 10 QTY]]","v":0},null,0,{"$f":"EOPC[[#This Row],[TOTAL QTY]]*EOPC[[#This Row],[UNIT PRICE]]","v":0},null,{"$f":"EOPC[[#This Row],[UNIT PRICE]]*EOPC[[#This Row],[DIV 1 QTY]]","v":0},null,{"$f":"EOPC[[#This Row],[UNIT PRICE]]*EOPC[[#This Row],[DIV 2 QTY]]","v":0},null,{"$f":"EOPC[[#This Row],[UNIT PRICE]]*EOPC[[#This Row],[DIV 3 QTY]]","v":0},null,{"$f":"EOPC[[#This Row],[UNIT PRICE]]*EOPC[[#This Row],[DIV 4 QTY]]","v":0},null,{"$f":"EOPC[[#This Row],[UNIT PRICE]]*EOPC[[#This Row],[DIV 5 QTY]]","v":0},null,{"$f":"EOPC[[#This Row],[UNIT PRICE]]*EOPC[[#This Row],[DIV 6 QTY]]","v":0},null,{"$f":"EOPC[[#This Row],[UNIT PRICE]]*EOPC[[#This Row],[DIV 7 QTY]]","v":0},null,{"$f":"EOPC[[#This Row],[UNIT PRICE]]*EOPC[[#This Row],[DIV 8 QTY]]","v":0},null,{"$f":"EOPC[[#This Row],[UNIT PRICE]]*EOPC[[#This Row],[DIV 9 QTY]]","v":0},null,{"$f":"EOPC[[#This Row],[UNIT PRICE]]*EOPC[[#This Row],[DIV 10 QTY]]","v":0}]
[null,null,null,{"$f":"EOPC[[#This Row],[DIV 1 QTY]]+EOPC[[#This Row],[DIV 2 QTY]]+EOPC[[#This Row],[DIV 3 QTY]]+EOPC[[#This Row],[DIV 4 QTY]]+EOPC[[#This Row],[DIV 5 QTY]]+EOPC[[#This Row],[DIV 6 QTY]]+EOPC[[#This Row],[DIV 7 QTY]]+EOPC[[#This Row],[DIV 8 QTY]]+EOPC[[#This Row],[DIV 9 QTY]]+EOPC[[#This Row],[DIV 10 QTY]]","v":0},null,0,{"$f":"EOPC[[#This Row],[TOTAL QTY]]*EOPC[[#This Row],[UNIT PRICE]]","v":0},null,{"$f":"EOPC[[#This Row],[UNIT PRICE]]*EOPC[[#This Row],[DIV 1 QTY]]","v":0},null,{"$f":"EOPC[[#This Row],[UNIT PRICE]]*EOPC[[#This Row],[DIV 2 QTY]]","v":0},null,{"$f":"EOPC[[#This Row],[UNIT PRICE]]*EOPC[[#This Row],[DIV 3 QTY]]","v":0},null,{"$f":"EOPC[[#This Row],[UNIT PRICE]]*EOPC[[#This Row],[DIV 4 QTY]]","v":0},null,{"$f":"EOPC[[#This Row],[UNIT PRICE]]*EOPC[[#This Row],[DIV 5 QTY]]","v":0},null,{"$f":"EOPC[[#This Row],[UNIT PRICE]]*EOPC[[#This Row],[DIV 6 QTY]]","v":0},null,{"$f":"EOPC[[#This Row],[UNIT PRICE]]*EOPC[[#This Row],[DIV 7 QTY]]","v":0},null,{"$f":"EOPC[[#This Row],[UNIT PRICE]]*EOPC[[#This Row],[DIV 8 QTY]]","v":0},null,{"$f":"EOPC[[#This Row],[UNIT PRICE]]*EOPC[[#This Row],[DIV 9 QTY]]","v":0},null,{"$f":"EOPC[[#This Row],[UNIT PRICE]]*EOPC[[#This Row],[DIV 10 QTY]]","v":0}]
[null,null,null,{"$f":"EOPC[[#This Row],[DIV 1 QTY]]+EOPC[[#This Row],[DIV 2 QTY]]+EOPC[[#This Row],[DIV 3 QTY]]+EOPC[[#This Row],[DIV 4 QTY]]+EOPC[[#This Row],[DIV 5 QTY]]+EOPC[[#This Row],[DIV 6 QTY]]+EOPC[[#This Row],[DIV 7 QTY]]+EOPC[[#This Row],[DIV 8 QTY]]+EOPC[[#This Row],[DIV 9 QTY]]+EOPC[[#This Row],[DIV 10 QTY]]","v":0},null,0,{"$f":"EOPC[[#This Row],[TOTAL QTY]]*EOPC[[#This Row],[UNIT PRICE]]","v":0},null,{"$f":"EOPC[[#This Row],[UNIT PRICE]]*EOPC[[#This Row],[DIV 1 QTY]]","v":0},null,{"$f":"EOPC[[#This Row],[UNIT PRICE]]*EOPC[[#This Row],[DIV 2 QTY]]","v":0},null,{"$f":"EOPC[[#This Row],[UNIT PRICE]]*EOPC[[#This Row],[DIV 3 QTY]]","v":0},null,{"$f":"EOPC[[#This Row],[UNIT PRICE]]*EOPC[[#This Row],[DIV 4 QTY]]","v":0},null,{"$f":"EOPC[[#This Row],[UNIT PRICE]]*EOPC[[#This Row],[DIV 5 QTY]]","v":0},null,{"$f":"EOPC[[#This Row],[UNIT PRICE]]*EOPC[[#This Row],[DIV 6 QTY]]","v":0},null,{"$f":"EOPC[[#This Row],[UNIT PRICE]]*EOPC[[#This Row],[DIV 7 QTY]]","v":0},null,{"$f":"EOPC[[#This Row],[UNIT PRICE]]*EOPC[[#This Row],[DIV 8 QTY]]","v":0},null,{"$f":"EOPC[[#This Row],[UNIT PRICE]]*EOPC[[#This Row],[DIV 9 QTY]]","v":0},null,{"$f":"EOPC[[#This Row],[UNIT PRICE]]*EOPC[[#This Row],[DIV 10 QTY]]","v":0}]
[null,null,null,{"$f":"EOPC[[#This Row],[DIV 1 QTY]]+EOPC[[#This Row],[DIV 2 QTY]]+EOPC[[#This Row],[DIV 3 QTY]]+EOPC[[#This Row],[DIV 4 QTY]]+EOPC[[#This Row],[DIV 5 QTY]]+EOPC[[#This Row],[DIV 6 QTY]]+EOPC[[#This Row],[DIV 7 QTY]]+EOPC[[#This Row],[DIV 8 QTY]]+EOPC[[#This Row],[DIV 9 QTY]]+EOPC[[#This Row],[DIV 10 QTY]]","v":0},null,0,{"$f":"EOPC[[#This Row],[TOTAL QTY]]*EOPC[[#This Row],[UNIT PRICE]]","v":0},null,{"$f":"EOPC[[#This Row],[UNIT PRICE]]*EOPC[[#This Row],[DIV 1 QTY]]","v":0},null,{"$f":"EOPC[[#This Row],[UNIT PRICE]]*EOPC[[#This Row],[DIV 2 QTY]]","v":0},null,{"$f":"EOPC[[#This Row],[UNIT PRICE]]*EOPC[[#This Row],[DIV 3 QTY]]","v":0},null,{"$f":"EOPC[[#This Row],[UNIT PRICE]]*EOPC[[#This Row],[DIV 4 QTY]]","v":0},null,{"$f":"EOPC[[#This Row],[UNIT PRICE]]*EOPC[[#This Row],[DIV 5 QTY]]","v":0},null,{"$f":"EOPC[[#This Row],[UNIT PRICE]]*EOPC[[#This Row],[DIV 6 QTY]]","v":0},null,{"$f":"EOPC[[#This Row],[UNIT PRICE]]*EOPC[[#This Row],[DIV 7 QTY]]","v":0},null,{"$f":"EOPC[[#This Row],[UNIT PRICE]]*EOPC[[#This Row],[DIV 8 QTY]]","v":0},null,{"$f":"EOPC[[#This Row],[UNIT PRICE]]*EOPC[[#This Row],[DIV 9 QTY]]","v":0},null,{"$f":"EOPC[[#This Row],[UNIT PRICE]]*EOPC[[#This Row],[DIV 10 QTY]]","v":0}]
[null,null,null,{"$f":"EOPC[[#This Row],[DIV 1 QTY]]+EOPC[[#This Row],[DIV 2 QTY]]+EOPC[[#This Row],[DIV 3 QTY]]+EOPC[[#This Row],[DIV 4 QTY]]+EOPC[[#This Row],[DIV 5 QTY]]+EOPC[[#This Row],[DIV 6 QTY]]+EOPC[[#This Row],[DIV 7 QTY]]+EOPC[[#This Row],[DIV 8 QTY]]+EOPC[[#This Row],[DIV 9 QTY]]+EOPC[[#This Row],[DIV 10 QTY]]","v":0},null,0,{"$f":"EOPC[[#This Row],[TOTAL QTY]]*EOPC[[#This Row],[UNIT PRICE]]","v":0},null,{"$f":"EOPC[[#This Row],[UNIT PRICE]]*EOPC[[#This Row],[DIV 1 QTY]]","v":0},null,{"$f":"EOPC[[#This Row],[UNIT PRICE]]*EOPC[[#This Row],[DIV 2 QTY]]","v":0},null,{"$f":"EOPC[[#This Row],[UNIT PRICE]]*EOPC[[#This Row],[DIV 3 QTY]]","v":0},null,{"$f":"EOPC[[#This Row],[UNIT PRICE]]*EOPC[[#This Row],[DIV 4 QTY]]","v":0},null,{"$f":"EOPC[[#This Row],[UNIT PRICE]]*EOPC[[#This Row],[DIV 5 QTY]]","v":0},null,{"$f":"EOPC[[#This Row],[UNIT PRICE]]*EOPC[[#This Row],[DIV 6 QTY]]","v":0},null,{"$f":"EOPC[[#This Row],[UNIT PRICE]]*EOPC[[#This Row],[DIV 7 QTY]]","v":0},null,{"$f":"EOPC[[#This Row],[UNIT PRICE]]*EOPC[[#This Row],[DIV 8 QTY]]","v":0},null,{"$f":"EOPC[[#This Row],[UNIT PRICE]]*EOPC[[#This Row],[DIV 9 QTY]]","v":0},null,{"$f":"EOPC[[#This Row],[UNIT PRICE]]*EOPC[[#This Row],[DIV 10 QTY]]","v":0}]
[null,null,null,{"$f":"EOPC[[#This Row],[DIV 1 QTY]]+EOPC[[#This Row],[DIV 2 QTY]]+EOPC[[#This Row],[DIV 3 QTY]]+EOPC[[#This Row],[DIV 4 QTY]]+EOPC[[#This Row],[DIV 5 QTY]]+EOPC[[#This Row],[DIV 6 QTY]]+EOPC[[#This Row],[DIV 7 QTY]]+EOPC[[#This Row],[DIV 8 QTY]]+EOPC[[#This Row],[DIV 9 QTY]]+EOPC[[#This Row],[DIV 10 QTY]]","v":0},null,0,{"$f":"EOPC[[#This Row],[TOTAL QTY]]*EOPC[[#This Row],[UNIT PRICE]]","v":0},null,{"$f":"EOPC[[#This Row],[UNIT PRICE]]*EOPC[[#This Row],[DIV 1 QTY]]","v":0},null,{"$f":"EOPC[[#This Row],[UNIT PRICE]]*EOPC[[#This Row],[DIV 2 QTY]]","v":0},null,{"$f":"EOPC[[#This Row],[UNIT PRICE]]*EOPC[[#This Row],[DIV 3 QTY]]","v":0},null,{"$f":"EOPC[[#This Row],[UNIT PRICE]]*EOPC[[#This Row],[DIV 4 QTY]]","v":0},null,{"$f":"EOPC[[#This Row],[UNIT PRICE]]*EOPC[[#This Row],[DIV 5 QTY]]","v":0},null,{"$f":"EOPC[[#This Row],[UNIT PRICE]]*EOPC[[#This Row],[DIV 6 QTY]]","v":0},null,{"$f":"EOPC[[#This Row],[UNIT PRICE]]*EOPC[[#This Row],[DIV 7 QTY]]","v":0},null,{"$f":"EOPC[[#This Row],[UNIT PRICE]]*EOPC[[#This Row],[DIV 8 QTY]]","v":0},null,{"$f":"EOPC[[#This Row],[UNIT PRICE]]*EOPC[[#This Row],[DIV 9 QTY]]","v":0},null,{"$f":"EOPC[[#This Row],[UNIT PRICE]]*EOPC[[#This Row],[DIV 10 QTY]]","v":0}]
[null,null,null,{"$f":"EOPC[[#This Row],[DIV 1 QTY]]+EOPC[[#This Row],[DIV 2 QTY]]+EOPC[[#This Row],[DIV 3 QTY]]+EOPC[[#This Row],[DIV 4 QTY]]+EOPC[[#This Row],[DIV 5 QTY]]+EOPC[[#This Row],[DIV 6 QTY]]+EOPC[[#This Row],[DIV 7 QTY]]+EOPC[[#This Row],[DIV 8 QTY]]+EOPC[[#This Row],[DIV 9 QTY]]+EOPC[[#This Row],[DIV 10 QTY]]","v":0},null,0,{"$f":"EOPC[[#This Row],[TOTAL QTY]]*EOPC[[#This Row],[UNIT PRICE]]","v":0},null,{"$f":"EOPC[[#This Row],[UNIT PRICE]]*EOPC[[#This Row],[DIV 1 QTY]]","v":0},null,{"$f":"EOPC[[#This Row],[UNIT PRICE]]*EOPC[[#This Row],[DIV 2 QTY]]","v":0},null,{"$f":"EOPC[[#This Row],[UNIT PRICE]]*EOPC[[#This Row],[DIV 3 QTY]]","v":0},null,{"$f":"EOPC[[#This Row],[UNIT PRICE]]*EOPC[[#This Row],[DIV 4 QTY]]","v":0},null,{"$f":"EOPC[[#This Row],[UNIT PRICE]]*EOPC[[#This Row],[DIV 5 QTY]]","v":0},null,{"$f":"EOPC[[#This Row],[UNIT PRICE]]*EOPC[[#This Row],[DIV 6 QTY]]","v":0},null,{"$f":"EOPC[[#This Row],[UNIT PRICE]]*EOPC[[#This Row],[DIV 7 QTY]]","v":0},null,{"$f":"EOPC[[#This Row],[UNIT PRICE]]*EOPC[[#This Row],[DIV 8 QTY]]","v":0},null,{"$f":"EOPC[[#This Row],[UNIT PRICE]]*EOPC[[#This Row],[DIV 9 QTY]]","v":0},null,{"$f":"EOPC[[#This Row],[UNIT PRICE]]*EOPC[[#This Row],[DIV 10 QTY]]","v":0}]
[null,null,null,{"$f":"EOPC[[#This Row],[DIV 1 QTY]]+EOPC[[#This Row],[DIV 2 QTY]]+EOPC[[#This Row],[DIV 3 QTY]]+EOPC[[#This Row],[DIV 4 QTY]]+EOPC[[#This Row],[DIV 5 QTY]]+EOPC[[#This Row],[DIV 6 QTY]]+EOPC[[#This Row],[DIV 7 QTY]]+EOPC[[#This Row],[DIV 8 QTY]]+EOPC[[#This Row],[DIV 9 QTY]]+EOPC[[#This Row],[DIV 10 QTY]]","v":0},null,0,{"$f":"EOPC[[#This Row],[TOTAL QTY]]*EOPC[[#This Row],[UNIT PRICE]]","v":0},null,{"$f":"EOPC[[#This Row],[UNIT PRICE]]*EOPC[[#This Row],[DIV 1 QTY]]","v":0},null,{"$f":"EOPC[[#This Row],[UNIT PRICE]]*EOPC[[#This Row],[DIV 2 QTY]]","v":0},null,{"$f":"EOPC[[#This Row],[UNIT PRICE]]*EOPC[[#This Row],[DIV 3 QTY]]","v":0},null,{"$f":"EOPC[[#This Row],[UNIT PRICE]]*EOPC[[#This Row],[DIV 4 QTY]]","v":0},null,{"$f":"EOPC[[#This Row],[UNIT PRICE]]*EOPC[[#This Row],[DIV 5 QTY]]","v":0},null,{"$f":"EOPC[[#This Row],[UNIT PRICE]]*EOPC[[#This Row],[DIV 6 QTY]]","v":0},null,{"$f":"EOPC[[#This Row],[UNIT PRICE]]*EOPC[[#This Row],[DIV 7 QTY]]","v":0},null,{"$f":"EOPC[[#This Row],[UNIT PRICE]]*EOPC[[#This Row],[DIV 8 QTY]]","v":0},null,{"$f":"EOPC[[#This Row],[UNIT PRICE]]*EOPC[[#This Row],[DIV 9 QTY]]","v":0},null,{"$f":"EOPC[[#This Row],[UNIT PRICE]]*EOPC[[#This Row],[DIV 10 QTY]]","v":0}]
[null,null,null,{"$f":"EOPC[[#This Row],[DIV 1 QTY]]+EOPC[[#This Row],[DIV 2 QTY]]+EOPC[[#This Row],[DIV 3 QTY]]+EOPC[[#This Row],[DIV 4 QTY]]+EOPC[[#This Row],[DIV 5 QTY]]+EOPC[[#This Row],[DIV 6 QTY]]+EOPC[[#This Row],[DIV 7 QTY]]+EOPC[[#This Row],[DIV 8 QTY]]+EOPC[[#This Row],[DIV 9 QTY]]+EOPC[[#This Row],[DIV 10 QTY]]","v":0},null,0,{"$f":"EOPC[[#This Row],[TOTAL QTY]]*EOPC[[#This Row],[UNIT PRICE]]","v":0},null,{"$f":"EOPC[[#This Row],[UNIT PRICE]]*EOPC[[#This Row],[DIV 1 QTY]]","v":0},null,{"$f":"EOPC[[#This Row],[UNIT PRICE]]*EOPC[[#This Row],[DIV 2 QTY]]","v":0},null,{"$f":"EOPC[[#This Row],[UNIT PRICE]]*EOPC[[#This Row],[DIV 3 QTY]]","v":0},null,{"$f":"EOPC[[#This Row],[UNIT PRICE]]*EOPC[[#This Row],[DIV 4 QTY]]","v":0},null,{"$f":"EOPC[[#This Row],[UNIT PRICE]]*EOPC[[#This Row],[DIV 5 QTY]]","v":0},null,{"$f":"EOPC[[#This Row],[UNIT PRICE]]*EOPC[[#This Row],[DIV 6 QTY]]","v":0},null,{"$f":"EOPC[[#This Row],[UNIT PRICE]]*EOPC[[#This Row],[DIV 7 QTY]]","v":0},null,{"$f":"EOPC[[#This Row],[UNIT PRICE]]*EOPC[[#This Row],[DIV 8 QTY]]","v":0},null,{"$f":"EOPC[[#This Row],[UNIT PRICE]]*EOPC[[#This Row],[DIV 9 QTY]]","v":0},null,{"$f":"EOPC[[#This Row],[UNIT PRICE]]*EOPC[[#This Row],[DIV 10 QTY]]","v":0}]
[null,null,null,{"$f":"EOPC[[#This Row],[DIV 1 QTY]]+EOPC[[#This Row],[DIV 2 QTY]]+EOPC[[#This Row],[DIV 3 QTY]]+EOPC[[#This Row],[DIV 4 QTY]]+EOPC[[#This Row],[DIV 5 QTY]]+EOPC[[#This Row],[DIV 6 QTY]]+EOPC[[#This Row],[DIV 7 QTY]]+EOPC[[#This Row],[DIV 8 QTY]]+EOPC[[#This Row],[DIV 9 QTY]]+EOPC[[#This Row],[DIV 10 QTY]]","v":0},null,0,{"$f":"EOPC[[#This Row],[TOTAL QTY]]*EOPC[[#This Row],[UNIT PRICE]]","v":0},null,{"$f":"EOPC[[#This Row],[UNIT PRICE]]*EOPC[[#This Row],[DIV 1 QTY]]","v":0},null,{"$f":"EOPC[[#This Row],[UNIT PRICE]]*EOPC[[#This Row],[DIV 2 QTY]]","v":0},null,{"$f":"EOPC[[#This Row],[UNIT PRICE]]*EOPC[[#This Row],[DIV 3 QTY]]","v":0},null,{"$f":"EOPC[[#This Row],[UNIT PRICE]]*EOPC[[#This Row],[DIV 4 QTY]]","v":0},null,{"$f":"EOPC[[#This Row],[UNIT PRICE]]*EOPC[[#This Row],[DIV 5 QTY]]","v":0},null,{"$f":"EOPC[[#This Row],[UNIT PRICE]]*EOPC[[#This Row],[DIV 6 QTY]]","v":0},null,{"$f":"EOPC[[#This Row],[UNIT PRICE]]*EOPC[[#This Row],[DIV 7 QTY]]","v":0},null,{"$f":"EOPC[[#This Row],[UNIT PRICE]]*EOPC[[#This Row],[DIV 8 QTY]]","v":0},null,{"$f":"EOPC[[#This Row],[UNIT PRICE]]*EOPC[[#This Row],[DIV 9 QTY]]","v":0},null,{"$f":"EOPC[[#This Row],[UNIT PRICE]]*EOPC[[#This Row],[DIV 10 QTY]]","v":0}]
[null,null,null,{"$f":"EOPC[[#This Row],[DIV 1 QTY]]+EOPC[[#This Row],[DIV 2 QTY]]+EOPC[[#This Row],[DIV 3 QTY]]+EOPC[[#This Row],[DIV 4 QTY]]+EOPC[[#This Row],[DIV 5 QTY]]+EOPC[[#This Row],[DIV 6 QTY]]+EOPC[[#This Row],[DIV 7 QTY]]+EOPC[[#This Row],[DIV 8 QTY]]+EOPC[[#This Row],[DIV 9 QTY]]+EOPC[[#This Row],[DIV 10 QTY]]","v":0},null,0,{"$f":"EOPC[[#This Row],[TOTAL QTY]]*EOPC[[#This Row],[UNIT PRICE]]","v":0},null,{"$f":"EOPC[[#This Row],[UNIT PRICE]]*EOPC[[#This Row],[DIV 1 QTY]]","v":0},null,{"$f":"EOPC[[#This Row],[UNIT PRICE]]*EOPC[[#This Row],[DIV 2 QTY]]","v":0},null,{"$f":"EOPC[[#This Row],[UNIT PRICE]]*EOPC[[#This Row],[DIV 3 QTY]]","v":0},null,{"$f":"EOPC[[#This Row],[UNIT PRICE]]*EOPC[[#This Row],[DIV 4 QTY]]","v":0},null,{"$f":"EOPC[[#This Row],[UNIT PRICE]]*EOPC[[#This Row],[DIV 5 QTY]]","v":0},null,{"$f":"EOPC[[#This Row],[UNIT PRICE]]*EOPC[[#This Row],[DIV 6 QTY]]","v":0},null,{"$f":"EOPC[[#This Row],[UNIT PRICE]]*EOPC[[#This Row],[DIV 7 QTY]]","v":0},null,{"$f":"EOPC[[#This Row],[UNIT PRICE]]*EOPC[[#This Row],[DIV 8 QTY]]","v":0},null,{"$f":"EOPC[[#This Row],[UNIT PRICE]]*EOPC[[#This Row],[DIV 9 QTY]]","v":0},null,{"$f":"EOPC[[#This Row],[UNIT PRICE]]*EOPC[[#This Row],[DIV 10 QTY]]","v":0}]
[null,null,null,{"$f":"EOPC[[#This Row],[DIV 1 QTY]]+EOPC[[#This Row],[DIV 2 QTY]]+EOPC[[#This Row],[DIV 3 QTY]]+EOPC[[#This Row],[DIV 4 QTY]]+EOPC[[#This Row],[DIV 5 QTY]]+EOPC[[#This Row],[DIV 6 QTY]]+EOPC[[#This Row],[DIV 7 QTY]]+EOPC[[#This Row],[DIV 8 QTY]]+EOPC[[#This Row],[DIV 9 QTY]]+EOPC[[#This Row],[DIV 10 QTY]]","v":0},null,0,{"$f":"EOPC[[#This Row],[TOTAL QTY]]*EOPC[[#This Row],[UNIT PRICE]]","v":0},null,{"$f":"EOPC[[#This Row],[UNIT PRICE]]*EOPC[[#This Row],[DIV 1 QTY]]","v":0},null,{"$f":"EOPC[[#This Row],[UNIT PRICE]]*EOPC[[#This Row],[DIV 2 QTY]]","v":0},null,{"$f":"EOPC[[#This Row],[UNIT PRICE]]*EOPC[[#This Row],[DIV 3 QTY]]","v":0},null,{"$f":"EOPC[[#This Row],[UNIT PRICE]]*EOPC[[#This Row],[DIV 4 QTY]]","v":0},null,{"$f":"EOPC[[#This Row],[UNIT PRICE]]*EOPC[[#This Row],[DIV 5 QTY]]","v":0},null,{"$f":"EOPC[[#This Row],[UNIT PRICE]]*EOPC[[#This Row],[DIV 6 QTY]]","v":0},null,{"$f":"EOPC[[#This Row],[UNIT PRICE]]*EOPC[[#This Row],[DIV 7 QTY]]","v":0},null,{"$f":"EOPC[[#This Row],[UNIT PRICE]]*EOPC[[#This Row],[DIV 8 QTY]]","v":0},null,{"$f":"EOPC[[#This Row],[UNIT PRICE]]*EOPC[[#This Row],[DIV 9 QTY]]","v":0},null,{"$f":"EOPC[[#This Row],[UNIT PRICE]]*EOPC[[#This Row],[DIV 10 QTY]]","v":0}]
[null,null,null,{"$f":"EOPC[[#This Row],[DIV 1 QTY]]+EOPC[[#This Row],[DIV 2 QTY]]+EOPC[[#This Row],[DIV 3 QTY]]+EOPC[[#This Row],[DIV 4 QTY]]+EOPC[[#This Row],[DIV 5 QTY]]+EOPC[[#This Row],[DIV 6 QTY]]+EOPC[[#This Row],[DIV 7 QTY]]+EOPC[[#This Row],[DIV 8 QTY]]+EOPC[[#This Row],[DIV 9 QTY]]+EOPC[[#This Row],[DIV 10 QTY]]","v":0},null,0,{"$f":"EOPC[[#This Row],[TOTAL QTY]]*EOPC[[#This Row],[UNIT PRICE]]","v":0},null,{"$f":"EOPC[[#This Row],[UNIT PRICE]]*EOPC[[#This Row],[DIV 1 QTY]]","v":0},null,{"$f":"EOPC[[#This Row],[UNIT PRICE]]*EOPC[[#This Row],[DIV 2 QTY]]","v":0},null,{"$f":"EOPC[[#This Row],[UNIT PRICE]]*EOPC[[#This Row],[DIV 3 QTY]]","v":0},null,{"$f":"EOPC[[#This Row],[UNIT PRICE]]*EOPC[[#This Row],[DIV 4 QTY]]","v":0},null,{"$f":"EOPC[[#This Row],[UNIT PRICE]]*EOPC[[#This Row],[DIV 5 QTY]]","v":0},null,{"$f":"EOPC[[#This Row],[UNIT PRICE]]*EOPC[[#This Row],[DIV 6 QTY]]","v":0},null,{"$f":"EOPC[[#This Row],[UNIT PRICE]]*EOPC[[#This Row],[DIV 7 QTY]]","v":0},null,{"$f":"EOPC[[#This Row],[UNIT PRICE]]*EOPC[[#This Row],[DIV 8 QTY]]","v":0},null,{"$f":"EOPC[[#This Row],[UNIT PRICE]]*EOPC[[#This Row],[DIV 9 QTY]]","v":0},null,{"$f":"EOPC[[#This Row],[UNIT PRICE]]*EOPC[[#This Row],[DIV 10 QTY]]","v":0}]
[null,null,null,{"$f":"EOPC[[#This Row],[DIV 1 QTY]]+EOPC[[#This Row],[DIV 2 QTY]]+EOPC[[#This Row],[DIV 3 QTY]]+EOPC[[#This Row],[DIV 4 QTY]]+EOPC[[#This Row],[DIV 5 QTY]]+EOPC[[#This Row],[DIV 6 QTY]]+EOPC[[#This Row],[DIV 7 QTY]]+EOPC[[#This Row],[DIV 8 QTY]]+EOPC[[#This Row],[DIV 9 QTY]]+EOPC[[#This Row],[DIV 10 QTY]]","v":0},null,0,{"$f":"EOPC[[#This Row],[TOTAL QTY]]*EOPC[[#This Row],[UNIT PRICE]]","v":0},null,{"$f":"EOPC[[#This Row],[UNIT PRICE]]*EOPC[[#This Row],[DIV 1 QTY]]","v":0},null,{"$f":"EOPC[[#This Row],[UNIT PRICE]]*EOPC[[#This Row],[DIV 2 QTY]]","v":0},null,{"$f":"EOPC[[#This Row],[UNIT PRICE]]*EOPC[[#This Row],[DIV 3 QTY]]","v":0},null,{"$f":"EOPC[[#This Row],[UNIT PRICE]]*EOPC[[#This Row],[DIV 4 QTY]]","v":0},null,{"$f":"EOPC[[#This Row],[UNIT PRICE]]*EOPC[[#This Row],[DIV 5 QTY]]","v":0},null,{"$f":"EOPC[[#This Row],[UNIT PRICE]]*EOPC[[#This Row],[DIV 6 QTY]]","v":0},null,{"$f":"EOPC[[#This Row],[UNIT PRICE]]*EOPC[[#This Row],[DIV 7 QTY]]","v":0},null,{"$f":"EOPC[[#This Row],[UNIT PRICE]]*EOPC[[#This Row],[DIV 8 QTY]]","v":0},null,{"$f":"EOPC[[#This Row],[UNIT PRICE]]*EOPC[[#This Row],[DIV 9 QTY]]","v":0},null,{"$f":"EOPC[[#This Row],[UNIT PRICE]]*EOPC[[#This Row],[DIV 10 QTY]]","v":0}]
[null,null,null,{"$f":"EOPC[[#This Row],[DIV 1 QTY]]+EOPC[[#This Row],[DIV 2 QTY]]+EOPC[[#This Row],[DIV 3 QTY]]+EOPC[[#This Row],[DIV 4 QTY]]+EOPC[[#This Row],[DIV 5 QTY]]+EOPC[[#This Row],[DIV 6 QTY]]+EOPC[[#This Row],[DIV 7 QTY]]+EOPC[[#This Row],[DIV 8 QTY]]+EOPC[[#This Row],[DIV 9 QTY]]+EOPC[[#This Row],[DIV 10 QTY]]","v":0},null,0,{"$f":"EOPC[[#This Row],[TOTAL QTY]]*EOPC[[#This Row],[UNIT PRICE]]","v":0},null,{"$f":"EOPC[[#This Row],[UNIT PRICE]]*EOPC[[#This Row],[DIV 1 QTY]]","v":0},null,{"$f":"EOPC[[#This Row],[UNIT PRICE]]*EOPC[[#This Row],[DIV 2 QTY]]","v":0},null,{"$f":"EOPC[[#This Row],[UNIT PRICE]]*EOPC[[#This Row],[DIV 3 QTY]]","v":0},null,{"$f":"EOPC[[#This Row],[UNIT PRICE]]*EOPC[[#This Row],[DIV 4 QTY]]","v":0},null,{"$f":"EOPC[[#This Row],[UNIT PRICE]]*EOPC[[#This Row],[DIV 5 QTY]]","v":0},null,{"$f":"EOPC[[#This Row],[UNIT PRICE]]*EOPC[[#This Row],[DIV 6 QTY]]","v":0},null,{"$f":"EOPC[[#This Row],[UNIT PRICE]]*EOPC[[#This Row],[DIV 7 QTY]]","v":0},null,{"$f":"EOPC[[#This Row],[UNIT PRICE]]*EOPC[[#This Row],[DIV 8 QTY]]","v":0},null,{"$f":"EOPC[[#This Row],[UNIT PRICE]]*EOPC[[#This Row],[DIV 9 QTY]]","v":0},null,{"$f":"EOPC[[#This Row],[UNIT PRICE]]*EOPC[[#This Row],[DIV 10 QTY]]","v":0}]
[null,null,null,{"$f":"EOPC[[#This Row],[DIV 1 QTY]]+EOPC[[#This Row],[DIV 2 QTY]]+EOPC[[#This Row],[DIV 3 QTY]]+EOPC[[#This Row],[DIV 4 QTY]]+EOPC[[#This Row],[DIV 5 QTY]]+EOPC[[#This Row],[DIV 6 QTY]]+EOPC[[#This Row],[DIV 7 QTY]]+EOPC[[#This Row],[DIV 8 QTY]]+EOPC[[#This Row],[DIV 9 QTY]]+EOPC[[#This Row],[DIV 10 QTY]]","v":0},null,0,{"$f":"EOPC[[#This Row],[TOTAL QTY]]*EOPC[[#This Row],[UNIT PRICE]]","v":0},null,{"$f":"EOPC[[#This Row],[UNIT PRICE]]*EOPC[[#This Row],[DIV 1 QTY]]","v":0},null,{"$f":"EOPC[[#This Row],[UNIT PRICE]]*EOPC[[#This Row],[DIV 2 QTY]]","v":0},null,{"$f":"EOPC[[#This Row],[UNIT PRICE]]*EOPC[[#This Row],[DIV 3 QTY]]","v":0},null,{"$f":"EOPC[[#This Row],[UNIT PRICE]]*EOPC[[#This Row],[DIV 4 QTY]]","v":0},null,{"$f":"EOPC[[#This Row],[UNIT PRICE]]*EOPC[[#This Row],[DIV 5 QTY]]","v":0},null,{"$f":"EOPC[[#This Row],[UNIT PRICE]]*EOPC[[#This Row],[DIV 6 QTY]]","v":0},null,{"$f":"EOPC[[#This Row],[UNIT PRICE]]*EOPC[[#This Row],[DIV 7 QTY]]","v":0},null,{"$f":"EOPC[[#This Row],[UNIT PRICE]]*EOPC[[#This Row],[DIV 8 QTY]]","v":0},null,{"$f":"EOPC[[#This Row],[UNIT PRICE]]*EOPC[[#This Row],[DIV 9 QTY]]","v":0},null,{"$f":"EOPC[[#This Row],[UNIT PRICE]]*EOPC[[#This Row],[DIV 10 QTY]]","v":0}]
[null,null,null,{"$f":"EOPC[[#This Row],[DIV 1 QTY]]+EOPC[[#This Row],[DIV 2 QTY]]+EOPC[[#This Row],[DIV 3 QTY]]+EOPC[[#This Row],[DIV 4 QTY]]+EOPC[[#This Row],[DIV 5 QTY]]+EOPC[[#This Row],[DIV 6 QTY]]+EOPC[[#This Row],[DIV 7 QTY]]+EOPC[[#This Row],[DIV 8 QTY]]+EOPC[[#This Row],[DIV 9 QTY]]+EOPC[[#This Row],[DIV 10 QTY]]","v":0},null,0,{"$f":"EOPC[[#This Row],[TOTAL QTY]]*EOPC[[#This Row],[UNIT PRICE]]","v":0},null,{"$f":"EOPC[[#This Row],[UNIT PRICE]]*EOPC[[#This Row],[DIV 1 QTY]]","v":0},null,{"$f":"EOPC[[#This Row],[UNIT PRICE]]*EOPC[[#This Row],[DIV 2 QTY]]","v":0},null,{"$f":"EOPC[[#This Row],[UNIT PRICE]]*EOPC[[#This Row],[DIV 3 QTY]]","v":0},null,{"$f":"EOPC[[#This Row],[UNIT PRICE]]*EOPC[[#This Row],[DIV 4 QTY]]","v":0},null,{"$f":"EOPC[[#This Row],[UNIT PRICE]]*EOPC[[#This Row],[DIV 5 QTY]]","v":0},null,{"$f":"EOPC[[#This Row],[UNIT PRICE]]*EOPC[[#This Row],[DIV 6 QTY]]","v":0},null,{"$f":"EOPC[[#This Row],[UNIT PRICE]]*EOPC[[#This Row],[DIV 7 QTY]]","v":0},null,{"$f":"EOPC[[#This Row],[UNIT PRICE]]*EOPC[[#This Row],[DIV 8 QTY]]","v":0},null,{"$f":"EOPC[[#This Row],[UNIT PRICE]]*EOPC[[#This Row],[DIV 9 QTY]]","v":0},null,{"$f":"EOPC[[#This Row],[UNIT PRICE]]*EOPC[[#This Row],[DIV 10 QTY]]","v":0}]
[null,null,null,{"$f":"EOPC[[#This Row],[DIV 1 QTY]]+EOPC[[#This Row],[DIV 2 QTY]]+EOPC[[#This Row],[DIV 3 QTY]]+EOPC[[#This Row],[DIV 4 QTY]]+EOPC[[#This Row],[DIV 5 QTY]]+EOPC[[#This Row],[DIV 6 QTY]]+EOPC[[#This Row],[DIV 7 QTY]]+EOPC[[#This Row],[DIV 8 QTY]]+EOPC[[#This Row],[DIV 9 QTY]]+EOPC[[#This Row],[DIV 10 QTY]]","v":0},null,0,{"$f":"EOPC[[#This Row],[TOTAL QTY]]*EOPC[[#This Row],[UNIT PRICE]]","v":0},null,{"$f":"EOPC[[#This Row],[UNIT PRICE]]*EOPC[[#This Row],[DIV 1 QTY]]","v":0},null,{"$f":"EOPC[[#This Row],[UNIT PRICE]]*EOPC[[#This Row],[DIV 2 QTY]]","v":0},null,{"$f":"EOPC[[#This Row],[UNIT PRICE]]*EOPC[[#This Row],[DIV 3 QTY]]","v":0},null,{"$f":"EOPC[[#This Row],[UNIT PRICE]]*EOPC[[#This Row],[DIV 4 QTY]]","v":0},null,{"$f":"EOPC[[#This Row],[UNIT PRICE]]*EOPC[[#This Row],[DIV 5 QTY]]","v":0},null,{"$f":"EOPC[[#This Row],[UNIT PRICE]]*EOPC[[#This Row],[DIV 6 QTY]]","v":0},null,{"$f":"EOPC[[#This Row],[UNIT PRICE]]*EOPC[[#This Row],[DIV 7 QTY]]","v":0},null,{"$f":"EOPC[[#This Row],[UNIT PRICE]]*EOPC[[#This Row],[DIV 8 QTY]]","v":0},null,{"$f":"EOPC[[#This Row],[UNIT PRICE]]*EOPC[[#This Row],[DIV 9 QTY]]","v":0},null,{"$f":"EOPC[[#This Row],[UNIT PRICE]]*EOPC[[#This Row],[DIV 10 QTY]]","v":0}]
[null,null,null,{"$f":"EOPC[[#This Row],[DIV 1 QTY]]+EOPC[[#This Row],[DIV 2 QTY]]+EOPC[[#This Row],[DIV 3 QTY]]+EOPC[[#This Row],[DIV 4 QTY]]+EOPC[[#This Row],[DIV 5 QTY]]+EOPC[[#This Row],[DIV 6 QTY]]+EOPC[[#This Row],[DIV 7 QTY]]+EOPC[[#This Row],[DIV 8 QTY]]+EOPC[[#This Row],[DIV 9 QTY]]+EOPC[[#This Row],[DIV 10 QTY]]","v":0},null,0,{"$f":"EOPC[[#This Row],[TOTAL QTY]]*EOPC[[#This Row],[UNIT PRICE]]","v":0},null,{"$f":"EOPC[[#This Row],[UNIT PRICE]]*EOPC[[#This Row],[DIV 1 QTY]]","v":0},null,{"$f":"EOPC[[#This Row],[UNIT PRICE]]*EOPC[[#This Row],[DIV 2 QTY]]","v":0},null,{"$f":"EOPC[[#This Row],[UNIT PRICE]]*EOPC[[#This Row],[DIV 3 QTY]]","v":0},null,{"$f":"EOPC[[#This Row],[UNIT PRICE]]*EOPC[[#This Row],[DIV 4 QTY]]","v":0},null,{"$f":"EOPC[[#This Row],[UNIT PRICE]]*EOPC[[#This Row],[DIV 5 QTY]]","v":0},null,{"$f":"EOPC[[#This Row],[UNIT PRICE]]*EOPC[[#This Row],[DIV 6 QTY]]","v":0},null,{"$f":"EOPC[[#This Row],[UNIT PRICE]]*EOPC[[#This Row],[DIV 7 QTY]]","v":0},null,{"$f":"EOPC[[#This Row],[UNIT PRICE]]*EOPC[[#This Row],[DIV 8 QTY]]","v":0},null,{"$f":"EOPC[[#This Row],[UNIT PRICE]]*EOPC[[#This Row],[DIV 9 QTY]]","v":0},null,{"$f":"EOPC[[#This Row],[UNIT PRICE]]*EOPC[[#This Row],[DIV 10 QTY]]","v":0}]
[null,null,null,{"$f":"EOPC[[#This Row],[DIV 1 QTY]]+EOPC[[#This Row],[DIV 2 QTY]]+EOPC[[#This Row],[DIV 3 QTY]]+EOPC[[#This Row],[DIV 4 QTY]]+EOPC[[#This Row],[DIV 5 QTY]]+EOPC[[#This Row],[DIV 6 QTY]]+EOPC[[#This Row],[DIV 7 QTY]]+EOPC[[#This Row],[DIV 8 QTY]]+EOPC[[#This Row],[DIV 9 QTY]]+EOPC[[#This Row],[DIV 10 QTY]]","v":0},null,0,{"$f":"EOPC[[#This Row],[TOTAL QTY]]*EOPC[[#This Row],[UNIT PRICE]]","v":0},null,{"$f":"EOPC[[#This Row],[UNIT PRICE]]*EOPC[[#This Row],[DIV 1 QTY]]","v":0},null,{"$f":"EOPC[[#This Row],[UNIT PRICE]]*EOPC[[#This Row],[DIV 2 QTY]]","v":0},null,{"$f":"EOPC[[#This Row],[UNIT PRICE]]*EOPC[[#This Row],[DIV 3 QTY]]","v":0},null,{"$f":"EOPC[[#This Row],[UNIT PRICE]]*EOPC[[#This Row],[DIV 4 QTY]]","v":0},null,{"$f":"EOPC[[#This Row],[UNIT PRICE]]*EOPC[[#This Row],[DIV 5 QTY]]","v":0},null,{"$f":"EOPC[[#This Row],[UNIT PRICE]]*EOPC[[#This Row],[DIV 6 QTY]]","v":0},null,{"$f":"EOPC[[#This Row],[UNIT PRICE]]*EOPC[[#This Row],[DIV 7 QTY]]","v":0},null,{"$f":"EOPC[[#This Row],[UNIT PRICE]]*EOPC[[#This Row],[DIV 8 QTY]]","v":0},null,{"$f":"EOPC[[#This Row],[UNIT PRICE]]*EOPC[[#This Row],[DIV 9 QTY]]","v":0},null,{"$f":"EOPC[[#This Row],[UNIT PRICE]]*EOPC[[#This Row],[DIV 10 QTY]]","v":0}]
[null,null,null,{"$f":"EOPC[[#This Row],[DIV 1 QTY]]+EOPC[[#This Row],[DIV 2 QTY]]+EOPC[[#This Row],[DIV 3 QTY]]+EOPC[[#This Row],[DIV 4 QTY]]+EOPC[[#This Row],[DIV 5 QTY]]+EOPC[[#This Row],[DIV 6 QTY]]+EOPC[[#This Row],[DIV 7 QTY]]+EOPC[[#This Row],[DIV 8 QTY]]+EOPC[[#This Row],[DIV 9 QTY]]+EOPC[[#This Row],[DIV 10 QTY]]","v":0},null,0,{"$f":"EOPC[[#This Row],[TOTAL QTY]]*EOPC[[#This Row],[UNIT PRICE]]","v":0},null,{"$f":"EOPC[[#This Row],[UNIT PRICE]]*EOPC[[#This Row],[DIV 1 QTY]]","v":0},null,{"$f":"EOPC[[#This Row],[UNIT PRICE]]*EOPC[[#This Row],[DIV 2 QTY]]","v":0},null,{"$f":"EOPC[[#This Row],[UNIT PRICE]]*EOPC[[#This Row],[DIV 3 QTY]]","v":0},null,{"$f":"EOPC[[#This Row],[UNIT PRICE]]*EOPC[[#This Row],[DIV 4 QTY]]","v":0},null,{"$f":"EOPC[[#This Row],[UNIT PRICE]]*EOPC[[#This Row],[DIV 5 QTY]]","v":0},null,{"$f":"EOPC[[#This Row],[UNIT PRICE]]*EOPC[[#This Row],[DIV 6 QTY]]","v":0},null,{"$f":"EOPC[[#This Row],[UNIT PRICE]]*EOPC[[#This Row],[DIV 7 QTY]]","v":0},null,{"$f":"EOPC[[#This Row],[UNIT PRICE]]*EOPC[[#This Row],[DIV 8 QTY]]","v":0},null,{"$f":"EOPC[[#This Row],[UNIT PRICE]]*EOPC[[#This Row],[DIV 9 QTY]]","v":0},null,{"$f":"EOPC[[#This Row],[UNIT PRICE]]*EOPC[[#This Row],[DIV 10 QTY]]","v":0}]
[null,null,null,{"$f":"EOPC[[#This Row],[DIV 1 QTY]]+EOPC[[#This Row],[DIV 2 QTY]]+EOPC[[#This Row],[DIV 3 QTY]]+EOPC[[#This Row],[DIV 4 QTY]]+EOPC[[#This Row],[DIV 5 QTY]]+EOPC[[#This Row],[DIV 6 QTY]]+EOPC[[#This Row],[DIV 7 QTY]]+EOPC[[#This Row],[DIV 8 QTY]]+EOPC[[#This Row],[DIV 9 QTY]]+EOPC[[#This Row],[DIV 10 QTY]]","v":0},null,0,{"$f":"EOPC[[#This Row],[TOTAL QTY]]*EOPC[[#This Row],[UNIT PRICE]]","v":0},null,{"$f":"EOPC[[#This Row],[UNIT PRICE]]*EOPC[[#This Row],[DIV 1 QTY]]","v":0},null,{"$f":"EOPC[[#This Row],[UNIT PRICE]]*EOPC[[#This Row],[DIV 2 QTY]]","v":0},null,{"$f":"EOPC[[#This Row],[UNIT PRICE]]*EOPC[[#This Row],[DIV 3 QTY]]","v":0},null,{"$f":"EOPC[[#This Row],[UNIT PRICE]]*EOPC[[#This Row],[DIV 4 QTY]]","v":0},null,{"$f":"EOPC[[#This Row],[UNIT PRICE]]*EOPC[[#This Row],[DIV 5 QTY]]","v":0},null,{"$f":"EOPC[[#This Row],[UNIT PRICE]]*EOPC[[#This Row],[DIV 6 QTY]]","v":0},null,{"$f":"EOPC[[#This Row],[UNIT PRICE]]*EOPC[[#This Row],[DIV 7 QTY]]","v":0},null,{"$f":"EOPC[[#This Row],[UNIT PRICE]]*EOPC[[#This Row],[DIV 8 QTY]]","v":0},null,{"$f":"EOPC[[#This Row],[UNIT PRICE]]*EOPC[[#This Row],[DIV 9 QTY]]","v":0},null,{"$f":"EOPC[[#This Row],[UNIT PRICE]]*EOPC[[#This Row],[DIV 10 QTY]]","v":0}]
[null,null,null,{"$f":"EOPC[[#This Row],[DIV 1 QTY]]+EOPC[[#This Row],[DIV 2 QTY]]+EOPC[[#This Row],[DIV 3 QTY]]+EOPC[[#This Row],[DIV 4 QTY]]+EOPC[[#This Row],[DIV 5 QTY]]+EOPC[[#This Row],[DIV 6 QTY]]+EOPC[[#This Row],[DIV 7 QTY]]+EOPC[[#This Row],[DIV 8 QTY]]+EOPC[[#This Row],[DIV 9 QTY]]+EOPC[[#This Row],[DIV 10 QTY]]","v":0},null,0,{"$f":"EOPC[[#This Row],[TOTAL QTY]]*EOPC[[#This Row],[UNIT PRICE]]","v":0},null,{"$f":"EOPC[[#This Row],[UNIT PRICE]]*EOPC[[#This Row],[DIV 1 QTY]]","v":0},null,{"$f":"EOPC[[#This Row],[UNIT PRICE]]*EOPC[[#This Row],[DIV 2 QTY]]","v":0},null,{"$f":"EOPC[[#This Row],[UNIT PRICE]]*EOPC[[#This Row],[DIV 3 QTY]]","v":0},null,{"$f":"EOPC[[#This Row],[UNIT PRICE]]*EOPC[[#This Row],[DIV 4 QTY]]","v":0},null,{"$f":"EOPC[[#This Row],[UNIT PRICE]]*EOPC[[#This Row],[DIV 5 QTY]]","v":0},null,{"$f":"EOPC[[#This Row],[UNIT PRICE]]*EOPC[[#This Row],[DIV 6 QTY]]","v":0},null,{"$f":"EOPC[[#This Row],[UNIT PRICE]]*EOPC[[#This Row],[DIV 7 QTY]]","v":0},null,{"$f":"EOPC[[#This Row],[UNIT PRICE]]*EOPC[[#This Row],[DIV 8 QTY]]","v":0},null,{"$f":"EOPC[[#This Row],[UNIT PRICE]]*EOPC[[#This Row],[DIV 9 QTY]]","v":0},null,{"$f":"EOPC[[#This Row],[UNIT PRICE]]*EOPC[[#This Row],[DIV 10 QTY]]","v":0}]
[null,null,null,{"$f":"EOPC[[#This Row],[DIV 1 QTY]]+EOPC[[#This Row],[DIV 2 QTY]]+EOPC[[#This Row],[DIV 3 QTY]]+EOPC[[#This Row],[DIV 4 QTY]]+EOPC[[#This Row],[DIV 5 QTY]]+EOPC[[#This Row],[DIV 6 QTY]]+EOPC[[#This Row],[DIV 7 QTY]]+EOPC[[#This Row],[DIV 8 QTY]]+EOPC[[#This Row],[DIV 9 QTY]]+EOPC[[#This Row],[DIV 10 QTY]]","v":0},null,0,{"$f":"EOPC[[#This Row],[TOTAL QTY]]*EOPC[[#This Row],[UNIT PRICE]]","v":0},null,{"$f":"EOPC[[#This Row],[UNIT PRICE]]*EOPC[[#This Row],[DIV 1 QTY]]","v":0},null,{"$f":"EOPC[[#This Row],[UNIT PRICE]]*EOPC[[#This Row],[DIV 2 QTY]]","v":0},null,{"$f":"EOPC[[#This Row],[UNIT PRICE]]*EOPC[[#This Row],[DIV 3 QTY]]","v":0},null,{"$f":"EOPC[[#This Row],[UNIT PRICE]]*EOPC[[#This Row],[DIV 4 QTY]]","v":0},null,{"$f":"EOPC[[#This Row],[UNIT PRICE]]*EOPC[[#This Row],[DIV 5 QTY]]","v":0},null,{"$f":"EOPC[[#This Row],[UNIT PRICE]]*EOPC[[#This Row],[DIV 6 QTY]]","v":0},null,{"$f":"EOPC[[#This Row],[UNIT PRICE]]*EOPC[[#This Row],[DIV 7 QTY]]","v":0},null,{"$f":"EOPC[[#This Row],[UNIT PRICE]]*EOPC[[#This Row],[DIV 8 QTY]]","v":0},null,{"$f":"EOPC[[#This Row],[UNIT PRICE]]*EOPC[[#This Row],[DIV 9 QTY]]","v":0},null,{"$f":"EOPC[[#This Row],[UNIT PRICE]]*EOPC[[#This Row],[DIV 10 QTY]]","v":0}]
[null,null,null,{"$f":"EOPC[[#This Row],[DIV 1 QTY]]+EOPC[[#This Row],[DIV 2 QTY]]+EOPC[[#This Row],[DIV 3 QTY]]+EOPC[[#This Row],[DIV 4 QTY]]+EOPC[[#This Row],[DIV 5 QTY]]+EOPC[[#This Row],[DIV 6 QTY]]+EOPC[[#This Row],[DIV 7 QTY]]+EOPC[[#This Row],[DIV 8 QTY]]+EOPC[[#This Row],[DIV 9 QTY]]+EOPC[[#This Row],[DIV 10 QTY]]","v":0},null,0,{"$f":"EOPC[[#This Row],[TOTAL QTY]]*EOPC[[#This Row],[UNIT PRICE]]","v":0},null,{"$f":"EOPC[[#This Row],[UNIT PRICE]]*EOPC[[#This Row],[DIV 1 QTY]]","v":0},null,{"$f":"EOPC[[#This Row],[UNIT PRICE]]*EOPC[[#This Row],[DIV 2 QTY]]","v":0},null,{"$f":"EOPC[[#This Row],[UNIT PRICE]]*EOPC[[#This Row],[DIV 3 QTY]]","v":0},null,{"$f":"EOPC[[#This Row],[UNIT PRICE]]*EOPC[[#This Row],[DIV 4 QTY]]","v":0},null,{"$f":"EOPC[[#This Row],[UNIT PRICE]]*EOPC[[#This Row],[DIV 5 QTY]]","v":0},null,{"$f":"EOPC[[#This Row],[UNIT PRICE]]*EOPC[[#This Row],[DIV 6 QTY]]","v":0},null,{"$f":"EOPC[[#This Row],[UNIT PRICE]]*EOPC[[#This Row],[DIV 7 QTY]]","v":0},null,{"$f":"EOPC[[#This Row],[UNIT PRICE]]*EOPC[[#This Row],[DIV 8 QTY]]","v":0},null,{"$f":"EOPC[[#This Row],[UNIT PRICE]]*EOPC[[#This Row],[DIV 9 QTY]]","v":0},null,{"$f":"EOPC[[#This Row],[UNIT PRICE]]*EOPC[[#This Row],[DIV 10 QTY]]","v":0}]
[null,null,null,{"$f":"EOPC[[#This Row],[DIV 1 QTY]]+EOPC[[#This Row],[DIV 2 QTY]]+EOPC[[#This Row],[DIV 3 QTY]]+EOPC[[#This Row],[DIV 4 QTY]]+EOPC[[#This Row],[DIV 5 QTY]]+EOPC[[#This Row],[DIV 6 QTY]]+EOPC[[#This Row],[DIV 7 QTY]]+EOPC[[#This Row],[DIV 8 QTY]]+EOPC[[#This Row],[DIV 9 QTY]]+EOPC[[#This Row],[DIV 10 QTY]]","v":0},null,0,{"$f":"EOPC[[#This Row],[TOTAL QTY]]*EOPC[[#This Row],[UNIT PRICE]]","v":0},null,{"$f":"EOPC[[#This Row],[UNIT PRICE]]*EOPC[[#This Row],[DIV 1 QTY]]","v":0},null,{"$f":"EOPC[[#This Row],[UNIT PRICE]]*EOPC[[#This Row],[DIV 2 QTY]]","v":0},null,{"$f":"EOPC[[#This Row],[UNIT PRICE]]*EOPC[[#This Row],[DIV 3 QTY]]","v":0},null,{"$f":"EOPC[[#This Row],[UNIT PRICE]]*EOPC[[#This Row],[DIV 4 QTY]]","v":0},null,{"$f":"EOPC[[#This Row],[UNIT PRICE]]*EOPC[[#This Row],[DIV 5 QTY]]","v":0},null,{"$f":"EOPC[[#This Row],[UNIT PRICE]]*EOPC[[#This Row],[DIV 6 QTY]]","v":0},null,{"$f":"EOPC[[#This Row],[UNIT PRICE]]*EOPC[[#This Row],[DIV 7 QTY]]","v":0},null,{"$f":"EOPC[[#This Row],[UNIT PRICE]]*EOPC[[#This Row],[DIV 8 QTY]]","v":0},null,{"$f":"EOPC[[#This Row],[UNIT PRICE]]*EOPC[[#This Row],[DIV 9 QTY]]","v":0},null,{"$f":"EOPC[[#This Row],[UNIT PRICE]]*EOPC[[#This Row],[DIV 10 QTY]]","v":0}]
[null,null,null,{"$f":"EOPC[[#This Row],[DIV 1 QTY]]+EOPC[[#This Row],[DIV 2 QTY]]+EOPC[[#This Row],[DIV 3 QTY]]+EOPC[[#This Row],[DIV 4 QTY]]+EOPC[[#This Row],[DIV 5 QTY]]+EOPC[[#This Row],[DIV 6 QTY]]+EOPC[[#This Row],[DIV 7 QTY]]+EOPC[[#This Row],[DIV 8 QTY]]+EOPC[[#This Row],[DIV 9 QTY]]+EOPC[[#This Row],[DIV 10 QTY]]","v":0},null,0,{"$f":"EOPC[[#This Row],[TOTAL QTY]]*EOPC[[#This Row],[UNIT PRICE]]","v":0},null,{"$f":"EOPC[[#This Row],[UNIT PRICE]]*EOPC[[#This Row],[DIV 1 QTY]]","v":0},null,{"$f":"EOPC[[#This Row],[UNIT PRICE]]*EOPC[[#This Row],[DIV 2 QTY]]","v":0},null,{"$f":"EOPC[[#This Row],[UNIT PRICE]]*EOPC[[#This Row],[DIV 3 QTY]]","v":0},null,{"$f":"EOPC[[#This Row],[UNIT PRICE]]*EOPC[[#This Row],[DIV 4 QTY]]","v":0},null,{"$f":"EOPC[[#This Row],[UNIT PRICE]]*EOPC[[#This Row],[DIV 5 QTY]]","v":0},null,{"$f":"EOPC[[#This Row],[UNIT PRICE]]*EOPC[[#This Row],[DIV 6 QTY]]","v":0},null,{"$f":"EOPC[[#This Row],[UNIT PRICE]]*EOPC[[#This Row],[DIV 7 QTY]]","v":0},null,{"$f":"EOPC[[#This Row],[UNIT PRICE]]*EOPC[[#This Row],[DIV 8 QTY]]","v":0},null,{"$f":"EOPC[[#This Row],[UNIT PRICE]]*EOPC[[#This Row],[DIV 9 QTY]]","v":0},null,{"$f":"EOPC[[#This Row],[UNIT PRICE]]*EOPC[[#This Row],[DIV 10 QTY]]","v":0}]
[null,null,null,{"$f":"EOPC[[#This Row],[DIV 1 QTY]]+EOPC[[#This Row],[DIV 2 QTY]]+EOPC[[#This Row],[DIV 3 QTY]]+EOPC[[#This Row],[DIV 4 QTY]]+EOPC[[#This Row],[DIV 5 QTY]]+EOPC[[#This Row],[DIV 6 QTY]]+EOPC[[#This Row],[DIV 7 QTY]]+EOPC[[#This Row],[DIV 8 QTY]]+EOPC[[#This Row],[DIV 9 QTY]]+EOPC[[#This Row],[DIV 10 QTY]]","v":0},null,0,{"$f":"EOPC[[#This Row],[TOTAL QTY]]*EOPC[[#This Row],[UNIT PRICE]]","v":0},null,{"$f":"EOPC[[#This Row],[UNIT PRICE]]*EOPC[[#This Row],[DIV 1 QTY]]","v":0},null,{"$f":"EOPC[[#This Row],[UNIT PRICE]]*EOPC[[#This Row],[DIV 2 QTY]]","v":0},null,{"$f":"EOPC[[#This Row],[UNIT PRICE]]*EOPC[[#This Row],[DIV 3 QTY]]","v":0},null,{"$f":"EOPC[[#This Row],[UNIT PRICE]]*EOPC[[#This Row],[DIV 4 QTY]]","v":0},null,{"$f":"EOPC[[#This Row],[UNIT PRICE]]*EOPC[[#This Row],[DIV 5 QTY]]","v":0},null,{"$f":"EOPC[[#This Row],[UNIT PRICE]]*EOPC[[#This Row],[DIV 6 QTY]]","v":0},null,{"$f":"EOPC[[#This Row],[UNIT PRICE]]*EOPC[[#This Row],[DIV 7 QTY]]","v":0},null,{"$f":"EOPC[[#This Row],[UNIT PRICE]]*EOPC[[#This Row],[DIV 8 QTY]]","v":0},null,{"$f":"EOPC[[#This Row],[UNIT PRICE]]*EOPC[[#This Row],[DIV 9 QTY]]","v":0},null,{"$f":"EOPC[[#This Row],[UNIT PRICE]]*EOPC[[#This Row],[DIV 10 QTY]]","v":0}]
[null,null,null,{"$f":"EOPC[[#This Row],[DIV 1 QTY]]+EOPC[[#This Row],[DIV 2 QTY]]+EOPC[[#This Row],[DIV 3 QTY]]+EOPC[[#This Row],[DIV 4 QTY]]+EOPC[[#This Row],[DIV 5 QTY]]+EOPC[[#This Row],[DIV 6 QTY]]+EOPC[[#This Row],[DIV 7 QTY]]+EOPC[[#This Row],[DIV 8 QTY]]+EOPC[[#This Row],[DIV 9 QTY]]+EOPC[[#This Row],[DIV 10 QTY]]","v":0},null,0,{"$f":"EOPC[[#This Row],[TOTAL QTY]]*EOPC[[#This Row],[UNIT PRICE]]","v":0},null,{"$f":"EOPC[[#This Row],[UNIT PRICE]]*EOPC[[#This Row],[DIV 1 QTY]]","v":0},null,{"$f":"EOPC[[#This Row],[UNIT PRICE]]*EOPC[[#This Row],[DIV 2 QTY]]","v":0},null,{"$f":"EOPC[[#This Row],[UNIT PRICE]]*EOPC[[#This Row],[DIV 3 QTY]]","v":0},null,{"$f":"EOPC[[#This Row],[UNIT PRICE]]*EOPC[[#This Row],[DIV 4 QTY]]","v":0},null,{"$f":"EOPC[[#This Row],[UNIT PRICE]]*EOPC[[#This Row],[DIV 5 QTY]]","v":0},null,{"$f":"EOPC[[#This Row],[UNIT PRICE]]*EOPC[[#This Row],[DIV 6 QTY]]","v":0},null,{"$f":"EOPC[[#This Row],[UNIT PRICE]]*EOPC[[#This Row],[DIV 7 QTY]]","v":0},null,{"$f":"EOPC[[#This Row],[UNIT PRICE]]*EOPC[[#This Row],[DIV 8 QTY]]","v":0},null,{"$f":"EOPC[[#This Row],[UNIT PRICE]]*EOPC[[#This Row],[DIV 9 QTY]]","v":0},null,{"$f":"EOPC[[#This Row],[UNIT PRICE]]*EOPC[[#This Row],[DIV 10 QTY]]","v":0}]
[null,null,null,{"$f":"EOPC[[#This Row],[DIV 1 QTY]]+EOPC[[#This Row],[DIV 2 QTY]]+EOPC[[#This Row],[DIV 3 QTY]]+EOPC[[#This Row],[DIV 4 QTY]]+EOPC[[#This Row],[DIV 5 QTY]]+EOPC[[#This Row],[DIV 6 QTY]]+EOPC[[#This Row],[DIV 7 QTY]]+EOPC[[#This Row],[DIV 8 QTY]]+EOPC[[#This Row],[DIV 9 QTY]]+EOPC[[#This Row],[DIV 10 QTY]]","v":0},null,0,{"$f":"EOPC[[#This Row],[TOTAL QTY]]*EOPC[[#This Row],[UNIT PRICE]]","v":0},null,{"$f":"EOPC[[#This Row],[UNIT PRICE]]*EOPC[[#This Row],[DIV 1 QTY]]","v":0},null,{"$f":"EOPC[[#This Row],[UNIT PRICE]]*EOPC[[#This Row],[DIV 2 QTY]]","v":0},null,{"$f":"EOPC[[#This Row],[UNIT PRICE]]*EOPC[[#This Row],[DIV 3 QTY]]","v":0},null,{"$f":"EOPC[[#This Row],[UNIT PRICE]]*EOPC[[#This Row],[DIV 4 QTY]]","v":0},null,{"$f":"EOPC[[#This Row],[UNIT PRICE]]*EOPC[[#This Row],[DIV 5 QTY]]","v":0},null,{"$f":"EOPC[[#This Row],[UNIT PRICE]]*EOPC[[#This Row],[DIV 6 QTY]]","v":0},null,{"$f":"EOPC[[#This Row],[UNIT PRICE]]*EOPC[[#This Row],[DIV 7 QTY]]","v":0},null,{"$f":"EOPC[[#This Row],[UNIT PRICE]]*EOPC[[#This Row],[DIV 8 QTY]]","v":0},null,{"$f":"EOPC[[#This Row],[UNIT PRICE]]*EOPC[[#This Row],[DIV 9 QTY]]","v":0},null,{"$f":"EOPC[[#This Row],[UNIT PRICE]]*EOPC[[#This Row],[DIV 10 QTY]]","v":0}]
[null,null,null,{"$f":"EOPC[[#This Row],[DIV 1 QTY]]+EOPC[[#This Row],[DIV 2 QTY]]+EOPC[[#This Row],[DIV 3 QTY]]+EOPC[[#This Row],[DIV 4 QTY]]+EOPC[[#This Row],[DIV 5 QTY]]+EOPC[[#This Row],[DIV 6 QTY]]+EOPC[[#This Row],[DIV 7 QTY]]+EOPC[[#This Row],[DIV 8 QTY]]+EOPC[[#This Row],[DIV 9 QTY]]+EOPC[[#This Row],[DIV 10 QTY]]","v":0},null,0,{"$f":"EOPC[[#This Row],[TOTAL QTY]]*EOPC[[#This Row],[UNIT PRICE]]","v":0},null,{"$f":"EOPC[[#This Row],[UNIT PRICE]]*EOPC[[#This Row],[DIV 1 QTY]]","v":0},null,{"$f":"EOPC[[#This Row],[UNIT PRICE]]*EOPC[[#This Row],[DIV 2 QTY]]","v":0},null,{"$f":"EOPC[[#This Row],[UNIT PRICE]]*EOPC[[#This Row],[DIV 3 QTY]]","v":0},null,{"$f":"EOPC[[#This Row],[UNIT PRICE]]*EOPC[[#This Row],[DIV 4 QTY]]","v":0},null,{"$f":"EOPC[[#This Row],[UNIT PRICE]]*EOPC[[#This Row],[DIV 5 QTY]]","v":0},null,{"$f":"EOPC[[#This Row],[UNIT PRICE]]*EOPC[[#This Row],[DIV 6 QTY]]","v":0},null,{"$f":"EOPC[[#This Row],[UNIT PRICE]]*EOPC[[#This Row],[DIV 7 QTY]]","v":0},null,{"$f":"EOPC[[#This Row],[UNIT PRICE]]*EOPC[[#This Row],[DIV 8 QTY]]","v":0},null,{"$f":"EOPC[[#This Row],[UNIT PRICE]]*EOPC[[#This Row],[DIV 9 QTY]]","v":0},null,{"$f":"EOPC[[#This Row],[UNIT PRICE]]*EOPC[[#This Row],[DIV 10 QTY]]","v":0}]
[null,null,null,{"$f":"EOPC[[#This Row],[DIV 1 QTY]]+EOPC[[#This Row],[DIV 2 QTY]]+EOPC[[#This Row],[DIV 3 QTY]]+EOPC[[#This Row],[DIV 4 QTY]]+EOPC[[#This Row],[DIV 5 QTY]]+EOPC[[#This Row],[DIV 6 QTY]]+EOPC[[#This Row],[DIV 7 QTY]]+EOPC[[#This Row],[DIV 8 QTY]]+EOPC[[#This Row],[DIV 9 QTY]]+EOPC[[#This Row],[DIV 10 QTY]]","v":0},null,0,{"$f":"EOPC[[#This Row],[TOTAL QTY]]*EOPC[[#This Row],[UNIT PRICE]]","v":0},null,{"$f":"EOPC[[#This Row],[UNIT PRICE]]*EOPC[[#This Row],[DIV 1 QTY]]","v":0},null,{"$f":"EOPC[[#This Row],[UNIT PRICE]]*EOPC[[#This Row],[DIV 2 QTY]]","v":0},null,{"$f":"EOPC[[#This Row],[UNIT PRICE]]*EOPC[[#This Row],[DIV 3 QTY]]","v":0},null,{"$f":"EOPC[[#This Row],[UNIT PRICE]]*EOPC[[#This Row],[DIV 4 QTY]]","v":0},null,{"$f":"EOPC[[#This Row],[UNIT PRICE]]*EOPC[[#This Row],[DIV 5 QTY]]","v":0},null,{"$f":"EOPC[[#This Row],[UNIT PRICE]]*EOPC[[#This Row],[DIV 6 QTY]]","v":0},null,{"$f":"EOPC[[#This Row],[UNIT PRICE]]*EOPC[[#This Row],[DIV 7 QTY]]","v":0},null,{"$f":"EOPC[[#This Row],[UNIT PRICE]]*EOPC[[#This Row],[DIV 8 QTY]]","v":0},null,{"$f":"EOPC[[#This Row],[UNIT PRICE]]*EOPC[[#This Row],[DIV 9 QTY]]","v":0},null,{"$f":"EOPC[[#This Row],[UNIT PRICE]]*EOPC[[#This Row],[DIV 10 QTY]]","v":0}]
[null,null,null,{"$f":"EOPC[[#This Row],[DIV 1 QTY]]+EOPC[[#This Row],[DIV 2 QTY]]+EOPC[[#This Row],[DIV 3 QTY]]+EOPC[[#This Row],[DIV 4 QTY]]+EOPC[[#This Row],[DIV 5 QTY]]+EOPC[[#This Row],[DIV 6 QTY]]+EOPC[[#This Row],[DIV 7 QTY]]+EOPC[[#This Row],[DIV 8 QTY]]+EOPC[[#This Row],[DIV 9 QTY]]+EOPC[[#This Row],[DIV 10 QTY]]","v":0},null,0,{"$f":"EOPC[[#This Row],[TOTAL QTY]]*EOPC[[#This Row],[UNIT PRICE]]","v":0},null,{"$f":"EOPC[[#This Row],[UNIT PRICE]]*EOPC[[#This Row],[DIV 1 QTY]]","v":0},null,{"$f":"EOPC[[#This Row],[UNIT PRICE]]*EOPC[[#This Row],[DIV 2 QTY]]","v":0},null,{"$f":"EOPC[[#This Row],[UNIT PRICE]]*EOPC[[#This Row],[DIV 3 QTY]]","v":0},null,{"$f":"EOPC[[#This Row],[UNIT PRICE]]*EOPC[[#This Row],[DIV 4 QTY]]","v":0},null,{"$f":"EOPC[[#This Row],[UNIT PRICE]]*EOPC[[#This Row],[DIV 5 QTY]]","v":0},null,{"$f":"EOPC[[#This Row],[UNIT PRICE]]*EOPC[[#This Row],[DIV 6 QTY]]","v":0},null,{"$f":"EOPC[[#This Row],[UNIT PRICE]]*EOPC[[#This Row],[DIV 7 QTY]]","v":0},null,{"$f":"EOPC[[#This Row],[UNIT PRICE]]*EOPC[[#This Row],[DIV 8 QTY]]","v":0},null,{"$f":"EOPC[[#This Row],[UNIT PRICE]]*EOPC[[#This Row],[DIV 9 QTY]]","v":0},null,{"$f":"EOPC[[#This Row],[UNIT PRICE]]*EOPC[[#This Row],[DIV 10 QTY]]","v":0}]
[null,null,null,{"$f":"EOPC[[#This Row],[DIV 1 QTY]]+EOPC[[#This Row],[DIV 2 QTY]]+EOPC[[#This Row],[DIV 3 QTY]]+EOPC[[#This Row],[DIV 4 QTY]]+EOPC[[#This Row],[DIV 5 QTY]]+EOPC[[#This Row],[DIV 6 QTY]]+EOPC[[#This Row],[DIV 7 QTY]]+EOPC[[#This Row],[DIV 8 QTY]]+EOPC[[#This Row],[DIV 9 QTY]]+EOPC[[#This Row],[DIV 10 QTY]]","v":0},null,0,{"$f":"EOPC[[#This Row],[TOTAL QTY]]*EOPC[[#This Row],[UNIT PRICE]]","v":0},null,{"$f":"EOPC[[#This Row],[UNIT PRICE]]*EOPC[[#This Row],[DIV 1 QTY]]","v":0},null,{"$f":"EOPC[[#This Row],[UNIT PRICE]]*EOPC[[#This Row],[DIV 2 QTY]]","v":0},null,{"$f":"EOPC[[#This Row],[UNIT PRICE]]*EOPC[[#This Row],[DIV 3 QTY]]","v":0},null,{"$f":"EOPC[[#This Row],[UNIT PRICE]]*EOPC[[#This Row],[DIV 4 QTY]]","v":0},null,{"$f":"EOPC[[#This Row],[UNIT PRICE]]*EOPC[[#This Row],[DIV 5 QTY]]","v":0},null,{"$f":"EOPC[[#This Row],[UNIT PRICE]]*EOPC[[#This Row],[DIV 6 QTY]]","v":0},null,{"$f":"EOPC[[#This Row],[UNIT PRICE]]*EOPC[[#This Row],[DIV 7 QTY]]","v":0},null,{"$f":"EOPC[[#This Row],[UNIT PRICE]]*EOPC[[#This Row],[DIV 8 QTY]]","v":0},null,{"$f":"EOPC[[#This Row],[UNIT PRICE]]*EOPC[[#This Row],[DIV 9 QTY]]","v":0},null,{"$f":"EOPC[[#This Row],[UNIT PRICE]]*EOPC[[#This Row],[DIV 10 QTY]]","v":0}]
[null,null,null,{"$f":"EOPC[[#This Row],[DIV 1 QTY]]+EOPC[[#This Row],[DIV 2 QTY]]+EOPC[[#This Row],[DIV 3 QTY]]+EOPC[[#This Row],[DIV 4 QTY]]+EOPC[[#This Row],[DIV 5 QTY]]+EOPC[[#This Row],[DIV 6 QTY]]+EOPC[[#This Row],[DIV 7 QTY]]+EOPC[[#This Row],[DIV 8 QTY]]+EOPC[[#This Row],[DIV 9 QTY]]+EOPC[[#This Row],[DIV 10 QTY]]","v":0},null,0,{"$f":"EOPC[[#This Row],[TOTAL QTY]]*EOPC[[#This Row],[UNIT PRICE]]","v":0},null,{"$f":"EOPC[[#This Row],[UNIT PRICE]]*EOPC[[#This Row],[DIV 1 QTY]]","v":0},null,{"$f":"EOPC[[#This Row],[UNIT PRICE]]*EOPC[[#This Row],[DIV 2 QTY]]","v":0},null,{"$f":"EOPC[[#This Row],[UNIT PRICE]]*EOPC[[#This Row],[DIV 3 QTY]]","v":0},null,{"$f":"EOPC[[#This Row],[UNIT PRICE]]*EOPC[[#This Row],[DIV 4 QTY]]","v":0},null,{"$f":"EOPC[[#This Row],[UNIT PRICE]]*EOPC[[#This Row],[DIV 5 QTY]]","v":0},null,{"$f":"EOPC[[#This Row],[UNIT PRICE]]*EOPC[[#This Row],[DIV 6 QTY]]","v":0},null,{"$f":"EOPC[[#This Row],[UNIT PRICE]]*EOPC[[#This Row],[DIV 7 QTY]]","v":0},null,{"$f":"EOPC[[#This Row],[UNIT PRICE]]*EOPC[[#This Row],[DIV 8 QTY]]","v":0},null,{"$f":"EOPC[[#This Row],[UNIT PRICE]]*EOPC[[#This Row],[DIV 9 QTY]]","v":0},null,{"$f":"EOPC[[#This Row],[UNIT PRICE]]*EOPC[[#This Row],[DIV 10 QTY]]","v":0}]
[null,null,null,{"$f":"EOPC[[#This Row],[DIV 1 QTY]]+EOPC[[#This Row],[DIV 2 QTY]]+EOPC[[#This Row],[DIV 3 QTY]]+EOPC[[#This Row],[DIV 4 QTY]]+EOPC[[#This Row],[DIV 5 QTY]]+EOPC[[#This Row],[DIV 6 QTY]]+EOPC[[#This Row],[DIV 7 QTY]]+EOPC[[#This Row],[DIV 8 QTY]]+EOPC[[#This Row],[DIV 9 QTY]]+EOPC[[#This Row],[DIV 10 QTY]]","v":0},null,0,{"$f":"EOPC[[#This Row],[TOTAL QTY]]*EOPC[[#This Row],[UNIT PRICE]]","v":0},null,{"$f":"EOPC[[#This Row],[UNIT PRICE]]*EOPC[[#This Row],[DIV 1 QTY]]","v":0},null,{"$f":"EOPC[[#This Row],[UNIT PRICE]]*EOPC[[#This Row],[DIV 2 QTY]]","v":0},null,{"$f":"EOPC[[#This Row],[UNIT PRICE]]*EOPC[[#This Row],[DIV 3 QTY]]","v":0},null,{"$f":"EOPC[[#This Row],[UNIT PRICE]]*EOPC[[#This Row],[DIV 4 QTY]]","v":0},null,{"$f":"EOPC[[#This Row],[UNIT PRICE]]*EOPC[[#This Row],[DIV 5 QTY]]","v":0},null,{"$f":"EOPC[[#This Row],[UNIT PRICE]]*EOPC[[#This Row],[DIV 6 QTY]]","v":0},null,{"$f":"EOPC[[#This Row],[UNIT PRICE]]*EOPC[[#This Row],[DIV 7 QTY]]","v":0},null,{"$f":"EOPC[[#This Row],[UNIT PRICE]]*EOPC[[#This Row],[DIV 8 QTY]]","v":0},null,{"$f":"EOPC[[#This Row],[UNIT PRICE]]*EOPC[[#This Row],[DIV 9 QTY]]","v":0},null,{"$f":"EOPC[[#This Row],[UNIT PRICE]]*EOPC[[#This Row],[DIV 10 QTY]]","v":0}]
[null,null,null,{"$f":"EOPC[[#This Row],[DIV 1 QTY]]+EOPC[[#This Row],[DIV 2 QTY]]+EOPC[[#This Row],[DIV 3 QTY]]+EOPC[[#This Row],[DIV 4 QTY]]+EOPC[[#This Row],[DIV 5 QTY]]+EOPC[[#This Row],[DIV 6 QTY]]+EOPC[[#This Row],[DIV 7 QTY]]+EOPC[[#This Row],[DIV 8 QTY]]+EOPC[[#This Row],[DIV 9 QTY]]+EOPC[[#This Row],[DIV 10 QTY]]","v":0},null,0,{"$f":"EOPC[[#This Row],[TOTAL QTY]]*EOPC[[#This Row],[UNIT PRICE]]","v":0},null,{"$f":"EOPC[[#This Row],[UNIT PRICE]]*EOPC[[#This Row],[DIV 1 QTY]]","v":0},null,{"$f":"EOPC[[#This Row],[UNIT PRICE]]*EOPC[[#This Row],[DIV 2 QTY]]","v":0},null,{"$f":"EOPC[[#This Row],[UNIT PRICE]]*EOPC[[#This Row],[DIV 3 QTY]]","v":0},null,{"$f":"EOPC[[#This Row],[UNIT PRICE]]*EOPC[[#This Row],[DIV 4 QTY]]","v":0},null,{"$f":"EOPC[[#This Row],[UNIT PRICE]]*EOPC[[#This Row],[DIV 5 QTY]]","v":0},null,{"$f":"EOPC[[#This Row],[UNIT PRICE]]*EOPC[[#This Row],[DIV 6 QTY]]","v":0},null,{"$f":"EOPC[[#This Row],[UNIT PRICE]]*EOPC[[#This Row],[DIV 7 QTY]]","v":0},null,{"$f":"EOPC[[#This Row],[UNIT PRICE]]*EOPC[[#This Row],[DIV 8 QTY]]","v":0},null,{"$f":"EOPC[[#This Row],[UNIT PRICE]]*EOPC[[#This Row],[DIV 9 QTY]]","v":0},null,{"$f":"EOPC[[#This Row],[UNIT PRICE]]*EOPC[[#This Row],[DIV 10 QTY]]","v":0}]
[null,null,null,{"$f":"EOPC[[#This Row],[DIV 1 QTY]]+EOPC[[#This Row],[DIV 2 QTY]]+EOPC[[#This Row],[DIV 3 QTY]]+EOPC[[#This Row],[DIV 4 QTY]]+EOPC[[#This Row],[DIV 5 QTY]]+EOPC[[#This Row],[DIV 6 QTY]]+EOPC[[#This Row],[DIV 7 QTY]]+EOPC[[#This Row],[DIV 8 QTY]]+EOPC[[#This Row],[DIV 9 QTY]]+EOPC[[#This Row],[DIV 10 QTY]]","v":0},null,0,{"$f":"EOPC[[#This Row],[TOTAL QTY]]*EOPC[[#This Row],[UNIT PRICE]]","v":0},null,{"$f":"EOPC[[#This Row],[UNIT PRICE]]*EOPC[[#This Row],[DIV 1 QTY]]","v":0},null,{"$f":"EOPC[[#This Row],[UNIT PRICE]]*EOPC[[#This Row],[DIV 2 QTY]]","v":0},null,{"$f":"EOPC[[#This Row],[UNIT PRICE]]*EOPC[[#This Row],[DIV 3 QTY]]","v":0},null,{"$f":"EOPC[[#This Row],[UNIT PRICE]]*EOPC[[#This Row],[DIV 4 QTY]]","v":0},null,{"$f":"EOPC[[#This Row],[UNIT PRICE]]*EOPC[[#This Row],[DIV 5 QTY]]","v":0},null,{"$f":"EOPC[[#This Row],[UNIT PRICE]]*EOPC[[#This Row],[DIV 6 QTY]]","v":0},null,{"$f":"EOPC[[#This Row],[UNIT PRICE]]*EOPC[[#This Row],[DIV 7 QTY]]","v":0},null,{"$f":"EOPC[[#This Row],[UNIT PRICE]]*EOPC[[#This Row],[DIV 8 QTY]]","v":0},null,{"$f":"EOPC[[#This Row],[UNIT PRICE]]*EOPC[[#This Row],[DIV 9 QTY]]","v":0},null,{"$f":"EOPC[[#This Row],[UNIT PRICE]]*EOPC[[#This Row],[DIV 10 QTY]]","v":0}]
[null,null,null,{"$f":"EOPC[[#This Row],[DIV 1 QTY]]+EOPC[[#This Row],[DIV 2 QTY]]+EOPC[[#This Row],[DIV 3 QTY]]+EOPC[[#This Row],[DIV 4 QTY]]+EOPC[[#This Row],[DIV 5 QTY]]+EOPC[[#This Row],[DIV 6 QTY]]+EOPC[[#This Row],[DIV 7 QTY]]+EOPC[[#This Row],[DIV 8 QTY]]+EOPC[[#This Row],[DIV 9 QTY]]+EOPC[[#This Row],[DIV 10 QTY]]","v":0},null,0,{"$f":"EOPC[[#This Row],[TOTAL QTY]]*EOPC[[#This Row],[UNIT PRICE]]","v":0},null,{"$f":"EOPC[[#This Row],[UNIT PRICE]]*EOPC[[#This Row],[DIV 1 QTY]]","v":0},null,{"$f":"EOPC[[#This Row],[UNIT PRICE]]*EOPC[[#This Row],[DIV 2 QTY]]","v":0},null,{"$f":"EOPC[[#This Row],[UNIT PRICE]]*EOPC[[#This Row],[DIV 3 QTY]]","v":0},null,{"$f":"EOPC[[#This Row],[UNIT PRICE]]*EOPC[[#This Row],[DIV 4 QTY]]","v":0},null,{"$f":"EOPC[[#This Row],[UNIT PRICE]]*EOPC[[#This Row],[DIV 5 QTY]]","v":0},null,{"$f":"EOPC[[#This Row],[UNIT PRICE]]*EOPC[[#This Row],[DIV 6 QTY]]","v":0},null,{"$f":"EOPC[[#This Row],[UNIT PRICE]]*EOPC[[#This Row],[DIV 7 QTY]]","v":0},null,{"$f":"EOPC[[#This Row],[UNIT PRICE]]*EOPC[[#This Row],[DIV 8 QTY]]","v":0},null,{"$f":"EOPC[[#This Row],[UNIT PRICE]]*EOPC[[#This Row],[DIV 9 QTY]]","v":0},null,{"$f":"EOPC[[#This Row],[UNIT PRICE]]*EOPC[[#This Row],[DIV 10 QTY]]","v":0}]
[null,null,null,{"$f":"EOPC[[#This Row],[DIV 1 QTY]]+EOPC[[#This Row],[DIV 2 QTY]]+EOPC[[#This Row],[DIV 3 QTY]]+EOPC[[#This Row],[DIV 4 QTY]]+EOPC[[#This Row],[DIV 5 QTY]]+EOPC[[#This Row],[DIV 6 QTY]]+EOPC[[#This Row],[DIV 7 QTY]]+EOPC[[#This Row],[DIV 8 QTY]]+EOPC[[#This Row],[DIV 9 QTY]]+EOPC[[#This Row],[DIV 10 QTY]]","v":0},null,0,{"$f":"EOPC[[#This Row],[TOTAL QTY]]*EOPC[[#This Row],[UNIT PRICE]]","v":0},null,{"$f":"EOPC[[#This Row],[UNIT PRICE]]*EOPC[[#This Row],[DIV 1 QTY]]","v":0},null,{"$f":"EOPC[[#This Row],[UNIT PRICE]]*EOPC[[#This Row],[DIV 2 QTY]]","v":0},null,{"$f":"EOPC[[#This Row],[UNIT PRICE]]*EOPC[[#This Row],[DIV 3 QTY]]","v":0},null,{"$f":"EOPC[[#This Row],[UNIT PRICE]]*EOPC[[#This Row],[DIV 4 QTY]]","v":0},null,{"$f":"EOPC[[#This Row],[UNIT PRICE]]*EOPC[[#This Row],[DIV 5 QTY]]","v":0},null,{"$f":"EOPC[[#This Row],[UNIT PRICE]]*EOPC[[#This Row],[DIV 6 QTY]]","v":0},null,{"$f":"EOPC[[#This Row],[UNIT PRICE]]*EOPC[[#This Row],[DIV 7 QTY]]","v":0},null,{"$f":"EOPC[[#This Row],[UNIT PRICE]]*EOPC[[#This Row],[DIV 8 QTY]]","v":0},null,{"$f":"EOPC[[#This Row],[UNIT PRICE]]*EOPC[[#This Row],[DIV 9 QTY]]","v":0},null,{"$f":"EOPC[[#This Row],[UNIT PRICE]]*EOPC[[#This Row],[DIV 10 QTY]]","v":0}]
[null,null,null,{"$f":"EOPC[[#This Row],[DIV 1 QTY]]+EOPC[[#This Row],[DIV 2 QTY]]+EOPC[[#This Row],[DIV 3 QTY]]+EOPC[[#This Row],[DIV 4 QTY]]+EOPC[[#This Row],[DIV 5 QTY]]+EOPC[[#This Row],[DIV 6 QTY]]+EOPC[[#This Row],[DIV 7 QTY]]+EOPC[[#This Row],[DIV 8 QTY]]+EOPC[[#This Row],[DIV 9 QTY]]+EOPC[[#This Row],[DIV 10 QTY]]","v":0},null,0,{"$f":"EOPC[[#This Row],[TOTAL QTY]]*EOPC[[#This Row],[UNIT PRICE]]","v":0},null,{"$f":"EOPC[[#This Row],[UNIT PRICE]]*EOPC[[#This Row],[DIV 1 QTY]]","v":0},null,{"$f":"EOPC[[#This Row],[UNIT PRICE]]*EOPC[[#This Row],[DIV 2 QTY]]","v":0},null,{"$f":"EOPC[[#This Row],[UNIT PRICE]]*EOPC[[#This Row],[DIV 3 QTY]]","v":0},null,{"$f":"EOPC[[#This Row],[UNIT PRICE]]*EOPC[[#This Row],[DIV 4 QTY]]","v":0},null,{"$f":"EOPC[[#This Row],[UNIT PRICE]]*EOPC[[#This Row],[DIV 5 QTY]]","v":0},null,{"$f":"EOPC[[#This Row],[UNIT PRICE]]*EOPC[[#This Row],[DIV 6 QTY]]","v":0},null,{"$f":"EOPC[[#This Row],[UNIT PRICE]]*EOPC[[#This Row],[DIV 7 QTY]]","v":0},null,{"$f":"EOPC[[#This Row],[UNIT PRICE]]*EOPC[[#This Row],[DIV 8 QTY]]","v":0},null,{"$f":"EOPC[[#This Row],[UNIT PRICE]]*EOPC[[#This Row],[DIV 9 QTY]]","v":0},null,{"$f":"EOPC[[#This Row],[UNIT PRICE]]*EOPC[[#This Row],[DIV 10 QTY]]","v":0}]
[null,null,null,{"$f":"EOPC[[#This Row],[DIV 1 QTY]]+EOPC[[#This Row],[DIV 2 QTY]]+EOPC[[#This Row],[DIV 3 QTY]]+EOPC[[#This Row],[DIV 4 QTY]]+EOPC[[#This Row],[DIV 5 QTY]]+EOPC[[#This Row],[DIV 6 QTY]]+EOPC[[#This Row],[DIV 7 QTY]]+EOPC[[#This Row],[DIV 8 QTY]]+EOPC[[#This Row],[DIV 9 QTY]]+EOPC[[#This Row],[DIV 10 QTY]]","v":0},null,0,{"$f":"EOPC[[#This Row],[TOTAL QTY]]*EOPC[[#This Row],[UNIT PRICE]]","v":0},null,{"$f":"EOPC[[#This Row],[UNIT PRICE]]*EOPC[[#This Row],[DIV 1 QTY]]","v":0},null,{"$f":"EOPC[[#This Row],[UNIT PRICE]]*EOPC[[#This Row],[DIV 2 QTY]]","v":0},null,{"$f":"EOPC[[#This Row],[UNIT PRICE]]*EOPC[[#This Row],[DIV 3 QTY]]","v":0},null,{"$f":"EOPC[[#This Row],[UNIT PRICE]]*EOPC[[#This Row],[DIV 4 QTY]]","v":0},null,{"$f":"EOPC[[#This Row],[UNIT PRICE]]*EOPC[[#This Row],[DIV 5 QTY]]","v":0},null,{"$f":"EOPC[[#This Row],[UNIT PRICE]]*EOPC[[#This Row],[DIV 6 QTY]]","v":0},null,{"$f":"EOPC[[#This Row],[UNIT PRICE]]*EOPC[[#This Row],[DIV 7 QTY]]","v":0},null,{"$f":"EOPC[[#This Row],[UNIT PRICE]]*EOPC[[#This Row],[DIV 8 QTY]]","v":0},null,{"$f":"EOPC[[#This Row],[UNIT PRICE]]*EOPC[[#This Row],[DIV 9 QTY]]","v":0},null,{"$f":"EOPC[[#This Row],[UNIT PRICE]]*EOPC[[#This Row],[DIV 10 QTY]]","v":0}]
[null,null,null,{"$f":"EOPC[[#This Row],[DIV 1 QTY]]+EOPC[[#This Row],[DIV 2 QTY]]+EOPC[[#This Row],[DIV 3 QTY]]+EOPC[[#This Row],[DIV 4 QTY]]+EOPC[[#This Row],[DIV 5 QTY]]+EOPC[[#This Row],[DIV 6 QTY]]+EOPC[[#This Row],[DIV 7 QTY]]+EOPC[[#This Row],[DIV 8 QTY]]+EOPC[[#This Row],[DIV 9 QTY]]+EOPC[[#This Row],[DIV 10 QTY]]","v":0},null,0,{"$f":"EOPC[[#This Row],[TOTAL QTY]]*EOPC[[#This Row],[UNIT PRICE]]","v":0},null,{"$f":"EOPC[[#This Row],[UNIT PRICE]]*EOPC[[#This Row],[DIV 1 QTY]]","v":0},null,{"$f":"EOPC[[#This Row],[UNIT PRICE]]*EOPC[[#This Row],[DIV 2 QTY]]","v":0},null,{"$f":"EOPC[[#This Row],[UNIT PRICE]]*EOPC[[#This Row],[DIV 3 QTY]]","v":0},null,{"$f":"EOPC[[#This Row],[UNIT PRICE]]*EOPC[[#This Row],[DIV 4 QTY]]","v":0},null,{"$f":"EOPC[[#This Row],[UNIT PRICE]]*EOPC[[#This Row],[DIV 5 QTY]]","v":0},null,{"$f":"EOPC[[#This Row],[UNIT PRICE]]*EOPC[[#This Row],[DIV 6 QTY]]","v":0},null,{"$f":"EOPC[[#This Row],[UNIT PRICE]]*EOPC[[#This Row],[DIV 7 QTY]]","v":0},null,{"$f":"EOPC[[#This Row],[UNIT PRICE]]*EOPC[[#This Row],[DIV 8 QTY]]","v":0},null,{"$f":"EOPC[[#This Row],[UNIT PRICE]]*EOPC[[#This Row],[DIV 9 QTY]]","v":0},null,{"$f":"EOPC[[#This Row],[UNIT PRICE]]*EOPC[[#This Row],[DIV 10 QTY]]","v":0}]
[null,null,null,{"$f":"EOPC[[#This Row],[DIV 1 QTY]]+EOPC[[#This Row],[DIV 2 QTY]]+EOPC[[#This Row],[DIV 3 QTY]]+EOPC[[#This Row],[DIV 4 QTY]]+EOPC[[#This Row],[DIV 5 QTY]]+EOPC[[#This Row],[DIV 6 QTY]]+EOPC[[#This Row],[DIV 7 QTY]]+EOPC[[#This Row],[DIV 8 QTY]]+EOPC[[#This Row],[DIV 9 QTY]]+EOPC[[#This Row],[DIV 10 QTY]]","v":0},null,0,{"$f":"EOPC[[#This Row],[TOTAL QTY]]*EOPC[[#This Row],[UNIT PRICE]]","v":0},null,{"$f":"EOPC[[#This Row],[UNIT PRICE]]*EOPC[[#This Row],[DIV 1 QTY]]","v":0},null,{"$f":"EOPC[[#This Row],[UNIT PRICE]]*EOPC[[#This Row],[DIV 2 QTY]]","v":0},null,{"$f":"EOPC[[#This Row],[UNIT PRICE]]*EOPC[[#This Row],[DIV 3 QTY]]","v":0},null,{"$f":"EOPC[[#This Row],[UNIT PRICE]]*EOPC[[#This Row],[DIV 4 QTY]]","v":0},null,{"$f":"EOPC[[#This Row],[UNIT PRICE]]*EOPC[[#This Row],[DIV 5 QTY]]","v":0},null,{"$f":"EOPC[[#This Row],[UNIT PRICE]]*EOPC[[#This Row],[DIV 6 QTY]]","v":0},null,{"$f":"EOPC[[#This Row],[UNIT PRICE]]*EOPC[[#This Row],[DIV 7 QTY]]","v":0},null,{"$f":"EOPC[[#This Row],[UNIT PRICE]]*EOPC[[#This Row],[DIV 8 QTY]]","v":0},null,{"$f":"EOPC[[#This Row],[UNIT PRICE]]*EOPC[[#This Row],[DIV 9 QTY]]","v":0},null,{"$f":"EOPC[[#This Row],[UNIT PRICE]]*EOPC[[#This Row],[DIV 10 QTY]]","v":0}]
[null,null,null,{"$f":"EOPC[[#This Row],[DIV 1 QTY]]+EOPC[[#This Row],[DIV 2 QTY]]+EOPC[[#This Row],[DIV 3 QTY]]+EOPC[[#This Row],[DIV 4 QTY]]+EOPC[[#This Row],[DIV 5 QTY]]+EOPC[[#This Row],[DIV 6 QTY]]+EOPC[[#This Row],[DIV 7 QTY]]+EOPC[[#This Row],[DIV 8 QTY]]+EOPC[[#This Row],[DIV 9 QTY]]+EOPC[[#This Row],[DIV 10 QTY]]","v":0},null,0,{"$f":"EOPC[[#This Row],[TOTAL QTY]]*EOPC[[#This Row],[UNIT PRICE]]","v":0},null,{"$f":"EOPC[[#This Row],[UNIT PRICE]]*EOPC[[#This Row],[DIV 1 QTY]]","v":0},null,{"$f":"EOPC[[#This Row],[UNIT PRICE]]*EOPC[[#This Row],[DIV 2 QTY]]","v":0},null,{"$f":"EOPC[[#This Row],[UNIT PRICE]]*EOPC[[#This Row],[DIV 3 QTY]]","v":0},null,{"$f":"EOPC[[#This Row],[UNIT PRICE]]*EOPC[[#This Row],[DIV 4 QTY]]","v":0},null,{"$f":"EOPC[[#This Row],[UNIT PRICE]]*EOPC[[#This Row],[DIV 5 QTY]]","v":0},null,{"$f":"EOPC[[#This Row],[UNIT PRICE]]*EOPC[[#This Row],[DIV 6 QTY]]","v":0},null,{"$f":"EOPC[[#This Row],[UNIT PRICE]]*EOPC[[#This Row],[DIV 7 QTY]]","v":0},null,{"$f":"EOPC[[#This Row],[UNIT PRICE]]*EOPC[[#This Row],[DIV 8 QTY]]","v":0},null,{"$f":"EOPC[[#This Row],[UNIT PRICE]]*EOPC[[#This Row],[DIV 9 QTY]]","v":0},null,{"$f":"EOPC[[#This Row],[UNIT PRICE]]*EOPC[[#This Row],[DIV 10 QTY]]","v":0}]
[null,null,null,{"$f":"EOPC[[#This Row],[DIV 1 QTY]]+EOPC[[#This Row],[DIV 2 QTY]]+EOPC[[#This Row],[DIV 3 QTY]]+EOPC[[#This Row],[DIV 4 QTY]]+EOPC[[#This Row],[DIV 5 QTY]]+EOPC[[#This Row],[DIV 6 QTY]]+EOPC[[#This Row],[DIV 7 QTY]]+EOPC[[#This Row],[DIV 8 QTY]]+EOPC[[#This Row],[DIV 9 QTY]]+EOPC[[#This Row],[DIV 10 QTY]]","v":0},null,0,{"$f":"EOPC[[#This Row],[TOTAL QTY]]*EOPC[[#This Row],[UNIT PRICE]]","v":0},null,{"$f":"EOPC[[#This Row],[UNIT PRICE]]*EOPC[[#This Row],[DIV 1 QTY]]","v":0},null,{"$f":"EOPC[[#This Row],[UNIT PRICE]]*EOPC[[#This Row],[DIV 2 QTY]]","v":0},null,{"$f":"EOPC[[#This Row],[UNIT PRICE]]*EOPC[[#This Row],[DIV 3 QTY]]","v":0},null,{"$f":"EOPC[[#This Row],[UNIT PRICE]]*EOPC[[#This Row],[DIV 4 QTY]]","v":0},null,{"$f":"EOPC[[#This Row],[UNIT PRICE]]*EOPC[[#This Row],[DIV 5 QTY]]","v":0},null,{"$f":"EOPC[[#This Row],[UNIT PRICE]]*EOPC[[#This Row],[DIV 6 QTY]]","v":0},null,{"$f":"EOPC[[#This Row],[UNIT PRICE]]*EOPC[[#This Row],[DIV 7 QTY]]","v":0},null,{"$f":"EOPC[[#This Row],[UNIT PRICE]]*EOPC[[#This Row],[DIV 8 QTY]]","v":0},null,{"$f":"EOPC[[#This Row],[UNIT PRICE]]*EOPC[[#This Row],[DIV 9 QTY]]","v":0},null,{"$f":"EOPC[[#This Row],[UNIT PRICE]]*EOPC[[#This Row],[DIV 10 QTY]]","v":0}]
[null,null,null,{"$f":"EOPC[[#This Row],[DIV 1 QTY]]+EOPC[[#This Row],[DIV 2 QTY]]+EOPC[[#This Row],[DIV 3 QTY]]+EOPC[[#This Row],[DIV 4 QTY]]+EOPC[[#This Row],[DIV 5 QTY]]+EOPC[[#This Row],[DIV 6 QTY]]+EOPC[[#This Row],[DIV 7 QTY]]+EOPC[[#This Row],[DIV 8 QTY]]+EOPC[[#This Row],[DIV 9 QTY]]+EOPC[[#This Row],[DIV 10 QTY]]","v":0},null,0,{"$f":"EOPC[[#This Row],[TOTAL QTY]]*EOPC[[#This Row],[UNIT PRICE]]","v":0},null,{"$f":"EOPC[[#This Row],[UNIT PRICE]]*EOPC[[#This Row],[DIV 1 QTY]]","v":0},null,{"$f":"EOPC[[#This Row],[UNIT PRICE]]*EOPC[[#This Row],[DIV 2 QTY]]","v":0},null,{"$f":"EOPC[[#This Row],[UNIT PRICE]]*EOPC[[#This Row],[DIV 3 QTY]]","v":0},null,{"$f":"EOPC[[#This Row],[UNIT PRICE]]*EOPC[[#This Row],[DIV 4 QTY]]","v":0},null,{"$f":"EOPC[[#This Row],[UNIT PRICE]]*EOPC[[#This Row],[DIV 5 QTY]]","v":0},null,{"$f":"EOPC[[#This Row],[UNIT PRICE]]*EOPC[[#This Row],[DIV 6 QTY]]","v":0},null,{"$f":"EOPC[[#This Row],[UNIT PRICE]]*EOPC[[#This Row],[DIV 7 QTY]]","v":0},null,{"$f":"EOPC[[#This Row],[UNIT PRICE]]*EOPC[[#This Row],[DIV 8 QTY]]","v":0},null,{"$f":"EOPC[[#This Row],[UNIT PRICE]]*EOPC[[#This Row],[DIV 9 QTY]]","v":0},null,{"$f":"EOPC[[#This Row],[UNIT PRICE]]*EOPC[[#This Row],[DIV 10 QTY]]","v":0}]
[null,null,null,{"$f":"EOPC[[#This Row],[DIV 1 QTY]]+EOPC[[#This Row],[DIV 2 QTY]]+EOPC[[#This Row],[DIV 3 QTY]]+EOPC[[#This Row],[DIV 4 QTY]]+EOPC[[#This Row],[DIV 5 QTY]]+EOPC[[#This Row],[DIV 6 QTY]]+EOPC[[#This Row],[DIV 7 QTY]]+EOPC[[#This Row],[DIV 8 QTY]]+EOPC[[#This Row],[DIV 9 QTY]]+EOPC[[#This Row],[DIV 10 QTY]]","v":0},null,0,{"$f":"EOPC[[#This Row],[TOTAL QTY]]*EOPC[[#This Row],[UNIT PRICE]]","v":0},null,{"$f":"EOPC[[#This Row],[UNIT PRICE]]*EOPC[[#This Row],[DIV 1 QTY]]","v":0},null,{"$f":"EOPC[[#This Row],[UNIT PRICE]]*EOPC[[#This Row],[DIV 2 QTY]]","v":0},null,{"$f":"EOPC[[#This Row],[UNIT PRICE]]*EOPC[[#This Row],[DIV 3 QTY]]","v":0},null,{"$f":"EOPC[[#This Row],[UNIT PRICE]]*EOPC[[#This Row],[DIV 4 QTY]]","v":0},null,{"$f":"EOPC[[#This Row],[UNIT PRICE]]*EOPC[[#This Row],[DIV 5 QTY]]","v":0},null,{"$f":"EOPC[[#This Row],[UNIT PRICE]]*EOPC[[#This Row],[DIV 6 QTY]]","v":0},null,{"$f":"EOPC[[#This Row],[UNIT PRICE]]*EOPC[[#This Row],[DIV 7 QTY]]","v":0},null,{"$f":"EOPC[[#This Row],[UNIT PRICE]]*EOPC[[#This Row],[DIV 8 QTY]]","v":0},null,{"$f":"EOPC[[#This Row],[UNIT PRICE]]*EOPC[[#This Row],[DIV 9 QTY]]","v":0},null,{"$f":"EOPC[[#This Row],[UNIT PRICE]]*EOPC[[#This Row],[DIV 10 QTY]]","v":0}]
[null,null,null,{"$f":"EOPC[[#This Row],[DIV 1 QTY]]+EOPC[[#This Row],[DIV 2 QTY]]+EOPC[[#This Row],[DIV 3 QTY]]+EOPC[[#This Row],[DIV 4 QTY]]+EOPC[[#This Row],[DIV 5 QTY]]+EOPC[[#This Row],[DIV 6 QTY]]+EOPC[[#This Row],[DIV 7 QTY]]+EOPC[[#This Row],[DIV 8 QTY]]+EOPC[[#This Row],[DIV 9 QTY]]+EOPC[[#This Row],[DIV 10 QTY]]","v":0},null,0,{"$f":"EOPC[[#This Row],[TOTAL QTY]]*EOPC[[#This Row],[UNIT PRICE]]","v":0},null,{"$f":"EOPC[[#This Row],[UNIT PRICE]]*EOPC[[#This Row],[DIV 1 QTY]]","v":0},null,{"$f":"EOPC[[#This Row],[UNIT PRICE]]*EOPC[[#This Row],[DIV 2 QTY]]","v":0},null,{"$f":"EOPC[[#This Row],[UNIT PRICE]]*EOPC[[#This Row],[DIV 3 QTY]]","v":0},null,{"$f":"EOPC[[#This Row],[UNIT PRICE]]*EOPC[[#This Row],[DIV 4 QTY]]","v":0},null,{"$f":"EOPC[[#This Row],[UNIT PRICE]]*EOPC[[#This Row],[DIV 5 QTY]]","v":0},null,{"$f":"EOPC[[#This Row],[UNIT PRICE]]*EOPC[[#This Row],[DIV 6 QTY]]","v":0},null,{"$f":"EOPC[[#This Row],[UNIT PRICE]]*EOPC[[#This Row],[DIV 7 QTY]]","v":0},null,{"$f":"EOPC[[#This Row],[UNIT PRICE]]*EOPC[[#This Row],[DIV 8 QTY]]","v":0},null,{"$f":"EOPC[[#This Row],[UNIT PRICE]]*EOPC[[#This Row],[DIV 9 QTY]]","v":0},null,{"$f":"EOPC[[#This Row],[UNIT PRICE]]*EOPC[[#This Row],[DIV 10 QTY]]","v":0}]
[null,null,null,{"$f":"EOPC[[#This Row],[DIV 1 QTY]]+EOPC[[#This Row],[DIV 2 QTY]]+EOPC[[#This Row],[DIV 3 QTY]]+EOPC[[#This Row],[DIV 4 QTY]]+EOPC[[#This Row],[DIV 5 QTY]]+EOPC[[#This Row],[DIV 6 QTY]]+EOPC[[#This Row],[DIV 7 QTY]]+EOPC[[#This Row],[DIV 8 QTY]]+EOPC[[#This Row],[DIV 9 QTY]]+EOPC[[#This Row],[DIV 10 QTY]]","v":0},null,0,{"$f":"EOPC[[#This Row],[TOTAL QTY]]*EOPC[[#This Row],[UNIT PRICE]]","v":0},null,{"$f":"EOPC[[#This Row],[UNIT PRICE]]*EOPC[[#This Row],[DIV 1 QTY]]","v":0},null,{"$f":"EOPC[[#This Row],[UNIT PRICE]]*EOPC[[#This Row],[DIV 2 QTY]]","v":0},null,{"$f":"EOPC[[#This Row],[UNIT PRICE]]*EOPC[[#This Row],[DIV 3 QTY]]","v":0},null,{"$f":"EOPC[[#This Row],[UNIT PRICE]]*EOPC[[#This Row],[DIV 4 QTY]]","v":0},null,{"$f":"EOPC[[#This Row],[UNIT PRICE]]*EOPC[[#This Row],[DIV 5 QTY]]","v":0},null,{"$f":"EOPC[[#This Row],[UNIT PRICE]]*EOPC[[#This Row],[DIV 6 QTY]]","v":0},null,{"$f":"EOPC[[#This Row],[UNIT PRICE]]*EOPC[[#This Row],[DIV 7 QTY]]","v":0},null,{"$f":"EOPC[[#This Row],[UNIT PRICE]]*EOPC[[#This Row],[DIV 8 QTY]]","v":0},null,{"$f":"EOPC[[#This Row],[UNIT PRICE]]*EOPC[[#This Row],[DIV 9 QTY]]","v":0},null,{"$f":"EOPC[[#This Row],[UNIT PRICE]]*EOPC[[#This Row],[DIV 10 QTY]]","v":0}]
[null,null,null,{"$f":"EOPC[[#This Row],[DIV 1 QTY]]+EOPC[[#This Row],[DIV 2 QTY]]+EOPC[[#This Row],[DIV 3 QTY]]+EOPC[[#This Row],[DIV 4 QTY]]+EOPC[[#This Row],[DIV 5 QTY]]+EOPC[[#This Row],[DIV 6 QTY]]+EOPC[[#This Row],[DIV 7 QTY]]+EOPC[[#This Row],[DIV 8 QTY]]+EOPC[[#This Row],[DIV 9 QTY]]+EOPC[[#This Row],[DIV 10 QTY]]","v":0},null,0,{"$f":"EOPC[[#This Row],[TOTAL QTY]]*EOPC[[#This Row],[UNIT PRICE]]","v":0},null,{"$f":"EOPC[[#This Row],[UNIT PRICE]]*EOPC[[#This Row],[DIV 1 QTY]]","v":0},null,{"$f":"EOPC[[#This Row],[UNIT PRICE]]*EOPC[[#This Row],[DIV 2 QTY]]","v":0},null,{"$f":"EOPC[[#This Row],[UNIT PRICE]]*EOPC[[#This Row],[DIV 3 QTY]]","v":0},null,{"$f":"EOPC[[#This Row],[UNIT PRICE]]*EOPC[[#This Row],[DIV 4 QTY]]","v":0},null,{"$f":"EOPC[[#This Row],[UNIT PRICE]]*EOPC[[#This Row],[DIV 5 QTY]]","v":0},null,{"$f":"EOPC[[#This Row],[UNIT PRICE]]*EOPC[[#This Row],[DIV 6 QTY]]","v":0},null,{"$f":"EOPC[[#This Row],[UNIT PRICE]]*EOPC[[#This Row],[DIV 7 QTY]]","v":0},null,{"$f":"EOPC[[#This Row],[UNIT PRICE]]*EOPC[[#This Row],[DIV 8 QTY]]","v":0},null,{"$f":"EOPC[[#This Row],[UNIT PRICE]]*EOPC[[#This Row],[DIV 9 QTY]]","v":0},null,{"$f":"EOPC[[#This Row],[UNIT PRICE]]*EOPC[[#This Row],[DIV 10 QTY]]","v":0}]
[null,null,null,{"$f":"EOPC[[#This Row],[DIV 1 QTY]]+EOPC[[#This Row],[DIV 2 QTY]]+EOPC[[#This Row],[DIV 3 QTY]]+EOPC[[#This Row],[DIV 4 QTY]]+EOPC[[#This Row],[DIV 5 QTY]]+EOPC[[#This Row],[DIV 6 QTY]]+EOPC[[#This Row],[DIV 7 QTY]]+EOPC[[#This Row],[DIV 8 QTY]]+EOPC[[#This Row],[DIV 9 QTY]]+EOPC[[#This Row],[DIV 10 QTY]]","v":0},null,0,{"$f":"EOPC[[#This Row],[TOTAL QTY]]*EOPC[[#This Row],[UNIT PRICE]]","v":0},null,{"$f":"EOPC[[#This Row],[UNIT PRICE]]*EOPC[[#This Row],[DIV 1 QTY]]","v":0},null,{"$f":"EOPC[[#This Row],[UNIT PRICE]]*EOPC[[#This Row],[DIV 2 QTY]]","v":0},null,{"$f":"EOPC[[#This Row],[UNIT PRICE]]*EOPC[[#This Row],[DIV 3 QTY]]","v":0},null,{"$f":"EOPC[[#This Row],[UNIT PRICE]]*EOPC[[#This Row],[DIV 4 QTY]]","v":0},null,{"$f":"EOPC[[#This Row],[UNIT PRICE]]*EOPC[[#This Row],[DIV 5 QTY]]","v":0},null,{"$f":"EOPC[[#This Row],[UNIT PRICE]]*EOPC[[#This Row],[DIV 6 QTY]]","v":0},null,{"$f":"EOPC[[#This Row],[UNIT PRICE]]*EOPC[[#This Row],[DIV 7 QTY]]","v":0},null,{"$f":"EOPC[[#This Row],[UNIT PRICE]]*EOPC[[#This Row],[DIV 8 QTY]]","v":0},null,{"$f":"EOPC[[#This Row],[UNIT PRICE]]*EOPC[[#This Row],[DIV 9 QTY]]","v":0},null,{"$f":"EOPC[[#This Row],[UNIT PRICE]]*EOPC[[#This Row],[DIV 10 QTY]]","v":0}]
[null,null,null,{"$f":"EOPC[[#This Row],[DIV 1 QTY]]+EOPC[[#This Row],[DIV 2 QTY]]+EOPC[[#This Row],[DIV 3 QTY]]+EOPC[[#This Row],[DIV 4 QTY]]+EOPC[[#This Row],[DIV 5 QTY]]+EOPC[[#This Row],[DIV 6 QTY]]+EOPC[[#This Row],[DIV 7 QTY]]+EOPC[[#This Row],[DIV 8 QTY]]+EOPC[[#This Row],[DIV 9 QTY]]+EOPC[[#This Row],[DIV 10 QTY]]","v":0},null,0,{"$f":"EOPC[[#This Row],[TOTAL QTY]]*EOPC[[#This Row],[UNIT PRICE]]","v":0},null,{"$f":"EOPC[[#This Row],[UNIT PRICE]]*EOPC[[#This Row],[DIV 1 QTY]]","v":0},null,{"$f":"EOPC[[#This Row],[UNIT PRICE]]*EOPC[[#This Row],[DIV 2 QTY]]","v":0},null,{"$f":"EOPC[[#This Row],[UNIT PRICE]]*EOPC[[#This Row],[DIV 3 QTY]]","v":0},null,{"$f":"EOPC[[#This Row],[UNIT PRICE]]*EOPC[[#This Row],[DIV 4 QTY]]","v":0},null,{"$f":"EOPC[[#This Row],[UNIT PRICE]]*EOPC[[#This Row],[DIV 5 QTY]]","v":0},null,{"$f":"EOPC[[#This Row],[UNIT PRICE]]*EOPC[[#This Row],[DIV 6 QTY]]","v":0},null,{"$f":"EOPC[[#This Row],[UNIT PRICE]]*EOPC[[#This Row],[DIV 7 QTY]]","v":0},null,{"$f":"EOPC[[#This Row],[UNIT PRICE]]*EOPC[[#This Row],[DIV 8 QTY]]","v":0},null,{"$f":"EOPC[[#This Row],[UNIT PRICE]]*EOPC[[#This Row],[DIV 9 QTY]]","v":0},null,{"$f":"EOPC[[#This Row],[UNIT PRICE]]*EOPC[[#This Row],[DIV 10 QTY]]","v":0}]
[null,null,null,{"$f":"EOPC[[#This Row],[DIV 1 QTY]]+EOPC[[#This Row],[DIV 2 QTY]]+EOPC[[#This Row],[DIV 3 QTY]]+EOPC[[#This Row],[DIV 4 QTY]]+EOPC[[#This Row],[DIV 5 QTY]]+EOPC[[#This Row],[DIV 6 QTY]]+EOPC[[#This Row],[DIV 7 QTY]]+EOPC[[#This Row],[DIV 8 QTY]]+EOPC[[#This Row],[DIV 9 QTY]]+EOPC[[#This Row],[DIV 10 QTY]]","v":0},null,0,{"$f":"EOPC[[#This Row],[TOTAL QTY]]*EOPC[[#This Row],[UNIT PRICE]]","v":0},null,{"$f":"EOPC[[#This Row],[UNIT PRICE]]*EOPC[[#This Row],[DIV 1 QTY]]","v":0},null,{"$f":"EOPC[[#This Row],[UNIT PRICE]]*EOPC[[#This Row],[DIV 2 QTY]]","v":0},null,{"$f":"EOPC[[#This Row],[UNIT PRICE]]*EOPC[[#This Row],[DIV 3 QTY]]","v":0},null,{"$f":"EOPC[[#This Row],[UNIT PRICE]]*EOPC[[#This Row],[DIV 4 QTY]]","v":0},null,{"$f":"EOPC[[#This Row],[UNIT PRICE]]*EOPC[[#This Row],[DIV 5 QTY]]","v":0},null,{"$f":"EOPC[[#This Row],[UNIT PRICE]]*EOPC[[#This Row],[DIV 6 QTY]]","v":0},null,{"$f":"EOPC[[#This Row],[UNIT PRICE]]*EOPC[[#This Row],[DIV 7 QTY]]","v":0},null,{"$f":"EOPC[[#This Row],[UNIT PRICE]]*EOPC[[#This Row],[DIV 8 QTY]]","v":0},null,{"$f":"EOPC[[#This Row],[UNIT PRICE]]*EOPC[[#This Row],[DIV 9 QTY]]","v":0},null,{"$f":"EOPC[[#This Row],[UNIT PRICE]]*EOPC[[#This Row],[DIV 10 QTY]]","v":0}]
[null,null,null,{"$f":"EOPC[[#This Row],[DIV 1 QTY]]+EOPC[[#This Row],[DIV 2 QTY]]+EOPC[[#This Row],[DIV 3 QTY]]+EOPC[[#This Row],[DIV 4 QTY]]+EOPC[[#This Row],[DIV 5 QTY]]+EOPC[[#This Row],[DIV 6 QTY]]+EOPC[[#This Row],[DIV 7 QTY]]+EOPC[[#This Row],[DIV 8 QTY]]+EOPC[[#This Row],[DIV 9 QTY]]+EOPC[[#This Row],[DIV 10 QTY]]","v":0},null,0,{"$f":"EOPC[[#This Row],[TOTAL QTY]]*EOPC[[#This Row],[UNIT PRICE]]","v":0},null,{"$f":"EOPC[[#This Row],[UNIT PRICE]]*EOPC[[#This Row],[DIV 1 QTY]]","v":0},null,{"$f":"EOPC[[#This Row],[UNIT PRICE]]*EOPC[[#This Row],[DIV 2 QTY]]","v":0},null,{"$f":"EOPC[[#This Row],[UNIT PRICE]]*EOPC[[#This Row],[DIV 3 QTY]]","v":0},null,{"$f":"EOPC[[#This Row],[UNIT PRICE]]*EOPC[[#This Row],[DIV 4 QTY]]","v":0},null,{"$f":"EOPC[[#This Row],[UNIT PRICE]]*EOPC[[#This Row],[DIV 5 QTY]]","v":0},null,{"$f":"EOPC[[#This Row],[UNIT PRICE]]*EOPC[[#This Row],[DIV 6 QTY]]","v":0},null,{"$f":"EOPC[[#This Row],[UNIT PRICE]]*EOPC[[#This Row],[DIV 7 QTY]]","v":0},null,{"$f":"EOPC[[#This Row],[UNIT PRICE]]*EOPC[[#This Row],[DIV 8 QTY]]","v":0},null,{"$f":"EOPC[[#This Row],[UNIT PRICE]]*EOPC[[#This Row],[DIV 9 QTY]]","v":0},null,{"$f":"EOPC[[#This Row],[UNIT PRICE]]*EOPC[[#This Row],[DIV 10 QTY]]","v":0}]
[null,null,null,{"$f":"EOPC[[#This Row],[DIV 1 QTY]]+EOPC[[#This Row],[DIV 2 QTY]]+EOPC[[#This Row],[DIV 3 QTY]]+EOPC[[#This Row],[DIV 4 QTY]]+EOPC[[#This Row],[DIV 5 QTY]]+EOPC[[#This Row],[DIV 6 QTY]]+EOPC[[#This Row],[DIV 7 QTY]]+EOPC[[#This Row],[DIV 8 QTY]]+EOPC[[#This Row],[DIV 9 QTY]]+EOPC[[#This Row],[DIV 10 QTY]]","v":0},null,0,{"$f":"EOPC[[#This Row],[TOTAL QTY]]*EOPC[[#This Row],[UNIT PRICE]]","v":0},null,{"$f":"EOPC[[#This Row],[UNIT PRICE]]*EOPC[[#This Row],[DIV 1 QTY]]","v":0},null,{"$f":"EOPC[[#This Row],[UNIT PRICE]]*EOPC[[#This Row],[DIV 2 QTY]]","v":0},null,{"$f":"EOPC[[#This Row],[UNIT PRICE]]*EOPC[[#This Row],[DIV 3 QTY]]","v":0},null,{"$f":"EOPC[[#This Row],[UNIT PRICE]]*EOPC[[#This Row],[DIV 4 QTY]]","v":0},null,{"$f":"EOPC[[#This Row],[UNIT PRICE]]*EOPC[[#This Row],[DIV 5 QTY]]","v":0},null,{"$f":"EOPC[[#This Row],[UNIT PRICE]]*EOPC[[#This Row],[DIV 6 QTY]]","v":0},null,{"$f":"EOPC[[#This Row],[UNIT PRICE]]*EOPC[[#This Row],[DIV 7 QTY]]","v":0},null,{"$f":"EOPC[[#This Row],[UNIT PRICE]]*EOPC[[#This Row],[DIV 8 QTY]]","v":0},null,{"$f":"EOPC[[#This Row],[UNIT PRICE]]*EOPC[[#This Row],[DIV 9 QTY]]","v":0},null,{"$f":"EOPC[[#This Row],[UNIT PRICE]]*EOPC[[#This Row],[DIV 10 QTY]]","v":0}]
[null,null,null,{"$f":"EOPC[[#This Row],[DIV 1 QTY]]+EOPC[[#This Row],[DIV 2 QTY]]+EOPC[[#This Row],[DIV 3 QTY]]+EOPC[[#This Row],[DIV 4 QTY]]+EOPC[[#This Row],[DIV 5 QTY]]+EOPC[[#This Row],[DIV 6 QTY]]+EOPC[[#This Row],[DIV 7 QTY]]+EOPC[[#This Row],[DIV 8 QTY]]+EOPC[[#This Row],[DIV 9 QTY]]+EOPC[[#This Row],[DIV 10 QTY]]","v":0},null,0,{"$f":"EOPC[[#This Row],[TOTAL QTY]]*EOPC[[#This Row],[UNIT PRICE]]","v":0},null,{"$f":"EOPC[[#This Row],[UNIT PRICE]]*EOPC[[#This Row],[DIV 1 QTY]]","v":0},null,{"$f":"EOPC[[#This Row],[UNIT PRICE]]*EOPC[[#This Row],[DIV 2 QTY]]","v":0},null,{"$f":"EOPC[[#This Row],[UNIT PRICE]]*EOPC[[#This Row],[DIV 3 QTY]]","v":0},null,{"$f":"EOPC[[#This Row],[UNIT PRICE]]*EOPC[[#This Row],[DIV 4 QTY]]","v":0},null,{"$f":"EOPC[[#This Row],[UNIT PRICE]]*EOPC[[#This Row],[DIV 5 QTY]]","v":0},null,{"$f":"EOPC[[#This Row],[UNIT PRICE]]*EOPC[[#This Row],[DIV 6 QTY]]","v":0},null,{"$f":"EOPC[[#This Row],[UNIT PRICE]]*EOPC[[#This Row],[DIV 7 QTY]]","v":0},null,{"$f":"EOPC[[#This Row],[UNIT PRICE]]*EOPC[[#This Row],[DIV 8 QTY]]","v":0},null,{"$f":"EOPC[[#This Row],[UNIT PRICE]]*EOPC[[#This Row],[DIV 9 QTY]]","v":0},null,{"$f":"EOPC[[#This Row],[UNIT PRICE]]*EOPC[[#This Row],[DIV 10 QTY]]","v":0}]
[null,null,null,{"$f":"EOPC[[#This Row],[DIV 1 QTY]]+EOPC[[#This Row],[DIV 2 QTY]]+EOPC[[#This Row],[DIV 3 QTY]]+EOPC[[#This Row],[DIV 4 QTY]]+EOPC[[#This Row],[DIV 5 QTY]]+EOPC[[#This Row],[DIV 6 QTY]]+EOPC[[#This Row],[DIV 7 QTY]]+EOPC[[#This Row],[DIV 8 QTY]]+EOPC[[#This Row],[DIV 9 QTY]]+EOPC[[#This Row],[DIV 10 QTY]]","v":0},null,0,{"$f":"EOPC[[#This Row],[TOTAL QTY]]*EOPC[[#This Row],[UNIT PRICE]]","v":0},null,{"$f":"EOPC[[#This Row],[UNIT PRICE]]*EOPC[[#This Row],[DIV 1 QTY]]","v":0},null,{"$f":"EOPC[[#This Row],[UNIT PRICE]]*EOPC[[#This Row],[DIV 2 QTY]]","v":0},null,{"$f":"EOPC[[#This Row],[UNIT PRICE]]*EOPC[[#This Row],[DIV 3 QTY]]","v":0},null,{"$f":"EOPC[[#This Row],[UNIT PRICE]]*EOPC[[#This Row],[DIV 4 QTY]]","v":0},null,{"$f":"EOPC[[#This Row],[UNIT PRICE]]*EOPC[[#This Row],[DIV 5 QTY]]","v":0},null,{"$f":"EOPC[[#This Row],[UNIT PRICE]]*EOPC[[#This Row],[DIV 6 QTY]]","v":0},null,{"$f":"EOPC[[#This Row],[UNIT PRICE]]*EOPC[[#This Row],[DIV 7 QTY]]","v":0},null,{"$f":"EOPC[[#This Row],[UNIT PRICE]]*EOPC[[#This Row],[DIV 8 QTY]]","v":0},null,{"$f":"EOPC[[#This Row],[UNIT PRICE]]*EOPC[[#This Row],[DIV 9 QTY]]","v":0},null,{"$f":"EOPC[[#This Row],[UNIT PRICE]]*EOPC[[#This Row],[DIV 10 QTY]]","v":0}]
[null,null,null,{"$f":"EOPC[[#This Row],[DIV 1 QTY]]+EOPC[[#This Row],[DIV 2 QTY]]+EOPC[[#This Row],[DIV 3 QTY]]+EOPC[[#This Row],[DIV 4 QTY]]+EOPC[[#This Row],[DIV 5 QTY]]+EOPC[[#This Row],[DIV 6 QTY]]+EOPC[[#This Row],[DIV 7 QTY]]+EOPC[[#This Row],[DIV 8 QTY]]+EOPC[[#This Row],[DIV 9 QTY]]+EOPC[[#This Row],[DIV 10 QTY]]","v":0},null,0,{"$f":"EOPC[[#This Row],[TOTAL QTY]]*EOPC[[#This Row],[UNIT PRICE]]","v":0},null,{"$f":"EOPC[[#This Row],[UNIT PRICE]]*EOPC[[#This Row],[DIV 1 QTY]]","v":0},null,{"$f":"EOPC[[#This Row],[UNIT PRICE]]*EOPC[[#This Row],[DIV 2 QTY]]","v":0},null,{"$f":"EOPC[[#This Row],[UNIT PRICE]]*EOPC[[#This Row],[DIV 3 QTY]]","v":0},null,{"$f":"EOPC[[#This Row],[UNIT PRICE]]*EOPC[[#This Row],[DIV 4 QTY]]","v":0},null,{"$f":"EOPC[[#This Row],[UNIT PRICE]]*EOPC[[#This Row],[DIV 5 QTY]]","v":0},null,{"$f":"EOPC[[#This Row],[UNIT PRICE]]*EOPC[[#This Row],[DIV 6 QTY]]","v":0},null,{"$f":"EOPC[[#This Row],[UNIT PRICE]]*EOPC[[#This Row],[DIV 7 QTY]]","v":0},null,{"$f":"EOPC[[#This Row],[UNIT PRICE]]*EOPC[[#This Row],[DIV 8 QTY]]","v":0},null,{"$f":"EOPC[[#This Row],[UNIT PRICE]]*EOPC[[#This Row],[DIV 9 QTY]]","v":0},null,{"$f":"EOPC[[#This Row],[UNIT PRICE]]*EOPC[[#This Row],[DIV 10 QTY]]","v":0}]
[null,null,null,{"$f":"EOPC[[#This Row],[DIV 1 QTY]]+EOPC[[#This Row],[DIV 2 QTY]]+EOPC[[#This Row],[DIV 3 QTY]]+EOPC[[#This Row],[DIV 4 QTY]]+EOPC[[#This Row],[DIV 5 QTY]]+EOPC[[#This Row],[DIV 6 QTY]]+EOPC[[#This Row],[DIV 7 QTY]]+EOPC[[#This Row],[DIV 8 QTY]]+EOPC[[#This Row],[DIV 9 QTY]]+EOPC[[#This Row],[DIV 10 QTY]]","v":0},null,0,{"$f":"EOPC[[#This Row],[TOTAL QTY]]*EOPC[[#This Row],[UNIT PRICE]]","v":0},null,{"$f":"EOPC[[#This Row],[UNIT PRICE]]*EOPC[[#This Row],[DIV 1 QTY]]","v":0},null,{"$f":"EOPC[[#This Row],[UNIT PRICE]]*EOPC[[#This Row],[DIV 2 QTY]]","v":0},null,{"$f":"EOPC[[#This Row],[UNIT PRICE]]*EOPC[[#This Row],[DIV 3 QTY]]","v":0},null,{"$f":"EOPC[[#This Row],[UNIT PRICE]]*EOPC[[#This Row],[DIV 4 QTY]]","v":0},null,{"$f":"EOPC[[#This Row],[UNIT PRICE]]*EOPC[[#This Row],[DIV 5 QTY]]","v":0},null,{"$f":"EOPC[[#This Row],[UNIT PRICE]]*EOPC[[#This Row],[DIV 6 QTY]]","v":0},null,{"$f":"EOPC[[#This Row],[UNIT PRICE]]*EOPC[[#This Row],[DIV 7 QTY]]","v":0},null,{"$f":"EOPC[[#This Row],[UNIT PRICE]]*EOPC[[#This Row],[DIV 8 QTY]]","v":0},null,{"$f":"EOPC[[#This Row],[UNIT PRICE]]*EOPC[[#This Row],[DIV 9 QTY]]","v":0},null,{"$f":"EOPC[[#This Row],[UNIT PRICE]]*EOPC[[#This Row],[DIV 10 QTY]]","v":0}]
[null,null,null,{"$f":"EOPC[[#This Row],[DIV 1 QTY]]+EOPC[[#This Row],[DIV 2 QTY]]+EOPC[[#This Row],[DIV 3 QTY]]+EOPC[[#This Row],[DIV 4 QTY]]+EOPC[[#This Row],[DIV 5 QTY]]+EOPC[[#This Row],[DIV 6 QTY]]+EOPC[[#This Row],[DIV 7 QTY]]+EOPC[[#This Row],[DIV 8 QTY]]+EOPC[[#This Row],[DIV 9 QTY]]+EOPC[[#This Row],[DIV 10 QTY]]","v":0},null,0,{"$f":"EOPC[[#This Row],[TOTAL QTY]]*EOPC[[#This Row],[UNIT PRICE]]","v":0},null,{"$f":"EOPC[[#This Row],[UNIT PRICE]]*EOPC[[#This Row],[DIV 1 QTY]]","v":0},null,{"$f":"EOPC[[#This Row],[UNIT PRICE]]*EOPC[[#This Row],[DIV 2 QTY]]","v":0},null,{"$f":"EOPC[[#This Row],[UNIT PRICE]]*EOPC[[#This Row],[DIV 3 QTY]]","v":0},null,{"$f":"EOPC[[#This Row],[UNIT PRICE]]*EOPC[[#This Row],[DIV 4 QTY]]","v":0},null,{"$f":"EOPC[[#This Row],[UNIT PRICE]]*EOPC[[#This Row],[DIV 5 QTY]]","v":0},null,{"$f":"EOPC[[#This Row],[UNIT PRICE]]*EOPC[[#This Row],[DIV 6 QTY]]","v":0},null,{"$f":"EOPC[[#This Row],[UNIT PRICE]]*EOPC[[#This Row],[DIV 7 QTY]]","v":0},null,{"$f":"EOPC[[#This Row],[UNIT PRICE]]*EOPC[[#This Row],[DIV 8 QTY]]","v":0},null,{"$f":"EOPC[[#This Row],[UNIT PRICE]]*EOPC[[#This Row],[DIV 9 QTY]]","v":0},null,{"$f":"EOPC[[#This Row],[UNIT PRICE]]*EOPC[[#This Row],[DIV 10 QTY]]","v":0}]
[null,null,null,{"$f":"EOPC[[#This Row],[DIV 1 QTY]]+EOPC[[#This Row],[DIV 2 QTY]]+EOPC[[#This Row],[DIV 3 QTY]]+EOPC[[#This Row],[DIV 4 QTY]]+EOPC[[#This Row],[DIV 5 QTY]]+EOPC[[#This Row],[DIV 6 QTY]]+EOPC[[#This Row],[DIV 7 QTY]]+EOPC[[#This Row],[DIV 8 QTY]]+EOPC[[#This Row],[DIV 9 QTY]]+EOPC[[#This Row],[DIV 10 QTY]]","v":0},null,0,{"$f":"EOPC[[#This Row],[TOTAL QTY]]*EOPC[[#This Row],[UNIT PRICE]]","v":0},null,{"$f":"EOPC[[#This Row],[UNIT PRICE]]*EOPC[[#This Row],[DIV 1 QTY]]","v":0},null,{"$f":"EOPC[[#This Row],[UNIT PRICE]]*EOPC[[#This Row],[DIV 2 QTY]]","v":0},null,{"$f":"EOPC[[#This Row],[UNIT PRICE]]*EOPC[[#This Row],[DIV 3 QTY]]","v":0},null,{"$f":"EOPC[[#This Row],[UNIT PRICE]]*EOPC[[#This Row],[DIV 4 QTY]]","v":0},null,{"$f":"EOPC[[#This Row],[UNIT PRICE]]*EOPC[[#This Row],[DIV 5 QTY]]","v":0},null,{"$f":"EOPC[[#This Row],[UNIT PRICE]]*EOPC[[#This Row],[DIV 6 QTY]]","v":0},null,{"$f":"EOPC[[#This Row],[UNIT PRICE]]*EOPC[[#This Row],[DIV 7 QTY]]","v":0},null,{"$f":"EOPC[[#This Row],[UNIT PRICE]]*EOPC[[#This Row],[DIV 8 QTY]]","v":0},null,{"$f":"EOPC[[#This Row],[UNIT PRICE]]*EOPC[[#This Row],[DIV 9 QTY]]","v":0},null,{"$f":"EOPC[[#This Row],[UNIT PRICE]]*EOPC[[#This Row],[DIV 10 QTY]]","v":0}]
[]
["If you have more than 300 bid items, you will need to alter 300-A, 300-B, 300-C, 500-A and 500-B to accept the additional rows"]

{"sheet":"Prelim Checklist","index":3,"n_rows":245,"n_cols":13,"rows_kept":245,"cut":false,"hidden":false,"merged":[[14,8,14,10],[0,0,1,0],[0,1,1,1],[0,2,0,10],[7,6,7,10],[8,6,8,10],[74,5,74,10],[66,2,66,10],[68,8,68,10],[36,6,36,10],[51,3,51,10],[60,8,60,10],[38,6,38,10],[71,2,71,10],[63,3,63,10],[39,6,39,10],[15,6,15,10],[19,6,19,10],[20,6,20,10],[21,6,21,10],[22,6,22,10],[32,3,32,5],[18,2,18,3],[23,6,23,10],[111,7,111,10],[229,2,229,10],[232,2,232,10],[242,2,242,10],[168,0,168,10],[173,2,173,10],[181,2,181,10],[204,2,204,10],[207,2,207,10],[225,2,225,10],[139,6,139,8],[139,9,139,10],[141,2,141,3],[141,4,141,5],[141,6,141,8],[144,2,144,3],[144,4,144,5],[144,6,144,8],[144,9,144,10],[145,2,145,3],[115,7,115,10],[165,0,165,10],[138,4,138,5],[138,6,138,8],[26,6,26,10],[159,2,159,10],[136,6,136,8],[136,9,136,10],[161,2,161,10],[99,2,99,10],[75,5,75,10],[77,3,77,10],[137,2,137,3],[137,4,137,5],[137,6,137,8],[137,9,137,10],[31,6,31,10],[32,6,32,10],[33,6,33,10],[35,6,35,10],[140,2,140,3],[140,4,140,5],[140,6,140,8],[140,9,140,10],[109,7,109,10],[110,7,110,10],[141,9,141,10],[138,2,138,3],[25,3,25,10],[79,3,79,10],[81,3,81,10],[136,2,136,3],[136,4,136,5],[29,6,29,10],[30,6,30,10],[125,7,125,10],[119,7,119,10],[120,7,120,10],[122,7,122,10],[116,7,116,10],[118,7,118,10],[127,7,127,10],[128,7,128,10],[101,7,101,10],[102,7,102,10],[105,7,105,10],[106,7,106,10],[123,7,123,10],[107,7,107,10],[108,7,108,10],[113,7,113,10],[114,7,114,10],[138,9,138,10],[139,2,139,3],[139,4,139,5],[148,2,148,3],[148,4,148,5],[148,6,148,8],[148,9,148,10],[145,4,145,5],[145,6,145,8],[145,9,145,10],[142,2,142,3],[142,4,142,5],[142,6,142,8],[142,9,142,10],[143,2,143,3],[143,4,143,5],[143,6,143,8],[143,9,143,10],[149,2,149,3],[149,4,149,5],[149,6,149,8],[149,9,149,10],[146,2,146,3],[146,4,146,5],[146,6,146,8],[146,9,146,10],[147,2,147,3],[147,4,147,5],[147,6,147,8],[147,9,147,10],[152,2,152,3],[152,4,152,5],[152,6,152,8],[152,9,152,10],[153,2,153,3],[153,4,153,5],[153,6,153,8],[153,9,153,10],[150,2,150,3],[150,4,150,5],[150,6,150,8],[150,9,150,10],[151,2,151,3],[151,4,151,5],[151,6,151,8],[151,9,151,10],[156,2,156,3],[156,4,156,5],[156,6,156,8],[156,9,156,10],[154,2,154,3],[154,4,154,5],[154,6,154,8],[154,9,154,10],[155,2,155,3],[155,4,155,5],[155,6,155,8],[155,9,155,10]]}
["Yes/Complete","N/A","          PRELIMINARY PLANS CHECKLIST"]
[]
[]
[]
["Preliminary Plans Submittals"]
[null,null,"The following items shall be included with your Preliminary submission:"]
[false,null,null,"Preliminary drawings (cover page signed by submitter and quality checker)"]
[null,null,null,null,"Designer Name:"]
[null,null,null,null,"QC'er name:"]
[false,null,null,"Preliminary estimate of probable cost"]
[null,null,null,"Project Development Guide containing completed:"]
[false,null,null,null,"CIP Statement Form"]
[false,null,null,null,"Preliminary Plans Checklist (this form)"]
[false,null,null,null,"Rec to File (draft)"]
[false,null,"Expected letting date based on current progress:"]
[null,null,null,"If date has changed, why?:"]
[]
["Design Criteria (Built with Project)"]
[null,null,"Choose One",null,"Match existing conditions?",null,null,null,null,null,null,{"$f":"IF(AND(B20=TRUE,B21=TRUE,B22=TRUE,B23=TRUE,B24=TRUE,B25=TRUE,B27=TRUE),\"HIDE\",\"\")","v":"HIDE"}]
[false,{"$f":"IF(OR('CIP Statement Form'!A29=TRUE,'CIP Statement Form'!A30=TRUE,'CIP Statement Form'!A31=TRUE),FALSE,TRUE)","v":true},"Functional Roadway Classification",null,null,null,{"$f":"IF(C19=\"Yes\",'CIP Statement Form'!G124,\"\")","v":""},null,null,null,null,{"$f":"IF(B20=TRUE,\"HIDE\",\"\")","v":"HIDE"}]
[false,{"$f":"IF(OR('CIP Statement Form'!A29=TRUE,'CIP Statement Form'!A30=TRUE,'CIP Statement Form'!A31=TRUE),FALSE,TRUE)","v":true},"Design year traffic volume (AADT)",null,null,null,{"$f":"IF(C19=\"Yes\",'CIP Statement Form'!G130,\"\")","v":""},null,null,null,null,{"$f":"IF(B21=TRUE,\"HIDE\",\"\")","v":"HIDE"}]
[false,{"$f":"IF(OR('CIP Statement Form'!A29=TRUE,'CIP Statement Form'!A30=TRUE,'CIP Statement Form'!A31=TRUE),FALSE,TRUE)","v":true},"Design year estimated % Trucks",null,null,null,null,null,null,null,null,"HIDE"]
[false,{"$f":"IF(OR('CIP Statement Form'!A29=TRUE,'CIP Statement Form'!A30=TRUE,'CIP Statement Form'!A31=TRUE),FALSE,TRUE)","v":true},"Design speed (MPH)",null,null,null,{"$f":"IF(C19=\"Yes\",'CIP Statement Form'!G132,\"\")","v":""},null,null,null,null,"HIDE"]
[false,{"$f":"IF(OR('CIP Statement Form'!A29=TRUE,'CIP Statement Form'!A30=TRUE,'CIP Statement Form'!A31=TRUE),FALSE,TRUE)","v":true},"Posted speed (MPH)",null,null,null,{"$f":"IF(C19=\"Yes\",'CIP Statement Form'!G133,\"\")","v":""},null,null,null,null,"HIDE"]
[false,{"$f":"IF(OR('CIP Statement Form'!A29=TRUE,'CIP Statement Form'!A30=TRUE,'CIP Statement Form'!A31=TRUE),FALSE,TRUE)","v":true},"Designed roadway geometrics (describe number of lanes, widths)",null,null,null,null,null,null,null,null,"HIDE"]
[null,null,null,null,null,null,null,null,null,null,null,{"$f":"IF(B25=TRUE,\"HIDE\",\"\")","v":"HIDE"}]
[false,{"$f":"IF(OR('CIP Statement Form'!A29=TRUE,'CIP Statement Form'!A30=TRUE,'CIP Statement Form'!A31=TRUE),FALSE,TRUE)","v":true},"Clear zone width",null,null,null,null,null,null,null,null,"HIDE"]
[false,{"$f":"IF('CIP Statement Form'!B120=TRUE,TRUE,FALSE)","v":false},"All technical memorandums ordered are complete and have been reviewed",null,null,null,null,null,null,null,null,""]
[null,null,"Pavement",null,null,null,null,null,null,null,null,{"$f":"IF(AND(B30=TRUE,B31=TRUE,B32=TRUE,B33=TRUE,B34=TRUE),\"HIDE\",\"\")","v":"HIDE"}]
[false,{"$f":"IF(OR('CIP Statement Form'!A29=TRUE,'CIP Statement Form'!A30=TRUE,'CIP Statement Form'!A31=TRUE),FALSE,TRUE)","v":true},null,"Treatment type(s)",null,null,null,null,null,null,null,"HIDE"]
[false,{"$f":"IF(OR('CIP Statement Form'!A29=TRUE,'CIP Statement Form'!A30=TRUE,'CIP Statement Form'!A31=TRUE),FALSE,TRUE)","v":true},null,"Material(s)",null,null,null,null,null,null,null,"HIDE"]
[false,{"$f":"IF(OR('CIP Statement Form'!A29=TRUE,'CIP Statement Form'!A30=TRUE,'CIP Statement Form'!A31=TRUE),FALSE,TRUE)","v":true},null,"Thickness(es)",null,null,null,null,null,null,null,"HIDE"]
[false,{"$f":"IF(OR('CIP Statement Form'!A29=TRUE,'CIP Statement Form'!A30=TRUE,'CIP Statement Form'!A31=TRUE),FALSE,TRUE)","v":true},null,"Subbase/subgrade",null,null,"[treatment type]",null,null,null,null,"HIDE"]
[false,{"$f":"IF(OR('CIP Statement Form'!A29=TRUE,'CIP Statement Form'!A30=TRUE,'CIP Statement Form'!A31=TRUE),FALSE,TRUE)","v":true},null,"Geogrid/fabric",null,null,null,null,null,null,null,"HIDE"]
[null,null,"Sidewalk",null,null,null,null,null,null,null,null,{"$f":"IF(AND(B36=TRUE,B37=TRUE),\"HIDE\",\"\")","v":"HIDE"}]
[false,{"$f":"IF('CIP Statement Form'!A35=TRUE,FALSE,TRUE)","v":true},null,"Width(s) & Thickness(es)",null,null,null,null,null,null,null,"HIDE"]
[false,{"$f":"IF('CIP Statement Form'!A35=TRUE,FALSE,TRUE)","v":true},null,"Material(s)",null,null,null,null,null,null,null,"HIDE"]
[null,null,"Trail",null,null,null,null,null,null,null,null,{"$f":"IF(AND(B39=TRUE,B40=TRUE),\"HIDE\",\"\")","v":"HIDE"}]
[false,{"$f":"IF('CIP Statement Form'!A42=TRUE,FALSE,TRUE)","v":true},null,"Width(s) & Thickness(es)",null,null,null,null,null,null,null,"HIDE"]
[false,{"$f":"IF('CIP Statement Form'!A42=TRUE,FALSE,TRUE)","v":true},null,"Material(s)",null,null,null,null,null,null,null,"HIDE"]
[null,null,"Sanitary sewer",null,null,null,null,null,null,null,null,{"$f":"IF(AND(B42=TRUE,B43=TRUE,B44=TRUE),\"HIDE\",\"\")","v":"HIDE"}]
[false,{"$f":"IF('CIP Statement Form'!A33=TRUE,FALSE,TRUE)","v":true},null,"Structure inventory sheets completed",null,null,null,null,null,null,null,"HIDE"]
[false,{"$f":"IF('CIP Statement Form'!A33=TRUE,FALSE,TRUE)","v":true},null,"Initial alignment complete (for replacement/new construction)",null,null,null,null,null,null,null,"HIDE"]
[false,{"$f":"IF('CIP Statement Form'!A33=TRUE,FALSE,TRUE)","v":true},null,"Required clearances met",null,null,null,null,null,null,null,"HIDE"]
[null,null,"Storm sewer / draintile",null,null,null,null,null,null,null,null,{"$f":"IF(AND(B46=TRUE,B47=TRUE,B48=TRUE),\"HIDE\",\"\")","v":"HIDE"}]
[false,{"$f":"IF('CIP Statement Form'!A37=TRUE,FALSE,TRUE)","v":true},null,"Structure inventory sheets completed",null,null,null,null,null,null,null,"HIDE"]
[false,{"$f":"IF('CIP Statement Form'!A37=TRUE,FALSE,TRUE)","v":true},null,"Initial alignment complete (for replacement/new construction)",null,null,null,null,null,null,null,"HIDE"]
[false,{"$f":"IF('CIP Statement Form'!A37=TRUE,FALSE,TRUE)","v":true},null,"Required clearances met",null,null,null,null,null,null,null,"HIDE"]
[null,null,"Water main",null,null,null,null,null,null,null,null,{"$f":"IF(AND(B50=TRUE,B51=TRUE,B52=TRUE,B54=TRUE,B55=TRUE,B56=TRUE),\"HIDE\",\"\")","v":"HIDE"}]
[false,{"$f":"IF('CIP Statement Form'!A44=TRUE,FALSE,TRUE)","v":true},null,"Valve and hydrant spacing meets SUDAS Chapter 4 Design Manual standards",null,null,null,null,null,null,null,"HIDE","SUDAS"]
[false,{"$f":"IF('CIP Statement Form'!A44=TRUE,FALSE,TRUE)","v":true},null,"Decision to replace vs. protect/preserve existing main made",null,null,null,null,null,null,null,"HIDE"]
[false,{"$f":"IF('CIP Statement Form'!A44=TRUE,FALSE,TRUE)","v":true},null,"Existing water main, hydrants, valves and/or services lines are impacted by ",null,null,null,null,null,null,null,"HIDE"]
[null,null,null,"proposed project",null,null,null,null,null,null,null,{"$f":"IF(B52=TRUE,\"HIDE\",\"\")","v":"HIDE"}]
[false,{"$f":"IF('CIP Statement Form'!A44=TRUE,FALSE,TRUE)","v":true},null,"Initial alignment complete (for replacement/new construction)",null,null,null,null,null,null,null,"HIDE"]
[false,{"$f":"IF('CIP Statement Form'!A44=TRUE,FALSE,TRUE)","v":true},null,"Required clearances met",null,null,null,null,null,null,null,"HIDE"]
[false,{"$f":"IF('CIP Statement Form'!A44=TRUE,FALSE,TRUE)","v":true},null,"Soil testing completed (if cathodic protection is included)",null,null,null,null,null,null,null,"HIDE"]
[null,null,"Bridge or culvert",null,null,null,null,null,null,null,null,{"$f":"IF(AND(B58=TRUE,B59=TRUE,B60=TRUE,B61=TRUE),\"HIDE\",\"\")","v":"HIDE"}]
[false,{"$f":"IF(OR('CIP Statement Form'!A20=TRUE,'CIP Statement Form'!A21=TRUE),FALSE,TRUE)","v":true},null,"Decision whether to replace or rehab made",null,null,null,null,null,null,null,{"$f":"IF(B58=TRUE,\"HIDE\",\"\")","v":"HIDE"}]
[false,{"$f":"IF(OR('CIP Statement Form'!A20=TRUE,'CIP Statement Form'!A21=TRUE),FALSE,TRUE)","v":true},null,"Initial alignment complete (for replacement/new construction)",null,null,null,null,null,null,null,"HIDE"]
[false,{"$f":"IF(OR('CIP Statement Form'!A20=TRUE,'CIP Statement Form'!A21=TRUE),FALSE,TRUE)","v":true},null,"Size and material determined",null,null,null,null,null,null,null,"HIDE"]
[false,{"$f":"IF(OR('CIP Statement Form'!A20=TRUE,'CIP Statement Form'!A21=TRUE),FALSE,TRUE)","v":true},null,"Design flow (CFS):",null,null,null,null,null,null,null,"HIDE"]
[]
[false,false,"Other (describe)",null,null,null,null,null,null,null,null,{"$f":"IF(B63=TRUE,\"HIDE\",\"\")","v":""}]
[null,null,null,null,null,null,null,null,null,null,null,{"$f":"IF(B63=TRUE,\"HIDE\",\"\")","v":""}]
[null,null,null,null,null,null,null,null,null,null,null,{"$f":"IF(B63=TRUE,\"HIDE\",\"\")","v":""}]
["Stakeholder Communication",null,null,null,null,null,null,null,null,null,null,{"$f":"IF(AND(B67=TRUE,B69=TRUE,B70=TRUE),\"HIDE\",\"\")","v":""}]
[false,false,"Affected property owners/residents notified of project. Comment form included ",null,null,null,null,null,null,null,null,{"$f":"IF(B67=TRUE,\"HIDE\",\"\")","v":""}]
[null,null,"with mailing.",null,null,null,null,null,null,null,null,{"$f":"IF(B67=TRUE,\"HIDE\",\"\")","v":""}]
[false,false,"Planned date(s) of public information meeting",null,null,null,null,null,null,null,null,{"$f":"IF(B69=TRUE,\"HIDE\",\"\")","v":""}]
[false,false,"The following major stakeholders have been approached individually to discuss",null,null,null,null,null,null,null,null,""]
[null,null,"their needs and concerns regarding the project:",null,null,null,null,null,null,null,null,{"$f":"IF(B70=TRUE,\"HIDE\",\"\")","v":""}]
[null,null,{"$f":"'CIP Statement Form'!D197&\"; \"&'CIP Statement Form'!D199","v":"; "},null,null,null,null,null,null,null,null,{"$f":"IF(B70=TRUE,\"HIDE\",\"\")","v":""}]
[null,null,null,null,null,null,null,null,null,null,null,{"$f":"IF(AND(B67=TRUE,B69=TRUE,B70=TRUE),\"HIDE\",\"\")","v":""}]
["Railroads",null,null,null,null,null,null,null,null,null,null,{"$f":"IF(AND(B75=TRUE,B76=TRUE,B77=TRUE,B79=TRUE,B81=TRUE),\"HIDE\",\"\")","v":"HIDE"}]
[false,{"$f":"IF('CIP Statement Form'!A51=TRUE,FALSE,TRUE)","v":true},"Railroad name(s)",null,null,{"$f":"'CIP Statement Form'!D201","v":0},null,null,null,null,null,{"$f":"IF(B75=TRUE,\"HIDE\",\"\")","v":"HIDE"}]
[false,{"$f":"IF('CIP Statement Form'!A51=TRUE,FALSE,TRUE)","v":true},"Railroad contact(s)",null,null,null,null,null,null,null,null,"HIDE"]
[false,{"$f":"IF('CIP Statement Form'!A51=TRUE,FALSE,TRUE)","v":true},"Describe how the project will impact the railroad(s):",null,null,null,null,null,null,null,null,"HIDE"]
[null,null,null,null,null,null,null,null,null,null,null,{"$f":"IF(B77=TRUE,\"HIDE\",\"\")","v":"HIDE"}]
[false,{"$f":"IF('CIP Statement Form'!A51=TRUE,FALSE,TRUE)","v":true},"Right of Entry application required. Describe timeline for application:",null,null,null,null,null,null,null,null,{"$f":"IF(B79=TRUE,\"HIDE\",\"\")","v":"HIDE"}]
[null,null,null,null,null,null,null,null,null,null,null,{"$f":"IF(B79=TRUE,\"HIDE\",\"\")","v":"HIDE"}]
[false,{"$f":"IF('CIP Statement Form'!A51=TRUE,FALSE,TRUE)","v":true},"Agreement(s) with railroad(s) required. Describe what for, and timeline:",null,null,null,null,null,null,null,null,{"$f":"IF(B81=TRUE,\"HIDE\",\"\")","v":"HIDE"}]
[null,null,null,null,null,null,null,null,null,null,null,{"$f":"IF(B81=TRUE,\"HIDE\",\"\")","v":"HIDE"}]
[null,null,null,null,null,null,null,null,null,null,null,{"$f":"IF(AND(B75=TRUE,B76=TRUE,B77=TRUE,B79=TRUE,B81=TRUE),\"HIDE\",\"\")","v":"HIDE"}]
["Acquisitions",null,null,null,null,null,null,null,null,null,null,{"$f":"IF(AND(B86=TRUE,B87=TRUE,B88=TRUE,B89=TRUE,B91=TRUE,B92=TRUE,B93=TRUE,B94=TRUE,B95=TRUE,B96=TRUE),\"HIDE\",\"\")","v":"HIDE"}]
[null,null,"Types of acquisitions needed for project (check all that apply):",null,null,null,null,null,null,null,null,{"$f":"IF(AND(B86=TRUE,B87=TRUE,B88=TRUE,B89=TRUE,B91=TRUE,B92=TRUE,B93=TRUE,B94=TRUE,B95=TRUE,B96=TRUE),\"HIDE\",\"\")","v":"HIDE"}]
[false,{"$f":"IF('CIP Statement Form'!A50=TRUE,FALSE,TRUE)","v":true},null,"Fee Title",null,null,null,null,null,null,null,{"$f":"IF(B86=TRUE,\"HIDE\",\"\")","v":"HIDE"},"Fee Title = Permanently purchasing a portion of land from an existing property"]
[false,{"$f":"IF('CIP Statement Form'!A50=TRUE,FALSE,TRUE)","v":true},null,"Permanent Easement",null,null,null,null,null,null,null,"HIDE","Permanent Easement = Portion of private property reserved for specific use in perpetuity"]
[false,{"$f":"IF('CIP Statement Form'!A50=TRUE,FALSE,TRUE)","v":true},null,"Temporary Easement",null,null,null,null,null,null,null,"HIDE","Temporary Easement = Portion of private property reserved for temporary use, typically construction activities."]
[false,{"$f":"IF('CIP Statement Form'!A50=TRUE,FALSE,TRUE)","v":true},null,"Total Acquisition",null,null,null,null,null,null,null,"HIDE","Total acquisition = Purchasing the whole property"]
[null,null,"Types of properties requiring acquisitions (check all that apply):",null,null,null,null,null,null,null,null,{"$f":"IF(AND(B86=TRUE,B87=TRUE,B88=TRUE,B89=TRUE,B91=TRUE,B92=TRUE,B93=TRUE,B94=TRUE,B95=TRUE,B96=TRUE),\"HIDE\",\"\")","v":"HIDE"}]
[false,{"$f":"IF('CIP Statement Form'!A50=TRUE,FALSE,TRUE)","v":true},null,"Residential",null,null,null,null,null,null,null,{"$f":"IF(B91=TRUE,\"HIDE\",\"\")","v":"HIDE"}]
[false,{"$f":"IF('CIP Statement Form'!A50=TRUE,FALSE,TRUE)","v":true},null,"Commercial",null,null,null,null,null,null,null,"HIDE"]
[false,{"$f":"IF('CIP Statement Form'!A50=TRUE,FALSE,TRUE)","v":true},null,"Agricultural",null,null,null,null,null,null,null,"HIDE"]
[false,{"$f":"IF('CIP Statement Form'!A50=TRUE,FALSE,TRUE)","v":true},"Acquisitions will reduce the setback of a property to less than 20 feet",null,null,null,null,null,null,null,null,"HIDE","Confer with Building Services to ensure compliance with Code, or obtain a Variance"]
[false,{"$f":"IF('CIP Statement Form'!A50=TRUE,FALSE,TRUE)","v":true},"There is reason to expect at least one property will require eminent domain",null,null,null,null,null,null,null,null,"HIDE","The process of applying eminent domain is also known as \"condemnation\""]
[false,{"$f":"IF('CIP Statement Form'!A50=TRUE,FALSE,TRUE)","v":true},"One or more relocations will be required",null,null,null,null,null,null,null,null,"HIDE","i.e. Moving residents/business from existing building to another. Factor in relocation costs when budgeting for the project"]
[null,null,null,null,null,null,null,null,null,null,null,{"$f":"IF(AND(B86=TRUE,B87=TRUE,B88=TRUE,B89=TRUE,B91=TRUE,B92=TRUE,B93=TRUE,B94=TRUE,B95=TRUE,B96=TRUE),\"HIDE\",\"\")","v":"HIDE"}]
["Permits",null,null,null,null,null,null,null,null,null,null,{"$f":"IF(AND(B99=TRUE,B100=TRUE,L102=\"HIDE\"),\"HIDE\",\"\")","v":""}]
[false,{"$f":"IF('CIP Statement Form'!L219=\"HIDE\",TRUE,FALSE)","v":false},"Up-to-date versions of necessary permit applications obtained",null,null,null,null,null,null,null,null,{"$f":"IF(B99=TRUE,\"HIDE\",\"\")","v":""}]
[false,{"$f":"IF('CIP Statement Form'!L219=\"HIDE\",TRUE,FALSE)","v":false},"Sufficient time remains to obtain necessary permits / the project schedule has been ",null,null,null,null,null,null,null,null,""]
[null,null,"adjusted to create sufficient time",null,null,null,null,null,null,null,null,{"$f":"IF(B100=TRUE,\"HIDE\",\"\")","v":""}]
[null,null,null,null,null,null,null,"Status Update",null,null,null,{"$f":"IF(AND(B103=TRUE,L105=\"HIDE\",L113=\"HIDE\",L118=\"HIDE\",L122=\"HIDE\",L125=\"HIDE\",L127=\"HIDE\"),\"HIDE\",\"\")","v":""}]
[{"$f":"'CIP Statement Form'!A220","v":false},{"$f":"'CIP Statement Form'!B220","v":false},"Flood Plain / Streambanks",null,null,null,null,null,null,null,null,{"$f":"IF(B103=TRUE,\"HIDE\",\"\")","v":""}]
[null,null,null,"IDNR, Linn Co. & City each have their own permits",null,null,null,null,null,null,null,{"$f":"IF(B103=TRUE,\"HIDE\",\"\")","v":""}]
[null,null,"Iowa Department of Natural Resources",null,null,null,null,null,null,null,null,{"$f":"IF(AND(B106=TRUE,B107=TRUE,B108=TRUE,B109=TRUE,B110=TRUE,B111=TRUE,B112=TRUE),\"HIDE\",\"\")","v":""}]
[{"$f":"'CIP Statement Form'!A223","v":false},{"$f":"'CIP Statement Form'!B223","v":false},null,"Water main construction",null,null,null,null,null,null,null,{"$f":"IF(B106=TRUE,\"HIDE\",\"\")","v":""}]
[{"$f":"'CIP Statement Form'!A224","v":false},{"$f":"'CIP Statement Form'!B224","v":false},null,"Sanitary sewer construction",null,null,null,null,null,null,null,""]
[{"$f":"'CIP Statement Form'!A225","v":false},{"$f":"'CIP Statement Form'!B225","v":false},null,"Fill placement in stream or river",null,null,null,null,null,null,null,""]
[{"$f":"'CIP Statement Form'!A226","v":false},{"$f":"'CIP Statement Form'!B226","v":false},null,"Stormwater discharge",null,null,null,null,null,null,null,""]
[{"$f":"'CIP Statement Form'!A227","v":false},{"$f":"'CIP Statement Form'!B227","v":false},null,"404 wetlands permit (IDNR/USACE)",null,null,null,null,null,null,null,""]
[{"$f":"'CIP Statement Form'!A228","v":false},{"$f":"'CIP Statement Form'!B228","v":false},null,"Bat survey",null,null,null,null,null,null,null,""]
[{"$f":"'CIP Statement Form'!A230","v":false},{"$f":"'CIP Statement Form'!B230","v":false},null,{"$f":"'CIP Statement Form'!D230","v":"[Other]"},null,null,null,null,null,null,null,""]
[null,null,"Iowa Department of Transporation",null,null,null,null,null,null,null,null,{"$f":"IF(AND(B114=TRUE,B115=TRUE,B116=TRUE,B117=TRUE),\"HIDE\",\"\")","v":""}]
[{"$f":"'CIP Statement Form'!A232","v":false},{"$f":"'CIP Statement Form'!B232","v":false},null,"Utility accomodation",null,null,null,null,null,null,null,{"$f":"IF(B114=TRUE,\"HIDE\",\"\")","v":""}]
[{"$f":"'CIP Statement Form'!A233","v":false},{"$f":"'CIP Statement Form'!B233","v":false},null,"Work in State highway right of way",null,null,null,null,null,null,null,""]
[{"$f":"'CIP Statement Form'!A234","v":false},{"$f":"'CIP Statement Form'!B234","v":false},null,"Traffic control device application",null,null,null,null,null,null,null,""]
[{"$f":"'CIP Statement Form'!A230","v":false},{"$f":"'CIP Statement Form'!B235","v":false},null,{"$f":"'CIP Statement Form'!D235","v":"[Other]"},null,null,null,null,null,null,null,""]
[null,null,"Linn County",null,null,null,null,null,null,null,null,{"$f":"IF(AND(B119=TRUE,B120=TRUE,B121=TRUE),\"HIDE\",\"\")","v":""}]
[{"$f":"'CIP Statement Form'!A237","v":false},{"$f":"'CIP Statement Form'!B237","v":false},null,"Work in County right of way",null,null,null,null,null,null,null,{"$f":"IF(B119=TRUE,\"HIDE\",\"\")","v":""}]
[{"$f":"'CIP Statement Form'!A238","v":false},{"$f":"'CIP Statement Form'!B238","v":false},null,"Utility accomodation",null,null,null,null,null,null,null,""]
[{"$f":"'CIP Statement Form'!A239","v":false},{"$f":"'CIP Statement Form'!B239","v":false},null,{"$f":"'CIP Statement Form'!D239","v":"[Other]"},null,null,null,null,null,null,null,""]
[null,null,"FEMA",null,null,null,null,null,null,null,null,{"$f":"IF(AND(B123=TRUE,B124=TRUE),\"HIDE\",\"\")","v":""}]
[{"$f":"'CIP Statement Form'!A241","v":false},{"$f":"'CIP Statement Form'!B241","v":false},null,"Letter of Map Revision (LOMR)",null,null,null,null,null,null,null,{"$f":"IF(B123=TRUE,\"HIDE\",\"\")","v":""},"Required if the project would substantively alter the existing FEMA Flood Insurance Rate Map (FIRM), Flood Boundary Floodway Map (FBFM), or both"]
[{"$f":"'CIP Statement Form'!A242","v":false},{"$f":"'CIP Statement Form'!B242","v":false},null,{"$f":"'CIP Statement Form'!D242","v":"[Other]"},null,null,null,null,null,null,null,""]
[null,null,"City",null,null,null,null,null,null,null,null,{"$f":"IF(B126=TRUE,\"HIDE\",\"\")","v":""}]
[{"$f":"'CIP Statement Form'!A244","v":false},{"$f":"'CIP Statement Form'!B244","v":false},null,"Building",null,null,null,null,null,null,null,{"$f":"IF(B126=TRUE,\"HIDE\",\"\")","v":""}]
[null,null,"Other Permits",null,null,null,null,null,null,null,null,{"$f":"IF(AND(B128=TRUE,B129=TRUE),\"HIDE\",\"\")","v":""}]
[{"$f":"'CIP Statement Form'!A246","v":false},{"$f":"'CIP Statement Form'!B246","v":false},null,{"$f":"'CIP Statement Form'!D246","v":"[Name of permit]"},null,null,null,null,null,null,null,{"$f":"IF(B128=TRUE,\"HIDE\",\"\")","v":""}]
[{"$f":"'CIP Statement Form'!A247","v":false},{"$f":"'CIP Statement Form'!B247","v":false},null,{"$f":"'CIP Statement Form'!D247","v":"[Name of permit]"},null,null,null,null,null,null,null,""]
[null,null,null,null,null,null,null,null,null,null,null,{"$f":"IF(AND(B99=TRUE,B100=TRUE,L102=\"HIDE\"),\"HIDE\",\"\")","v":""}]
["Utility Coordination"]
[false,{"$f":"IF('CIP Statement Form'!B342=TRUE,TRUE,FALSE)","v":false},"Iowa One Call design locates completed",null,null,null,null,null,null,null,null,{"$f":"IF(B132=TRUE,\"HIDE\",\"\")","v":""},"Iowa One Call"]
[false,{"$f":"IF('CIP Statement Form'!B342=TRUE,TRUE,FALSE)","v":false},"All requested utility maps received",null,null,null,null,null,null,null,null,""]
[false,{"$f":"IF('CIP Statement Form'!B342=TRUE,TRUE,FALSE)","v":false},"Potholing complete",null,null,null,null,null,null,null,null,""]
[false,{"$f":"IF('CIP Statement Form'!B342=TRUE,TRUE,FALSE)","v":false},"Potential conflicts presented/request for locations made at Joint Utility Meeting",null,null,null,null,null,null,null,null,""]
[null,null,null,null,null,null,null,null,null,null,null,{"$f":"IF(B135=TRUE,\"HIDE\",\"\")","v":""}]
[null,null,"Utility Type",null,"Utility Owner",null,"Utility Representative, Contact Info",null,null,"In Conflict? (Y/N)"]
[null,null,{"$f":"'CIP Statement Form'!C346","v":0},null,{"$f":"'CIP Statement Form'!F346","v":0},null,null,null,null,null,null,{"$f":"IF('CIP Statement Form'!H343=\"Choose One\",\"\",IF('CIP Statement Form'!H343<1,\"HIDE\",\"\"))","v":""}]
[null,null,{"$f":"'CIP Statement Form'!C347","v":0},null,{"$f":"'CIP Statement Form'!F347","v":0},null,null,null,null,null,null,{"$f":"IF('CIP Statement Form'!H343=\"Choose One\",\"\",IF('CIP Statement Form'!H343<2,\"HIDE\",\"\"))","v":""}]
[null,null,{"$f":"'CIP Statement Form'!C348","v":0},null,{"$f":"'CIP Statement Form'!F348","v":0},null,null,null,null,null,null,{"$f":"IF('CIP Statement Form'!H343=\"Choose One\",\"\",IF('CIP Statement Form'!H343<3,\"HIDE\",\"\"))","v":""}]
[null,null,{"$f":"'CIP Statement Form'!C349","v":0},null,{"$f":"'CIP Statement Form'!F349","v":0},null,null,null,null,null,null,{"$f":"IF('CIP Statement Form'!H343=\"Choose One\",\"\",IF('CIP Statement Form'!H343<4,\"HIDE\",\"\"))","v":""}]
[null,null,{"$f":"'CIP Statement Form'!C350","v":0},null,{"$f":"'CIP Statement Form'!F350","v":0},null,null,null,null,null,null,{"$f":"IF('CIP Statement Form'!H343=\"Choose One\",\"\",IF('CIP Statement Form'!H343<5,\"HIDE\",\"\"))","v":""}]
[null,null,{"$f":"'CIP Statement Form'!C351","v":0},null,{"$f":"'CIP Statement Form'!F351","v":0},null,null,null,null,null,null,{"$f":"IF('CIP Statement Form'!H343=\"Choose One\",\"\",IF('CIP Statement Form'!H343<6,\"HIDE\",\"\"))","v":""}]
[null,null,{"$f":"'CIP Statement Form'!C352","v":0},null,{"$f":"'CIP Statement Form'!F352","v":0},null,null,null,null,null,null,{"$f":"IF('CIP Statement Form'!H343=\"Choose One\",\"\",IF('CIP Statement Form'!H343<7,\"HIDE\",\"\"))","v":""}]
[null,null,{"$f":"'CIP Statement Form'!C353","v":0},null,{"$f":"'CIP Statement Form'!F353","v":0},null,null,null,null,null,null,{"$f":"IF('CIP Statement Form'!H343=\"Choose One\",\"\",IF('CIP Statement Form'!H343<8,\"HIDE\",\"\"))","v":""}]
[null,null,{"$f":"'CIP Statement Form'!C354","v":0},null,{"$f":"'CIP Statement Form'!F354","v":0},null,null,null,null,null,null,{"$f":"IF('CIP Statement Form'!H343=\"Choose One\",\"\",IF('CIP Statement Form'!H343<9,\"HIDE\",\"\"))","v":""}]
[null,null,{"$f":"'CIP Statement Form'!C355","v":0},null,{"$f":"'CIP Statement Form'!F355","v":0},null,null,null,null,null,null,{"$f":"IF('CIP Statement Form'!H343=\"Choose One\",\"\",IF('CIP Statement Form'!H343<10,\"HIDE\",\"\"))","v":""}]
[null,null,{"$f":"'CIP Statement Form'!C356","v":0},null,{"$f":"'CIP Statement Form'!F356","v":0},null,null,null,null,null,null,{"$f":"IF('CIP Statement Form'!H343=\"Choose One\",\"\",IF('CIP Statement Form'!H343<11,\"HIDE\",\"\"))","v":""}]
[null,null,{"$f":"'CIP Statement Form'!C357","v":0},null,{"$f":"'CIP Statement Form'!F357","v":0},null,null,null,null,null,null,{"$f":"IF('CIP Statement Form'!H343=\"Choose One\",\"\",IF('CIP Statement Form'!H343<12,\"HIDE\",\"\"))","v":""}]
[null,null,{"$f":"'CIP Statement Form'!C358","v":0},null,{"$f":"'CIP Statement Form'!F358","v":0},null,null,null,null,null,null,{"$f":"IF('CIP Statement Form'!H343=\"Choose One\",\"\",IF('CIP Statement Form'!H343<13,\"HIDE\",\"\"))","v":""}]
[null,null,{"$f":"'CIP Statement Form'!C359","v":0},null,{"$f":"'CIP Statement Form'!F359","v":0},null,null,null,null,null,null,{"$f":"IF('CIP Statement Form'!H343=\"Choose One\",\"\",IF('CIP Statement Form'!H343<14,\"HIDE\",\"\"))","v":""}]
[null,null,{"$f":"'CIP Statement Form'!C360","v":0},null,{"$f":"'CIP Statement Form'!F360","v":0},null,null,null,null,null,null,{"$f":"IF('CIP Statement Form'!H343=\"Choose One\",\"\",IF('CIP Statement Form'!H343<15,\"HIDE\",\"\"))","v":""}]
[null,null,{"$f":"'CIP Statement Form'!C361","v":0},null,{"$f":"'CIP Statement Form'!F361","v":0},null,null,null,null,null,null,{"$f":"IF('CIP Statement Form'!H343=\"Choose One\",\"\",IF('CIP Statement Form'!H343<16,\"HIDE\",\"\"))","v":""}]
[null,null,{"$f":"'CIP Statement Form'!C362","v":0},null,{"$f":"'CIP Statement Form'!F362","v":0},null,null,null,null,null,null,{"$f":"IF('CIP Statement Form'!H343=\"Choose One\",\"\",IF('CIP Statement Form'!H343<17,\"HIDE\",\"\"))","v":""}]
[null,null,{"$f":"'CIP Statement Form'!C363","v":0},null,{"$f":"'CIP Statement Form'!F363","v":0},null,null,null,null,null,null,{"$f":"IF('CIP Statement Form'!H343=\"Choose One\",\"\",IF('CIP Statement Form'!H343<18,\"HIDE\",\"\"))","v":""}]
[null,null,{"$f":"'CIP Statement Form'!C364","v":0},null,{"$f":"'CIP Statement Form'!F364","v":0},null,null,null,null,null,null,{"$f":"IF('CIP Statement Form'!H343=\"Choose One\",\"\",IF('CIP Statement Form'!H343<19,\"HIDE\",\"\"))","v":""}]
[null,null,{"$f":"'CIP Statement Form'!C365","v":0},null,{"$f":"'CIP Statement Form'!F365","v":0},null,null,null,null,null,null,{"$f":"IF('CIP Statement Form'!H343=\"Choose One\",\"\",IF('CIP Statement Form'!H343<20,\"HIDE\",\"\"))","v":""}]
[]
[false,{"$f":"IF('CIP Statement Form'!B342=TRUE,TRUE,FALSE)","v":false},"Describe conflict point(s) and your plan to address them.",null,null,null,null,null,null,null,null,{"$f":"IF(B159=TRUE,\"HIDE\",\"\")","v":""}]
[null,null,null,null,null,null,null,null,null,null,null,{"$f":"IF(B159=TRUE,\"HIDE\",\"\")","v":""}]
[false,{"$f":"IF('CIP Statement Form'!B342=TRUE,TRUE,FALSE)","v":false},"Describe missing information / unresolved problems, and your plan to address them",null,null,null,null,null,null,null,null,{"$f":"IF(B161=TRUE,\"HIDE\",\"\")","v":""}]
[null,null,null,null,null,null,null,null,null,null,null,{"$f":"IF(B161=TRUE,\"HIDE\",\"\")","v":""}]
[]
["Preliminary Drawings Checklist"]
[]
["General"]
[false,false,"North arrow and scale appears on all applicable sheets",null,null,null,null,null,null,null,null,{"$f":"IF(B167=TRUE,\"HIDE\",\"\")","v":""}]
[]
["A Sheets – Items noted (*) must be on Title Sheet (first sheet of drawing set). All other items may be on subsequent A-Sheets"]
[false,null,"Project Title*: “Location – From – To – Description of Work” is the preferred format."]
[false,null,"Location Map: May be aerial photo with appropriate notations."]
[false,null,"Engineers Certification Block(s)*: Unsigned and stamped “Preliminary.”"]
[false,null,"City Department Signature Blocks.*"]
[false,null,"Index of Sheets: tabular form required. May also include map of project area with"]
[null,null,"limits of various sheets noted."]
[false,null,"Contract Number.*"]
[false,null,"Capital Improvement Program funds used for project.*"]
[false,null,"City of Cedar Rapids, IA.*"]
[false,null,"Name, logo and phone number of Engineering Consultant (if applicable).*"]
[]
["B Sheets",null,null,null,null,null,null,null,null,null,null,{"$f":"IF(AND(B182=TRUE,B190=TRUE),\"HIDE\",\"\")","v":""}]
[false,false,"Show separate typical section for each significantly different cross section on project",null,null,null,null,null,null,null,null,{"$f":"IF(B182=TRUE,\"HIDE\",\"\")","v":""}]
[null,null,"including:",null,null,null,null,null,null,null,null,{"$f":"IF($B$182=TRUE,\"HIDE\",\"\")","v":""}]
[null,null,null,"• Dimensions and Slopes.",null,null,null,null,null,null,null,{"$f":"IF($B$182=TRUE,\"HIDE\",\"\")","v":""}]
[null,null,null,"• Existing Materials.",null,null,null,null,null,null,null,""]
[null,null,null,"• Proposed Materials.",null,null,null,null,null,null,null,""]
[null,null,null,"• Subgrade Work.",null,null,null,null,null,null,null,""]
[null,null,null,"• Existing Features including those scheduled for removal.",null,null,null,null,null,null,null,""]
[null,null,null,"• Locations where typical sections apply.",null,null,null,null,null,null,null,""]
[false,false,"Details required to clarify typical sections.",null,null,null,null,null,null,null,null,{"$f":"IF(B190=TRUE,\"HIDE\",\"\")","v":""}]
[null,null,null,null,null,null,null,null,null,null,null,{"$f":"IF(AND(B182=TRUE,B190=TRUE),\"HIDE\",\"\")","v":""}]
["C Sheets",null,null,null,null,null,null,null,null,null,null,{"$f":"IF(AND(B193=TRUE,B194=TRUE,B196=TRUE,B197=TRUE),\"HIDE\",\"\")","v":""}]
[false,false,"First draft of General Notes including Project Description.",null,null,null,null,null,null,null,null,{"$f":"IF(B193=TRUE,\"HIDE\",\"\")","v":""}]
[false,false,"Space in plans budgeted for bid items (EOPC and breakdown by funding source ",null,null,null,null,null,null,null,null,""]
[null,null,"should be available, but wait until final submission to populate plans)",null,null,null,null,null,null,null,null,{"$f":"IF(B194=TRUE,\"HIDE\",\"\")","v":""}]
[false,false,"Apply general notes for standard items.",null,null,null,null,null,null,null,null,{"$f":"IF(B196=TRUE,\"HIDE\",\"\")","v":""}]
[false,false,"Space in plans budgeted for Estimate Reference Information.",null,null,null,null,null,null,null,null,""]
[null,null,null,null,null,null,null,null,null,null,null,{"$f":"IF(AND(B193=TRUE,B194=TRUE,B196=TRUE,B197=TRUE),\"HIDE\",\"\")","v":""}]
["D and E Sheets",null,null,null,null,null,null,null,null,null,null,{"$f":"IF(AND(B200=TRUE,B201=TRUE,B202=TRUE,B203=TRUE,B204=TRUE,B205=TRUE,B208=TRUE),\"HIDE\",\"\")","v":"HIDE"}]
[false,{"$f":"IF(OR('CIP Statement Form'!A20=TRUE,'CIP Statement Form'!A29=TRUE,'CIP Statement Form'!A30=TRUE,'CIP Statement Form'!A31=TRUE,'CIP Statement Form'!A35=TRUE,'CIP Statement Form'!A32=TRUE,'CIP Statement Form'!A42=TRUE),FALSE,TRUE)","v":true},"Existing features, including utilities.",null,null,null,null,null,null,null,null,{"$f":"IF(B200=TRUE,\"HIDE\",\"\")","v":"HIDE"}]
[false,{"$f":"IF(OR('CIP Statement Form'!A20=TRUE,'CIP Statement Form'!A29=TRUE,'CIP Statement Form'!A30=TRUE,'CIP Statement Form'!A31=TRUE,'CIP Statement Form'!A35=TRUE,'CIP Statement Form'!A32=TRUE,'CIP Statement Form'!A42=TRUE),FALSE,TRUE)","v":true},"Existing and proposed rights-of-way.",null,null,null,null,null,null,null,null,"HIDE"]
[false,{"$f":"IF(OR('CIP Statement Form'!A20=TRUE,'CIP Statement Form'!A29=TRUE,'CIP Statement Form'!A30=TRUE,'CIP Statement Form'!A31=TRUE,'CIP Statement Form'!A35=TRUE,'CIP Statement Form'!A32=TRUE,'CIP Statement Form'!A42=TRUE),FALSE,TRUE)","v":true},"Alignment (may be in G-Sheets in lieu of here).",null,null,null,null,null,null,null,null,"HIDE"]
[false,{"$f":"IF(OR('CIP Statement Form'!A20=TRUE,'CIP Statement Form'!A29=TRUE,'CIP Statement Form'!A30=TRUE,'CIP Statement Form'!A31=TRUE,'CIP Statement Form'!A35=TRUE,'CIP Statement Form'!A32=TRUE,'CIP Statement Form'!A42=TRUE),FALSE,TRUE)","v":true},"Railroad crossings.",null,null,null,null,null,null,null,null,"HIDE"]
[false,{"$f":"IF(OR('CIP Statement Form'!A20=TRUE,'CIP Statement Form'!A29=TRUE,'CIP Statement Form'!A30=TRUE,'CIP Statement Form'!A31=TRUE,'CIP Statement Form'!A35=TRUE,'CIP Statement Form'!A32=TRUE,'CIP Statement Form'!A42=TRUE),FALSE,TRUE)","v":true},"Profile of proposed improvements, including vertical curve data.",null,null,null,null,null,null,null,null,"HIDE"]
[false,{"$f":"IF(OR('CIP Statement Form'!A20=TRUE,'CIP Statement Form'!A29=TRUE,'CIP Statement Form'!A30=TRUE,'CIP Statement Form'!A31=TRUE,'CIP Statement Form'!A35=TRUE,'CIP Statement Form'!A32=TRUE,'CIP Statement Form'!A42=TRUE),FALSE,TRUE)","v":true},"Centerline and Critical Gutter Grades (Gutter Grade required through intersections ",null,null,null,null,null,null,null,null,"HIDE"]
[null,null,"and radii and locations where pavement cross slope varies from 2.5% and in vertical ",null,null,null,null,null,null,null,null,{"$f":"IF(B205=TRUE,\"HIDE\",\"\")","v":"HIDE"}]
[null,null,"curves. May be in tabular form)",null,null,null,null,null,null,null,null,{"$f":"IF(B205=TRUE,\"HIDE\",\"\")","v":"HIDE"}]
[false,{"$f":"IF(OR('CIP Statement Form'!A20=TRUE,'CIP Statement Form'!A29=TRUE,'CIP Statement Form'!A30=TRUE,'CIP Statement Form'!A31=TRUE,'CIP Statement Form'!A35=TRUE,'CIP Statement Form'!A32=TRUE,'CIP Statement Form'!A42=TRUE),FALSE,TRUE)","v":true},"Impact of proposed improvements showing existing features and utilities. Include ",null,null,null,null,null,null,null,null,{"$f":"IF(B208=TRUE,\"HIDE\",\"\")","v":"HIDE"}]
[null,null,"grading limits and impacts on private property (slope lines, commercial signs, ",null,null,null,null,null,null,null,null,{"$f":"IF(B208=TRUE,\"HIDE\",\"\")","v":"HIDE"}]
[null,null,"retaining walls, trees, landscaping, etc)",null,null,null,null,null,null,null,null,{"$f":"IF(B208=TRUE,\"HIDE\",\"\")","v":"HIDE"}]
[null,null,null,null,null,null,null,null,null,null,null,{"$f":"IF(AND(B200=TRUE,B201=TRUE,B202=TRUE,B203=TRUE,B204=TRUE,B205=TRUE,B208=TRUE),\"HIDE\",\"\")","v":"HIDE"}]
["G Sheets",null,null,null,null,null,null,null,null,null,null,{"$f":"IF(AND(B213=TRUE,B214=TRUE,B215=TRUE,B216=TRUE),\"HIDE\",\"\")","v":""}]
[false,false,"Benchmarks.",null,null,null,null,null,null,null,null,{"$f":"IF(B213=TRUE,\"HIDE\",\"\")","v":""}]
[false,false,"Control points.",null,null,null,null,null,null,null,null,""]
[false,false,"Main centerline data.",null,null,null,null,null,null,null,null,""]
[false,{"$f":"IF(OR('CIP Statement Form'!A20=TRUE,'CIP Statement Form'!A29=TRUE,'CIP Statement Form'!A30=TRUE,'CIP Statement Form'!A31=TRUE,'CIP Statement Form'!A35=TRUE,'CIP Statement Form'!A32=TRUE,'CIP Statement Form'!A42=TRUE),FALSE,TRUE)","v":true},"Edge of pavement data if required.",null,null,null,null,null,null,null,null,"HIDE"]
[null,null,null,null,null,null,null,null,null,null,null,{"$f":"IF(AND(B213=TRUE,B214=TRUE,B215=TRUE,B216=TRUE),\"HIDE\",\"\")","v":""}]
["J Sheets",null,null,null,null,null,null,null,null,null,null,{"$f":"IF(AND(B219=TRUE,B220=TRUE,B221=TRUE,B222=TRUE),\"HIDE\",\"\")","v":""}]
[false,false,"First draft of Recommended Staging of Project.",null,null,null,null,null,null,null,null,{"$f":"IF(B219=TRUE,\"HIDE\",\"\")","v":""}]
[false,false,"Show impact to current traffic, including side streets.",null,null,null,null,null,null,null,null,""]
[false,false,"First draft of General Staging notes.",null,null,null,null,null,null,null,null,""]
[{"$f":"IF('CIP Statement Form'!A187=TRUE,TRUE,FALSE)","v":false},{"$f":"IF('CIP Statement Form'!B187=FALSE, FALSE, TRUE)","v":false},"Staging reflects access needs of schools/churches/hospitals/emergency services/etc",null,null,null,null,null,null,null,null,""]
[null,null,null,null,null,null,null,null,null,null,null,{"$f":"IF(AND(B219=TRUE,B220=TRUE,B221=TRUE,B222=TRUE),\"HIDE\",\"\")","v":""}]
["M Sheets",null,null,null,null,null,null,null,null,null,null,{"$f":"IF(AND(B225=TRUE,B226=TRUE,B227=TRUE),\"HIDE\",\"\")","v":"HIDE"}]
[false,{"$f":"IF(OR('CIP Statement Form'!A21=TRUE,'CIP Statement Form'!A23=TRUE,'CIP Statement Form'!A25=TRUE,'CIP Statement Form'!A33=TRUE,'CIP Statement Form'!A37=TRUE,'CIP Statement Form'!A38=TRUE,'CIP Statement Form'!A44=TRUE),FALSE,TRUE)","v":true},"Storm Sewer / Sanitary Sewer / Water Main existing profile and proposed alignment",null,null,null,null,null,null,null,null,{"$f":"IF(B225=TRUE,\"HIDE\",\"\")","v":"HIDE"}]
[false,{"$f":"IF(OR('CIP Statement Form'!A21=TRUE,'CIP Statement Form'!A23=TRUE,'CIP Statement Form'!A25=TRUE,'CIP Statement Form'!A33=TRUE,'CIP Statement Form'!A37=TRUE,'CIP Statement Form'!A38=TRUE,'CIP Statement Form'!A44=TRUE),FALSE,TRUE)","v":true},"Space budgeted in plan sheets for tabulations (populate tabs at Final submission)",null,null,null,null,null,null,null,null,"HIDE"]
[false,{"$f":"IF('CIP Statement Form'!A44=TRUE,FALSE,TRUE)","v":true},"Water Main Details draft (may be in U-Sheets in lieu of here).",null,null,null,null,null,null,null,null,"HIDE"]
[null,null,null,null,null,null,null,null,null,null,null,{"$f":"IF(AND(B225=TRUE,B226=TRUE,B227=TRUE),\"HIDE\",\"\")","v":"HIDE"}]
["N Sheets",null,null,null,null,null,null,null,null,null,null,{"$f":"IF(AND(B230=TRUE,B233=TRUE,B236=TRUE,B237=TRUE),\"HIDE\",\"\")","v":"HIDE"}]
[false,{"$f":"IF(OR('CIP Statement Form'!A20=TRUE,'CIP Statement Form'!A29=TRUE,'CIP Statement Form'!A30=TRUE,'CIP Statement Form'!A31=TRUE,'CIP Statement Form'!A35=TRUE,'CIP Statement Form'!A32=TRUE,'CIP Statement Form'!A42=TRUE),FALSE,TRUE)","v":true},"Footprint of intersections including radii, sidewalks and curb ramps to at least ",null,null,null,null,null,null,null,null,{"$f":"IF(B230=TRUE,\"HIDE\",\"\")","v":"HIDE"}]
[null,null,"ends-of-radius in all directions. If required, extend footprint to show advanced ",null,null,null,null,null,null,null,null,{"$f":"IF(B230=TRUE,\"HIDE\",\"\")","v":"HIDE"}]
[null,null,"control systems.",null,null,null,null,null,null,null,null,{"$f":"IF(B230=TRUE,\"HIDE\",\"\")","v":"HIDE"}]
[false,{"$f":"IF(OR('CIP Statement Form'!A28=TRUE,'CIP Statement Form'!A41=TRUE,'CIP Statement Form'!A35=TRUE,'CIP Statement Form'!A42=TRUE),FALSE,TRUE)","v":true},"Proposed location of mast arm footings, pedestal signal footings, hand holes, ",null,null,null,null,null,null,null,null,{"$f":"IF(B233=TRUE,\"HIDE\",\"\")","v":"HIDE"}]
[null,null,"conduit layout (location only), pedestrian push-buttons and cabinets (note ",null,null,null,null,null,null,null,null,{"$f":"IF(B233=TRUE,\"HIDE\",\"\")","v":"HIDE"}]
[null,null,"potential utility conflicts).",null,null,null,null,null,null,null,null,{"$f":"IF(B233=TRUE,\"HIDE\",\"\")","v":"HIDE"}]
[false,{"$f":"IF(OR('CIP Statement Form'!A28=TRUE,'CIP Statement Form'!A41=TRUE,'CIP Statement Form'!A35=TRUE,'CIP Statement Form'!A42=TRUE),FALSE,TRUE)","v":true},"Location of crosswalks/pedestrian ramps specified.",null,null,null,null,null,null,null,null,{"$f":"IF(B236=TRUE,\"HIDE\",\"\")","v":"HIDE"}]
[false,{"$f":"IF(OR('CIP Statement Form'!A28=TRUE,'CIP Statement Form'!A41=TRUE,'CIP Statement Form'!A35=TRUE,'CIP Statement Form'!A42=TRUE),FALSE,TRUE)","v":true},"Location of signal heads relative to through- and turn-lanes in all directions.",null,null,null,null,null,null,null,null,"HIDE"]
[null,null,null,null,null,null,null,null,null,null,null,{"$f":"IF(AND(B230=TRUE,B233=TRUE,B236=TRUE,B237=TRUE),\"HIDE\",\"\")","v":"HIDE"}]
["Q Sheets",null,null,null,null,null,null,null,null,null,null,{"$f":"IF(B240=TRUE,\"HIDE\",\"\")","v":""}]
[false,false,"Removals and Utilities Relocation Plan.",null,null,null,null,null,null,null,null,{"$f":"IF(B240=TRUE,\"HIDE\",\"\")","v":""}]
[null,null,null,null,null,null,null,null,null,null,null,{"$f":"IF(B240=TRUE,\"HIDE\",\"\")","v":""}]
["V Sheets",null,null,null,null,null,null,null,null,null,null,{"$f":"IF(B243=TRUE,\"HIDE\",\"\")","v":"HIDE"}]
[false,{"$f":"IF(OR('CIP Statement Form'!A20=TRUE,'CIP Statement Form'!A21=TRUE),FALSE,TRUE)","v":true},"Provide listing based on Iowa DOT sheet numbering and associated requirements if ",null,null,null,null,null,null,null,null,{"$f":"IF(B243=TRUE,\"HIDE\",\"\")","v":"HIDE"}]
[null,null,"project includes bridge or reinforced concrete box culvert construction.",null,null,null,null,null,null,null,null,{"$f":"IF(B243=TRUE,\"HIDE\",\"\")","v":"HIDE"}]
[null,null,null,null,null,null,null,null,null,null,null,{"$f":"IF(B243=TRUE,\"HIDE\",\"\")","v":"HIDE"}]

{"sheet":"Prelim Comments","index":4,"n_rows":13,"n_cols":16,"rows_kept":13,"cut":false,"hidden":false,"merged":[[4,1,4,5],[4,6,4,12],[4,13,4,15],[0,0,0,15],[1,0,1,15],[2,1,2,5]]}
[]
[{"$f":"\"Preliminary Design Comments\"&\" - \"&'CIP Statement Form'!E11","v":"Preliminary Design Comments - "}]
["Document Under Review:",null,null,null,null,null,"Backcheck Document:"]
[]
[null,"CITY COMMENTS",null,null,null,null,"DESIGNER RESPONSE",null,null,null,null,null,null,"DESIGNER QA/QC"]
[]
["COMMENT No.","REVIEWER","REVIEWER DISCIPLINE (Traffic, Sewer, etc)","PLAN SHEET No.","DATE OF ORIGINAL REVIEW COMMENT\nMM/DD/YY","ORIGINAL REVIEW COMMENT","RESPONDENT \nNAME","DATE OF RESPONSE\nMM/DD/YY","RESPONSE","CHANGE MADE","DIASGREE","NEED MORE INFO","CARRY FORWARD","CLOSED\nY / N","DATE\nMM/DD/YY","BACK CHECK COMMENT\n(Needed Only If NOT Closing Comment)"]
[]
[1]
[2]
[3]
[4]
[5]

{"sheet":"Intermed Checklist","index":5,"n_rows":408,"n_cols":23,"rows_kept":408,"cut":false,"hidden":false,"merged":[[278,2,278,10],[276,2,276,10],[206,2,206,3],[206,4,206,5],[206,6,206,10],[382,2,382,10],[210,2,210,3],[210,4,210,5],[210,6,210,10],[207,2,207,3],[207,4,207,5],[207,6,207,10],[208,2,208,3],[208,4,208,5],[208,6,208,10],[209,2,209,3],[209,4,209,5],[209,6,209,10],[280,2,280,10],[285,2,285,10],[213,7,213,10],[214,7,214,10],[269,2,269,10],[257,2,257,10],[258,2,258,10],[254,2,254,10],[203,2,203,3],[203,4,203,5],[203,6,203,10],[204,2,204,3],[204,4,204,5],[204,6,204,10],[205,2,205,3],[205,4,205,5],[205,6,205,10],[253,0,253,10],[199,6,199,10],[200,2,200,3],[200,4,200,5],[200,6,200,10],[201,2,201,3],[201,4,201,5],[201,6,201,10],[202,2,202,3],[202,4,202,5],[202,6,202,10],[149,2,149,5],[149,6,149,10],[150,2,150,5],[150,6,150,10],[190,6,190,10],[191,2,191,3],[191,4,191,5],[191,6,191,10],[179,7,179,10],[185,7,185,10],[170,7,170,10],[171,7,171,10],[172,7,172,10],[173,7,173,10],[175,7,175,10],[176,7,176,10],[177,7,177,10],[189,2,189,10],[190,2,190,3],[190,4,190,5],[182,7,182,10],[184,7,184,10],[168,7,168,10],[167,7,167,10],[158,7,158,10],[159,7,159,10],[162,7,162,10],[156,2,156,10],[152,2,152,10],[110,3,110,10],[106,3,106,10],[394,2,394,10],[323,2,323,10],[325,2,325,10],[327,2,327,10],[329,2,329,10],[331,2,331,10],[287,2,287,10],[343,2,343,10],[296,3,296,10],[301,3,301,10],[354,3,354,10],[392,2,392,10],[386,2,386,10],[308,2,308,10],[313,2,313,10],[320,2,320,10],[163,7,163,10],[164,7,164,10],[165,7,165,10],[148,2,148,5],[166,7,166,10],[180,7,180,10],[55,4,55,6],[0,0,1,0],[0,1,1,1],[0,2,0,10],[52,4,52,6],[52,7,52,10],[54,4,54,6],[54,7,54,10],[56,7,56,10],[53,7,53,10],[56,4,56,6],[55,7,55,10],[58,4,58,6],[58,7,58,10],[134,2,134,9],[131,5,131,10],[130,9,130,10],[57,7,57,10],[42,6,42,10],[7,6,7,10],[8,6,8,10],[17,6,17,10],[35,2,35,10],[63,7,63,10],[43,4,43,5],[103,6,103,10],[76,3,76,10],[94,6,94,10],[95,7,95,10],[16,8,16,10],[43,6,43,10],[37,2,37,10],[32,2,32,10],[86,4,86,10],[92,4,92,6],[93,4,93,6],[197,2,197,3],[197,4,197,5],[197,6,197,10],[198,2,198,3],[79,4,79,10],[59,4,59,6],[59,7,59,10],[60,4,60,6],[60,7,60,10],[92,7,92,10],[93,7,93,10],[89,6,89,10],[90,6,90,10],[123,2,123,8],[124,2,124,8],[125,2,125,10],[128,2,128,10],[130,2,130,8],[133,2,133,9],[81,4,81,10],[113,3,113,10],[123,9,123,10],[120,3,120,10],[124,9,124,10],[198,4,198,5],[198,6,198,10],[199,2,199,3],[199,4,199,5],[147,2,147,5],[147,6,147,10],[146,5,146,10],[148,6,148,10],[274,2,274,10],[192,2,192,3],[192,4,192,5],[192,6,192,10],[193,2,193,3],[193,4,193,5],[193,6,193,10],[194,2,194,3],[194,4,194,5],[194,6,194,10],[195,2,195,3],[195,4,195,5],[195,6,195,10],[196,2,196,3],[196,4,196,5],[196,6,196,10]]}
["Yes/Complete","N/A","          INTERMEDIATE PLANS CHECKLIST"]
[]
[]
[]
["Intermediate Plans Submittals"]
[null,null,"The following items shall be included with your Intermediate submission:"]
[false,null,null,"Intermediate drawings (cover page signed by submitter and quality checker)"]
[null,null,null,null,"Designer Name:"]
[null,null,null,null,"QC'er name:"]
[false,null,null,"Intermediate estimate of probable cost"]
[false,{"$f":"IF('CIP Statement Form'!A50=TRUE,FALSE,TRUE)","v":true},null,"Draft Acquisition documents, if applicable",null,null,null,null,null,null,null,{"$f":"IF(B11=TRUE,\"HIDE\",\"\")","v":"HIDE"}]
[null,null,null,"Draft Special Provisions"]
[null,null,null,"Updated Project Development Guide containing completed:"]
[false,false,null,null,"Preliminary Plan Comments",null,null,null,null,null,null,{"$f":"IF(B14=TRUE,\"HIDE\",\"\")","v":""}]
[false,null,null,null,"Intermediate Plans Checklist (this form)"]
[false,null,null,null,"Rec to File (revised)"]
[false,null,"Expected letting date based on current progress:"]
[null,null,null,"If date has changed, why?:"]
[]
["Review of Preliminary Plan Comments"]
[false,false,"There are no Preliminary Comments because the Intermediate Plans are my first"]
[null,null,"submission. I have, however, completed the Preliminary Checklist, and included it"]
[null,null,"as part of my Intermediate submission."]
[]
[null,null,"Received comments on the Preliminary submission from City staff regarding:"]
[false,{"$f":"IF(A21=TRUE,TRUE,FALSE)","v":false},null,"Overall plan submission"]
[false,{"$f":"IF(A21=TRUE,TRUE,IF(OR('CIP Statement Form'!A20=TRUE,'CIP Statement Form'!A24=TRUE,'CIP Statement Form'!A29=TRUE,'CIP Statement Form'!A30=TRUE,'CIP Statement Form'!A31=TRUE,'CIP Statement Form'!A32=TRUE,'CIP Statement Form'!A35=TRUE,'CIP Statement Form'!A42=TRUE),FALSE,TRUE))","v":true},null,"Paving sheets",null,null,null,null,null,null,null,{"$f":"IF(B27=TRUE,\"HIDE\",\"\")","v":"HIDE"}]
[false,{"$f":"IF(A21=TRUE,TRUE,IF(OR('CIP Statement Form'!A33=TRUE,'CIP Statement Form'!A37=TRUE,'CIP Statement Form'!A38=TRUE,'CIP Statement Form'!A21=TRUE,'CIP Statement Form'!A23=TRUE,'CIP Statement Form'!A25=TRUE),FALSE,TRUE))","v":true},null,"Sanitary and storm sewer sheets",null,null,null,null,null,null,null,"HIDE"]
[false,{"$f":"IF(A21=TRUE,TRUE,IF('CIP Statement Form'!A44=TRUE,FALSE,TRUE))","v":true},null,"Water main sheets",null,null,null,null,null,null,null,"HIDE"]
[false,{"$f":"IF(A21=TRUE,TRUE,IF(AND('Prelim Checklist'!B219=TRUE,'Prelim Checklist'!B220=TRUE,'Prelim Checklist'!B221=TRUE,'Prelim Checklist'!B222=TRUE),TRUE,FALSE))","v":false},null,"Staging sheets",null,null,null,null,null,null,null,""]
[false,{"$f":"IF(A21=TRUE,TRUE,IF('CIP Statement Form'!A41=TRUE,FALSE,TRUE))","v":true},null,"Traffic signal sheets",null,null,null,null,null,null,null,"HIDE"]
[false,{"$f":"IF(A21=TRUE,TRUE,IF(OR('CIP Statement Form'!A20=TRUE,'CIP Statement Form'!A21=TRUE),FALSE,TRUE))","v":true},null,"Culvert / bridge sheets",null,null,null,null,null,null,null,"HIDE"]
[false,{"$f":"IF(A21=TRUE,TRUE,FALSE)","v":false},"All comments received have been documented in Prelim Comments. Feedback was ",null,null,null,null,null,null,null,null,""]
[null,null,"addressed in the Intermediate submission, or a justification why a change was not ",null,null,null,null,null,null,null,null,{"$f":"IF(B33=TRUE,\"HIDE\",\"\")","v":""}]
[null,null,"made provided in Prelim Comments.",null,null,null,null,null,null,null,null,{"$f":"IF(B33=TRUE,\"HIDE\",\"\")","v":""}]
[false,false,"The project's current design accomplishes the original goals of the project",null,null,null,null,null,null,null,null,{"$f":"IF(B36=TRUE,\"HIDE\",\"\")","v":""}]
[false,{"$f":"IF(A21=TRUE,TRUE,FALSE)","v":false},"Have project requirements changed since the Preliminary submission? (describe)",null,null,null,null,null,null,null,null,""]
[null,null,null,null,null,null,null,null,null,null,null,{"$f":"IF(B37=TRUE,\"HIDE\",\"\")","v":""}]
[]
["Compliance with Design Criteria"]
[null,null,"Sanitary sewer",null,null,null,null,null,null,null,null,{"$f":"IF(AND(B42=TRUE,B45=TRUE,B46=TRUE),\"HIDE\",\"\")","v":"HIDE"}]
[false,{"$f":"IF('CIP Statement Form'!A33=TRUE,FALSE,TRUE)","v":true},null,"Manhole Spacings",null,null,null,null,null,null,null,{"$f":"IF(B42=TRUE,\"HIDE\",\"\")","v":"HIDE"}]
[null,null,null,null,"Max allowed",null,null,null,null,null,null,{"$f":"IF(B42=TRUE,\"HIDE\",\"\")","v":"HIDE"}]
[null,null,null,null,"Spacing/sizing",null,null,null,null,null,null,{"$f":"IF(B42=TRUE,\"HIDE\",\"\")","v":"HIDE"}]
[false,{"$f":"IF('CIP Statement Form'!A33=TRUE,FALSE,TRUE)","v":true},null,"Horizontal and vertical clearances met for all utilities",null,null,null,null,null,null,null,{"$f":"IF(B45=TRUE,\"HIDE\",\"\")","v":"HIDE"}]
[false,{"$f":"IF('CIP Statement Form'!A33=TRUE,FALSE,TRUE)","v":true},null,"Proposed structures meet needs; match existing/future infrastructure",null,null,null,null,null,null,null,"HIDE"]
[null,null,"Sewer Services",null,null,null,null,null,null,null,null,{"$f":"IF(AND(B48=TRUE,B49=TRUE,B50=TRUE,B51=TRUE,B52=TRUE,B54=TRUE,B58=TRUE),\"HIDE\",\"\")","v":"HIDE"}]
[false,{"$f":"IF('CIP Statement Form'!A33=TRUE,FALSE,TRUE)","v":true},null,"Tap records checked for tap dates, locations",null,null,null,null,null,null,null,{"$f":"IF(B48=TRUE,\"HIDE\",\"\")","v":"HIDE"},"Tap records only accessible via City-owned computer. ",null,null,null,null,null,"~1900 to ~1990",null,"~1990 to ~2012",null,"~2012 to present - Do a Permit Search in Energov, work class = \"Sanitary Sewer Service\""]
[false,{"$f":"IF('CIP Statement Form'!A33=TRUE,FALSE,TRUE)","v":true},null,"Smoke testing complete",null,null,null,null,null,null,null,"HIDE"]
[false,{"$f":"IF('CIP Statement Form'!A33=TRUE,FALSE,TRUE)","v":true},null,"Service elevations taken where there are potential conflicts",null,null,null,null,null,null,null,"HIDE"]
[false,{"$f":"IF('CIP Statement Form'!A33=TRUE,FALSE,TRUE)","v":true},null,"Televised from served home/business if inspection from main not possible",null,null,null,null,null,null,null,"HIDE"]
[false,{"$f":"IF('CIP Statement Form'!A33=TRUE,FALSE,TRUE)","v":true},null,"All structures and lots accounted for",null,null,null,null,null,null,null,"HIDE"]
[null,null,null,null,"If no, recommendation to address:",null,null,null,null,null,null,{"$f":"IF(B52=TRUE,\"HIDE\",\"\")","v":"HIDE"}]
[false,{"$f":"IF('CIP Statement Form'!A33=TRUE,FALSE,TRUE)","v":true},null,"Condition issues (non-Orangeburg):",null,null,null,"Material / Length / Issue",null,null,null,{"$f":"IF(B54=TRUE,\"HIDE\",\"\")","v":"HIDE"}]
[null,null,null,null,"[Location]",null,null,null,null,null,null,{"$f":"IF(B54=TRUE,\"HIDE\",\"\")","v":"HIDE"}]
[null,null,null,null,"[Location]",null,null,null,null,null,null,{"$f":"IF(B54=TRUE,\"HIDE\",\"\")","v":"HIDE"}]
[null,null,null,null,"[Location]",null,null,null,null,null,null,{"$f":"IF(B54=TRUE,\"HIDE\",\"\")","v":"HIDE"}]
[false,{"$f":"IF('CIP Statement Form'!A33=TRUE,FALSE,TRUE)","v":true},null,"Condition issues (Orangeburg):",null,null,null,"Material / Length / Issue",null,null,null,{"$f":"IF(B58=TRUE,\"HIDE\",\"\")","v":"HIDE"},"Orangeburg was in use in Cedar Rapids roughly between 1949 and 1972."]
[null,null,null,null,"[Location]",null,null,null,null,null,null,{"$f":"IF(B58=TRUE,\"HIDE\",\"\")","v":"HIDE"}]
[null,null,null,null,"[Location]",null,null,null,null,null,null,{"$f":"IF(B58=TRUE,\"HIDE\",\"\")","v":"HIDE"}]
[null,null,null,null,"[Location]",null,null,null,null,null,null,{"$f":"IF(B58=TRUE,\"HIDE\",\"\")","v":"HIDE"}]
[null,null,null,null,null,null,null,null,null,null,null,{"$f":"IF(AND(B48=TRUE,B49=TRUE,B50=TRUE,B51=TRUE,B52=TRUE,B54=TRUE,B58=TRUE),\"HIDE\",\"\")","v":"HIDE"}]
[null,null,"Storm sewer",null,null,null,null,null,null,null,null,{"$f":"IF(AND(B64=TRUE,B65=TRUE,B66=TRUE,B67=TRUE,B68=TRUE),\"HIDE\",\"\")","v":"HIDE"}]
[false,{"$f":"IF(OR('CIP Statement Form'!A21=TRUE,'CIP Statement Form'!A22=TRUE,'CIP Statement Form'!A23=TRUE,'CIP Statement Form'!A38=TRUE,'CIP Statement Form'!A37=TRUE),FALSE,TRUE)","v":true},null,"Designed to storm event level:",null,null,null,"[e.g. 100 year event]",null,null,null,{"$f":"IF(B64=TRUE,\"HIDE\",\"\")","v":"HIDE"}]
[false,{"$f":"IF(OR('CIP Statement Form'!A21=TRUE,'CIP Statement Form'!A22=TRUE,'CIP Statement Form'!A23=TRUE,'CIP Statement Form'!A38=TRUE,'CIP Statement Form'!A37=TRUE),FALSE,TRUE)","v":true},null,"Gutter spread requirements met",null,null,null,null,null,null,null,"HIDE"]
[false,{"$f":"IF(OR('CIP Statement Form'!A21=TRUE,'CIP Statement Form'!A22=TRUE,'CIP Statement Form'!A23=TRUE,'CIP Statement Form'!A38=TRUE,'CIP Statement Form'!A37=TRUE),FALSE,TRUE)","v":true},null,"Overland flow path identified",null,null,null,null,null,null,null,"HIDE"]
[false,{"$f":"IF('CIP Statement Form'!A37=TRUE,FALSE,TRUE)","v":true},null,"Horizontal and vertical clearances met for all utilities",null,null,null,null,null,null,null,"HIDE"]
[false,{"$f":"IF(OR('CIP Statement Form'!A21=TRUE,'CIP Statement Form'!A22=TRUE,'CIP Statement Form'!A23=TRUE,'CIP Statement Form'!A38=TRUE,'CIP Statement Form'!A37=TRUE),FALSE,TRUE)","v":true},null,"Proposed structures meet needs; match existing/future infrastructure",null,null,null,null,null,null,null,"HIDE"]
[null,null,null,null,null,null,null,null,null,null,null,{"$f":"IF(AND(B64=TRUE,B65=TRUE,B66=TRUE,B67=TRUE,B68=TRUE),\"HIDE\",\"\")","v":"HIDE"}]
[null,null,"Water main",null,null,null,null,null,null,null,null,{"$f":"IF(AND(B72=TRUE,B73=TRUE,B74=TRUE,B75=TRUE,B76=TRUE,B77=TRUE,B79=TRUE,B81=TRUE,B83=TRUE,B84=TRUE,B85=TRUE,B86=TRUE),\"HIDE\",\"\")","v":"HIDE"}]
[null,null,null,"Hydrants and valves",null,null,null,null,null,null,null,{"$f":"IF(AND(B72=TRUE,B73=TRUE,B74=TRUE,B75=TRUE),\"HIDE\",\"\")","v":"HIDE"}]
[false,{"$f":"IF('Prelim Checklist'!B50=TRUE,TRUE,FALSE)","v":true},null,null,"Located within governing specification",null,null,null,null,null,null,{"$f":"IF(B72=TRUE,\"HIDE\",\"\")","v":"HIDE"}]
[false,{"$f":"IF('Prelim Checklist'!B50=TRUE,TRUE,FALSE)","v":true},null,null,"Hydrant/blow-off located at high point(s)",null,null,null,null,null,null,"HIDE"]
[false,{"$f":"IF('Prelim Checklist'!B50=TRUE,TRUE,FALSE)","v":true},null,null,"Hydrant/blow-off located at terminal point(s)",null,null,null,null,null,null,"HIDE"]
[false,{"$f":"IF('Prelim Checklist'!B50=TRUE,TRUE,FALSE)","v":true},null,null,"Located at intersections or water main laterals",null,null,null,null,null,null,"HIDE"]
[false,{"$f":"IF('Prelim Checklist'!B55=TRUE,TRUE,FALSE)","v":true},null,"Horizontal and vertical clearances met for all utilities",null,null,null,null,null,null,null,"HIDE"]
[false,{"$f":"IF('CIP Statement Form'!A44=TRUE,FALSE,TRUE)","v":true},null,"Valves, hydrants, and service valves/stop boxes surveyed and operating nut ",null,null,null,null,null,null,null,"HIDE"]
[null,null,null,"depth recorded",null,null,null,null,null,null,null,{"$f":"IF(B77=TRUE,\"HIDE\",\"\")","v":"HIDE"}]
[false,{"$f":"IF('Prelim Checklist'!B56=TRUE,TRUE,FALSE)","v":true},null,"Stationing if cathodic protection is installed:",null,null,null,null,null,null,null,{"$f":"IF(B79=TRUE,\"HIDE\",\"\")","v":"HIDE"}]
[null,null,null,null,"[Locations]",null,null,null,null,null,null,{"$f":"IF(B79=TRUE,\"HIDE\",\"\")","v":"HIDE"}]
[false,{"$f":"IF('CIP Statement Form'!A44=TRUE,FALSE,TRUE)","v":true},null,"Existing lead services to be replaced:",null,null,null,null,null,null,null,{"$f":"IF(B81=TRUE,\"HIDE\",\"\")","v":"HIDE"}]
[null,null,null,null,"[Locations]",null,null,null,null,null,null,{"$f":"IF(B81=TRUE,\"HIDE\",\"\")","v":"HIDE"}]
[false,{"$f":"IF('CIP Statement Form'!A44=TRUE,FALSE,TRUE)","v":true},null,"6-inch services provided for fire protection (where needed)",null,null,null,null,null,null,null,{"$f":"IF(B83=TRUE,\"HIDE\",\"\")","v":"HIDE"}]
[false,{"$f":"IF('CIP Statement Form'!A44=TRUE,FALSE,TRUE)","v":true},null,"Traffic control plan for staging water main installation considered",null,null,null,null,null,null,null,"HIDE"]
[false,{"$f":"IF('CIP Statement Form'!A44=TRUE,FALSE,TRUE)","v":true},null,"Proposed structures meet needs; match existing/future infrastructure",null,null,null,null,null,null,null,"HIDE"]
[false,{"$f":"IF('CIP Statement Form'!A44=TRUE,FALSE,TRUE)","v":true},null,"Describe anticipated interruptions to water service during construction:",null,null,null,null,null,null,null,"HIDE"]
[null,null,null,null,null,null,null,null,null,null,null,{"$f":"IF(B86=TRUE,\"HIDE\",\"\")","v":"HIDE"}]
[null,null,null,null,null,null,null,null,null,null,null,{"$f":"IF(AND(B86=TRUE,B85=TRUE,B84=TRUE,B83=TRUE,B81=TRUE,B79=TRUE,B77=TRUE,B76=TRUE,B75=TRUE,B74=TRUE,B73=TRUE,B72=TRUE),\"HIDE\",\"\")","v":"HIDE"}]
[null,null,"Constructability (initial work and future repairs)",null,null,null,null,null,null,null,null,{"$f":"IF(AND(B90=TRUE,B91=TRUE,B92=TRUE,B95=TRUE,B96=TRUE,B97=TRUE,B99=TRUE,B100=TRUE,B101=TRUE,B102=TRUE,B103=TRUE),\"HIDE\",\"\")","v":""}]
[false,false,null,"Maximum bury depth?",null,null,null,null,null,null,null,{"$f":"IF(B90=TRUE,\"HIDE\",\"\")","v":""}]
[false,false,null,"Minimum bury depth?",null,null,null,null,null,null,null,""]
[false,false,null,"Rock excavation?",null,null,null,null,null,null,null,""]
[null,null,null,null,"[Location]",null,null,"[Est depth to rock, rock to FL from borings]",null,null,null,{"$f":"IF(B92=TRUE,\"HIDE\",\"\")","v":""}]
[null,null,null,null,"[Location]",null,null,"[Est depth to rock, rock to FL from borings]",null,null,null,{"$f":"IF(B92=TRUE,\"HIDE\",\"\")","v":""}]
[false,false,null,"Water table depth:",null,null,null,null,null,null,null,{"$f":"IF(B95=TRUE,\"HIDE\",\"\")","v":""}]
[false,false,null,"Installation methods chosen:",null,null,null,null,null,null,null,""]
[false,{"$f":"IF(OR('CIP Statement Form'!A33=TRUE,'CIP Statement Form'!A37=TRUE,'CIP Statement Form'!A44=TRUE),FALSE,TRUE)","v":true},null,"Casing pipe requirements identified, accounted for",null,null,null,null,null,null,null,"HIDE"]
[null,null,null,"Sufficient work space for the following is accounted for in the plans:",null,null,null,null,null,null,null,{"$f":"IF(AND(B99=TRUE,B100=TRUE,B101=TRUE,B102=TRUE,B103=TRUE),\"HIDE\",\"\")","v":""}]
[false,false,null,null,"Width and overhead clearance for equipment operation",null,null,null,null,null,null,{"$f":"IF(B99=TRUE,\"HIDE\",\"\")","v":""}]
[false,false,null,null,"Storage for materials and equipment",null,null,null,null,null,null,""]
[false,{"$f":"IF(OR('CIP Statement Form'!A33=TRUE,'CIP Statement Form'!A37=TRUE,'CIP Statement Form'!A44=TRUE,'CIP Statement Form'!A41=TRUE),FALSE,TRUE)","v":true},null,null,"Bore pits",null,null,null,null,null,null,"HIDE"]
[false,{"$f":"IF(OR('CIP Statement Form'!A33=TRUE,'CIP Statement Form'!A37=TRUE,'CIP Statement Form'!A44=TRUE,'CIP Statement Form'!A41=TRUE),FALSE,TRUE)","v":true},null,null,"Space for trenching; depth taken into consideration",null,null,null,null,null,null,"HIDE"]
[false,false,null,null,"Other (specify)",null,null,null,null,null,null,""]
[null,null,null,null,"Comments:",null,null,null,null,null,null,{"$f":"IF(B103=TRUE,\"HIDE\",\"\")","v":""}]
[null,null,null,null,null,null,null,null,null,null,null,{"$f":"IF(AND(B90=TRUE,B91=TRUE,B92=TRUE,B95=TRUE,B96=TRUE,B97=TRUE,B99=TRUE,B100=TRUE,B101=TRUE,B102=TRUE,B103=TRUE),\"HIDE\",\"\")","v":""}]
[false,{"$f":"IF(OR('CIP Statement Form'!A20=TRUE,'CIP Statement Form'!A21=TRUE),FALSE,TRUE)","v":true},"Bridge / culvert / creek or river crossing (describe)",null,null,null,null,null,null,null,null,{"$f":"IF(B106=TRUE,\"HIDE\",\"\")","v":"HIDE"}]
[null,null,null,null,null,null,null,null,null,null,null,{"$f":"IF(B106=TRUE,\"HIDE\",\"\")","v":"HIDE"}]
[false,{"$f":"IF(OR('CIP Statement Form'!A20=TRUE,'CIP Statement Form'!A21=TRUE),FALSE,TRUE)","v":true},null,"Type, size and location determined (see plans)",null,null,null,null,null,null,null,{"$f":"IF(B108=TRUE,\"HIDE\",\"\")","v":"HIDE"}]
[null,null,null,null,null,null,null,null,null,null,null,{"$f":"IF(B108=TRUE,\"HIDE\",\"\")","v":"HIDE"}]
[false,{"$f":"IF('CIP Statement Form'!A41=TRUE,FALSE,TRUE)","v":true},"Traffic signal (describe)",null,null,null,null,null,null,null,null,{"$f":"IF(B110=TRUE,\"HIDE\",\"\")","v":"HIDE"}]
[null,null,null,null,null,null,null,null,null,null,null,{"$f":"IF(B110=TRUE,\"HIDE\",\"\")","v":"HIDE"}]
[null,null,null,null,null,null,null,null,null,null,null,{"$f":"IF(B110=TRUE,\"HIDE\",\"\")","v":"HIDE"}]
[false,{"$f":"IF('CIP Statement Form'!A45=TRUE,FALSE,TRUE)","v":true},"Other (describe)",null,null,null,null,null,null,null,null,{"$f":"IF(B113=TRUE,\"HIDE\",\"\")","v":"HIDE"}]
[null,null,null,null,null,null,null,null,null,null,null,{"$f":"IF(B113=TRUE,\"HIDE\",\"\")","v":"HIDE"}]
[null,null,null,null,null,null,null,null,null,null,null,{"$f":"IF(B113=TRUE,\"HIDE\",\"\")","v":"HIDE"}]
["Stakeholder Communications",null,null,null,null,null,null,null,null,null,null,{"$f":"IF(AND(B117=TRUE,B118=TRUE,B119=TRUE,B120=TRUE),\"HIDE\",\"\")","v":""}]
[false,false,"Property Access and Impact Survey Forms sent to appropriate property owners",null,null,null,null,null,null,null,null,{"$f":"IF(B117=TRUE,\"HIDE\",\"\")","v":""},"Template survey form saved to FTP site under Templates and Forms base folder"]
[false,{"$f":"IF(OR('CIP Statement Form'!A22=TRUE,'CIP Statement Form'!A24=TRUE,'CIP Statement Form'!A29=TRUE,'CIP Statement Form'!A30=TRUE,'CIP Statement Form'!A31=TRUE,'CIP Statement Form'!A33=TRUE,'CIP Statement Form'!A35=TRUE,'CIP Statement Form'!A37=TRUE,'CIP Statement Form'!A39=TRUE,'CIP Statement Form'!A41=TRUE,'CIP Statement Form'!A42=TRUE,'CIP Statement Form'!A44=TRUE),FALSE,TRUE)","v":true},"Driveway closures are expected with the project",null,null,null,null,null,null,null,null,"HIDE"]
[false,false,"Private objects (fences, signs, plantings, etc) identified and called out in plans",null,null,null,null,null,null,null,null,""]
[false,false,"There are unresolved conflicts with one or more stakeholders, including (describe):",null,null,null,null,null,null,null,null,""]
[null,null,null,null,null,null,null,null,null,null,null,{"$f":"IF(B120=TRUE,\"HIDE\",\"\")","v":""}]
[null,null,null,null,null,null,null,null,null,null,null,{"$f":"IF(AND(B117=TRUE,B118=TRUE,B119=TRUE,B120=TRUE),\"HIDE\",\"\")","v":""}]
["Trees and topsoil",null,null,null,null,null,null,null,null,null,null,{"$f":"IF(AND(B124=TRUE,B125=TRUE,B126=TRUE,B129=TRUE,B131=TRUE,B133=TRUE,B134=TRUE,B135=TRUE),\"HIDE\",\"\")","v":""}]
[false,{"$f":"IF('CIP Statement Form'!A43=TRUE,FALSE,TRUE)","v":true},"Number of City trees to be removed with project:",null,null,null,null,null,null,null,null,{"$f":"IF(B124=TRUE,\"HIDE\",\"\")","v":"HIDE"}]
[false,{"$f":"IF('CIP Statement Form'!A43=TRUE,FALSE,TRUE)","v":true},"Number of trees in easements removed with project:",null,null,null,null,null,null,null,null,"HIDE"]
[false,{"$f":"IF('CIP Statement Form'!A43=TRUE,FALSE,TRUE)","v":true},"Removals added to Annual Tree Removal project (submit removal sheets by August ",null,null,null,null,null,null,null,null,"HIDE","Submit removal sheets to PavingForProgress@cedar-rapids.org. Make sure to specify which project it is for, and the funding source."]
[null,null,"31st for fall letting). OR removals will be performed by project between October 1 ",null,null,null,null,null,null,null,null,{"$f":"IF(B126=TRUE,\"HIDE\",\"\")","v":"HIDE"}]
[null,null,"and March 31.",null,null,null,null,null,null,null,null,{"$f":"IF(B126=TRUE,\"HIDE\",\"\")","v":"HIDE"}]
[false,{"$f":"IF('CIP Statement Form'!A43=TRUE,FALSE,TRUE)","v":true},"Removals to be performed April 1 - September 30 reviewed by City staff (to avoid ",null,null,null,null,null,null,null,null,{"$f":"IF(B129=TRUE,\"HIDE\",\"\")","v":"HIDE"}]
[null,null,"endangered species habitat)",null,null,null,null,null,null,null,null,{"$f":"IF(B129=TRUE,\"HIDE\",\"\")","v":"HIDE"}]
[false,false,"Number of City street trees to be planted with project:",null,null,null,null,null,null,null,null,{"$f":"IF(B131=TRUE,\"HIDE\",\"\")","v":""}]
[null,null,null,"Installed by:",null,null,null,null,null,null,null,{"$f":"IF(B131=TRUE,\"HIDE\",\"\")","v":""}]
[false,{"$f":"IF(B131=TRUE,TRUE,FALSE)","v":false},null,"Trees selected are on the list of allowed species",null,null,null,null,null,null,null,{"$f":"IF(B133=TRUE,\"HIDE\",\"\")","v":""}]
[false,false,"Preliminary estimate includes provision to remove unsuitable topsoil",null,null,null,null,null,null,null,null,""]
[false,false,"Preliminary estimate includes quantity to import topsoil",null,null,null,null,null,null,null,null,""]
[null,null,null,null,null,null,null,null,null,null,null,{"$f":"IF(AND(B124=TRUE,B125=TRUE,B126=TRUE,B129=TRUE,B131=TRUE,B133=TRUE,B134=TRUE,B135=TRUE),\"HIDE\",\"\")","v":""}]
["Preliminary Assessment Plat and Schedule",null,null,null,null,null,null,null,null,null,null,{"$f":"IF(AND(B138=TRUE,B139=TRUE,B140=TRUE,B141=TRUE,B142=TRUE,B143=TRUE,B144=TRUE),\"HIDE\",\"\")","v":"HIDE"}]
[false,{"$f":"IF('CIP Statement Form'!A53=TRUE,FALSE,TRUE)","v":true},"Agricultural parcels identified in project area",null,null,null,null,null,null,null,null,{"$f":"IF(B138=TRUE,\"HIDE\",\"\")","v":"HIDE"},"Parcel zoning information viewable in the City's Infrastructure Viewer"]
[false,{"$f":"IF('CIP Statement Form'!A53=TRUE,FALSE,TRUE)","v":true},"County-owned parcels identified in project area",null,null,null,null,null,null,null,null,"HIDE","Parcel owner information viewable in the City's Infrastructure Viewer"]
[false,{"$f":"IF('CIP Statement Form'!A53=TRUE,FALSE,TRUE)","v":true},"Existing Petition and Assessment Agreements identified",null,null,null,null,null,null,null,null,"HIDE","Petition and Assessment Agreements will most likely appear in Final Plat files or Development Agreements. These may be researched at the City Services Center. Some documents may be saved and searchable in the Linn County Recorder's online database."]
[false,{"$f":"IF('CIP Statement Form'!A53=TRUE,FALSE,TRUE)","v":true},"Searched for previously Escrowed money for affected parcels",null,null,null,null,null,null,null,null,"HIDE","Escrowed money will most likely appear in Final Plat files. We have discouraged pre-payments for many years now, but they do still happen on occasion. Also check Preliminary Assessment files for pre-payments before completing Final Assessment Schedules and Plats."]
[false,{"$f":"IF('CIP Statement Form'!A53=TRUE,FALSE,TRUE)","v":true},"Reviewed the current Sidewalk Assessment Policies",null,null,null,null,null,null,null,null,"HIDE","Please note there are different policies for sidewalk repair vs. new sidewalk installation, and corresponding assessments. There is no standing policy for general assessments. Past practice has been only to assess for improvements above and beyond what already existed, e.g. street widening, turning lane additions, or rural to urban-section upgrades. Improvements which benefit only individual properties, such as sewer service line replacements, have also been assessed."]
[false,{"$f":"IF('CIP Statement Form'!A53=TRUE,FALSE,TRUE)","v":true},"Timetable for Preliminary Assessment completed",null,null,null,null,null,null,null,null,"HIDE","See Templates and Forms > Assessment Project - Preliminary on the FTP Site"]
[false,{"$f":"IF('CIP Statement Form'!A53=TRUE,FALSE,TRUE)","v":true},"Metes and bounds in legal descriptions checked for accuracy",null,null,null,null,null,null,null,null,"HIDE"]
[null,null,null,null,null,null,null,null,null,null,null,{"$f":"IF(AND(B138=TRUE,B139=TRUE,B140=TRUE,B141=TRUE,B142=TRUE,B143=TRUE,B144=TRUE),\"HIDE\",\"\")","v":"HIDE"}]
["Railroads",null,null,null,null,null,null,null,null,null,null,{"$f":"IF(AND(B147=TRUE,B148=TRUE,B152=TRUE,B153=TRUE),\"HIDE\",\"\")","v":"HIDE"}]
[{"$f":"'Prelim Checklist'!A75","v":false},{"$f":"'Prelim Checklist'!B75","v":true},"Railroad name",null,null,{"$f":"'Prelim Checklist'!F75","v":0},null,null,null,null,null,{"$f":"IF(B147=TRUE,\"HIDE\",\"\")","v":"HIDE"}]
[{"$f":"IF(OR('Prelim Checklist'!A79=TRUE,'Prelim Checklist'!A81=TRUE),TRUE,FALSE)","v":false},{"$f":"IF(OR('Prelim Checklist'!B79=TRUE,'Prelim Checklist'!B81=TRUE),TRUE,FALSE)","v":true},"Right of Entry/Agreement",null,null,null,"Status as of [DATE]",null,null,null,null,"HIDE"]
[null,null,null,null,null,null,null,null,null,null,null,{"$f":"IF(B148=TRUE,\"HIDE\",\"\")","v":"HIDE"}]
[null,null,null,null,null,null,null,null,null,null,null,{"$f":"IF(B148=TRUE,\"HIDE\",\"\")","v":"HIDE"}]
[null,null,null,null,null,null,null,null,null,null,null,{"$f":"IF(B148=TRUE,\"HIDE\",\"\")","v":"HIDE"}]
[false,{"$f":"IF(OR('Prelim Checklist'!B79=TRUE,'Prelim Checklist'!B81=TRUE),TRUE,FALSE)","v":true},"Draft agreements written, sent to railroad for review (e.g. maintenance agreements)",null,null,null,null,null,null,null,null,{"$f":"IF(B152=TRUE,\"HIDE\",\"\")","v":"HIDE"}]
[false,{"$f":"IF('CIP Statement Form'!A51=TRUE,FALSE,TRUE)","v":true},"Funding applications submitted, if eligible (e.g. highway-railroad crossing safety ",null,null,null,null,null,null,null,null,"HIDE"]
[null,null,"program; highway-railroad crossing surface repair fund)",null,null,null,null,null,null,null,null,{"$f":"IF(B153=TRUE,\"HIDE\",\"\")","v":"HIDE"}]
[null,null,null,null,null,null,null,null,null,null,null,{"$f":"IF(AND(B147=TRUE,B148=TRUE,B152=TRUE,B153=TRUE),\"HIDE\",\"\")","v":"HIDE"}]
["Permits",null,null,null,null,null,null,null,null,null,null,{"$f":"IF(AND(B157=TRUE,B160=TRUE,B163=TRUE,B164=TRUE,B165=TRUE,B166=TRUE,B167=TRUE,B168=TRUE,B169=TRUE,B171=TRUE,B172=TRUE,B173=TRUE,B174=TRUE,B176=TRUE,B177=TRUE,B178=TRUE,B180=TRUE,B181=TRUE,B183=TRUE,B185=TRUE,B186=TRUE),\"HIDE\",\"\")","v":""}]
[false,{"$f":"IF('CIP Statement Form'!L219=\"HIDE\",TRUE,FALSE)","v":false},"Sufficient time remains to obtain necessary permits / the project schedule has been ",null,null,null,null,null,null,null,null,{"$f":"IF(B157=TRUE,\"HIDE\",\"\")","v":""}]
[null,null,"adjusted to create sufficient time",null,null,null,null,null,null,null,null,{"$f":"IF(B157=TRUE,\"HIDE\",\"\")","v":""}]
[null,null,null,null,null,null,null,"Status Update"]
[{"$f":"'Prelim Checklist'!A103","v":false},{"$f":"'Prelim Checklist'!B103","v":false},"Flood Plain / Streambanks",null,null,null,null,null,null,null,null,{"$f":"IF(B160=TRUE,\"HIDE\",\"\")","v":""}]
[null,null,null,"IDNR, Linn Co. & City each have their own permits",null,null,null,null,null,null,null,{"$f":"IF(B160=TRUE,\"HIDE\",\"\")","v":""}]
[null,null,"Iowa Department of Natural Resources",null,null,null,null,null,null,null,null,{"$f":"IF(AND(B163=TRUE,B164=TRUE,B165=TRUE,B166=TRUE,B167=TRUE,B168=TRUE,B169=TRUE),\"HIDE\",\"\")","v":""}]
[{"$f":"'Prelim Checklist'!A106","v":false},{"$f":"'Prelim Checklist'!B106","v":false},null,"Water main construction",null,null,null,null,null,null,null,{"$f":"IF(B163=TRUE,\"HIDE\",\"\")","v":""}]
[{"$f":"'Prelim Checklist'!A107","v":false},{"$f":"'Prelim Checklist'!B107","v":false},null,"Sanitary sewer construction",null,null,null,null,null,null,null,""]
[{"$f":"'Prelim Checklist'!A108","v":false},{"$f":"'Prelim Checklist'!B108","v":false},null,"Fill placement in stream or river",null,null,null,null,null,null,null,""]
[{"$f":"'Prelim Checklist'!A109","v":false},{"$f":"'Prelim Checklist'!B109","v":false},null,"Stormwater discharge",null,null,null,null,null,null,null,""]
[{"$f":"'Prelim Checklist'!A110","v":false},{"$f":"'Prelim Checklist'!B110","v":false},null,"404 wetlands permit (IDNR/USACE)",null,null,null,null,null,null,null,""]
[{"$f":"'Prelim Checklist'!A111","v":false},{"$f":"'Prelim Checklist'!B111","v":false},null,"Bat survey",null,null,null,null,null,null,null,""]
[{"$f":"'Prelim Checklist'!A112","v":false},{"$f":"'Prelim Checklist'!B112","v":false},null,{"$f":"'Prelim Checklist'!D112","v":"[Other]"},null,null,null,null,null,null,null,""]
[null,null,"Iowa Department of Transporation",null,null,null,null,null,null,null,null,{"$f":"IF(AND(B171=TRUE,B172=TRUE,B173=TRUE,B174=TRUE),\"HIDE\",\"\")","v":""}]
[{"$f":"'Prelim Checklist'!A114","v":false},{"$f":"'Prelim Checklist'!B114","v":false},null,"Utility accomodation",null,null,null,null,null,null,null,{"$f":"IF(B171=TRUE,\"HIDE\",\"\")","v":""}]
[{"$f":"'Prelim Checklist'!A115","v":false},{"$f":"'Prelim Checklist'!B115","v":false},null,"Work in State highway right of way",null,null,null,null,null,null,null,""]
[{"$f":"'Prelim Checklist'!A116","v":false},{"$f":"'Prelim Checklist'!B116","v":false},null,"Traffic control device application",null,null,null,null,null,null,null,""]
[{"$f":"'Prelim Checklist'!A117","v":false},{"$f":"'Prelim Checklist'!B117","v":false},null,{"$f":"'Prelim Checklist'!D117","v":"[Other]"},null,null,null,null,null,null,null,""]
[null,null,"Linn County",null,null,null,null,null,null,null,null,{"$f":"IF(AND(B176=TRUE,B177=TRUE,B178=TRUE),\"HIDE\",\"\")","v":""}]
[{"$f":"'Prelim Checklist'!A119","v":false},{"$f":"'Prelim Checklist'!B119","v":false},null,"Work in County right of way",null,null,null,null,null,null,null,{"$f":"IF(B176=TRUE,\"HIDE\",\"\")","v":""}]
[{"$f":"'Prelim Checklist'!A120","v":false},{"$f":"'Prelim Checklist'!B120","v":false},null,"Utility accomodation",null,null,null,null,null,null,null,""]
[{"$f":"'Prelim Checklist'!A121","v":false},{"$f":"'Prelim Checklist'!B121","v":false},null,{"$f":"'Prelim Checklist'!D121","v":"[Other]"},null,null,null,null,null,null,null,{"$f":"IF(B178=TRUE,\"HIDE\",\"\")","v":""}]
[null,null,"FEMA",null,null,null,null,null,null,null,null,{"$f":"IF(AND(B180=TRUE,B181=TRUE),\"HIDE\",\"\")","v":""}]
[{"$f":"'Prelim Checklist'!A123","v":false},{"$f":"'Prelim Checklist'!B123","v":false},null,"Letter of Map Revision (LOMR)",null,null,null,null,null,null,null,{"$f":"IF(B180=TRUE,\"HIDE\",\"\")","v":""},"Required if the project would substantively alter the existing FEMA Flood Insurance Rate Map (FIRM), Flood Boundary Floodway Map (FBFM), or both"]
[{"$f":"'Prelim Checklist'!A124","v":false},{"$f":"'Prelim Checklist'!B124","v":false},null,{"$f":"'Prelim Checklist'!D124","v":"[Other]"},null,null,null,null,null,null,null,""]
[null,null,"City",null,null,null,null,null,null,null,null,{"$f":"IF(B183=TRUE,\"HIDE\",\"\")","v":""}]
[{"$f":"'Prelim Checklist'!A126","v":false},{"$f":"'Prelim Checklist'!B126","v":false},null,"Building",null,null,null,null,null,null,null,{"$f":"IF(B183=TRUE,\"HIDE\",\"\")","v":""}]
[null,null,"Other Permits",null,null,null,null,null,null,null,null,{"$f":"IF(AND(B185=TRUE,B186=TRUE),\"HIDE\",\"\")","v":""}]
[{"$f":"'Prelim Checklist'!A128","v":false},{"$f":"'Prelim Checklist'!B128","v":false},null,{"$f":"'Prelim Checklist'!D128","v":"[Name of permit]"},null,null,null,null,null,null,null,{"$f":"IF(B185=TRUE,\"HIDE\",\"\")","v":""}]
[{"$f":"'Prelim Checklist'!A129","v":false},{"$f":"'Prelim Checklist'!B129","v":false},null,{"$f":"'Prelim Checklist'!D129","v":"[Name of permit]"},null,null,null,null,null,null,null,""]
[null,null,null,null,null,null,null,null,null,null,null,{"$f":"IF(AND(B157=TRUE,B160=TRUE,B163=TRUE,B164=TRUE,B165=TRUE,B166=TRUE,B167=TRUE,B168=TRUE,B169=TRUE,B171=TRUE,B172=TRUE,B173=TRUE,B174=TRUE,B176=TRUE,B177=TRUE,B178=TRUE,B180=TRUE,B181=TRUE,B183=TRUE,B185=TRUE,B186=TRUE),\"HIDE\",\"\")","v":""}]
["Utility Coordination",null,null,null,null,null,null,null,null,null,null,{"$f":"IF(AND(B189=TRUE,B190=TRUE),\"HIDE\",\"\")","v":""}]
[false,{"$f":"IF('CIP Statement Form'!B342=TRUE,TRUE,FALSE)","v":false},"All easement needs for utility relocations identified",null,null,null,null,null,null,null,null,{"$f":"IF(B189=TRUE,\"HIDE\",\"\")","v":""}]
[false,{"$f":"IF('CIP Statement Form'!B342=TRUE,TRUE,FALSE)","v":false},"Utility conflicts have been addressed except for the following:",null,null,null,null,null,null,null,null,{"$f":"IF(B190=TRUE,\"HIDE\",\"\")","v":""}]
[null,null,"Utility",null,"Owner",null,"Describe Remaining Conflicts to Resolve",null,null,null,null,{"$f":"'CIP Statement Form'!L345","v":""}]
[null,null,{"$f":"'CIP Statement Form'!C346","v":0},null,{"$f":"'CIP Statement Form'!F346","v":0},null,null,null,null,null,null,{"$f":"'CIP Statement Form'!L346","v":""}]
[null,null,{"$f":"'CIP Statement Form'!C347","v":0},null,{"$f":"'CIP Statement Form'!F347","v":0},null,null,null,null,null,null,{"$f":"'CIP Statement Form'!L347","v":""}]
[null,null,{"$f":"'CIP Statement Form'!C348","v":0},null,{"$f":"'CIP Statement Form'!F348","v":0},null,null,null,null,null,null,{"$f":"'CIP Statement Form'!L348","v":""}]
[null,null,{"$f":"'CIP Statement Form'!C349","v":0},null,{"$f":"'CIP Statement Form'!F349","v":0},null,null,null,null,null,null,{"$f":"'CIP Statement Form'!L349","v":""}]
[null,null,{"$f":"'CIP Statement Form'!C350","v":0},null,{"$f":"'CIP Statement Form'!F350","v":0},null,null,null,null,null,null,{"$f":"'CIP Statement Form'!L350","v":""}]
[null,null,{"$f":"'CIP Statement Form'!C351","v":0},null,{"$f":"'CIP Statement Form'!F351","v":0},null,null,null,null,null,null,{"$f":"'CIP Statement Form'!L351","v":""}]
[null,null,{"$f":"'CIP Statement Form'!C352","v":0},null,{"$f":"'CIP Statement Form'!F352","v":0},null,null,null,null,null,null,{"$f":"'CIP Statement Form'!L352","v":""}]
[null,null,{"$f":"'CIP Statement Form'!C353","v":0},null,{"$f":"'CIP Statement Form'!F353","v":0},null,null,null,null,null,null,{"$f":"'CIP Statement Form'!L353","v":""}]
[null,null,{"$f":"'CIP Statement Form'!C354","v":0},null,{"$f":"'CIP Statement Form'!F354","v":0},null,null,null,null,null,null,{"$f":"'CIP Statement Form'!L354","v":""}]
[null,null,{"$f":"'CIP Statement Form'!C355","v":0},null,{"$f":"'CIP Statement Form'!F355","v":0},null,null,null,null,null,null,{"$f":"'CIP Statement Form'!L355","v":""}]
[null,null,{"$f":"'CIP Statement Form'!C356","v":0},null,{"$f":"'CIP Statement Form'!F356","v":0},null,null,null,null,null,null,{"$f":"'CIP Statement Form'!L356","v":""}]
[null,null,{"$f":"'CIP Statement Form'!C357","v":0},null,{"$f":"'CIP Statement Form'!F357","v":0},null,null,null,null,null,null,{"$f":"'CIP Statement Form'!L357","v":""}]
[null,null,{"$f":"'CIP Statement Form'!C358","v":0},null,{"$f":"'CIP Statement Form'!F358","v":0},null,null,null,null,null,null,{"$f":"'CIP Statement Form'!L358","v":""}]
[null,null,{"$f":"'CIP Statement Form'!C359","v":0},null,{"$f":"'CIP Statement Form'!F359","v":0},null,null,null,null,null,null,{"$f":"'CIP Statement Form'!L359","v":""}]
[null,null,{"$f":"'CIP Statement Form'!C360","v":0},null,{"$f":"'CIP Statement Form'!F360","v":0},null,null,null,null,null,null,{"$f":"'CIP Statement Form'!L360","v":""}]
[null,null,{"$f":"'CIP Statement Form'!C361","v":0},null,{"$f":"'CIP Statement Form'!F361","v":0},null,null,null,null,null,null,{"$f":"'CIP Statement Form'!L361","v":""}]
[null,null,{"$f":"'CIP Statement Form'!C362","v":0},null,{"$f":"'CIP Statement Form'!F362","v":0},null,null,null,null,null,null,{"$f":"'CIP Statement Form'!L362","v":""}]
[null,null,{"$f":"'CIP Statement Form'!C363","v":0},null,{"$f":"'CIP Statement Form'!F363","v":0},null,null,null,null,null,null,{"$f":"'CIP Statement Form'!L363","v":""}]
[null,null,{"$f":"'CIP Statement Form'!C364","v":0},null,{"$f":"'CIP Statement Form'!F364","v":0},null,null,null,null,null,null,{"$f":"'CIP Statement Form'!L364","v":""}]
[null,null,{"$f":"'CIP Statement Form'!C365","v":0},null,{"$f":"'CIP Statement Form'!F365","v":0},null,null,null,null,null,null,{"$f":"'CIP Statement Form'!L365","v":""}]
[null,null,null,null,null,null,null,null,null,null,null,{"$f":"IF(AND(B189=TRUE,B190=TRUE),\"HIDE\",\"\")","v":""}]
["Acquisition Information",null,null,null,null,null,null,null,null,null,null,{"$f":"IF(AND(B214=TRUE,B215=TRUE),\"HIDE\",\"\")","v":"HIDE"}]
[false,{"$f":"IF('CIP Statement Form'!A50=TRUE,FALSE,TRUE)","v":true},"Date Plats submitted to City PM:",null,null,null,null,null,null,null,null,{"$f":"IF(B214=TRUE,\"HIDE\",\"\")","v":"HIDE"}]
[false,{"$f":"IF('CIP Statement Form'!A50=TRUE,FALSE,TRUE)","v":true},"Date Plats submitted to Real Estate Mgr:",null,null,null,null,null,null,null,null,"HIDE"]
[null,null,null,null,null,null,null,null,null,null,null,{"$f":"IF(AND(B214=TRUE,B215=TRUE),\"HIDE\",\"\")","v":"HIDE"}]
[null,null,"All Plats Submitted Include:",null,null,null,null,null,null,null,null,{"$f":"IF(AND(B218=TRUE,B219=TRUE,B220=TRUE,B221=TRUE,B222=TRUE,B223=TRUE,B224=TRUE,B225=TRUE,B226=TRUE,B227=TRUE,B228=TRUE,B229=TRUE,B230=TRUE,B231=TRUE,B232=TRUE,B233=TRUE),\"HIDE\",\"\")","v":"HIDE"}]
[false,{"$f":"IF('CIP Statement Form'!A50=TRUE,FALSE,TRUE)","v":true},null,"Proposed name of the document/title block",null,null,null,null,null,null,null,{"$f":"IF(B218=TRUE,\"HIDE\",\"\")","v":"HIDE"},"Provide the name or title of the plat, which should include the descriptive verbiage regarding lot, block, subdivision, etc. Title of permanent easement plats shall include the easement purpose."]
[false,{"$f":"IF('CIP Statement Form'!A50=TRUE,FALSE,TRUE)","v":true},null,"North arrow",null,null,null,null,null,null,null,"HIDE","Provide a directional north arrow on the drawing."]
[false,{"$f":"IF('CIP Statement Form'!A50=TRUE,FALSE,TRUE)","v":true},null,"Scale",null,null,null,null,null,null,null,"HIDE","Show the scale of the drawing on the plat."]
[false,{"$f":"IF('CIP Statement Form'!A50=TRUE,FALSE,TRUE)","v":true},null,"Legal Description",null,null,null,null,null,null,null,"HIDE","Provide the full legal description of the lots or parcels of the subject site. Reference to only a book and page is not acceptable. Metes and bounds descriptions will be required for all right of way and permanent easement acquisitions. These descriptions shall comply with Section 355.9 of the Iowa code and shall be referenced from a physically monumented land line of two or more corners of the United States Public Land Survey System or two or more corners of an official recorded subdivision.\n"]
[false,{"$f":"IF('CIP Statement Form'!A50=TRUE,FALSE,TRUE)","v":true},null,"Location and Name of Abutting Streets, Right-of-Ways",null,null,null,null,null,null,null,"HIDE","Show any adjacent streets or right-of-way, and provide the street name on the drawing."]
[false,{"$f":"IF('CIP Statement Form'!A50=TRUE,FALSE,TRUE)","v":true},null,"Parcel Boundary",null,null,null,null,null,null,null,"HIDE","Show all parcel boundary lines, with applicable dimensions, including dimensions and angles or bearings, and reference to established survey monuments. All contiguous or abutting lots or parcels under the same ownership as the subject site shall be shown."]
[false,{"$f":"IF('CIP Statement Form'!A50=TRUE,FALSE,TRUE)","v":true},null,"Lot Area",null,null,null,null,null,null,null,"HIDE","Provide the total area of the lot or parcel by square footage."]
[false,{"$f":"IF('CIP Statement Form'!A50=TRUE,FALSE,TRUE)","v":true},null,"Adjoining Properties",null,null,null,null,null,null,null,"HIDE","All adjoining properties shall be identified and, where such adjoining properties are part of an official plat, the name of the plat shown."]
[false,{"$f":"IF('CIP Statement Form'!A50=TRUE,FALSE,TRUE)","v":true},null,"Existing Easements",null,null,null,null,null,null,null,"HIDE","Show dimensions and reference book and page number, if relevant. Note easement purpose."]
[false,{"$f":"IF('CIP Statement Form'!A50=TRUE,FALSE,TRUE)","v":true},null,"Proposed Easements",null,null,null,null,null,null,null,"HIDE","Provide copies of proposed easements for public water, sanitary and storm sewer as well as descriptions of the same."]
[false,{"$f":"IF('CIP Statement Form'!A50=TRUE,FALSE,TRUE)","v":true},null,"Control Monument Identification",null,null,null,null,null,null,null,"HIDE","The plat shall show the survey is tied to a physically monumented land line which is identified by two United States public land survey system corners, or by two physically monumented corners of a recorded subdivision."]
[false,{"$f":"IF('CIP Statement Form'!A50=TRUE,FALSE,TRUE)","v":true},null,"Plat Monuments",null,null,null,null,null,null,null,"HIDE","The plat shall show and identify all monuments necessary for the location of the parcel and shall indicate whether the monuments were found or placed."]
[false,{"$f":"IF('CIP Statement Form'!A50=TRUE,FALSE,TRUE)","v":true},null,"Public Land Survey Corners",null,null,null,null,null,null,null,"HIDE","If United States public land survey system corners control the land description, the corners shall be clearly identified on the plat, including a description of the Monumentation and shall indicate whether the monuments were found or placed."]
[false,{"$f":"IF('CIP Statement Form'!A50=TRUE,FALSE,TRUE)","v":true},null,"Applicable Lot Addresses",null,null,null,null,null,null,null,"HIDE","Show the lot address of the parcel or lot on the drawing."]
[false,{"$f":"IF('CIP Statement Form'!A50=TRUE,FALSE,TRUE)","v":true},null,"Property Owner(s) of Record",null,null,null,null,null,null,null,"HIDE","Include name and mailing address on the drawing. The ownership shall be listed the same as what is shown on the most recent warranty deed. All owners shall be listed."]
[false,{"$f":"IF('CIP Statement Form'!A50=TRUE,FALSE,TRUE)","v":true},null,"Plat Preparer",null,null,null,null,null,null,null,"HIDE","Include name, telephone number, and mailing address on the drawing. Include the date of the field work on the plat."]
[null,null,null,null,null,null,null,null,null,null,null,{"$f":"IF(AND(B218=TRUE,B219=TRUE,B220=TRUE,B221=TRUE,B222=TRUE,B223=TRUE,B224=TRUE,B225=TRUE,B226=TRUE,B227=TRUE,B228=TRUE,B229=TRUE,B230=TRUE,B231=TRUE,B232=TRUE,B233=TRUE),\"HIDE\",\"\")","v":"HIDE"}]
[null,null,"Acquisitions/Permanent Easements have all of the above PLUS:",null,null,null,null,null,null,null,null,{"$f":"IF(B236=TRUE,\"HIDE\",\"\")","v":""}]
[false,{"$f":"IF(AND('Prelim Checklist'!B87=TRUE,'Prelim Checklist'!B89=TRUE),FALSE,TRUE)","v":false},null,"Certification of a Licensed Land Surveyor",null,null,null,null,null,null,null,{"$f":"IF(B236=TRUE,\"HIDE\",\"\")","v":""},"The final copy of the plat shall have the Licensed Iowa Land Surveyor Certification Statement signed and dated."]
[null,null,null,null,null,null,null,null,null,null,null,{"$f":"IF(B236=TRUE,\"HIDE\",\"\")","v":""}]
[false,{"$f":"IF('CIP Statement Form'!A50=TRUE,FALSE,TRUE)","v":true},"Parcel Impact Details (PIDs) are included with the submission",null,null,null,null,null,null,null,null,{"$f":"IF(B238=TRUE,\"HIDE\",\"\")","v":"HIDE"},"These are simplified documents prepared for property owners to show them how construction and easements/acquisitions will impact them. Not required if impacts to property are negligible."]
[null,null,null,"PIDs submitted include:",null,null,null,null,null,null,null,{"$f":"IF(B238=TRUE,\"HIDE\",\"\")","v":"HIDE"}]
[false,{"$f":"IF('CIP Statement Form'!A50=TRUE,FALSE,TRUE)","v":true},null,"Applicable Lot Addresses",null,null,null,null,null,null,null,{"$f":"IF(B240=TRUE,\"HIDE\",\"\")","v":"HIDE"},"Show the lot address of the parcel or lot on the drawing."]
[false,{"$f":"IF('CIP Statement Form'!A50=TRUE,FALSE,TRUE)","v":true},null,"Aerial Photo",null,null,null,null,null,null,null,"HIDE","Include an aerial photo background."]
[false,{"$f":"IF('CIP Statement Form'!A50=TRUE,FALSE,TRUE)","v":true},null,"Property Owner(s) of Record",null,null,null,null,null,null,null,"HIDE","Include name and mailing address on the drawing. The ownership shall be listed the same as what is shown on the most recent warranty deed. All owners shall be listed."]
[false,{"$f":"IF('CIP Statement Form'!A50=TRUE,FALSE,TRUE)","v":true},null,"Location and Name of Abutting Streets, Right-of-Ways",null,null,null,null,null,null,null,"HIDE","Show any adjacent streets or right-of-way, and provide the street name on the drawing."]
[false,{"$f":"IF('CIP Statement Form'!A50=TRUE,FALSE,TRUE)","v":true},null,"Lot Area",null,null,null,null,null,null,null,"HIDE","Provide the total area of the lot or parcel by square footage."]
[false,{"$f":"IF('CIP Statement Form'!A50=TRUE,FALSE,TRUE)","v":true},null,"Existing Easements",null,null,null,null,null,null,null,"HIDE","Show dimensions and reference book and page number, if relevant. Note easement purpose."]
[false,{"$f":"IF('CIP Statement Form'!A50=TRUE,FALSE,TRUE)","v":true},null,"Proposed Easements",null,null,null,null,null,null,null,"HIDE","Show dimensions."]
[false,false,null,"Proposed Improvements",null,null,null,null,null,null,null,"","Such as back of curb, driveways, sidewalks, etc."]
[false,{"$f":"IF('CIP Statement Form'!A50=TRUE,FALSE,TRUE)","v":true},null,"Features in right-of-way",null,null,null,null,null,null,null,"HIDE","Note any features such as fences, rocks, trees, bushes, landscaping, flag poles, mail boxes, etc. and label as remove/replace/protect, as applicable."]
[false,{"$f":"IF('CIP Statement Form'!A50=TRUE,FALSE,TRUE)","v":true},null,"North arrow",null,null,null,null,null,null,null,"HIDE","Provide a directional north arrow on the drawing."]
[false,{"$f":"IF('CIP Statement Form'!A50=TRUE,FALSE,TRUE)","v":true},null,"Legend",null,null,null,null,null,null,null,"HIDE","For clarity, if relevant"]
[null,null,null,null,null,null,null,null,null,null,null,{"$f":"IF(B238=TRUE,\"HIDE\",\"\")","v":"HIDE"}]
["Intermediate Drawings Checklist"]
[]
["A Sheets – Items noted (*) must be on Title Sheet (first sheet of drawing set). All other items may be on subsequent A-Sheets",null,null,null,null,null,null,null,null,null,null,{"$f":"IF(B255=TRUE,\"HIDE\",\"\")","v":""}]
[false,false,"Engineers Certification Block(s)*: Unsigned and stamped “Preliminary,” ",null,null,null,null,null,null,null,null,{"$f":"IF(B255=TRUE,\"HIDE\",\"\")","v":""}]
[null,null,"\"Intermediate,\" or \"Check.\"",null,null,null,null,null,null,null,null,{"$f":"IF(B255=TRUE,\"HIDE\",\"\")","v":""}]
["D and E Sheets",null,null,null,null,null,null,null,null,null,null,{"$f":"IF(AND(B258=TRUE,B259=TRUE,B262=TRUE,B263=TRUE,B264=TRUE),\"HIDE\",\"\")","v":"HIDE"}]
[false,{"$f":"IF(OR('CIP Statement Form'!A20=TRUE,'CIP Statement Form'!A22=TRUE,'CIP Statement Form'!A29=TRUE,'CIP Statement Form'!A30=TRUE,'CIP Statement Form'!A31=TRUE,'CIP Statement Form'!A32=TRUE,'CIP Statement Form'!A35=TRUE,'CIP Statement Form'!A39=TRUE,'CIP Statement Form'!A42=TRUE),FALSE,TRUE)","v":true},"Centerline and critical gutter grade finalized and checked to ensure no ponding issues within intersections, on sidewalks or adjacent private property",null,null,null,null,null,null,null,null,{"$f":"IF(B258=TRUE,\"HIDE\",\"\")","v":"HIDE"}]
[false,{"$f":"IF(OR('CIP Statement Form'!A20=TRUE,'CIP Statement Form'!A22=TRUE,'CIP Statement Form'!A29=TRUE,'CIP Statement Form'!A30=TRUE,'CIP Statement Form'!A31=TRUE,'CIP Statement Form'!A32=TRUE,'CIP Statement Form'!A35=TRUE,'CIP Statement Form'!A39=TRUE,'CIP Statement Form'!A42=TRUE),FALSE,TRUE)","v":true},"Pavement cross slopes in vertical curbes adjusted from standard 2.5% cross slope, or ",null,null,null,null,null,null,null,null,{"$f":"IF(B259=TRUE,\"HIDE\",\"\")","v":"HIDE"}]
[null,null,"other approved measures taken to maintain minimum 0.5% gutter grades within ",null,null,null,null,null,null,null,null,{"$f":"IF(B259=TRUE,\"HIDE\",\"\")","v":"HIDE"}]
[null,null,"vertical curves",null,null,null,null,null,null,null,null,{"$f":"IF(B259=TRUE,\"HIDE\",\"\")","v":"HIDE"}]
[false,{"$f":"IF(OR('CIP Statement Form'!A20=TRUE,'CIP Statement Form'!A22=TRUE,'CIP Statement Form'!A29=TRUE,'CIP Statement Form'!A30=TRUE,'CIP Statement Form'!A31=TRUE,'CIP Statement Form'!A32=TRUE,'CIP Statement Form'!A35=TRUE,'CIP Statement Form'!A39=TRUE,'CIP Statement Form'!A42=TRUE),FALSE,TRUE)","v":true},"Project limits finalized and reflected in removal plan",null,null,null,null,null,null,null,null,{"$f":"IF(B262=TRUE,\"HIDE\",\"\")","v":"HIDE"}]
[false,{"$f":"IF(OR('CIP Statement Form'!A20=TRUE,'CIP Statement Form'!A22=TRUE,'CIP Statement Form'!A29=TRUE,'CIP Statement Form'!A30=TRUE,'CIP Statement Form'!A31=TRUE,'CIP Statement Form'!A32=TRUE,'CIP Statement Form'!A35=TRUE,'CIP Statement Form'!A39=TRUE,'CIP Statement Form'!A42=TRUE),FALSE,TRUE)","v":true},"Limits of work outside City right of way are finalized",null,null,null,null,null,null,null,null,"HIDE"]
[false,{"$f":"IF(OR('CIP Statement Form'!A20=TRUE,'CIP Statement Form'!A22=TRUE,'CIP Statement Form'!A29=TRUE,'CIP Statement Form'!A30=TRUE,'CIP Statement Form'!A31=TRUE,'CIP Statement Form'!A32=TRUE,'CIP Statement Form'!A35=TRUE,'CIP Statement Form'!A39=TRUE,'CIP Statement Form'!A42=TRUE),FALSE,TRUE)","v":true},"Slope lines are included",null,null,null,null,null,null,null,null,"HIDE"]
[null,null,null,null,null,null,null,null,null,null,null,{"$f":"IF(AND(B258=TRUE,B259=TRUE,B262=TRUE,B263=TRUE,B264=TRUE),\"HIDE\",\"\")","v":"HIDE"}]
["F Sheets",null,null,null,null,null,null,null,null,null,null,{"$f":"IF(B267=TRUE,\"HIDE\",\"\")","v":"HIDE"}]
[null,{"$f":"IF(OR('CIP Statement Form'!A24=TRUE,'CIP Statement Form'!A29=TRUE,'CIP Statement Form'!A30=TRUE,'CIP Statement Form'!A31=TRUE,'CIP Statement Form'!A35=TRUE,'CIP Statement Form'!A39=TRUE),FALSE,TRUE)","v":true},"Driveway profiles",null,null,null,null,null,null,null,null,{"$f":"IF(B267=TRUE,\"HIDE\",\"\")","v":"HIDE"}]
[null,null,null,null,null,null,null,null,null,null,null,{"$f":"IF(B267=TRUE,\"HIDE\",\"\")","v":"HIDE"}]
["H Sheets (first submittal)",null,null,null,null,null,null,null,null,null,null,{"$f":"IF(AND(B270=TRUE,B272=TRUE),\"HIDE\",\"\")","v":"HIDE"}]
[false,{"$f":"IF('CIP Statement Form'!A50=TRUE,FALSE,TRUE)","v":true},"Temporary Construction Easements extend sufficiently past physical work limits to ",null,null,null,null,null,null,null,null,{"$f":"IF(B270=TRUE,\"HIDE\",\"\")","v":"HIDE"}]
[null,null,"allow for completion of work (movement of equipment and materials, access)",null,null,null,null,null,null,null,null,{"$f":"IF(B270=TRUE,\"HIDE\",\"\")","v":"HIDE"}]
[false,{"$f":"IF('CIP Statement Form'!A50=TRUE,FALSE,TRUE)","v":true},"Boundaries and types of acquisitions identified in sheets",null,null,null,null,null,null,null,null,{"$f":"IF(B272=TRUE,\"HIDE\",\"\")","v":"HIDE"}]
[null,null,null,null,null,null,null,null,null,null,null,{"$f":"IF(AND(B270=TRUE,B272=TRUE),\"HIDE\",\"\")","v":"HIDE"}]
["J Sheets",null,null,null,null,null,null,null,null,null,null,{"$f":"IF(AND(B275=TRUE,B277=TRUE,B279=TRUE,B281=TRUE,B283=TRUE,B284=TRUE,B285=TRUE,B286=TRUE,B288=TRUE,B290=TRUE,B296=TRUE),\"HIDE\",\"\")","v":""}]
[false,false,"If required, Staging Plan addresses maintaining safe pedestrian access through ",null,null,null,null,null,null,null,null,{"$f":"IF(B275=TRUE,\"HIDE\",\"\")","v":""}]
[null,null,"project work areas. This may include detours/temporary walkways over excavations.",null,null,null,null,null,null,null,null,{"$f":"IF(B275=TRUE,\"HIDE\",\"\")","v":""}]
[false,false,"Staging Plan addresses required access to private properties within project work ",null,null,null,null,null,null,null,null,{"$f":"IF(B277=TRUE,\"HIDE\",\"\")","v":""}]
[null,null,"limits",null,null,null,null,null,null,null,null,{"$f":"IF(B277=TRUE,\"HIDE\",\"\")","v":""}]
[false,false,"Staging Plan coordinates with requirements in D-Sheets, E-Sheets, M-Sheets, ",null,null,null,null,null,null,null,null,{"$f":"IF(B279=TRUE,\"HIDE\",\"\")","v":""}]
[null,null,"N-Sheets, P-Sheets, S-Sheets and other contract drawings",null,null,null,null,null,null,null,null,{"$f":"IF(B279=TRUE,\"HIDE\",\"\")","v":""}]
[false,false,"Requirements for temporary traffic signals noted. Temporary Signal Layouts are in ",null,null,null,null,null,null,null,null,{"$f":"IF(B281=TRUE,\"HIDE\",\"\")","v":""}]
[null,null,"the N-Sheets. Provide note directing document users to N-Sheets.",null,null,null,null,null,null,null,null,{"$f":"IF(B281=TRUE,\"HIDE\",\"\")","v":""}]
[false,false,"Locations for temporary parking noted",null,null,null,null,null,null,null,null,{"$f":"IF(B283=TRUE,\"HIDE\",\"\")","v":""}]
[false,false,"Entrances where access during construction is required are noted.",null,null,null,null,null,null,null,null,""]
[false,false,"Advanced placement (i.e. prior to construction) signage noted.",null,null,null,null,null,null,null,null,""]
[false,false,"Locations for temporary mailboxes noted. Provide typical detail meeting USPS ",null,null,null,null,null,null,null,null,""]
[null,null,"requirements.",null,null,null,null,null,null,null,null,{"$f":"IF(B286=TRUE,\"HIDE\",\"\")","v":""}]
[false,{"$f":"IF(OR('CIP Statement Form'!A33=TRUE,'CIP Statement Form'!A44=TRUE),FALSE,TRUE)","v":true},"Plan included for maintaining sanitary sewer and water main service to residences or ",null,null,null,null,null,null,null,null,{"$f":"IF(B288=TRUE,\"HIDE\",\"\")","v":"HIDE"}]
[null,null,"businesses within project limits during installation and testing of new facilities",null,null,null,null,null,null,null,null,{"$f":"IF(B288=TRUE,\"HIDE\",\"\")","v":"HIDE"}]
[false,false,"Notes and General Information sheets show the following:",null,null,null,null,null,null,null,null,{"$f":"IF(B290=TRUE,\"HIDE\",\"\")","v":""}]
[null,null,null,"• General traffic control notes",null,null,null,null,null,null,null,{"$f":"IF(B290=TRUE,\"HIDE\",\"\")","v":""}]
[null,null,null,"• Stage/phase specific traffic control notes",null,null,null,null,null,null,null,{"$f":"IF(B290=TRUE,\"HIDE\",\"\")","v":""}]
[null,null,null,"• Summary table of traffic control signs and devices used during construction",null,null,null,null,null,null,null,{"$f":"IF(B290=TRUE,\"HIDE\",\"\")","v":""}]
[null,null,null,"• Legend showing sybols for signs, barricades, flow arrows, etc",null,null,null,null,null,null,null,{"$f":"IF(B290=TRUE,\"HIDE\",\"\")","v":""}]
[null,null,null,"• Legend shwoing temporary striping key/symbols (if applicable)",null,null,null,null,null,null,null,{"$f":"IF(B290=TRUE,\"HIDE\",\"\")","v":""}]
[false,false,"Traffic Control / Staging sheets include the following:",null,null,null,null,null,null,null,null,{"$f":"IF(B296=TRUE,\"HIDE\",\"\")","v":""}]
[null,null,null,"• Temporary traffic control devices/signs shown orientated as they would ",null,null,null,null,null,null,null,{"$f":"IF(B296=TRUE,\"HIDE\",\"\")","v":""}]
[null,null,null,"appear in the field. All signs and barridcades are to be showing in graphical ",null,null,null,null,null,null,null,{"$f":"IF(B296=TRUE,\"HIDE\",\"\")","v":""}]
[null,null,null,"format - no numbers or letters corresponding to a legend",null,null,null,null,null,null,null,{"$f":"IF(B296=TRUE,\"HIDE\",\"\")","v":""}]
[null,null,null,"• Detours (if applicable)",null,null,null,null,null,null,null,{"$f":"IF(B296=TRUE,\"HIDE\",\"\")","v":""}]
[null,null,null,"• Staged construction (if applicable)",null,null,null,null,null,null,null,{"$f":"IF(B296=TRUE,\"HIDE\",\"\")","v":""}]
[null,null,null,"• References to traffic signal modifications - temporary traffic signal plans or ",null,null,null,null,null,null,null,{"$f":"IF(B296=TRUE,\"HIDE\",\"\")","v":""}]
[null,null,null,"modifications to an existing traffic signal system shall be part of the N Sheets",null,null,null,null,null,null,null,{"$f":"IF(B296=TRUE,\"HIDE\",\"\")","v":""}]
[null,null,null,"• Flow arrows on each sheet that denote the direction of travel in work zone",null,null,null,null,null,null,null,{"$f":"IF(B296=TRUE,\"HIDE\",\"\")","v":""}]
[null,null,null,"• Only pertinent CAD layers turned on in the sheets",null,null,null,null,null,null,null,{"$f":"IF(B296=TRUE,\"HIDE\",\"\")","v":""}]
[null,null,null,"• Labels of all roadways shown",null,null,null,null,null,null,null,{"$f":"IF(B296=TRUE,\"HIDE\",\"\")","v":""}]
[null,null,null,null,null,null,null,null,null,null,null,{"$f":"IF(AND(B275=TRUE,B277=TRUE,B279=TRUE,B281=TRUE,B283=TRUE,B284=TRUE,B285=TRUE,B286=TRUE,B288=TRUE,B290=TRUE,B296=TRUE),\"HIDE\",\"\")","v":""}]
["L Sheets (first submittal)",null,null,null,null,null,null,null,null,null,null,{"$f":"IF(AND(B311=TRUE,B312=TRUE,B313=TRUE,B316=TRUE,B317=TRUE,B318=TRUE,B319=TRUE,B320=TRUE,B321=TRUE,B324=TRUE,B326=TRUE,B328=TRUE,B330=TRUE,B331=TRUE,B332=TRUE,B334=TRUE,B335=TRUE),\"HIDE\",\"\")","v":"HIDE"}]
[null,null,"Mainline centerline, top-of-slab and/or gutter grades at following locations across ",null,null,null,null,null,null,null,null,{"$f":"IF(AND(B311=TRUE,B312=TRUE,B313=TRUE),\"HIDE\",\"\")","v":"HIDE"}]
[null,null,"sidestreet intersection:",null,null,null,null,null,null,null,null,{"$f":"IF(AND(B311=TRUE,B312=TRUE,B313=TRUE),\"HIDE\",\"\")","v":"HIDE"}]
[false,{"$f":"IF(OR('CIP Statement Form'!A20=TRUE,'CIP Statement Form'!A22=TRUE,'CIP Statement Form'!A29=TRUE,'CIP Statement Form'!A30=TRUE,'CIP Statement Form'!A31=TRUE,'CIP Statement Form'!A32=TRUE,'CIP Statement Form'!A35=TRUE,'CIP Statement Form'!A39=TRUE,'CIP Statement Form'!A42=TRUE),FALSE,TRUE)","v":true},null,"Ends-of-radii",null,null,null,null,null,null,null,{"$f":"IF(B311=TRUE,\"HIDE\",\"\")","v":"HIDE"}]
[false,{"$f":"IF(OR('CIP Statement Form'!A20=TRUE,'CIP Statement Form'!A22=TRUE,'CIP Statement Form'!A29=TRUE,'CIP Statement Form'!A30=TRUE,'CIP Statement Form'!A31=TRUE,'CIP Statement Form'!A32=TRUE,'CIP Statement Form'!A35=TRUE,'CIP Statement Form'!A39=TRUE,'CIP Statement Form'!A42=TRUE),FALSE,TRUE)","v":true},null,"Crosswalks (refer to additional comments herein)",null,null,null,null,null,null,null,"HIDE"]
[false,{"$f":"IF(OR('CIP Statement Form'!A20=TRUE,'CIP Statement Form'!A22=TRUE,'CIP Statement Form'!A29=TRUE,'CIP Statement Form'!A30=TRUE,'CIP Statement Form'!A31=TRUE,'CIP Statement Form'!A32=TRUE,'CIP Statement Form'!A35=TRUE,'CIP Statement Form'!A39=TRUE,'CIP Statement Form'!A42=TRUE),FALSE,TRUE)","v":true},null,"Sidestreet gutter lines and centerline projected across mainline pavement",null,null,null,null,null,null,null,"HIDE"]
[null,null,"Sidestreet centerline, top-of-slab, gutter and/or top-of-curb grades at the following ",null,null,null,null,null,null,null,null,{"$f":"IF(AND(B316=TRUE,B317=TRUE,B318=TRUE,B319=TRUE,B320=TRUE),\"HIDE\",\"\")","v":"HIDE"}]
[null,null,"locations:",null,null,null,null,null,null,null,null,{"$f":"IF(AND(B316=TRUE,B317=TRUE,B318=TRUE,B319=TRUE,B320=TRUE),\"HIDE\",\"\")","v":"HIDE"}]
[false,{"$f":"IF(OR('CIP Statement Form'!A20=TRUE,'CIP Statement Form'!A22=TRUE,'CIP Statement Form'!A29=TRUE,'CIP Statement Form'!A30=TRUE,'CIP Statement Form'!A31=TRUE,'CIP Statement Form'!A32=TRUE,'CIP Statement Form'!A35=TRUE,'CIP Statement Form'!A39=TRUE,'CIP Statement Form'!A42=TRUE),FALSE,TRUE)","v":true},null,"Curb cuts for pedestrian ramps",null,null,null,null,null,null,null,{"$f":"IF(B316=TRUE,\"HIDE\",\"\")","v":"HIDE"}]
[false,{"$f":"IF(OR('CIP Statement Form'!A20=TRUE,'CIP Statement Form'!A22=TRUE,'CIP Statement Form'!A29=TRUE,'CIP Statement Form'!A30=TRUE,'CIP Statement Form'!A31=TRUE,'CIP Statement Form'!A32=TRUE,'CIP Statement Form'!A35=TRUE,'CIP Statement Form'!A39=TRUE,'CIP Statement Form'!A42=TRUE),FALSE,TRUE)","v":true},null,"Crosswalks",null,null,null,null,null,null,null,"HIDE"]
[false,{"$f":"IF(OR('CIP Statement Form'!A20=TRUE,'CIP Statement Form'!A22=TRUE,'CIP Statement Form'!A29=TRUE,'CIP Statement Form'!A30=TRUE,'CIP Statement Form'!A31=TRUE,'CIP Statement Form'!A32=TRUE,'CIP Statement Form'!A35=TRUE,'CIP Statement Form'!A39=TRUE,'CIP Statement Form'!A42=TRUE),FALSE,TRUE)","v":true},null,"Ends-of-radii",null,null,null,null,null,null,null,"HIDE"]
[false,{"$f":"IF(OR('CIP Statement Form'!A20=TRUE,'CIP Statement Form'!A22=TRUE,'CIP Statement Form'!A29=TRUE,'CIP Statement Form'!A30=TRUE,'CIP Statement Form'!A31=TRUE,'CIP Statement Form'!A32=TRUE,'CIP Statement Form'!A35=TRUE,'CIP Statement Form'!A39=TRUE,'CIP Statement Form'!A42=TRUE),FALSE,TRUE)","v":true},null,"At appropriate intervals past ends-of-radii to project limits",null,null,null,null,null,null,null,"HIDE"]
[false,{"$f":"IF(OR('CIP Statement Form'!A20=TRUE,'CIP Statement Form'!A22=TRUE,'CIP Statement Form'!A29=TRUE,'CIP Statement Form'!A30=TRUE,'CIP Statement Form'!A31=TRUE,'CIP Statement Form'!A32=TRUE,'CIP Statement Form'!A35=TRUE,'CIP Statement Form'!A39=TRUE,'CIP Statement Form'!A42=TRUE),FALSE,TRUE)","v":true},null,"Project limits",null,null,null,null,null,null,null,"HIDE"]
[false,{"$f":"IF(OR('CIP Statement Form'!A20=TRUE,'CIP Statement Form'!A22=TRUE,'CIP Statement Form'!A29=TRUE,'CIP Statement Form'!A30=TRUE,'CIP Statement Form'!A31=TRUE,'CIP Statement Form'!A32=TRUE,'CIP Statement Form'!A35=TRUE,'CIP Statement Form'!A39=TRUE,'CIP Statement Form'!A42=TRUE),FALSE,TRUE)","v":true},"Verify crosswalk cross-slopes or pedestrian path across return, whichever applies, ",null,null,null,null,null,null,null,null,"HIDE"]
[null,null,"comply with ADA requirements based on whether intersection leg has stop/yield ",null,null,null,null,null,null,null,null,{"$f":"IF(B321=TRUE,\"HIDE\",\"\")","v":"HIDE"}]
[null,null,"control, or is free-flowing.",null,null,null,null,null,null,null,null,{"$f":"IF(B321=TRUE,\"HIDE\",\"\")","v":"HIDE"}]
[false,{"$f":"IF(OR('CIP Statement Form'!A20=TRUE,'CIP Statement Form'!A22=TRUE,'CIP Statement Form'!A29=TRUE,'CIP Statement Form'!A30=TRUE,'CIP Statement Form'!A31=TRUE,'CIP Statement Form'!A32=TRUE,'CIP Statement Form'!A35=TRUE,'CIP Statement Form'!A39=TRUE,'CIP Statement Form'!A42=TRUE),FALSE,TRUE)","v":true},"Verify minimum gutter grades of 0.5 percent is maintained at all locations within an ",null,null,null,null,null,null,null,null,{"$f":"IF(B324=TRUE,\"HIDE\",\"\")","v":"HIDE"}]
[null,null,"intersection to reduce risk of on-street ponding.",null,null,null,null,null,null,null,null,{"$f":"IF(B324=TRUE,\"HIDE\",\"\")","v":"HIDE"}]
[false,{"$f":"IF(OR('CIP Statement Form'!A20=TRUE,'CIP Statement Form'!A22=TRUE,'CIP Statement Form'!A29=TRUE,'CIP Statement Form'!A30=TRUE,'CIP Statement Form'!A31=TRUE,'CIP Statement Form'!A32=TRUE,'CIP Statement Form'!A35=TRUE,'CIP Statement Form'!A39=TRUE,'CIP Statement Form'!A42=TRUE),FALSE,TRUE)","v":true},"Verify positive draining from adjacent sidewalks and pedestrian ramps to roadway ",null,null,null,null,null,null,null,null,{"$f":"IF(B326=TRUE,\"HIDE\",\"\")","v":"HIDE"}]
[null,null,"pavement.",null,null,null,null,null,null,null,null,{"$f":"IF(B326=TRUE,\"HIDE\",\"\")","v":"HIDE"}]
[false,{"$f":"IF(OR('CIP Statement Form'!A20=TRUE,'CIP Statement Form'!A22=TRUE,'CIP Statement Form'!A29=TRUE,'CIP Statement Form'!A30=TRUE,'CIP Statement Form'!A31=TRUE,'CIP Statement Form'!A32=TRUE,'CIP Statement Form'!A35=TRUE,'CIP Statement Form'!A39=TRUE,'CIP Statement Form'!A42=TRUE),FALSE,TRUE)","v":true},"Maximum transverse joint spacings appropriate for pavement thickness (typical ",null,null,null,null,null,null,null,null,{"$f":"IF(B328=TRUE,\"HIDE\",\"\")","v":"HIDE"}]
[null,null,"15-foot maximum)",null,null,null,null,null,null,null,null,{"$f":"IF(B328=TRUE,\"HIDE\",\"\")","v":"HIDE"}]
[false,{"$f":"IF(OR('CIP Statement Form'!A20=TRUE,'CIP Statement Form'!A22=TRUE,'CIP Statement Form'!A29=TRUE,'CIP Statement Form'!A30=TRUE,'CIP Statement Form'!A31=TRUE,'CIP Statement Form'!A32=TRUE,'CIP Statement Form'!A35=TRUE,'CIP Statement Form'!A39=TRUE,'CIP Statement Form'!A42=TRUE),FALSE,TRUE)","v":true},"Contraction dowel baskets included",null,null,null,null,null,null,null,null,{"$f":"IF(B330=TRUE,\"HIDE\",\"\")","v":"HIDE"}]
[false,{"$f":"IF(OR('CIP Statement Form'!A20=TRUE,'CIP Statement Form'!A22=TRUE,'CIP Statement Form'!A29=TRUE,'CIP Statement Form'!A30=TRUE,'CIP Statement Form'!A31=TRUE,'CIP Statement Form'!A32=TRUE,'CIP Statement Form'!A35=TRUE,'CIP Statement Form'!A39=TRUE,'CIP Statement Form'!A42=TRUE),FALSE,TRUE)","v":true},"Longitudinal joints generally coincide with lane lines",null,null,null,null,null,null,null,null,{"$f":"IF(B331=TRUE,\"HIDE\",\"\")","v":"HIDE"}]
[false,{"$f":"IF(OR('CIP Statement Form'!A20=TRUE,'CIP Statement Form'!A22=TRUE,'CIP Statement Form'!A29=TRUE,'CIP Statement Form'!A30=TRUE,'CIP Statement Form'!A31=TRUE,'CIP Statement Form'!A32=TRUE,'CIP Statement Form'!A35=TRUE,'CIP Statement Form'!A39=TRUE,'CIP Statement Form'!A42=TRUE),FALSE,TRUE)","v":true},"Longitudinal joints shown in these sheets coincide with joints shown in typical cross ",null,null,null,null,null,null,null,null,{"$f":"IF(B332=TRUE,\"HIDE\",\"\")","v":"HIDE"}]
[null,null,"sections in B-Sheets",null,null,null,null,null,null,null,null,{"$f":"IF(B332=TRUE,\"HIDE\",\"\")","v":"HIDE"}]
[false,{"$f":"IF(OR('CIP Statement Form'!A20=TRUE,'CIP Statement Form'!A22=TRUE,'CIP Statement Form'!A29=TRUE,'CIP Statement Form'!A30=TRUE,'CIP Statement Form'!A31=TRUE,'CIP Statement Form'!A32=TRUE,'CIP Statement Form'!A35=TRUE,'CIP Statement Form'!A39=TRUE,'CIP Statement Form'!A42=TRUE),FALSE,TRUE)","v":true},"Joint pattern coincides with staging plan.",null,null,null,null,null,null,null,null,{"$f":"IF(B334=TRUE,\"HIDE\",\"\")","v":"HIDE"}]
[false,{"$f":"IF(OR('CIP Statement Form'!A20=TRUE,'CIP Statement Form'!A22=TRUE,'CIP Statement Form'!A29=TRUE,'CIP Statement Form'!A30=TRUE,'CIP Statement Form'!A31=TRUE,'CIP Statement Form'!A32=TRUE,'CIP Statement Form'!A35=TRUE,'CIP Statement Form'!A39=TRUE,'CIP Statement Form'!A42=TRUE),FALSE,TRUE)","v":true},"Elevations where project improvements match existing facilities shown",null,null,null,null,null,null,null,null,"HIDE"]
[null,null,null,null,null,null,null,null,null,null,null,{"$f":"IF(AND(B311=TRUE,B312=TRUE,B313=TRUE,B316=TRUE,B317=TRUE,B318=TRUE,B319=TRUE,B320=TRUE,B321=TRUE,B324=TRUE,B326=TRUE,B328=TRUE,B330=TRUE,B331=TRUE,B332=TRUE,B334=TRUE,B335=TRUE),\"HIDE\",\"\")","v":"HIDE"}]
["M Sheets",null,null,null,null,null,null,null,null,null,null,{"$f":"IF(AND(B338=TRUE,B339=TRUE,B340=TRUE),\"HIDE\",\"\")","v":"HIDE"}]
[false,{"$f":"IF(OR('CIP Statement Form'!A33=TRUE,'CIP Statement Form'!A37=TRUE,'CIP Statement Form'!A44=TRUE),FALSE,TRUE)","v":true},"Pipe grade appropriate for design flows",null,null,null,null,null,null,null,null,{"$f":"IF(B338=TRUE,\"HIDE\",\"\")","v":"HIDE"}]
[false,{"$f":"IF('CIP Statement Form'!A44=TRUE,FALSE,TRUE)","v":true},"Water Main Details completed (either here or U Sheets)",null,null,null,null,null,null,null,null,"HIDE"]
[false,{"$f":"IF(OR('CIP Statement Form'!A33=TRUE,'CIP Statement Form'!A37=TRUE,'CIP Statement Form'!A44=TRUE),FALSE,TRUE)","v":true},"Services or sump pump connections addressed",null,null,null,null,null,null,null,null,"HIDE"]
[null,null,null,null,null,null,null,null,null,null,null,{"$f":"IF(AND(B338=TRUE,B339=TRUE,B340=TRUE),\"HIDE\",\"\")","v":"HIDE"}]
["N Sheets",null,null,null,null,null,null,null,null,null,null,{"$f":"IF(AND(B343=TRUE,B344=TRUE,B346=TRUE,B347=TRUE,B348=TRUE,B349=TRUE,B350=TRUE,B354=TRUE),\"HIDE\",\"\")","v":"HIDE"}]
[false,{"$f":"IF('CIP Statement Form'!A41=TRUE,FALSE,TRUE)","v":true},"Traffic signal detail sheets, general notes & signal layout are substantially complete",null,null,null,null,null,null,null,null,{"$f":"IF(B343=TRUE,\"HIDE\",\"\")","v":"HIDE"}]
[false,{"$f":"IF('CIP Statement Form'!A41=TRUE,FALSE,TRUE)","v":true},"Verify proposed signal footings, hand holes and controllers do not conflict with ",null,null,null,null,null,null,null,null,"HIDE"]
[null,null,"proposed sidewalk, pedestrian ramps or other installations",null,null,null,null,null,null,null,null,{"$f":"IF(B344=TRUE,\"HIDE\",\"\")","v":"HIDE"}]
[false,{"$f":"IF('CIP Statement Form'!A41=TRUE,FALSE,TRUE)","v":true},"Temporary signal installations detailed",null,null,null,null,null,null,null,null,{"$f":"IF(B346=TRUE,\"HIDE\",\"\")","v":"HIDE"}]
[false,{"$f":"IF('CIP Statement Form'!A41=TRUE,FALSE,TRUE)","v":true},"Pedestrian pushbutton stations, traffic signal poles, traffic signal pedestals shown",null,null,null,null,null,null,null,null,"HIDE"]
[false,{"$f":"IF('CIP Statement Form'!A41=TRUE,FALSE,TRUE)","v":true},"Typical as MUTCD designation for all permanent signs. Provide Detail for Special Signs",null,null,null,null,null,null,null,null,"HIDE"]
[false,{"$f":"IF('CIP Statement Form'!A41=TRUE,FALSE,TRUE)","v":true},"Field wiring diagram completed",null,null,null,null,null,null,null,null,"HIDE"]
[false,{"$f":"IF('CIP Statement Form'!A41=TRUE,FALSE,TRUE)","v":true},"Notes and General Information sheets include the following:",null,null,null,null,null,null,null,null,{"$f":"IF(B350=TRUE,\"HIDE\",\"\")","v":"HIDE"}]
[null,null,null,"• General notes",null,null,null,null,null,null,null,{"$f":"IF(B350=TRUE,\"HIDE\",\"\")","v":"HIDE"}]
[null,null,null,"• Standard City signal details",null,null,null,null,null,null,null,{"$f":"IF(B350=TRUE,\"HIDE\",\"\")","v":"HIDE"}]
[null,null,null,"• Layout legend",null,null,null,null,null,null,null,{"$f":"IF(B350=TRUE,\"HIDE\",\"\")","v":"HIDE"}]
[false,{"$f":"IF('CIP Statement Form'!A41=TRUE,FALSE,TRUE)","v":true},"Traffic Signal Layout sheets include the following:",null,null,null,null,null,null,null,null,{"$f":"IF(B354=TRUE,\"HIDE\",\"\")","v":"HIDE"}]
[null,null,null,"• The following should be shown and properly labeled - poles, mast arms, ",null,null,null,null,null,null,null,{"$f":"IF(B354=TRUE,\"HIDE\",\"\")","v":"HIDE"}]
[null,null,null,"pedestrian pushbutton stations, luminaries, handholes, conduit, cabinet(s), ",null,null,null,null,null,null,null,{"$f":"IF(B354=TRUE,\"HIDE\",\"\")","v":"HIDE"}]
[null,null,null,"detection devices, detection zones",null,null,null,null,null,null,null,{"$f":"IF(B354=TRUE,\"HIDE\",\"\")","v":"HIDE"}]
[null,null,null,"• Labels for all roadways shown in sheets",null,null,null,null,null,null,null,{"$f":"IF(B354=TRUE,\"HIDE\",\"\")","v":"HIDE"}]
[null,null,null,"• Posted speed limits shown in sheets",null,null,null,null,null,null,null,{"$f":"IF(B354=TRUE,\"HIDE\",\"\")","v":"HIDE"}]
[null,null,null,"• Labels and charts for all traffic signal heads and indications",null,null,null,null,null,null,null,{"$f":"IF(B354=TRUE,\"HIDE\",\"\")","v":"HIDE"}]
[null,null,null,"• Flow arrows showing direction of travel for each lane at the intersection(s)",null,null,null,null,null,null,null,{"$f":"IF(B354=TRUE,\"HIDE\",\"\")","v":"HIDE"}]
[null,null,null,"• Traffic signal phasing diagram",null,null,null,null,null,null,null,{"$f":"IF(B354=TRUE,\"HIDE\",\"\")","v":"HIDE"}]
[null,null,null,"• Pole and mast arm notes",null,null,null,null,null,null,null,{"$f":"IF(B354=TRUE,\"HIDE\",\"\")","v":"HIDE"}]
[null,null,null,null,null,null,null,null,null,null,null,{"$f":"IF(AND(B343=TRUE,B344=TRUE,B346=TRUE,B347=TRUE,B348=TRUE,B349=TRUE,B350=TRUE,B354=TRUE),\"HIDE\",\"\")","v":"HIDE"}]
["P Sheets",null,null,null,null,null,null,null,null,null,null,{"$f":"IF(AND(B366=TRUE,B367=TRUE,B368=TRUE,B369=TRUE,B375=TRUE,B383=TRUE),\"HIDE\",\"\")","v":"HIDE"}]
[false,{"$f":"IF(OR('CIP Statement Form'!A19=TRUE,'CIP Statement Form'!A20=TRUE,'CIP Statement Form'!A29=TRUE,'CIP Statement Form'!A30=TRUE,'CIP Statement Form'!A31=TRUE,'CIP Statement Form'!A32=TRUE,'CIP Statement Form'!A35=TRUE,'CIP Statement Form'!A39=TRUE,'CIP Statement Form'!A41=TRUE,'CIP Statement Form'!A42=TRUE),FALSE,TRUE)","v":true},"Signing/striping plan is substantially complete",null,null,null,null,null,null,null,null,{"$f":"IF(B366=TRUE,\"HIDE\",\"\")","v":"HIDE"}]
[false,{"$f":"IF(OR('CIP Statement Form'!A19=TRUE,'CIP Statement Form'!A20=TRUE,'CIP Statement Form'!A29=TRUE,'CIP Statement Form'!A30=TRUE,'CIP Statement Form'!A31=TRUE,'CIP Statement Form'!A32=TRUE,'CIP Statement Form'!A35=TRUE,'CIP Statement Form'!A39=TRUE,'CIP Statement Form'!A41=TRUE,'CIP Statement Form'!A42=TRUE),FALSE,TRUE)","v":true},"If the project is complex enough, signing and striping shown on separate sheets",null,null,null,null,null,null,null,null,"HIDE"]
[false,{"$f":"IF(OR('CIP Statement Form'!A19=TRUE,'CIP Statement Form'!A20=TRUE,'CIP Statement Form'!A29=TRUE,'CIP Statement Form'!A30=TRUE,'CIP Statement Form'!A31=TRUE,'CIP Statement Form'!A32=TRUE,'CIP Statement Form'!A35=TRUE,'CIP Statement Form'!A39=TRUE,'CIP Statement Form'!A41=TRUE,'CIP Statement Form'!A42=TRUE),FALSE,TRUE)","v":true},"Sign removal plan is separate from signing/striping plan",null,null,null,null,null,null,null,null,"HIDE"]
[false,{"$f":"IF(OR('CIP Statement Form'!A19=TRUE,'CIP Statement Form'!A20=TRUE,'CIP Statement Form'!A29=TRUE,'CIP Statement Form'!A30=TRUE,'CIP Statement Form'!A31=TRUE,'CIP Statement Form'!A32=TRUE,'CIP Statement Form'!A35=TRUE,'CIP Statement Form'!A39=TRUE,'CIP Statement Form'!A41=TRUE,'CIP Statement Form'!A42=TRUE),FALSE,TRUE)","v":true},"Notes and General Information sheets show the following:",null,null,null,null,null,null,null,null,"HIDE"]
[null,null,null,"• General notes",null,null,null,null,null,null,null,{"$f":"IF(B369=TRUE,\"HIDE\",\"\")","v":"HIDE"}]
[null,null,null,"• Space budgeted for signing and striping tabulations",null,null,null,null,null,null,null,{"$f":"IF(B369=TRUE,\"HIDE\",\"\")","v":"HIDE"}]
[null,null,null,"• Striping details for crosswalks, arrows and other legends included",null,null,null,null,null,null,null,{"$f":"IF(B369=TRUE,\"HIDE\",\"\")","v":"HIDE"}]
[null,null,null,"• Signing details for installation, etc included",null,null,null,null,null,null,null,{"$f":"IF(B369=TRUE,\"HIDE\",\"\")","v":"HIDE"}]
[null,null,null,"• Specialty sign details with letter type, size, spacing, etc included",null,null,null,null,null,null,null,{"$f":"IF(B369=TRUE,\"HIDE\",\"\")","v":"HIDE"}]
[false,{"$f":"IF(OR('CIP Statement Form'!A19=TRUE,'CIP Statement Form'!A20=TRUE,'CIP Statement Form'!A29=TRUE,'CIP Statement Form'!A30=TRUE,'CIP Statement Form'!A31=TRUE,'CIP Statement Form'!A32=TRUE,'CIP Statement Form'!A35=TRUE,'CIP Statement Form'!A39=TRUE,'CIP Statement Form'!A41=TRUE,'CIP Statement Form'!A42=TRUE),FALSE,TRUE)","v":true},"Signing/striping layout sheets include the following:",null,null,null,null,null,null,null,null,{"$f":"IF(B375=TRUE,\"HIDE\",\"\")","v":"HIDE"}]
[null,null,null,"• Legend (if applicable)",null,null,null,null,null,null,null,{"$f":"IF(B375=TRUE,\"HIDE\",\"\")","v":"HIDE"}]
[null,null,null,"• Labels for roadways shown on plan sheets",null,null,null,null,null,null,null,{"$f":"IF(B375=TRUE,\"HIDE\",\"\")","v":"HIDE"}]
[null,null,null,"• Only pertinent CAD layers are turned on",null,null,null,null,null,null,null,{"$f":"IF(B375=TRUE,\"HIDE\",\"\")","v":"HIDE"}]
[null,null,null,"• Only proposed geometry shown; mask out existing topo where applicable",null,null,null,null,null,null,null,{"$f":"IF(B375=TRUE,\"HIDE\",\"\")","v":"HIDE"}]
[null,null,null,"• Existing pavement markings are shown where construction matches existing",null,null,null,null,null,null,null,{"$f":"IF(B375=TRUE,\"HIDE\",\"\")","v":"HIDE"}]
[null,null,null,"• Signs shown in graphical format, orientated as they would appear in the field",null,null,null,null,null,null,null,{"$f":"IF(B375=TRUE,\"HIDE\",\"\")","v":"HIDE"}]
[null,null,null,"• Type and width of line called out for each pavement marking line",null,null,null,null,null,null,null,{"$f":"IF(B375=TRUE,\"HIDE\",\"\")","v":"HIDE"}]
[false,{"$f":"IF(OR('CIP Statement Form'!A19=TRUE,'CIP Statement Form'!A20=TRUE,'CIP Statement Form'!A29=TRUE,'CIP Statement Form'!A30=TRUE,'CIP Statement Form'!A31=TRUE,'CIP Statement Form'!A32=TRUE,'CIP Statement Form'!A35=TRUE,'CIP Statement Form'!A39=TRUE,'CIP Statement Form'!A41=TRUE,'CIP Statement Form'!A42=TRUE),FALSE,TRUE)","v":true},"Pavement marking materials, sign fabrication and sign post requirements addressed ",null,null,null,null,null,null,null,null,{"$f":"IF(B383=TRUE,\"HIDE\",\"\")","v":"HIDE"}]
[null,null,"either here as Plan Notes or in Project Manual",null,null,null,null,null,null,null,null,{"$f":"IF(B383=TRUE,\"HIDE\",\"\")","v":"HIDE"}]
[null,null,null,null,null,null,null,null,null,null,null,{"$f":"IF(AND(B366=TRUE,B367=TRUE,B368=TRUE,B369=TRUE,B375=TRUE,B383=TRUE),\"HIDE\",\"\")","v":"HIDE"}]
["Q Sheets",null,null,null,null,null,null,null,null,null,null,{"$f":"IF(B387=TRUE,\"HIDE\",\"\")","v":""}]
[false,false,"Removals identified",null,null,null,null,null,null,null,null,{"$f":"IF(B387=TRUE,\"HIDE\",\"\")","v":""}]
[null,null,null,null,null,null,null,null,null,null,null,{"$f":"IF(B387=TRUE,\"HIDE\",\"\")","v":""}]
["R Sheets",null,null,null,null,null,null,null,null,null,null,{"$f":"IF(B390=TRUE,\"HIDE\",\"\")","v":""}]
[false,false,"First draft of Storm Water Pollution Prevention Plan (SWPPP)",null,null,null,null,null,null,null,null,{"$f":"IF(B390=TRUE,\"HIDE\",\"\")","v":""}]
[null,null,null,null,null,null,null,null,null,null,null,{"$f":"IF(B390=TRUE,\"HIDE\",\"\")","v":""}]
["S Sheets (first submittal)",null,null,null,null,null,null,null,null,null,null,{"$f":"IF(AND(B393=TRUE,B395=TRUE),\"HIDE\",\"\")","v":"HIDE"}]
[false,{"$f":"IF(OR('CIP Statement Form'!A35=TRUE,'CIP Statement Form'!A42=TRUE),FALSE,TRUE)","v":true},"Sidewalk and ramp layouts at all intersections. Show locations of proposed traffic ",null,null,null,null,null,null,null,null,{"$f":"IF(B393=TRUE,\"HIDE\",\"\")","v":"HIDE"}]
[null,null,"signal fixtures (not conduits) and other utility fixtures.",null,null,null,null,null,null,null,null,{"$f":"IF(B393=TRUE,\"HIDE\",\"\")","v":"HIDE"}]
[false,{"$f":"IF(OR('CIP Statement Form'!A35=TRUE,'CIP Statement Form'!A42=TRUE),FALSE,TRUE)","v":true},"First draft at completing Sidewalk Compliance Details. Identify non-compliant ",null,null,null,null,null,null,null,null,{"$f":"IF(B395=TRUE,\"HIDE\",\"\")","v":"HIDE"}]
[null,null,"locations for review with City staff. Include recommendations to address ",null,null,null,null,null,null,null,null,{"$f":"IF(B395=TRUE,\"HIDE\",\"\")","v":"HIDE"}]
[null,null,"non-compliance.",null,null,null,null,null,null,null,null,{"$f":"IF(B395=TRUE,\"HIDE\",\"\")","v":"HIDE"}]
[null,null,null,null,null,null,null,null,null,null,null,{"$f":"IF(AND(B393=TRUE,B395=TRUE),\"HIDE\",\"\")","v":"HIDE"}]
["W Sheets (first submittal)",null,null,null,null,null,null,null,null,null,null,{"$f":"IF(B400=TRUE,\"HIDE\",\"\")","v":""}]
[false,false,"Mainline cross-sections, including grading, sidewalk benches and driveway profiles",null,null,null,null,null,null,null,null,{"$f":"IF(B400=TRUE,\"HIDE\",\"\")","v":""}]
[null,null,null,null,null,null,null,null,null,null,null,{"$f":"IF(B400=TRUE,\"HIDE\",\"\")","v":""}]
["X Sheets (first submittal)",null,null,null,null,null,null,null,null,null,null,{"$f":"IF(B403=TRUE,\"HIDE\",\"\")","v":""}]
[false,false,"Sidestreet cross-sections, including grading, sidewalk benches and driveway profiles",null,null,null,null,null,null,null,null,{"$f":"IF(B403=TRUE,\"HIDE\",\"\")","v":""}]
[null,null,null,null,null,null,null,null,null,null,null,{"$f":"IF(B403=TRUE,\"HIDE\",\"\")","v":""}]
["Y Sheets",null,null,null,null,null,null,null,null,null,null,{"$f":"IF(AND(B407=TRUE,B408=TRUE),\"HIDE\",\"\")","v":"HIDE"}]
[null,null,"Landscaping Plan (first submittal, if applicable)",null,null,null,null,null,null,null,null,{"$f":"IF(AND(B407=TRUE,B408=TRUE),\"HIDE\",\"\")","v":"HIDE"}]
[false,{"$f":"IF('CIP Statement Form'!A34=TRUE,FALSE,TRUE)","v":true},null,"Plan view",null,null,null,null,null,null,null,{"$f":"IF(B407=TRUE,\"HIDE\",\"\")","v":"HIDE"}]
[false,{"$f":"IF('CIP Statement Form'!A34=TRUE,FALSE,TRUE)","v":true},null,"Installation details",null,null,null,null,null,null,null,"HIDE"]

{"sheet":"Intermed Comments","index":6,"n_rows":13,"n_cols":16,"rows_kept":13,"cut":false,"hidden":false,"merged":[[0,0,0,15],[1,0,1,15],[2,1,2,5],[4,1,4,5],[4,6,4,12],[4,13,4,15]]}
[]
[{"$f":"\"Intermediate Design Comments\"&\" - \"&'CIP Statement Form'!E11","v":"Intermediate Design Comments - "}]
["Document Under Review:",null,null,null,null,null,"Backcheck Document:"]
[]
[null,"CITY COMMENTS",null,null,null,null,"DESIGNER RESPONSE",null,null,null,null,null,null,"DESIGNER QA/QC"]
[]
["COMMENT No.","REVIEWER","REVIEWER DISCIPLINE (Traffic, Sewer, etc)","PLAN SHEET No.","DATE OF ORIGINAL REVIEW COMMENT\nMM/DD/YY","ORIGINAL REVIEW COMMENT","RESPONDENT \nNAME","DATE OF RESPONSE\nMM/DD/YY","RESPONSE","CHANGE MADE","DIASGREE","NEED MORE INFO","CARRY FORWARD","CLOSED\nY / N","DATE\nMM/DD/YY","BACK CHECK COMMENT\n(Needed Only If NOT Closing Comment)"]
[]
[1]
[2]
[3]
[4]
[5]

{"sheet":"Final Checklist","index":7,"n_rows":196,"n_cols":13,"rows_kept":196,"cut":false,"hidden":false,"merged":[[135,2,135,3],[135,4,135,5],[135,6,135,10],[136,2,136,3],[136,4,136,5],[136,6,136,10],[133,2,133,3],[133,4,133,5],[133,6,133,10],[134,2,134,3],[134,4,134,5],[134,6,134,10],[131,2,131,3],[131,4,131,5],[131,6,131,10],[132,2,132,3],[132,4,132,5],[132,6,132,10],[129,2,129,3],[129,4,129,5],[129,6,129,10],[130,2,130,3],[130,4,130,5],[130,6,130,10],[127,2,127,3],[127,4,127,5],[127,6,127,10],[128,2,128,3],[128,4,128,5],[128,6,128,10],[125,2,125,3],[125,4,125,5],[125,6,125,10],[126,2,126,3],[126,4,126,5],[126,6,126,10],[124,2,124,3],[124,4,124,5],[124,6,124,10],[121,2,121,3],[121,4,121,5],[121,6,121,10],[122,2,122,3],[122,4,122,5],[122,6,122,10],[160,2,160,10],[163,2,163,10],[35,2,35,10],[56,2,56,10],[82,7,82,10],[83,7,83,10],[84,7,84,10],[85,7,85,10],[86,7,86,10],[87,7,87,10],[89,7,89,10],[90,7,90,10],[94,7,94,10],[119,2,119,3],[119,4,119,5],[119,6,119,10],[120,2,120,3],[120,4,120,5],[120,6,120,10],[117,2,117,3],[117,4,117,5],[117,6,117,10],[118,2,118,3],[123,6,123,10],[0,0,1,0],[0,1,1,1],[0,2,0,10],[151,0,151,10],[153,2,153,10],[147,2,147,10],[144,8,144,9],[67,5,67,10],[64,2,64,10],[36,2,36,10],[48,2,48,10],[58,2,58,10],[7,6,7,10],[8,6,8,10],[17,6,17,10],[101,7,101,10],[103,7,103,10],[116,6,116,10],[38,2,38,10],[16,8,16,10],[118,4,118,5],[118,6,118,10],[123,2,123,3],[123,4,123,5],[173,2,173,10],[68,2,68,5],[68,6,68,10],[69,2,69,5],[69,6,69,10],[70,2,70,5],[70,6,70,10],[71,2,71,5],[71,6,71,10],[168,2,168,10],[170,2,170,10],[77,7,77,10],[78,7,78,10],[81,7,81,10],[91,7,91,10],[92,7,92,10],[95,7,95,10],[96,7,96,10],[116,2,116,3],[116,4,116,5],[104,7,104,10],[98,7,98,10],[99,7,99,10],[165,2,165,10]]}
["Yes/Complete","N/A","                  FINAL PLANS CHECKLIST"]
[]
[]
[]
["Final Plans Submittals"]
[null,null,"The following items shall be included with your Final submission:"]
[false,null,null,"Final drawings (cover page signed by submitter and quality checker)"]
[null,null,null,null,"Designer Name:"]
[null,null,null,null,"QC'er name:"]
[null,null,null,"Final estimate of probable cost"]
[null,null,null,"Final Special Provisions"]
[null,null,null,"Updated Project Development Guide containing completed:"]
[null,false,null,null,"Intermediate Plan Comments",null,null,null,null,null,null,{"$f":"IF(B13=TRUE,\"HIDE\",\"\")","v":""}]
[null,null,null,null,"Final PlanChecklist"]
[null,null,null,null,"Rec to File (revised)"]
[true,null,null,null,"Project Manual Form (draft)"]
[null,null,"Expected letting date based on current progress:"]
[null,null,null,"If date has changed, why?:",null,null,null,null,null,null,null,{"$f":"IF(B17=TRUE,\"HIDE\",\"\")","v":""}]
[]
["Review of Intermediate Plan Comments"]
[false,false,"There are no Intermediate Plan Comments because the Final Plans are my first"]
[null,null,"submission. I have, however, completed both the Preliminary Checklist and"]
[null,null,"Intermediate Checklist, and included both as part of my Final submission."]
[]
[null,null,"Received comments on the Intermediate submission from City staff regarding:"]
[false,{"$f":"IF(A21=TRUE,TRUE,FALSE)","v":false},null,"Overall plan submission"]
[false,{"$f":"IF(A21=TRUE,TRUE,IF(OR('CIP Statement Form'!A20=TRUE,'CIP Statement Form'!A24=TRUE,'CIP Statement Form'!A29=TRUE,'CIP Statement Form'!A30=TRUE,'CIP Statement Form'!A31=TRUE,'CIP Statement Form'!A32=TRUE,'CIP Statement Form'!A35=TRUE,'CIP Statement Form'!A42=TRUE),FALSE,TRUE))","v":true},null,"Paving sheets",null,null,null,null,null,null,null,{"$f":"IF(B27=TRUE,\"HIDE\",\"\")","v":"HIDE"}]
[false,{"$f":"IF(A21=TRUE,TRUE,IF(OR('CIP Statement Form'!A33=TRUE,'CIP Statement Form'!A37=TRUE,'CIP Statement Form'!A38=TRUE,'CIP Statement Form'!A21=TRUE,'CIP Statement Form'!A23=TRUE,'CIP Statement Form'!A25=TRUE),FALSE,TRUE))","v":true},null,"Sanitary and storm sewer sheets",null,null,null,null,null,null,null,"HIDE"]
[false,{"$f":"IF(A21=TRUE,TRUE,IF('CIP Statement Form'!A44=TRUE,FALSE,TRUE))","v":true},null,"Water main sheets",null,null,null,null,null,null,null,"HIDE"]
[false,{"$f":"IF(A21=TRUE,TRUE,FALSE)","v":false},null,"Staging sheets",null,null,null,null,null,null,null,""]
[false,{"$f":"IF(A21=TRUE,TRUE,IF('CIP Statement Form'!A41=TRUE,FALSE,TRUE))","v":true},null,"Traffic signal sheets",null,null,null,null,null,null,null,"HIDE"]
[false,{"$f":"IF(A21=TRUE,TRUE,IF(OR('CIP Statement Form'!A20=TRUE,'CIP Statement Form'!A21=TRUE),FALSE,TRUE))","v":true},null,"Culvert / bridge sheets",null,null,null,null,null,null,null,"HIDE"]
[false,{"$f":"IF(A21=TRUE,TRUE,FALSE)","v":false},"All comments received have been documented in Intermediate Comments. ",null,null,null,null,null,null,null,null,""]
[null,null,"Feedback was addressed in the Final submission, or a justification for why a change ",null,null,null,null,null,null,null,null,{"$f":"IF(B33=TRUE,\"HIDE\",\"\")","v":""}]
[null,null,"was not made provided in Final Comments.",null,null,null,null,null,null,null,null,{"$f":"IF(B33=TRUE,\"HIDE\",\"\")","v":""}]
[false,false,"The project's current design accomplishes the original goals of the project",null,null,null,null,null,null,null,null,{"$f":"IF(B36=TRUE,\"HIDE\",\"\")","v":""}]
[false,{"$f":"IF(A21=TRUE,TRUE,FALSE)","v":false},"How have project requirements/scope changed since the Intermediate Plans ",null,null,null,null,null,null,null,null,""]
[null,null,"submission? (describe)",null,null,null,null,null,null,null,null,{"$f":"IF(B37=TRUE,\"HIDE\",\"\")","v":""}]
[null,null,null,null,null,null,null,null,null,null,null,{"$f":"IF(B37=TRUE,\"HIDE\",\"\")","v":""}]
[]
["Compliance with Design Criteria",null,null,null,null,null,null,null,null,null,null,{"$f":"IF(AND(B42=TRUE,B43=TRUE,B44=TRUE,B45=TRUE,B46=TRUE,B47=TRUE,B48=TRUE),\"HIDE\",\"\")","v":""}]
[false,false,"All remaining design issues have been addressed",null,null,null,null,null,null,null,null,{"$f":"IF(B42=TRUE,\"HIDE\",\"\")","v":""}]
[false,false,"All design exceptions have been vetted, documented and approved",null,null,null,null,null,null,null,null,""]
[false,false,"Design exceptions compiled and listed on the same plan sheet",null,null,null,null,null,null,null,null,""]
[false,false,"Drawings are ready for Engineer(s)-of-Record signature(s)",null,null,null,null,null,null,null,null,""]
[false,false,"Drawings are ready for City Departmental signatures",null,null,null,null,null,null,null,null,""]
[false,false,"Special Provisions written for Specifications",null,null,null,null,null,null,null,null,""]
[false,false,"Describe remaining concerns to be resolved:",null,null,null,null,null,null,null,null,""]
[null,null,null,null,null,null,null,null,null,null,null,{"$f":"IF(B48=TRUE,\"HIDE\",\"\")","v":""}]
[null,null,null,null,null,null,null,null,null,null,null,{"$f":"IF(AND(B42=TRUE,B43=TRUE,B44=TRUE,B45=TRUE,B46=TRUE,B47=TRUE,B48=TRUE),\"HIDE\",\"\")","v":""}]
["Stakeholder Communications",null,null,null,null,null,null,null,null,null,null,{"$f":"IF(AND(B52=TRUE,B53=TRUE,B54=TRUE,B55=TRUE,B58=TRUE),\"HIDE\",\"\")","v":""}]
[false,false,"Stakeholders are aware of tentative construction start date",null,null,null,null,null,null,null,null,{"$f":"IF(B52=TRUE,\"HIDE\",\"\")","v":""}]
[false,false,"Access requirements are clearly identified in drawings",null,null,null,null,null,null,null,null,""]
[false,{"$f":"IF('Intermed Checklist'!B119=TRUE,TRUE,FALSE)","v":false},"Disposition of privately owned items in right of way identified in drawings",null,null,null,null,null,null,null,null,""]
[false,false,"Resident accommodations identified in drawings and/or in Special Provisions.",null,null,null,null,null,null,null,null,""]
[null,null,"Describe:",null,null,null,null,null,null,null,null,{"$f":"IF(B55=TRUE,\"HIDE\",\"\")","v":""}]
[null,null,null,null,null,null,null,null,null,null,null,{"$f":"IF(B55=TRUE,\"HIDE\",\"\")","v":""}]
[false,false,"Describe remaining concerns to be resolved:",null,null,null,null,null,null,null,null,{"$f":"IF(B58=TRUE,\"HIDE\",\"\")","v":""}]
[null,null,null,null,null,null,null,null,null,null,null,{"$f":"IF(B58=TRUE,\"HIDE\",\"\")","v":""}]
[null,null,null,null,null,null,null,null,null,null,null,{"$f":"IF(AND(B52=TRUE,B53=TRUE,B54=TRUE,B55=TRUE,B58=TRUE),\"HIDE\",\"\")","v":""}]
["Preliminary Assessment Plat and Schedule",null,null,null,null,null,null,null,null,null,null,{"$f":"IF(AND(B62=TRUE,B63=TRUE,B64=TRUE),\"HIDE\",\"\")","v":"HIDE"}]
[false,{"$f":"IF('CIP Statement Form'!A53=TRUE,FALSE,TRUE)","v":true},"Preliminary Plat and Schedule approved by City Council",null,null,null,null,null,null,null,null,{"$f":"IF(B62=TRUE,\"HIDE\",\"\")","v":"HIDE"}]
[false,{"$f":"IF('CIP Statement Form'!A53=TRUE,FALSE,TRUE)","v":true},"Required assessment mailings have been sent",null,null,null,null,null,null,null,null,"HIDE","See Templates and Forms > Assessment Project - Preliminary on the FTP Site for template letter of notification"]
[false,{"$f":"IF('CIP Statement Form'!A53=TRUE,FALSE,TRUE)","v":true},"Possible future causes for amendments",null,null,null,null,null,null,null,null,"HIDE","e.g. A property owner/developer will likely contest the assessment amount"]
[null,null,null,null,null,null,null,null,null,null,null,{"$f":"IF(B64=TRUE,\"HIDE\",\"\")","v":"HIDE"}]
[null,null,null,null,null,null,null,null,null,null,null,{"$f":"IF(AND(B62=TRUE,B63=TRUE,B64=TRUE),\"HIDE\",\"\")","v":"HIDE"}]
["Railroad Issues",null,null,null,null,null,null,null,null,null,null,{"$f":"IF(AND(B68=TRUE,B69=TRUE),\"HIDE\",\"\")","v":"HIDE"}]
[{"$f":"'Intermed Checklist'!A147","v":false},{"$f":"'Intermed Checklist'!B147","v":true},"Railroad name(s)",null,null,{"$f":"'Intermed Checklist'!F147","v":0},null,null,null,null,null,{"$f":"IF(B68=TRUE,\"HIDE\",\"\")","v":"HIDE"}]
[{"$f":"'Intermed Checklist'!A148","v":false},{"$f":"'Intermed Checklist'!B148","v":true},"Right of Entry/Agreement",null,null,null,"Status as of [DATE]",null,null,null,null,"HIDE"]
[null,null,{"$f":"'Intermed Checklist'!C149","v":0},null,null,null,null,null,null,null,null,{"$f":"IF(B69=TRUE,\"HIDE\",\"\")","v":"HIDE"}]
[null,null,{"$f":"'Intermed Checklist'!C150","v":0},null,null,null,null,null,null,null,null,{"$f":"IF(B69=TRUE,\"HIDE\",\"\")","v":"HIDE"}]
[null,null,{"$f":"'Intermed Checklist'!C151","v":0},null,null,null,null,null,null,null,null,{"$f":"IF(B69=TRUE,\"HIDE\",\"\")","v":"HIDE"}]
[null,null,null,null,null,null,null,null,null,null,null,{"$f":"IF(AND(B68=TRUE,B69=TRUE),\"HIDE\",\"\")","v":"HIDE"}]
["Permits",null,null,null,null,null,null,null,null,null,null,{"$f":"IF(L78=\"HIDE\",\"HIDE\",\"\")","v":""}]
[false,{"$f":"IF('CIP Statement Form'!L219=\"HIDE\",TRUE,FALSE)","v":false},"Permits/approvals needed for construction have been obtained",null,null,null,null,null,null,null,null,{"$f":"IF(B75=TRUE,\"HIDE\",\"\")","v":""}]
[false,{"$f":"IF('CIP Statement Form'!L219=\"HIDE\",TRUE,FALSE)","v":false},"Approvals required from other departments obtained",null,null,null,null,null,null,null,null,""]
[false,{"$f":"IF('CIP Statement Form'!L219=\"HIDE\",TRUE,FALSE)","v":false},"Sufficient time remains prior to the late start date to obtain remaining permits",null,null,null,null,null,null,null,null,""]
[null,null,null,null,null,null,null,"Status Update",null,null,null,{"$f":"IF(AND(B79=TRUE,B82=TRUE,B83=TRUE,B84=TRUE,B85=TRUE,B86=TRUE,B87=TRUE,B88=TRUE,B90=TRUE,B91=TRUE,B92=TRUE,B93=TRUE,B95=TRUE,B96=TRUE,B97=TRUE,B99=TRUE,B100=TRUE,B102=TRUE,B104=TRUE,B105=TRUE),\"HIDE\",\"\")","v":""}]
[{"$f":"'Intermed Checklist'!A160","v":false},{"$f":"'Intermed Checklist'!B160","v":false},"Flood Plain / Streambanks",null,null,null,null,null,null,null,null,{"$f":"IF(B79=TRUE,\"HIDE\",\"\")","v":""}]
[null,null,null,"IDNR, Linn Co. & City each have their own permits",null,null,null,null,null,null,null,{"$f":"IF(B79=TRUE,\"HIDE\",\"\")","v":""}]
[null,null,"Iowa Department of Natural Resources",null,null,null,null,null,null,null,null,{"$f":"IF(B79=TRUE,\"HIDE\",\"\")","v":""}]
[{"$f":"'Intermed Checklist'!A163","v":false},{"$f":"'Intermed Checklist'!B163","v":false},null,"Water main construction",null,null,null,null,null,null,null,{"$f":"IF(B82=TRUE,\"HIDE\",\"\")","v":""}]
[{"$f":"'Intermed Checklist'!A164","v":false},{"$f":"'Intermed Checklist'!B164","v":false},null,"Sanitary sewer construction",null,null,null,null,null,null,null,""]
[{"$f":"'Intermed Checklist'!A165","v":false},{"$f":"'Intermed Checklist'!B165","v":false},null,"Fill placement in stream or river",null,null,null,null,null,null,null,""]
[{"$f":"'Intermed Checklist'!A166","v":false},{"$f":"'Intermed Checklist'!B166","v":false},null,"Stormwater discharge",null,null,null,null,null,null,null,""]
[{"$f":"'Intermed Checklist'!A167","v":false},{"$f":"'Intermed Checklist'!B167","v":false},null,"404 wetlands permit (IDNR/USACE)",null,null,null,null,null,null,null,""]
[{"$f":"'Intermed Checklist'!A168","v":false},{"$f":"'Intermed Checklist'!B168","v":false},null,"Bat survey",null,null,null,null,null,null,null,""]
[{"$f":"'Intermed Checklist'!A169","v":false},{"$f":"'Intermed Checklist'!B169","v":false},null,{"$f":"'Intermed Checklist'!D169","v":"[Other]"},null,null,null,null,null,null,null,""]
[null,null,"Iowa Department of Transporation"]
[{"$f":"'Intermed Checklist'!A171","v":false},{"$f":"'Intermed Checklist'!B171","v":false},null,"Utility accomodation",null,null,null,null,null,null,null,{"$f":"IF(B90=TRUE,\"HIDE\",\"\")","v":""}]
[{"$f":"'Intermed Checklist'!A172","v":false},{"$f":"'Intermed Checklist'!B172","v":false},null,"Work in State highway right of way",null,null,null,null,null,null,null,""]
[{"$f":"'Intermed Checklist'!A173","v":false},{"$f":"'Intermed Checklist'!B173","v":false},null,"Traffic control device application",null,null,null,null,null,null,null,""]
[{"$f":"'Intermed Checklist'!A174","v":false},{"$f":"'Intermed Checklist'!B174","v":false},null,{"$f":"'Intermed Checklist'!D174","v":"[Other]"},null,null,null,null,null,null,null,""]
[null,null,"Linn County"]
[{"$f":"'Intermed Checklist'!A176","v":false},{"$f":"'Intermed Checklist'!B176","v":false},null,"Work in County right of way",null,null,null,null,null,null,null,{"$f":"IF(B95=TRUE,\"HIDE\",\"\")","v":""}]
[{"$f":"'Intermed Checklist'!A177","v":false},{"$f":"'Intermed Checklist'!B177","v":false},null,"Utility accomodation",null,null,null,null,null,null,null,""]
[{"$f":"'Intermed Checklist'!A178","v":false},{"$f":"'Intermed Checklist'!B178","v":false},null,{"$f":"'Intermed Checklist'!D178","v":"[Other]"},null,null,null,null,null,null,null,""]
[null,null,"FEMA"]
[{"$f":"'Intermed Checklist'!A180","v":false},{"$f":"'Intermed Checklist'!B180","v":false},null,"Letter of Map Revision (LOMR)",null,null,null,null,null,null,null,{"$f":"IF(B99=TRUE,\"HIDE\",\"\")","v":""},"Required if the project would substantively alter the existing FEMA Flood Insurance Rate Map (FIRM), Flood Boundary Floodway Map (FBFM), or both"]
[{"$f":"'Intermed Checklist'!A181","v":false},{"$f":"'Intermed Checklist'!B181","v":false},null,{"$f":"'Intermed Checklist'!D181","v":"[Other]"},null,null,null,null,null,null,null,""]
[null,null,"City"]
[{"$f":"'Intermed Checklist'!A183","v":false},{"$f":"'Intermed Checklist'!B183","v":false},null,"Building",null,null,null,null,null,null,null,{"$f":"IF(B102=TRUE,\"HIDE\",\"\")","v":""}]
[null,null,"Other Permits"]
[{"$f":"'Intermed Checklist'!A185","v":false},{"$f":"'Intermed Checklist'!B185","v":false},null,{"$f":"'Intermed Checklist'!D185","v":"[Name of permit]"},null,null,null,null,null,null,null,{"$f":"IF(B104=TRUE,\"HIDE\",\"\")","v":""}]
[{"$f":"'Intermed Checklist'!A186","v":false},{"$f":"'Intermed Checklist'!B186","v":false},null,{"$f":"'Intermed Checklist'!D186","v":"[Name of permit]"},null,null,null,null,null,null,null,""]
[null,null,null,null,null,null,null,null,null,null,null,{"$f":"IF(L78=\"HIDE\",\"HIDE\",\"\")","v":""}]
["Utility Coordination",null,null,null,null,null,null,null,null,null,null,{"$f":"IF(AND(B108=TRUE,B109=TRUE,B110=TRUE,B111=TRUE,B113=TRUE,B114=TRUE,B115=TRUE,B116=TRUE),\"HIDE\",\"\")","v":""}]
[false,{"$f":"IF('CIP Statement Form'!B342=TRUE,TRUE,FALSE)","v":false},"Design locates renewed if significant time has passed since original locates",null,null,null,null,null,null,null,null,{"$f":"IF(B108=TRUE,\"HIDE\",\"\")","v":""}]
[false,{"$f":"IF('CIP Statement Form'!B342=TRUE,TRUE,FALSE)","v":false},"All known utilities identified in drawings",null,null,null,null,null,null,null,null,""]
[false,{"$f":"IF('CIP Statement Form'!B342=TRUE,TRUE,FALSE)","v":false},"Utilities to remain in place identified in drawings",null,null,null,null,null,null,null,null,""]
[false,{"$f":"IF('CIP Statement Form'!B342=TRUE,TRUE,FALSE)","v":false},"Original and proposed locations for utilities to be moved by contractor identified ",null,null,null,null,null,null,null,null,""]
[null,null,"in drawings",null,null,null,null,null,null,null,null,{"$f":"IF(B111=TRUE,\"HIDE\",\"\")","v":""}]
[false,{"$f":"IF('CIP Statement Form'!B342=TRUE,TRUE,FALSE)","v":false},"Utility relocation schedule determined and agreed to by utilities",null,null,null,null,null,null,null,null,{"$f":"IF(B113=TRUE,\"HIDE\",\"\")","v":""}]
[false,{"$f":"IF('CIP Statement Form'!B342=TRUE,TRUE,FALSE)","v":false},"Utilities to be relocated by others during construction identified in drawings",null,null,null,null,null,null,null,null,""]
[false,{"$f":"IF('CIP Statement Form'!B342=TRUE,TRUE,FALSE)","v":false},"If utility service lines are included, permit records checked for recent replacements",null,null,null,null,null,null,null,null,"","Guards against the possibility the property owner replaced a service line themselves between the beginning of design and now"]
[false,{"$f":"IF('CIP Statement Form'!B342=TRUE,TRUE,FALSE)","v":false},"All known utility conflicts addressed, except for the following:",null,null,null,null,null,null,null,null,{"$f":"IF(B116=TRUE,\"HIDE\",\"\")","v":""}]
[null,null,"Utility",null,"Owner",null,"Describe Remaining Conflicts to Resolve",null,null,null,null,{"$f":"'CIP Statement Form'!L345","v":""}]
[null,null,{"$f":"'CIP Statement Form'!C346","v":0},null,{"$f":"'CIP Statement Form'!F346","v":0},null,null,null,null,null,null,{"$f":"'CIP Statement Form'!L346","v":""}]
[null,null,{"$f":"'CIP Statement Form'!C347","v":0},null,{"$f":"'CIP Statement Form'!F347","v":0},null,null,null,null,null,null,{"$f":"'CIP Statement Form'!L347","v":""}]
[null,null,{"$f":"'CIP Statement Form'!C348","v":0},null,{"$f":"'CIP Statement Form'!F348","v":0},null,null,null,null,null,null,{"$f":"'CIP Statement Form'!L348","v":""}]
[null,null,{"$f":"'CIP Statement Form'!C349","v":0},null,{"$f":"'CIP Statement Form'!F349","v":0},null,null,null,null,null,null,{"$f":"'CIP Statement Form'!L349","v":""}]
[null,null,{"$f":"'CIP Statement Form'!C350","v":0},null,{"$f":"'CIP Statement Form'!F350","v":0},null,null,null,null,null,null,{"$f":"'CIP Statement Form'!L350","v":""}]
[null,null,{"$f":"'CIP Statement Form'!C351","v":0},null,{"$f":"'CIP Statement Form'!F351","v":0},null,null,null,null,null,null,{"$f":"'CIP Statement Form'!L351","v":""}]
[null,null,{"$f":"'CIP Statement Form'!C352","v":0},null,{"$f":"'CIP Statement Form'!F352","v":0},null,null,null,null,null,null,{"$f":"'CIP Statement Form'!L352","v":""}]
[null,null,{"$f":"'CIP Statement Form'!C353","v":0},null,{"$f":"'CIP Statement Form'!F353","v":0},null,null,null,null,null,null,{"$f":"'CIP Statement Form'!L353","v":""}]
[null,null,{"$f":"'CIP Statement Form'!C354","v":0},null,{"$f":"'CIP Statement Form'!F354","v":0},null,null,null,null,null,null,{"$f":"'CIP Statement Form'!L354","v":""}]
[null,null,{"$f":"'CIP Statement Form'!C355","v":0},null,{"$f":"'CIP Statement Form'!F355","v":0},null,null,null,null,null,null,{"$f":"'CIP Statement Form'!L355","v":""}]
[null,null,{"$f":"'CIP Statement Form'!C356","v":0},null,{"$f":"'CIP Statement Form'!F356","v":0},null,null,null,null,null,null,{"$f":"'CIP Statement Form'!L356","v":""}]
[null,null,{"$f":"'CIP Statement Form'!C357","v":0},null,{"$f":"'CIP Statement Form'!F357","v":0},null,null,null,null,null,null,{"$f":"'CIP Statement Form'!L357","v":""}]
[null,null,{"$f":"'CIP Statement Form'!C358","v":0},null,{"$f":"'CIP Statement Form'!F358","v":0},null,null,null,null,null,null,{"$f":"'CIP Statement Form'!L358","v":""}]
[null,null,{"$f":"'CIP Statement Form'!C359","v":0},null,{"$f":"'CIP Statement Form'!F359","v":0},null,null,null,null,null,null,{"$f":"'CIP Statement Form'!L359","v":""}]
[null,null,{"$f":"'CIP Statement Form'!C360","v":0},null,{"$f":"'CIP Statement Form'!F360","v":0},null,null,null,null,null,null,{"$f":"'CIP Statement Form'!L360","v":""}]
[null,null,{"$f":"'CIP Statement Form'!C361","v":0},null,{"$f":"'CIP Statement Form'!F361","v":0},null,null,null,null,null,null,{"$f":"'CIP Statement Form'!L361","v":""}]
[null,null,{"$f":"'CIP Statement Form'!C362","v":0},null,{"$f":"'CIP Statement Form'!F362","v":0},null,null,null,null,null,null,{"$f":"'CIP Statement Form'!L362","v":""}]
[null,null,{"$f":"'CIP Statement Form'!C363","v":0},null,{"$f":"'CIP Statement Form'!F363","v":0},null,null,null,null,null,null,{"$f":"'CIP Statement Form'!L363","v":""}]
[null,null,{"$f":"'CIP Statement Form'!C364","v":0},null,{"$f":"'CIP Statement Form'!F364","v":0},null,null,null,null,null,null,{"$f":"'CIP Statement Form'!L364","v":""}]
[null,null,{"$f":"'CIP Statement Form'!C365","v":0},null,{"$f":"'CIP Statement Form'!F365","v":0},null,null,null,null,null,null,{"$f":"'CIP Statement Form'!L365","v":""}]
[null,null,null,null,null,null,null,null,null,null,null,{"$f":"IF(B116=TRUE,\"HIDE\",\"\")","v":""}]
["Acquisition Information",null,null,null,null,null,null,null,null,null,null,{"$f":"IF(AND(B141=TRUE,B142=TRUE,B145=TRUE,B146=TRUE,B147=TRUE),\"HIDE\",\"\")","v":"HIDE"}]
[null,null,null,null,null,null,"Full Acq.","Fee Title","Perm Esmt","Temp Esmt",null,{"$f":"IF(AND(B141=TRUE,B142=TRUE),\"HIDE\",\"\")","v":"HIDE"},"Full acquisition = purchasing the whole property; Fee Title = purchasing a strip of land from a property; Permanent Easement = portion of private property reserved for specific use in perpetuity; Temporary Easement = portion of private property reserved for temporary use, typically construction activities."]
[false,{"$f":"IF('CIP Statement Form'!A50=TRUE,FALSE,TRUE)","v":true},"# of parcels impacted",null,null,null,null,null,null,null,null,{"$f":"IF(B141=TRUE,\"HIDE\",\"\")","v":"HIDE"}]
[false,{"$f":"IF('CIP Statement Form'!A50=TRUE,FALSE,TRUE)","v":true},"Completed to date",null,null,null,null,null,null,null,null,"HIDE"]
[null,null,"Remaining parcels",null,null,null,{"$f":"G141-G142","v":0},{"$f":"H141-H142","v":0},0,0,null,{"$f":"IF(AND(B141=TRUE,B142=TRUE),\"HIDE\",\"\")","v":"HIDE"}]
[null,null,null,null,null,null,null,null,null,null,null,{"$f":"IF(AND(B141=TRUE,B142=TRUE),\"HIDE\",\"\")","v":"HIDE"}]
[false,{"$f":"IF('CIP Statement Form'!A50=TRUE,FALSE,TRUE)","v":true},"Number of parcels requiring condemnation",null,null,null,null,null,null,null,null,{"$f":"IF(B145=TRUE,\"HIDE\",\"\")","v":"HIDE"},"\"Condemnation\" is the formal process of using eminent domain on a property/portion of a property. "]
[false,{"$f":"IF(B145=TRUE,TRUE,FALSE)","v":true},"Condemnation proceedings scheduled/complete",null,null,null,null,null,null,null,null,"HIDE"]
[false,{"$f":"IF('CIP Statement Form'!A50=TRUE,FALSE,TRUE)","v":true},"Describe remaining concerns to be resolved:",null,null,null,null,null,null,null,null,"HIDE"]
[null,null,null,null,null,null,null,null,null,null,null,{"$f":"IF(B147=TRUE,\"HIDE\",\"\")","v":"HIDE"}]
[null,null,null,null,null,null,null,null,null,null,null,{"$f":"IF(AND(B141=TRUE,B142=TRUE,B145=TRUE,B146=TRUE,B147=TRUE),\"HIDE\",\"\")","v":"HIDE"}]
["Final Drawings Checklist"]
[]
["A Sheets – Items noted (*) must be on Title Sheet (first sheet of drawing set). All other items may be on ",null,null,null,null,null,null,null,null,null,null,{"$f":"IF(B154=TRUE,\"HIDE\",\"\")","v":""}]
["subsequent A-Sheets",null,null,null,null,null,null,null,null,null,null,{"$f":"IF(B154=TRUE,\"HIDE\",\"\")","v":""}]
[false,false,"Engineers Certification Block(s)*: Unsigned and stamped \"Check,\" \"Check Final\" or ",null,null,null,null,null,null,null,null,{"$f":"IF(B154=TRUE,\"HIDE\",\"\")","v":""}]
[null,null,"similar.",null,null,null,null,null,null,null,null,{"$f":"IF(B154=TRUE,\"HIDE\",\"\")","v":""}]
[null,null,null,null,null,null,null,null,null,null,null,{"$f":"IF(B154=TRUE,\"HIDE\",\"\")","v":""}]
["C Sheets",null,null,null,null,null,null,null,null,null,null,{"$f":"IF(AND(B158=TRUE,B159=TRUE,B160=TRUE,B161=TRUE,B164=TRUE,B166=TRUE),\"HIDE\",\"\")","v":""}]
[false,false,"Estimate Reference Information included",null,null,null,null,null,null,null,null,{"$f":"IF(B158=TRUE,\"HIDE\",\"\")","v":""}]
[false,false,"Item Tabulations, including breakdown by funding sources.",null,null,null,null,null,null,null,null,""]
[false,false,"Tabulation of Special Events (from Property Access and Impact Surveys)",null,null,null,null,null,null,null,null,""]
[false,false,"Tabulation of entrances requiring access, and/or requiring reconstruction ",null,null,null,null,null,null,null,null,""]
[null,null,"half-at-a-time (may be on J-Sheets in lieu of here, but provide note advising where ",null,null,null,null,null,null,null,null,{"$f":"IF(B161=TRUE,\"HIDE\",\"\")","v":""}]
[null,null,"to find it)",null,null,null,null,null,null,null,null,{"$f":"IF(B161=TRUE,\"HIDE\",\"\")","v":""}]
[false,false,"Tabulation of entrances where full closure is allowed, including allowable closure days, ",null,null,null,null,null,null,null,null,{"$f":"IF(B164=TRUE,\"HIDE\",\"\")","v":""}]
[null,null,"if applicable.",null,null,null,null,null,null,null,null,{"$f":"IF(B164=TRUE,\"HIDE\",\"\")","v":""}]
[false,{"$f":"IF('Intermed Checklist'!B366=TRUE,FALSE,TRUE)","v":false},"Tabulation for permanent pavement markings completed",null,null,null,null,null,null,null,null,{"$f":"IF(B166=TRUE,\"HIDE\",\"\")","v":""}]
[null,null,null,null,null,null,null,null,null,null,null,{"$f":"IF(AND(B158=TRUE,B159=TRUE,B160=TRUE,B161=TRUE,B164=TRUE,B166=TRUE),\"HIDE\",\"\")","v":""}]
["M Sheets",null,null,null,null,null,null,null,null,null,null,{"$f":"IF(AND(B169=TRUE,B171=TRUE,B173=TRUE,B174=TRUE),\"HIDE\",\"\")","v":"HIDE"}]
[false,{"$f":"IF(OR('CIP Statement Form'!A33=TRUE,'CIP Statement Form'!A37=TRUE),FALSE,TRUE)","v":true},"Storm Sewer / Sanitary Sewer Pipe Tabulation, including pipe sizes, lengths, ",null,null,null,null,null,null,null,null,{"$f":"IF(B169=TRUE,\"HIDE\",\"\")","v":"HIDE"}]
[null,null,"elevations and grades.",null,null,null,null,null,null,null,null,{"$f":"IF(B169=TRUE,\"HIDE\",\"\")","v":"HIDE"}]
[false,{"$f":"IF(OR('CIP Statement Form'!A33=TRUE,'CIP Statement Form'!A37=TRUE),FALSE,TRUE)","v":true},"Storm Sewer / Sanitary Sewer Structure Tabulation, including station / offset, ",null,null,null,null,null,null,null,null,{"$f":"IF(B171=TRUE,\"HIDE\",\"\")","v":"HIDE"}]
[null,null,"elevations and type.",null,null,null,null,null,null,null,null,{"$f":"IF(B171=TRUE,\"HIDE\",\"\")","v":"HIDE"}]
[false,{"$f":"IF('CIP Statement Form'!A44=TRUE,FALSE,TRUE)","v":true},"Water Main Tabulations correspond with bid items",null,null,null,null,null,null,null,null,{"$f":"IF(B173=TRUE,\"HIDE\",\"\")","v":"HIDE"}]
[false,{"$f":"IF(OR('CIP Statement Form'!A33=TRUE,'CIP Statement Form'!A37=TRUE,'CIP Statement Form'!A44=TRUE),FALSE,TRUE)","v":true},"Temporary installations (either mains or services) identified if required. Specify as ",null,null,null,null,null,null,null,null,"HIDE"]
[null,null,"incidental or provide pay item, depending on required effort.",null,null,null,null,null,null,null,null,{"$f":"IF(B174=TRUE,\"HIDE\",\"\")","v":"HIDE"}]
[null,null,null,null,null,null,null,null,null,null,null,{"$f":"IF(AND(B169=TRUE,B171=TRUE,B173=TRUE,B174=TRUE),\"HIDE\",\"\")","v":"HIDE"}]
["N Sheets",null,null,null,null,null,null,null,null,null,null,{"$f":"IF(B178=TRUE,\"HIDE\",\"\")","v":"HIDE"}]
[false,{"$f":"IF(OR('CIP Statement Form'!A19=TRUE,'CIP Statement Form'!A20=TRUE,'CIP Statement Form'!A29=TRUE,'CIP Statement Form'!A30=TRUE,'CIP Statement Form'!A31=TRUE,'CIP Statement Form'!A32=TRUE,'CIP Statement Form'!A35=TRUE,'CIP Statement Form'!A39=TRUE,'CIP Statement Form'!A40=TRUE,'CIP Statement Form'!A41=TRUE,'CIP Statement Form'!A42=TRUE),FALSE,TRUE)","v":true},"Permanent Signage Tabulation either here or in C Sheets",null,null,null,null,null,null,null,null,{"$f":"IF(B178=TRUE,\"HIDE\",\"\")","v":"HIDE"}]
[null,null,null,null,null,null,null,null,null,null,null,{"$f":"IF(B178=TRUE,\"HIDE\",\"\")","v":"HIDE"}]
["Q Sheets",null,null,null,null,null,null,null,null,null,null,{"$f":"IF(AND(B181=TRUE,B182=TRUE),\"HIDE\",\"\")","v":""}]
[false,false,"Tabulations of Miscellaneous Removals and/or Incidental Items",null,null,null,null,null,null,null,null,{"$f":"IF(B181=TRUE,\"HIDE\",\"\")","v":""}]
[false,false,"Tabulation of privately owned items in City right of way, including their disposition",null,null,null,null,null,null,null,null,""]
[null,null,null,null,null,null,null,null,null,null,null,{"$f":"IF(AND(B181=TRUE,B182=TRUE),\"HIDE\",\"\")","v":""}]
["R Sheets",null,null,null,null,null,null,null,null,null,null,{"$f":"IF(B185=TRUE,\"HIDE\",\"\")","v":""}]
[false,{"$f":"IF('Intermed Checklist'!B390=TRUE,TRUE,FALSE)","v":false},"Final Storm Water Pollution Prevention Plan (SWPPP)",null,null,null,null,null,null,null,null,{"$f":"IF(B185=TRUE,\"HIDE\",\"\")","v":""}]
[null,null,null,null,null,null,null,null,null,null,null,{"$f":"IF(B185=TRUE,\"HIDE\",\"\")","v":""}]
["U Sheets",null,null,null,null,null,null,null,null,null,null,{"$f":"IF(AND(B188=TRUE,B189=TRUE),\"HIDE\",\"\")","v":""}]
[false,{"$f":"IF('CIP Statement Form'!A44=TRUE,FALSE,TRUE)","v":true},"Water Main Details (if not included in M Sheets).",null,null,null,null,null,null,null,null,{"$f":"IF(B188=TRUE,\"HIDE\",\"\")","v":"HIDE"}]
[false,false,"Other Special Details (list here):",null,null,null,null,null,null,null,null,{"$f":"IF(B189=TRUE,\"HIDE\",\"\")","v":""}]
[null,null,null,"[Detail]",null,null,null,null,null,null,null,{"$f":"IF(B189=TRUE,\"HIDE\",\"\")","v":""}]
[null,null,null,"[Detail]",null,null,null,null,null,null,null,{"$f":"IF(B189=TRUE,\"HIDE\",\"\")","v":""}]
[null,null,null,"[Detail]",null,null,null,null,null,null,null,{"$f":"IF(B189=TRUE,\"HIDE\",\"\")","v":""}]
[null,null,null,"[Detail]",null,null,null,null,null,null,null,{"$f":"IF(B189=TRUE,\"HIDE\",\"\")","v":""}]
[null,null,null,null,null,null,null,null,null,null,null,{"$f":"IF(AND(B188=TRUE,B189=TRUE),\"HIDE\",\"\")","v":""}]
["Y Sheets",null,null,null,null,null,null,null,null,null,null,{"$f":"IF(B196=TRUE,\"HIDE\",\"\")","v":"HIDE"}]
[null,{"$f":"IF(AND('Intermed Checklist'!B407=TRUE,'Intermed Checklist'!B408=TRUE),TRUE,FALSE)","v":true},"Landscaping tabulations, including plant species, size and related criteria",null,null,null,null,null,null,null,null,{"$f":"IF(B196=TRUE,\"HIDE\",\"\")","v":"HIDE"}]

{"sheet":"Final Comments","index":8,"n_rows":13,"n_cols":16,"rows_kept":13,"cut":false,"hidden":false,"merged":[[0,0,0,15],[1,0,1,15],[2,1,2,5],[4,1,4,5],[4,6,4,12],[4,13,4,15]]}
[]
[{"$f":"\"Final Design Comments\"&\" - \"&'CIP Statement Form'!E11","v":"Final Design Comments - "}]
["Document Under Review:",null,null,null,null,null,"Backcheck Document:"]
[]
[null,"CITY COMMENTS",null,null,null,null,"DESIGNER RESPONSE",null,null,null,null,null,null,"DESIGNER QA/QC"]
[]
["COMMENT No.","REVIEWER","REVIEWER DISCIPLINE (Traffic, Sewer, etc)","PLAN SHEET No.","DATE OF ORIGINAL REVIEW COMMENT\nMM/DD/YY","ORIGINAL REVIEW COMMENT","RESPONDENT \nNAME","DATE OF RESPONSE\nMM/DD/YY","RESPONSE","CHANGE MADE","DIASGREE","NEED MORE INFO","CARRY FORWARD","CLOSED\nY / N","DATE\nMM/DD/YY","BACK CHECK COMMENT\n(Needed Only If NOT Closing Comment)"]
[]
[1]
[2]
[3]
[4]
[5]

{"sheet":"Rec to File","index":9,"n_rows":66,"n_cols":13,"rows_kept":66,"cut":false,"hidden":false,"merged":[[10,0,10,1],[62,0,62,1],[64,0,64,1],[65,0,66,7],[12,0,12,7],[14,0,14,1],[35,0,35,1],[39,0,39,7],[42,0,42,7],[59,0,59,1],[13,2,14,2],[40,2,41,2],[0,0,0,7],[7,0,7,1],[8,0,8,1],[9,0,9,1],[7,4,7,5],[3,0,3,1],[3,2,3,3],[4,0,4,7]]}
["RECOMMENDATION TO FILE"]
[]
[]
["Published Engineer's Estimate of Probable Cost",null,{"$f":"IF(EOPC!D18<100000,ROUNDUP(EOPC!D18,-3),ROUNDUP(EOPC!D18,-4))","v":0}]
["* Takes estimate from the EOPC tab and rounds up to the nearest $1k for EOPCs below $100k, and up to the nearest $10k for estimates $100k and above.\n* Once the project is Filed with Council, the publicly listed EOPC cannot be changed, even if you significantly change the bid items with an addendum.\n* Do not include construction contingency in the EOPC value.\n* This value is important to the Project Manual's assembly. Values above/below State bid threshold changes the content."]
[]
["These numbers are populated from the EOPC tab. They can be overwritten, but doing so will destroy the link."]
["     Construction Administration",null,{"$f":"EOPC!K6","v":"EOPC Needed"},"%"]
["     Design",null,{"$f":"EOPC!K7","v":"Choose Designer"},"%"]
["     Construction Inspection",null,{"$f":"EOPC!K8","v":"EOPC Needed"},"%"]
["     Construction Contingency",null,{"$f":"EOPC!K9","v":10},"%"]
[null,null,null,null,null,"Unhide rows I - M to see Divisions 6-10, if needed",null,null,"The default printing area is set for Divisions 1-5. Go to Page Layout>Print Area to change"]
["BUDGETED REVENUE (FUNDING SOURCES):"]
[null,null,"Total","CIP No.","CIP No.","CIP No.","CIP No.","CIP No.","CIP No.","CIP No.","CIP No.","CIP No.","CIP No."]
["Grant Type  ",null,null,{"$f":"EOPC!G3","v":0},{"$f":"EOPC!G4","v":0},{"$f":"EOPC!G5","v":0},{"$f":"EOPC!G6","v":0},{"$f":"EOPC!G7","v":0},{"$f":"EOPC!G8","v":0},{"$f":"EOPC!G9","v":0},{"$f":"EOPC!G10","v":0},{"$f":"EOPC!G11","v":0},{"$f":"EOPC!G12","v":0}]
["GO Bonds (Prior FY)",null,{"$f":"SUM(D16:M16)","v":0}]
["GO Bonds (Current FY)",null,{"$f":"SUM(D17:M17)","v":0}]
["GO Bonds (Future FY)",null,0]
["TIF GO Bonds (Prior FY)",null,0]
["TIF GO Bonds (Current FY)",null,0]
["TIF GO Bonds (Future FY)",null,0]
["Federal Grant ",null,0]
["Federal Grant ",null,0]
["State Grant ",null,0]
["State Grant ",null,0]
["Local 28E Grant",null,0]
["LOST (Paving for Progress)",null,0]
["IFM (Flood Control System)",null,0]
["Contribution/Donation",null,0]
["Road Use Tax",null,0]
["Special Assessment",null,0]
["Cash On Hand ",null,0]
["Transfer from another Project",null,0]
["Transfer from another Project",null,0]
["Transfer from another Project",null,0]
["TOTAL PROJECT REVENUE BUDGET",null,{"$f":"SUM(C16:C35)","v":0},0,0,0,0,0,0,0,0,0,0]
[]
[]
[]
["PROJECT BUDGET:"]
[null,null,"Total","CIP No.","CIP No.","CIP No.","CIP No.","CIP No.","CIP No.","CIP No.","CIP No.","CIP No.","CIP No."]
[null,null,null,{"$f":"EOPC!G3","v":0},{"$f":"EOPC!G4","v":0},{"$f":"EOPC!G5","v":0},{"$f":"EOPC!G6","v":0},{"$f":"EOPC!G7","v":0},{"$f":"EOPC!G8","v":0},{"$f":"EOPC!G9","v":0},{"$f":"EOPC!G10","v":0},{"$f":"EOPC!G11","v":0},{"$f":"EOPC!G12","v":0}]
["COST OPINION EXPENDITURES:"]
["Engineer's Opinion Prob Cost",null,{"$f":"SUM(D44:M44)","v":0},{"$f":"EOPC!H18","v":0},{"$f":"EOPC!J18","v":0},{"$f":"EOPC!L18","v":0},{"$f":"EOPC!N18","v":0},{"$f":"EOPC!P18","v":0},{"$f":"EOPC!R18","v":0},{"$f":"EOPC!T18","v":0},{"$f":"EOPC!V18","v":0},{"$f":"EOPC!X18","v":0},{"$f":"EOPC!Z18","v":0}]
[{"$f":"CONCATENATE(\"Construction Contingency (\",C11,\"%)\")","v":"Construction Contingency (10%)"},null,{"$f":"SUM(D45:M45)","v":0},{"$f":"($C$11/100)*D44","v":0},0,0,0,{"$f":"($C$11/100)*H44","v":0},0,0,0,0,0]
["Completion Incentive Payment",null,{"$f":"SUM(D46:M46)","v":0},0,0,0,0,0,0,0,0,0,0]
["Milestone Incentive Payment",null,0,0,0,0,0,0,0,0,0,0,0]
["Other Incentive (Specify)",null,0,0,0,0,0,0,0,0,0,0,0]
["Pavement Smoothness Incentive",null,0,0,0,0,0,0,0,0,0,0,0]
["Construction Budget",null,{"$f":"SUM(D50:M50)","v":0},{"$f":"SUM(D44:D49)","v":0},0,0,0,{"$f":"SUM(H44:H49)","v":0},0,0,0,0,0]
["ROW/Esmnt Acquisition",null,{"$f":"SUM(D51:M51)","v":0},0,0,0,0,0,0,0,0,0,0]
["Design (External)",null,{"$f":"SUM(D52:M52)","v":0},0,0,0,0,0,0,0,0,0,0]
["Bidding (printing, publishing, etc)",null,{"$f":"SUM(D53:M53)","v":1500},1500,0,0,0,0,0,0,0,0,0]
["Owner-Furnished Equipment",null,0,0,0,0,0,0,0,0,0,0,0]
["Non-Construction Contingency",null,0,0,0,0,0,0,0,0,0,0,0]
["Internal Costs",null,0,0,0,0,0,0,0,0,0,0,0]
[{"$f":"CONCATENATE(\"   Construction Admin (\",C8,\"%)\")","v":"   Construction Admin (EOPC Needed%)"},null,{"$f":"SUM(D57:M57)","v":{"$error":"#VALUE!"}},{"$f":"($C$8/100)*D44","v":{"$error":"#VALUE!"}},{"$f":"($C$8/100)*E44","v":{"$error":"#VALUE!"}},{"$f":"($C$8/100)*F44","v":{"$error":"#VALUE!"}},{"$f":"($C$8/100)*G44","v":{"$error":"#VALUE!"}},{"$f":"($C$8/100)*H44","v":{"$error":"#VALUE!"}},{"$f":"($C$8/100)*I44","v":{"$error":"#VALUE!"}},{"$error":"#VALUE!"},{"$error":"#VALUE!"},{"$error":"#VALUE!"},{"$error":"#VALUE!"}]
[{"$f":"IF(EOPC!K5=\"City Staff\",CONCATENATE(\"   Internal Design (\",C9,\"%)\"),\"   Internal Staff (0%)\")","v":"   Internal Staff (0%)"},null,{"$f":"SUM(D58:M58)","v":0},{"$f":"IF(EOPC!$K$5=\"City Staff\",($C$9/100)*D44,0)","v":0},{"$f":"IF(EOPC!$K$5=\"City Staff\",($C$9/100)*E44,0)","v":0},{"$f":"IF(EOPC!$K$5=\"City Staff\",($C$9/100)*F44,0)","v":0},{"$f":"IF(EOPC!$K$5=\"City Staff\",($C$9/100)*G44,0)","v":0},{"$f":"IF(EOPC!$K$5=\"City Staff\",($C$9/100)*H44,0)","v":0},{"$f":"IF(EOPC!$K$5=\"City Staff\",($C$9/100)*I44,0)","v":0},{"$f":"IF(EOPC!$K$5=\"City Staff\",($C$9/100)*J44,0)","v":0},{"$f":"IF(EOPC!$K$5=\"City Staff\",($C$9/100)*K44,0)","v":0},{"$f":"IF(EOPC!$K$5=\"City Staff\",($C$9/100)*L44,0)","v":0},{"$f":"IF(EOPC!$K$5=\"City Staff\",($C$9/100)*M44,0)","v":0}]
[{"$f":"CONCATENATE(\"   Inspection (\",C10,\"%)\")","v":"   Inspection (EOPC Needed%)"},null,{"$f":"SUM(D59:M59)","v":{"$error":"#VALUE!"}},{"$f":"($C$10/100)*D44","v":{"$error":"#VALUE!"}},{"$f":"($C$10/100)*E44","v":{"$error":"#VALUE!"}},{"$f":"($C$10/100)*F44","v":{"$error":"#VALUE!"}},{"$f":"($C$10/100)*G44","v":{"$error":"#VALUE!"}},{"$f":"($C$10/100)*H44","v":{"$error":"#VALUE!"}},{"$f":"($C$10/100)*I44","v":{"$error":"#VALUE!"}},{"$error":"#VALUE!"},{"$error":"#VALUE!"},{"$error":"#VALUE!"},{"$error":"#VALUE!"}]
["TOTAL PROJECT BUDGET",null,{"$f":"SUM(D60:M60)","v":{"$error":"#VALUE!"}},{"$f":"SUM(D50:D59)","v":{"$error":"#VALUE!"}},{"$f":"SUM(E50:E59)","v":{"$error":"#VALUE!"}},{"$f":"SUM(F50:F59)","v":{"$error":"#VALUE!"}},{"$error":"#VALUE!"},{"$error":"#VALUE!"},{"$error":"#VALUE!"},{"$error":"#VALUE!"},{"$error":"#VALUE!"},{"$error":"#VALUE!"},{"$f":"SUM(M50:M59)","v":{"$error":"#VALUE!"}}]
[]
[]
["TOTAL PROJECT REVENUE BUDGET",null,{"$f":"C36","v":0},{"$f":"D36","v":0},0,0,0,0,{"$f":"I36","v":0},0,0,0,0]
[]
["Difference - Favorable / (Unfavorable)",null,{"$f":"C63-C60","v":{"$error":"#VALUE!"}},{"$f":"D63-D60","v":{"$error":"#VALUE!"}},{"$error":"#VALUE!"},{"$error":"#VALUE!"},{"$error":"#VALUE!"},{"$error":"#VALUE!"},{"$f":"I63-I60","v":{"$error":"#VALUE!"}},{"$error":"#VALUE!"},{"$error":"#VALUE!"},{"$error":"#VALUE!"},{"$error":"#VALUE!"}]
["Funding information:  "]

{"sheet":"Project Manual Form","index":10,"n_rows":555,"n_cols":9,"rows_kept":555,"cut":false,"hidden":false,"merged":[[553,2,553,4],[319,7,320,7],[323,7,324,7],[327,7,330,7],[347,7,348,7],[503,2,503,3],[514,2,514,3],[507,2,507,3],[527,2,527,3],[538,2,538,4],[539,2,539,4],[546,3,546,4],[505,2,505,3],[490,2,490,3],[489,1,489,3],[502,2,502,3],[512,2,512,3],[452,7,455,7],[444,7,446,7],[485,1,485,3],[550,3,550,4],[551,3,551,4],[504,2,504,3],[487,2,487,3],[554,2,554,4],[124,7,126,7],[152,7,153,7],[156,7,157,7],[291,7,292,7],[295,7,296,7],[299,7,302,7],[383,7,386,7],[403,7,404,7],[438,1,438,3],[318,2,318,3],[134,7,136,7],[234,2,234,3],[178,2,178,3],[206,2,206,3],[150,2,150,4],[211,7,212,7],[215,7,218,7],[235,7,236,7],[160,7,163,7],[180,7,181,7],[184,7,185,7],[486,1,486,3],[461,7,464,7],[374,2,374,3],[411,7,414,7],[351,7,352,7],[355,7,358,7],[375,7,376,7],[379,7,380,7],[271,7,274,7],[262,2,262,3],[346,2,346,3],[407,7,408,7],[0,6,1,6],[77,2,77,3],[78,2,78,3],[97,2,97,3],[104,2,104,3],[64,2,64,3],[85,2,85,3],[75,2,75,3],[72,2,72,3],[59,2,59,3],[66,2,66,3],[67,2,67,3],[49,2,49,3],[50,2,50,3],[58,2,58,3],[61,2,61,3],[62,2,62,3],[60,2,60,3],[7,2,7,4],[4,1,4,3],[22,2,22,4],[10,1,10,3],[28,2,28,4],[488,2,488,3],[39,7,50,7],[263,7,264,7],[267,7,268,7],[239,7,240,7],[129,7,131,7],[56,1,56,3],[65,2,65,3],[114,2,114,3],[112,2,112,3],[110,2,110,3],[74,2,74,3],[63,2,63,3],[68,2,68,3],[69,2,69,3],[70,2,70,3],[71,2,71,3],[73,2,73,3],[188,7,191,7],[207,7,208,7],[290,2,290,3],[402,2,402,3],[481,1,481,3],[480,2,480,3],[494,1,494,3],[243,7,246,7],[552,2,552,4],[118,2,118,3],[117,2,117,3],[148,1,148,3],[439,1,439,3],[519,1,519,3],[513,1,513,3],[508,1,508,3],[478,2,478,3],[511,2,511,3],[510,2,510,3],[479,2,479,3],[492,2,492,3],[495,2,495,3],[499,2,499,3],[493,2,493,3],[501,2,501,3],[500,2,500,3],[491,1,491,3],[498,2,498,3],[496,2,496,3],[497,1,497,3]]}
[null,"To avoid formatting problems, type directly into the field. Do not copy-paste into a field from an outside source.",null,null,null,null,{"$f":"IF(D533=TRUE,\"MISSING INFO DETECTED\",\"\")","v":"MISSING INFO DETECTED"}," →"]
[null,null,null,"= No info required / autopopulates from info entered elsewhere"]
[null,"To troubleshoot or alter auto-fill fields, go to the top of column I and check-mark the box to see the Autofill Lines which populate the document.",null,null,null,null,null,"Show/Hide Sections       →                      →                        →                          →                         →                         →                         ↑"]
["Merge Code","Field",null,null,"Enter Information in This Column Only","Error","Appears In","As Appears in Manual","Filter"]
[null,"Core Information"]
["1_ProjNum, 5_ProjNum, 100_ProjNum, 110_ProjNum, 300_ProjNum, 500_ProjNum","Contract Number",null,null,null,{"$f":"IF(E6=\"\",\"< FIX\",\"\")","v":"< FIX"},"Title Page, 00005, 00100, 00110, 00300, 00300-A, 00300-B (if used), 00300-C (if used), 00500, 00500-A, 00500-B (if used), Recommendation to File, website"]
["1_ProjName, 5_ProjName, 100_ProjName, 110_ProjNum, 110_ProjNameNoCaps, 300_ProjName, 500_ProjName","Project Name",null,null,{"$f":"'CIP Statement Form'!E11","v":0},{"$f":"IF(E7=\"\",\"< FIX\",\"\")","v":""},"Title Page, 00005\n00100, 00110, 00300, 00300-A, 00300-B, 00300-C, 00500, 00500-A, 00500-B ; Recommendation to File, website","Project Description and Location"]
["100_WorkDesLoc",null,"* Follows the general form [Location] + [Type of Improvements]\n* Do not use abbreviations, except for quadrant labels\n* Do not list multiple quadrant labels unless the project areas spans two or more quadrants\n* Example: 3rd Avenue SE from 1st Street to 6th Street Pavement Improvements\n* If the project covers multiple locations, give the project a general name rather than list each location in the title. Example: \"2019 NW Quadrant Curb Repairs\"",null,null,null,null,{"$f":"IF(OR('Rec to File'!C4=0,'Project Manual Form'!E9=\"\",'Project Manual Form'!E10=\"\"),\"Enter values for EOPC, Project Locations and Scope of Work to generate a description\",E57)","v":"Enter values for EOPC, Project Locations and Scope of Work to generate a description"}]
[null,"Project Location(s)",null,null,null,{"$f":"IF(E9=\"\",\"< FIX\",\"\")","v":"< FIX"},"00100, 00110, 00500"]
[null,"Scope of Work",null,null,null,{"$f":"IF(E10=\"\",\"< FIX\",\"\")","v":"< FIX"},"00100, 00500"]
[null,"Project Manual Schedule"]
[null,"Print Docs Submission Deadline ",null,null,null,{"$f":"IF(E12=\"\",\"< FIX\",\"\")","v":"< FIX"}]
[null,null,"Submit Print docs to City two Wednesdays prior to Filing"]
[null,"Filing Date ֍",null,null,null,{"$f":"IF(AND('Rec to File'!C4>76999,E14=\"\"),\"< FIX\",\"\")","v":""},"00100, 00110"]
[null,null,"Must occur on a Council meeting date, schedules the Public Hearing"]
[null,"Posted to City Website & Online Planrooms ֍ ",null,null,null,{"$f":"IF(AND('Rec to File'!C4>76999,E16=\"\"),\"< FIX\",\"\")","v":""},"00100"]
[null,null,"The day after Filing"]
[null,"Advertise for Notice of Public Hearing ֍ ",null,null,null,{"$f":"IF(AND('Rec to File'!C4>76999,E18=\"\"),\"< FIX\",\"\")","v":""},"00110"]
[null,null,"Usually the Saturday after Filing"]
[null,"Public Hearing ֍ ",null,null,null,{"$f":"IF(AND('Rec to File'!C4>76999,E20=\"\"),\"< FIX\",\"\")","v":""},"00110"]
[null,null,"Within 5 to 20 days of Advertisement"]
[null,"Receive Bids ",null,null,null,{"$f":"IF(E22=\"\",\"< FIX\",\"\")","v":"< FIX"},"00100"]
[null,null,"After Public Hearing, and within 13 to 45 days of Posting to City Website & Online Planrooms. Projects above State threshold MUST be received on Wednesdays"]
[null,"Report of Bids Received ",null,null,null,{"$f":"IF(E24=\"\",\"< FIX\",\"\")","v":"< FIX"}]
[null,null,"Next Council meeting after Receive Bids"]
[null,"Award Contract ",null,null,null,{"$f":"IF(E26=\"\",\"< FIX\",\"\")","v":"< FIX"}]
[null,null,"Award at Council meeting, max 27 days after Receiving Bids"]
[null,"Early Start Date ",null,null,null,null,"00100, 00500"]
[null,null,"Leave blank if you want the project to start ASAP, or if not important. Allow at least five weeks between Award and Early Start"]
[null,"Late Start Date ",null,null,null,null,"00100, 00500"]
[null,null,"Leave blank if N/A"]
[null,"Complete Construction",null,null,null,null,"00100, 00500"]
[null,"֍ = This step is not needed if the EOPC is below the State bid threshold ($77,000 for 2022)"]
[null,"General Project Info"]
["1_Year","Year(s) Construction Will Occur",null,null,null,{"$f":"IF(E35=0,\"< FIX\",\"\")","v":"< FIX"},"Title Page"]
[null,"Contract Prepared By (Department or Firm)"]
["1_FirmName, 100_FirmName",null,"Department/Firm Name",null,null,{"$f":"IF(E37=0,\"< FIX\",\"\")","v":"< FIX"},"Title Page, 00100"]
["1_FirmMailLine1, 100_FirmMailLine1",null,"Mailing Address Line",null,null,"< FIX","Title Page, 00100"]
["1_FirmMailLine2, 100_FirmMailLine2",null,"City, State Zip-Code",null,null,"< FIX","Title Page, 00100","Bid Opening Info:"]
["100_FirmPhone",null,"Telephone Number",null,null,"< FIX","00100",{"$f":"E117","v":"Bids shall be submitted to the City's IonWave website (http://citycrbids.ionwave.net) before  on January 0, 1900. Bids must be completed and submitted by this time, or the website will not accept your submission. The bids will be accessed online, opened and read aloud at  on January 0, 1900 remotely via teleconference. To listen, dial 319-286-5098 and enter the participant number 695-1742. The teleconference will become available approximately 10 minutes prior to the submission deadline."}]
[]
[null,"Certification Page",null,null,null,null,"00005"]
["5_ProfType",null,"Person of Record Profession:",null,"Choose One",{"$f":"IF(E43=\"Choose One\",\"< FIX\",\"\")","v":"< FIX"}]
["5_ProfName",null,"Engineer/Professional of Record Name",null,null,{"$f":"IF(E44=0,\"< FIX\",\"\")","v":"< FIX"}]
["5_ProfLic",null,"License No.",null,null,"< FIX"]
["5_ProfRenDate",null,"License Expires",null,null,"< FIX"]
[null,"Project Contact Person for Planholder Inquiries",null,null,null,null,"00200, Article 3"]
["200_ContactName",null,"Name",null,null,{"$f":"IF(E48=0,\"< FIX\",\"\")","v":"< FIX"}]
["200_ContactOrg",null,"Agency",null,null,"< FIX"]
["200_ContactMailLine",null,"Mailing Address Line",null,null,"< FIX"]
["200_ContactCityStZIP",null,"City, State Zip-Code",null,null,"< FIX"]
["200_ContactEmail",null,"Email",null,null,"< FIX"]
["500_ProjAdmin","Project Construction Administered By",null,null,"City of Cedar Rapids Public Works Department",null,"00500, Article 3"]
["100_WorkDesLoc, 110_ProjLoc, 500_ProjLoc","Project Location",null,null,{"$f":"E9","v":0},null,"Rec to File\n00100, 00110, 00500",null,"Autofill Lines"]
[null,"Project Goal",null,null,{"$f":"'CIP Statement Form'!E13:K13","v":"Choose one:"},null,"Rec to File",null,"Autofill Lines"]
["100_WorkDesLoc, 110_ProjDesc, 500_ProjDesc","Project Description",null,null,{"$f":"E10","v":0},null,"Website, Rec to File, 00100, 00110, 00500",null,"Autofill Lines"]
[null,"Appears in the Project Manual as:",null,null,{"$f":"CONCATENATE(\"The Public Improvement, upon which \",E62,\" are requested, generally consists of \",E56,\" located at \",E54)","v":"The Public Improvement, upon which  are requested, generally consists of 0 located at 0"},null,null,null,"Autofill Lines"]
[null,"Bid Threshold",null,null,null,null,null,null,"Autofill Lines"]
["100_EOPC, 110_EOPC",null,"Engineer's Opinion of Probable Cost\n(from Recommendation to File)",null,{"$f":"'Rec to File'!C4","v":0},null,"00100, 00110",null,"Autofill Lines"]
[null,null,"Autofill, Number to Text Conversion",null,{"$f":"TEXT(E59,\"###,##0\")","v":"0"},null,"00100, 00110",null,"Autofill Lines"]
["100_Title",null,"Autofill, 00100 Title Line",null,{"$f":"IF(E59=0,\"\",(IF(E59<77000,\"REQUEST FOR QUOTATIONS\",\"NOTICE TO BIDDERS OF ADVERTISEMENTS FOR SEALED BIDS\")))","v":""},null,"00100",null,"Autofill Lines"]
[null,null,"Autofill, 00100 Bid or Quote",null,{"$f":"IF(E59=0,\"\",(IF(E59<77000,\"quotes\",\"bids\")))","v":""},null,"00100",null,"Autofill Lines"]
["100_BondsHead",null,"Autofill, 00100 Bonds Line 1",null,{"$f":"IF(E59<25000,\"\",(IF(E59<77000,\"Bonds\",\"Bid Security and Other Bonds\")))","v":""},null,"00100",null,"Autofill Lines"]
["100_BondsBody",null,"Autofill, 00100 Bonds Line 2",null,{"$f":"IF(E59<25000,\"\",(IF(E59<77000,CONCATENATE('Validation Fields'!Q2),CONCATENATE('Validation Fields'!Q3))))","v":""},null,"00100",null,"Autofill Lines"]
["200_BidSecDelPromtp",null,"Autofill, 00200 Article 8 Deletion Prompt",null,{"$f":"IF(E59<77000,\"Bid Security not required. Replace 4.01 with 'Not Used'\",\"\")","v":"Bid Security not required. Replace 4.01 with 'Not Used'"},null,"00200",null,"Autofill Lines"]
["TOC_110DelPrompt, 110_DeletionPrompt",null,"Autofill, 00110 Deletion Prompt",null,{"$f":"IF(E59=0,\"\",IF(E59<77000,\"RFQ CONTRACT. DELETE SECTION 00110.\",\"\"))","v":""},null,"00110",null,"Autofill Lines"]
["TOC_430DelPrompt, 430_BidBondDelete?",null,"Autofill, 00430 Bid Bond Necessary?",null,{"$f":"IF(E59=0,\"\",IF(E59<77000,\"NOT USED - DELETE 00430\",\"\"))","v":""},null,"00430",null,"Autofill Lines"]
["500_Art6-BidProj",null,"Autofill, 00500 Article 6 for Bid Projects",null,{"$f":"IF(E59=0,\"\",IF(E59<77000,\"RFQ PROJECT - DELETE THIS VERSION OF ARTICLE 6\",\"\"))","v":""},null,"00500",null,"Autofill Lines"]
["500_Art6-RFQ",null,"Autofill, 00500 Article 6 for RFQ Projects",null,{"$f":"IF(E59=0,\"\",IF(E59<77000,\"\",\"BID PROJECT - DELETE THIS VERSION OF ARTICLE 6\"))","v":""},null,"00500",null,"Autofill Lines"]
["500_CD3",null,"Autofill, 00500 9.01.3",null,{"$f":"IF(E59=0,\"\",IF(E59<77000,\"\",\"X\"))","v":""},null,"00500",null,"Autofill Lines"]
["500_CD4",null,"Autofill, 00500 9.01.4",null,{"$f":"IF(E59=0,\"\",IF(E59<25000,\"X\",\"\"))","v":""},null,"00500",null,"Autofill Lines"]
["500_CD5",null,"Autofill, 00500 9.01.5",null,{"$f":"IF(E59=0,\"\",IF(E59<25000,\"X\",\"\"))","v":""},null,"00500",null,"Autofill Lines"]
["500_CD6",null,"Autofill, 00500 8.01,10",null,{"$f":"IF(E59=0,\"\",IF(E59<25000,\"X\",\"\"))","v":""},null,"00500",null,"Autofill Lines"]
["TOC_610DelPrompt, 610_DeletePrompt",null,"Autofill, 00610 Delete Prompt",null,{"$f":"IF(E59=0,\"\",IF(E59<25000,\"NOT USED - DELETE SECTION 00610\",\"\"))","v":""},null,"00610",null,"Autofill Lines"]
["TOC_620DelPrompt, 620_DeletePrompt",null,"Autofill, 00620 Delete Prompt",null,{"$f":"IF(E59=0,\"\",IF(E59<25000,\"NOT USED - DELETE SECTION 00620\",\"\"))","v":""},null,"00620",null,"Autofill Lines"]
["TOC_630DelPrompt, 630_DeletePrompt",null,"Autofill, 00630 Delete Prompt",null,{"$f":"IF(E59=0,\"\",IF(E59<25000,\"NOT USED - DELETE SECTION 00630\",\"\"))","v":""},null,"00630",null,"Autofill Lines"]
[null,"Critical Project Manual Form Dates",null,null,null,null,null,null,"Autofill Lines"]
[null,null,"Print Contract Documents, Drawings, Project Manual and other required documents to Public Works Administrative Staff with departmental approval signatures on cover sheet. (All contracts)\n(2 weeks prior to filing with City Clerk)",null,{"$f":"E12","v":0},null,"Recommendation to File",null,"Autofill Lines"]
[null,null,"Motion by City Council to File with City Clerk and advertise for bids/hearing\n(Bid Contracts, EOPC > $67k) \n(2nd or 4th Tuesday in CR Gazette)",null,{"$f":"E14","v":0},null,"Recommendation to File, 00110",null,"Autofill Lines"]
[null,null,null,"Autofill, Day #",{"$f":"DAY(E79)","v":0},null,null,null,"Autofill Lines"]
[null,null,null,"Autofill, Day Suffix",{"$f":"IF(OR(E80=1,E80=21,E80=31),\"st\",IF(OR(E80=2,E80=22),\"nd\",IF(OR(E80=3,E80=23),\"rd\",\"th\")))","v":"th"},null,null,null,"Autofill Lines"]
[null,null,null,"Autofill, Day - Written Form",{"$f":"E80&E81","v":"0th"},null,null,null,"Autofill Lines"]
[null,null,null,"Autofill, Month",{"$f":"TEXT(E79,\"mmmm\")","v":"January"},null,null,null,"Autofill Lines"]
[null,null,null,"Autofill, Year",{"$f":"TEXT(E79,\"yyyy\")","v":"1900"},null,null,null,"Autofill Lines"]
["1_FileDate, 110_FileDate",null,null,"Autofill",{"$f":"IF(E59=0,\"\",IF(E59>76999,E82&\" day of \"&E83&\", \"&E84,\"RFQ Project, No Filing Date\"))","v":""},null,"Title Page, 00100",null,"Autofill Lines"]
[null,null,"\nNotice to Bidders Posted to Website and Online Planroom (Bid Contracts, EOPC > $67k)",null,{"$f":"E16","v":0},null,"00100",null,"Autofill Lines"]
[null,null,null,"Autofill, Day #",{"$f":"DAY(E86)","v":0},null,null,null,"Autofill Lines"]
[null,null,null,"Autofill, Day Suffix",{"$f":"IF(OR(E87=1,E87=21,E87=31),\"st\",IF(OR(E87=2,E87=22),\"nd\",IF(OR(E87=3,E87=23),\"rd\",\"th\")))","v":"th"},null,null,null,"Autofill Lines"]
[null,null,null,"Autofill, Day - Written Form",{"$f":"E87&E88","v":"0th"},null,null,null,"Autofill Lines"]
[null,null,null,"Autofill, Month",{"$f":"TEXT(E86,\"mmmm\")","v":"January"},null,null,null,"Autofill Lines"]
[null,null,null,"Autofill, Year",{"$f":"TEXT(E86,\"yyyy\")","v":"1900"},null,null,null,"Autofill Lines"]
[null,null,null,"Autofill",{"$f":"E89&\" day of \"&E90&\", \"&E91","v":"0th day of January, 1900"},null,null,null,"Autofill Lines"]
["100_CouncilOrder1",null,null,"Autofill - 00100/110 Council Order Line 1",{"$f":"IF(E59=0,\"\",IF(E59<77000,\"\",\"By order of the City Council, City of Cedar Rapids.\"))","v":""},null,null,null,"Autofill Lines"]
["100_CouncilOrder2",null,null,"Autofill - 00100/110 Council Order Line 2",{"$f":"IF(E59=0,\"\",IF(E59<77000,\"\",CONCATENATE(\"Dated this \",E85,\".\")))","v":""},null,null,null,"Autofill Lines"]
["100_CouncilOrder3",null,null,"Autofill - 00100/110 Council Order Line 3",{"$f":"IF(E59=0,\"\",IF(E59<77000,\"\",\"________________________________\"))","v":""},null,null,null,"Autofill Lines"]
["100_CouncilOrder4",null,null,"Autofill - 00100/110 Council Order Line 4",{"$f":"IF(E59=0,\"\",IF(E59<77000,\"\",\"Alissa Van Sloten, City Clerk\"))","v":""},null,null,null,"Autofill Lines"]
["100_CouncilOrder5",null,null,"Autofill - 00100 Council Order Line 5",{"$f":"IF(E59=0,\"\",IF(E59<77000,\"\",CONCATENATE(\"Posted to City of Cedar Rapids website and statewide services on the \",E92,\".\")))","v":""},null,null,null,"Autofill Lines"]
[null,null,"Advertise for Notice of Hearing\n(Bid Contracts, EOPC > $67k) \n(Between 5 & 20 days before Public Hearing, and 13 – 45 days before letting; Typically Saturdays in CR Gazette, unless required to be Friday for 5-day Notice.)",null,{"$f":"E18","v":0},null,"Recommendation to File, 00110",null,"Autofill Lines"]
[null,null,null,"Autofill, Day #",{"$f":"DAY(E98)","v":0},null,null,null,"Autofill Lines"]
[null,null,null,"Autofill, Day Suffix",{"$f":"IF(OR(E99=1,E99=21,E99=31),\"st\",IF(OR(E99=2,E99=22),\"nd\",IF(OR(E99=3,E99=23),\"rd\",\"th\")))","v":"th"},null,null,null,"Autofill Lines"]
[null,null,null,"Autofill, Day - Written Form",{"$f":"E99&E100","v":"0th"},null,null,null,"Autofill Lines"]
[null,null,null,"Autofill, Month",{"$f":"TEXT(E98,\"mmmm\")","v":"January"},null,null,null,"Autofill Lines"]
[null,null,null,"Autofill, Year",{"$f":"TEXT(E98,\"yyyy\")","v":"1900"},null,null,null,"Autofill Lines"]
["110_PublicationDate",null,null,"Autofill",{"$f":"E101&\" day of \"&E102&\", \"&E103","v":"0th day of January, 1900"},null,null,null,"Autofill Lines"]
[null,null,"Public Hearing Date:",null,{"$f":"E20","v":0},null,"Recommendation to File"]
[null,null,null,"Autofill, Day #",{"$f":"DAY(E105)","v":0},null,null,null,"Autofill Lines"]
[null,null,null,"Autofill, Day Suffix",{"$f":"IF(OR(E106=1,E106=21,E106=31),\"st\",IF(OR(E106=2,E106=22),\"nd\",IF(OR(E106=3,E106=23),\"rd\",\"th\")))","v":"th"},null,null,null,"Autofill Lines"]
[null,null,null,"Autofill, Day - Written Form",{"$f":"E106&E107","v":"0th"},null,null,null,"Autofill Lines"]
[null,null,null,"Autofill, Month",{"$f":"TEXT(E105,\"mmmm\")","v":"January"},null,null,null,"Autofill Lines"]
[null,null,null,"Autofill, Year",{"$f":"TEXT(E105,\"yyyy\")","v":"1900"},null,null,null,"Autofill Lines"]
["110_CouncilTime",null,"Public Hearing Time:",null,"Choose One",{"$f":"IF(AND(E59>76999,E111=\"Choose One\"),\"< FIX\",\"\")","v":""}]
["110_PublicHearing",null,null,"Autofill",{"$f":"E108&\" day of \"&E109&\", \"&E110","v":"0th day of January, 1900"},null,"00110",null,"Autofill Lines"]
[null,null,"Receive Bids/Quotes (All Contracts)\n(Wednesdays at City Services Center, except for RFQs)",null,{"$f":"E22","v":0},null,"Recommendation to File, website",null,"Autofill Lines"]
[null,null,null,"Autofill, Bid Date in written form:",{"$f":"TEXT(E113,\"MMMM \")&DAY(E113)&\", \"&TEXT(E113,\"yyyy\")","v":"January 0, 1900"},null,null,null,"Autofill Lines"]
[null,null,"Bid Opening Time:",null,null,{"$f":"IF(E115=0,\"< FIX\",\"\")","v":"< FIX"},"00100"]
[null,null,null,"Autofill - Remote opening info:","To listen, dial 319-286-5098 and enter the participant number 695-1742. The teleconference will become available approximately 10 minutes prior to the submission deadline.",null,null,null,"Autofill Lines"]
["100_BidOpenInfo",null,null,"Autofill - 00100 Bid Opening Info Paragraph",{"$f":"CONCATENATE(\"Bids shall be submitted to the City's IonWave website (http://citycrbids.ionwave.net) before \",E115,\" on \",E114,\". \",'Validation Fields'!R2,E115,\" on \",E114,\" remotely via teleconference. \",E116)","v":"Bids shall be submitted to the City's IonWave website (http://citycrbids.ionwave.net) before  on January 0, 1900. Bids must be completed and submitted by this time, or the website will not accept your submission. The bids will be accessed online, opened and read aloud at  on January 0, 1900 remotely via teleconference. To listen, dial 319-286-5098 and enter the participant number 695-1742. The teleconference will become available approximately 10 minutes prior to the submission deadline."},null,null,null,"Autofill Lines"]
[null,null,"Report on Bids (Most Contracts)\n(Next immediate Tuesday council mtg. after bids received)",null,{"$f":"E24","v":0},null,"Recommendation to File",null,"Autofill Lines"]
[null,null,"Award Contract (Most Contracts)\n(Tuesdays  - either 2nd or 4th Tuesday Council Meeting of the Month, Max 27 days after receiving bids)",null,{"$f":"E26","v":0},null,"Recommendation to File",null,"Autofill Lines"]
[null,"Start and End Dates"]
[null,"Construction Schedule Start and Completion Dates"]
[null,null,"Overall Project Times",null,null,null,"Recommendation to File \n00100, 00500, website"]
["500_OverallEarlyStart",null,null,"Early Start Date (specified in Rec to File)",{"$f":"IF(E28=\"\",\"Upon Receipt of Notice to Proceed\",E28)","v":"Upon Receipt of Notice to Proceed"},{"$f":"IF(E123=0,\"< FIX\",\"\")","v":""}]
["500_OverallLateStart",null,null,"Late Start (specified in Rec to File)",{"$f":"IF(E30=\"\",\"N/A\",E30)","v":"N/A"},"",null,"Overall Completion Info:"]
[null,null,null,"Overall Dates for Completion:","Choose One",{"$f":"IF(E125=\"Choose One\",\"< FIX\",\"\")","v":"< FIX"},null,{"$f":"E142","v":""}]
[null,null,null,"    Completion Date / Days Allowance",null,{"$f":"IF(E126=0,\"< FIX\",\"\")","v":"< FIX"}]
[null,null,null,"    Overall Completion Motivation","Choose One",{"$f":"IF(E127=\"Choose One\",\"< FIX\",\"\")","v":"< FIX"}]
[null,null,null,"    Reward/Penalty per Day",null,{"$f":"IF(E128=\"\",\"< FIX\",\"\")","v":"< FIX"}]
[null,null,null,"    Incentive cap (leave blank if N/A)",null,{"$f":"IF(AND(E129=\"\",OR(E127=\"Incentive\",E127=\"Incentive/Disincentive\",E127=\"No Excuse Completion Incentive/Disincentive\")),\"< FIX\",\"\")","v":""},null,"Overall Closure Info:"]
[null,null,null,"Closure Days Used? (Specify Closure Days Used for Individual Phases Below)","Choose One",{"$f":"IF(E130=\"Choose One\",\"< FIX\",\"\")","v":"< FIX"},null,{"$f":"E147","v":""}]
[null,null,null,"    Closure Location(s)",null,{"$f":"IF(AND(E131=\"\",E$130=\"Yes\"),\"< FIX\",\"\")","v":""}]
[null,null,null,"    Closure Early Start",null,{"$f":"IF(AND(E132=\"\",E$130=\"Yes\"),\"< FIX\",\"\")","v":""}]
[null,null,null,"    Closure Late Start",null,""]
[null,null,null,"    Closure Days Allotted",null,"",null,"Overall Motivation Info"]
[null,null,null,"    Closure Dates Motivation","Choose One",{"$f":"IF(AND(E135=\"Choose One\",E$130=\"Yes\"),\"< FIX\",\"\")","v":""},null,{"$f":"E143","v":""}]
[null,null,null,"    Closure Reward/Penalty per Day",null,""]
[null,null,null,"    Incentive cap (leave blank if N/A)",null,{"$f":"IF(AND(E137=\"\",OR(E135=\"Incentive\",E135=\"Incentive/Disincentive\",E135=\"No Excuse Completion Incentive/Disincentive\")),\"< FIX\",\"\")","v":""}]
[]
[null,null,null,"Autofill - Overall Early Start Concatenate, 00100",{"$f":"IF(OR(E149=\"Choose One\",E149=\"No\"),E123,CONCATENATE(\"Overall - \",E123))","v":"Upon Receipt of Notice to Proceed"},null,null,null,"Autofill Lines"]
[null,null,null,"Autofill - Overall Late Start Concatenate, 00100",{"$f":"IF(OR(E149=\"Choose One\",E149=\"No\"),E124,CONCATENATE(\"Overall - \",E124))","v":"N/A"},null,null,null,"Autofill Lines"]
[null,null,null,"Autofill - Overall Final Completion, 00100",{"$f":"IF(OR(E149=\"Choose One\",E149=\"No\"),CONCATENATE(E125,\" - \",E126),CONCATENATE(\"Overall: \",E125,\" - \",E126))","v":"Choose One - "},null,null,null,"Autofill Lines"]
["500_OverallDays",null,null,"Autofill - Overall Final Completion as appears in 00500",{"$f":"IF(E125=\"Choose One\",\"\",IF(E125=\"Completion Date\",CONCATENATE(\"A completion date has been specified for this contract. All work shall be completed by \",E126,\".\"),IF(E125=\"Calendar Days\",CONCATENATE(\"All work shall be completed within \",E126,\" calendar days.\"),CONCATENATE(\"All work shall be completed within \",E126, \" working days.\"))))","v":""},null,null,null,"Autofill Lines"]
["500_OverallMotive",null,null,"Autofill - Overall Motivation as appears in 00500",{"$f":"IF(E127=\"Choose One\",\"\",IF(E127=\"Liquidated Damages\",CONCATENATE(\"Liquidated damages of \",E128,\" per day shall be charged per Article 4.04.\"),IF(E127=\"Incentive\",CONCATENATE(\"An incentive of \",E128,\" per day, up to a maximum of \",E129,\", shall be paid per Article 4.05.\"),IF(E127=\"Incentive/Disincentive\",CONCATENATE(\"An incentive/disincentive of \",E128,\" per day, with a maximum incentive payment of \",E129,\", shall be applied per Article 4.05.\"),IF(E127=\"No Excuse Completion Incentive\",CONCATENATE(\"A No Excuse Completion Incentive of \",E128,\" per day, with a maximum incentive payment of \",E129,\", shall be paid per Article 4.05.\"),IF(E127=\"No Excuse Completion Disincentive\",CONCATENATE(\"A No Excuse Completion Disincentive of \",E128,\" per day shall be charged per Article 4.05.\"),CONCATENATE(\"A No Excuse Completion Incentive/Disincentive of \",E128,\" per day, with a maximum incentive payment of \",E129,\", shall be applied per Article 4.05.\")))))))","v":""},null,null,null,"Autofill Lines"]
[null,null,null,"Autofill - Closure Early Date Concatenate",{"$f":"IF(E132=\"None\",\"\",CONCATENATE(\" The early start date for closure work is \",E132,\".\"))","v":" The early start date for closure work is ."},null,null,null,"Autofill Lines"]
[null,null,null,"Autofill - Closure Late Date Concatenate",{"$f":"IF(E133=\"None\",\"\",CONCATENATE(\" The late start date for closure work is \",E133,\".\"))","v":" The late start date for closure work is ."},null,null,null,"Autofill Lines"]
[null,null,null,"Autofill - Overall Closures Dates Motivation Concatenate",{"$f":"IF(E135=\"Choose One\",\"\",IF(E135=\"Liquidated Damages\",CONCATENATE(\"Failure to complete closure work within the allotted days will result in liquidated damages of \",E136,\" per day.\"),IF(E135=\"Incentive\",CONCATENATE(\"Use of less than the allotted days shall be paid an incentive of \",E136,\" per day, up to a maximum of \",E137,\".\"),IF(E135=\"Incentive/Disincentive\",CONCATENATE(\"An incentive/disincentive of \",E136,\" per day, with a maximum incentive payment of \",E137,\", shall be applied for closure days used ahead/past the specified allottment.\"),IF(E135=\"No Excuse Completion Incentive\",CONCATENATE(\"A No Excuse Completion Incentive of \",E136,\" per day, with a maximum incentive payment of \",E137,\", shall be paid for use of less than the allotted days.\"),IF(E135=\"No Excuse Completion Disincentive\",CONCATENATE(\"A No Excuse Completion Disincentive of \",E136,\" per day shall be charged for failure to complete closure work within the allotted days.\"),CONCATENATE(\"A No Excuse Completion Incentive/Disincentive of \",E136,\" per day, with a maximum incentive payment of \",E137,\", shall be applied for closure days used ahead/past the specified allottment.\")))))))","v":""},null,null,null,"Autofill Lines"]
["500_OverallClosures",null,null,"Autofill - Overall Closures info as appears in 00500",{"$f":"IF(E130=\"Choose One\",\"\",IF(E130=\"No\",\"Delete this line\",CONCATENATE(\"A maximum of \",E134,\" calendar days shall be allotted for closure work for \",E131,\".\",E144,E145,\" \",E146)))","v":""},null,null,null,"Autofill Lines"]
[null,null,null,"Autofill - Quick View MotivationConcatenate",{"$f":"IF(E146=\"\",\"\",CONCATENATE(\"Overall - \",E146))","v":""},null,null,null,"Autofill Lines"]
[null,"Do any of your construction Phases have deadlines, incentives or disincentives separate from the Overall Project Times (above)?",null,null,"Choose One",{"$f":"IF(E149=\"Choose One\",\"< FIX\",\"\")","v":"< FIX"}]
[null,null,null,null,{"$f":"IF(E149=\"Yes\",\"Go to the top of Column I (next to 'Show/Hide Sections' up top) and unhide a sufficient number of Phases to meet your needs.\",\"\")","v":""}]
[null,null,"First Phase with Restrictions (Not necessarily Phase 1. Only list Phases which have some kind of restriction associated with them)",null,null,null,null,null,"Phase 01"]
["500_Ph1Name",null,null,"Phase Name",{"$f":"IF(E149=\"Yes\",\"e.g. Phase 1 or Stage 1\",\"Not Used, Delete This Phase\")","v":"Not Used, Delete This Phase"},{"$f":"IF(E152=\"\",\"< FIX\",\"\")","v":""},"00100, 00500","Completion Info","Phase 01"]
["500_Ph1Desc",null,null,"Phase Description",null,{"$f":"IF(AND(E153=\"\",E$149=\"Yes\"),\"< FIX\",\"\")","v":""},null,{"$f":"E172","v":""},"Phase 01"]
["500_Ph1EarlyStart",null,null,"Phase Early Start",null,{"$f":"IF(AND(E154=\"\",E$149=\"Yes\"),\"< FIX\",\"\")","v":""},null,null,"Phase 01"]
["500_Ph1LateStart",null,null,"Phase Late Start",null,"",null,null,"Phase 01"]
[null,null,null,"Phase Dates for Completion:","Choose One",{"$f":"IF(AND(E156=\"Choose One\",E$149=\"Yes\"),\"< FIX\",\"\")","v":""},null,"Motivation Info","Phase 01"]
[null,null,null,"    Completion Date / Days Allowance",null,{"$f":"IF(AND(E157=\"\",E$149=\"Yes\",E156<>\"Not Applicable - Early/Late Starts Only\"),\"< FIX\",\"\")","v":""},null,{"$f":"E173","v":""},"Phase 01"]
[null,null,null,"    Completion Motivation","Choose One",{"$f":"IF(AND(E158=\"Choose One\",E$149=\"Yes\",E156<>\"Not Applicable - Early/Late Starts Only\"),\"< FIX\",\"\")","v":""},null,null,"Phase 01"]
[null,null,null,"    Reward/Penalty per Day",null,{"$f":"IF(AND(E159=\"\",E$149=\"Yes\",E156<>\"Not Applicable - Early/Late Starts Only\"),\"< FIX\",\"\")","v":""},null,null,"Phase 01"]
[null,null,null,"    Incentive cap (leave blank if N/A)",null,{"$f":"IF(AND(E160=\"\",OR(E158=\"Incentive\",E158=\"Incentive/Disincentive\",E158=\"No Excuse Completion Incentive/Disincentive\"),E156<>\"Not Applicable - Early/Late Starts Only\"),\"< FIX\",\"\")","v":""},null,"Closure Info:","Phase 01"]
[null,null,null,"Closure Days Used in Phase?","Choose One",{"$f":"IF(AND(E161=\"Choose One\",E$149=\"Yes\"),\"< FIX\",\"\")","v":""},null,{"$f":"E177","v":""},"Phase 01"]
[null,null,null,"    Closure Location(s)",null,{"$f":"IF(AND(E162=\"\",E$161=\"Yes\"),\"< FIX\",\"\")","v":""},null,null,"Phase 01"]
[null,null,null,"    Closure Early Start",null,{"$f":"IF(AND(E163=\"\",E$161=\"Yes\"),\"< FIX\",\"\")","v":""},null,null,"Phase 01"]
[null,null,null,"    Closure Late Start",null,"",null,null,"Phase 01"]
[null,null,null,"    Closure Days Allotted",null,"",null,null,"Phase 01"]
[null,null,null,"    Closure Dates Motivation","Choose One",{"$f":"IF(AND(E166=\"Choose One\",E$161=\"Yes\"),\"< FIX\",\"\")","v":""},null,null,"Phase 01"]
[null,null,null,"    Closure Reward/Penalty per Day",null,"",null,null,"Phase 01"]
[null,null,null,"    Incentive cap (leave blank if N/A)",null,{"$f":"IF(AND(E168=\"\",OR(E166=\"Incentive\",E166=\"Incentive/Disincentive\",E166=\"No Excuse Completion Incentive/Disincentive\")),\"< FIX\",\"\")","v":""},null,null,"Phase 01"]
[null,null,null,"Autofill - Phase 1 Early Start Concatenate, 00100",{"$f":"IF(E149=\"Yes\",CONCATENATE(CHAR(10),E152,\" - \",E154),\"\")","v":""},null,null,null,"Autofill Lines"]
[null,null,null,"Autofill - Phase 1 Late Start Concatenate, 00100",{"$f":"IF(E149=\"Yes\",CONCATENATE(CHAR(10),E152,\" - \",E155),\"\")","v":""},null,null,null,"Autofill Lines"]
[null,null,null,"Autofill - Phase 1 Completion as appears in 00100",{"$f":"IF(OR(E149=\"Choose One\",E149=\"No\"),\"\",CONCATENATE(CHAR(10),E152,\": \",E156,\" - \",E157))","v":""},null,null,null,"Autofill Lines"]
["500_Ph1Days",null,null,"Autofill - Phase 1 Completion as appears in 00500",{"$f":"IF(E156=\"Choose One\",\"\",IF(E156=\"Not Applicable - Early/Late Starts Only\",\"Not used, delete.\",IF(E156=\"Completion Date\",CONCATENATE(\"A completion date has been specified for this contract. All work shall be completed by \",E157,\".\"),IF(E156=\"Calendar Days\",CONCATENATE(\"All work shall be completed within \",E157,\" calendar days.\"),CONCATENATE(\"All work shall be completed within \",E157, \" working days.\")))))","v":""},null,null,null,"Autofill Lines"]
["500_Ph1Motive",null,null,"Autofill - Phase 1 Motivation as appears in 00500",{"$f":"IF(E158=\"Choose One\",\"\",IF(E158=\"Liquidated Damages\",CONCATENATE(\"Liquidated damages of \",E159,\" per day shall be charged per Article 4.04.\"),IF(E158=\"Incentive\",CONCATENATE(\"An incentive of \",E159,\" per day, up to a maximum of \",E160,\", shall be paid per Article 4.05.\"),IF(E158=\"Incentive/Disincentive\",CONCATENATE(\"An incentive/disincentive of \",E159,\" per day, with a maximum incentive payment of \",E160,\", shall be applied per Article 4.05.\"),IF(E158=\"No Excuse Completion Incentive\",CONCATENATE(\"A No Excuse Completion Incentive of \",E159,\" per day, with a maximum incentive payment of \",E160,\", shall be paid per Article 4.05.\"),IF(E158=\"No Excuse Completion Disincentive\",CONCATENATE(\"A No Excuse Completion Disincentive of \",E159,\" per day shall be charged per Article 4.05.\"),CONCATENATE(\"A No Excuse Completion Incentive/Disincentive of \",E159,\" per day, with a maximum incentive payment of \",E160,\", shall be applied per Article 4.05.\")))))))","v":""},null,null,null,"Autofill Lines"]
[null,null,null,"Autofill - Phase 1 Closure Early Date Concatenate",{"$f":"IF(E163=\"None\",\"\",CONCATENATE(\" The early start date for closure work is \",E163,\".\"))","v":" The early start date for closure work is ."},null,null,null,"Autofill Lines"]
[null,null,null,"Autofill - Phase 1Closure Late Date Concatenate",{"$f":"IF(E164=\"None\",\"\",CONCATENATE(\" The late start date for closure work is \",E164,\".\"))","v":" The late start date for closure work is ."},null,null,null,"Autofill Lines"]
[null,null,null,"Autofill - Phase 1 Closure Days Motivation Concatenate",{"$f":"IF(E166=\"Choose One\",\"\",IF(E166=\"Liquidated Damages\",CONCATENATE(\"Failure to complete closure work within the allotted days will result in liquidated damages of \",E167,\" per day.\"),IF(E166=\"Incentive\",CONCATENATE(\"Use of less than the allotted days shall be paid an incentive of \",E167,\" per day, up to a maximum of \",E168,\".\"),IF(E166=\"Incentive/Disincentive\",CONCATENATE(\"An incentive/disincentive of \",E167,\" per day, with a maximum incentive payment of \",E168,\", shall be applied for closure days used ahead/past the specified allottment.\"),IF(E166=\"No Excuse Completion Incentive\",CONCATENATE(\"A No Excuse Completion Incentive of \",E167,\" per day, with a maximum incentive payment of \",E168,\", shall be paid for use of less than the allotted days.\"),IF(E166=\"No Excuse Completion Disincentive\",CONCATENATE(\"A No Excuse Completion Disincentive of \",E167,\" per day shall be charged for failure to complete closure work within the allotted days.\"),CONCATENATE(\"A No Excuse Completion Incentive/Disincentive of \",E167,\" per day, with a maximum incentive payment of \",E168,\", shall be applied for closure days used ahead/past the specified allottment.\")))))))","v":""},null,null,null,"Autofill Lines"]
["500_Ph1Closures",null,null,"Autofill - Phase 1 Closure Info as Appears in 00500",{"$f":"IF(E161=\"Choose One\",\"\",IF(E161=\"No\",\"Delete this line\",CONCATENATE(\"A maximum of \",E165,\" calendar days shall be allotted for closure work for \",E162,\".\",E174,E175,\" \",E176)))","v":""},null,null,null,"Autofill Lines"]
[null,null,null,"Autofill - Phase 1 Quick View MotivationConcatenate",{"$f":"IF(E173=\"\",\"\",CONCATENATE(CHAR(10),E152,\" - \",E173))","v":""},null,null,null,"Autofill Lines"]
[null,null,"Is There a Second Phase with Restrictions?",null,{"$f":"IF(E151=\"No\",\"No\",\"Choose One\")","v":"Choose One"},{"$f":"IF(AND(E179=\"Choose One\",E149=\"Yes\"),\"< FIX\",\"\")","v":""},null,null,"Phase 02"]
["500_Ph2Name",null,null,"Phase Name",{"$f":"IF(E179=\"Yes\",\"\",\"Not Used - Delete This Phase\")","v":"Not Used - Delete This Phase"},{"$f":"IF(E180=\"\",\"< FIX\",\"\")","v":""},"00100, 00500","Completion Info","Phase 02"]
["500_Ph2Desc",null,null,"Phase Description",null,{"$f":"IF(AND(E181=\"\",E$179=\"Yes\"),\"< FIX\",\"\")","v":""},null,{"$f":"E200","v":""},"Phase 02"]
["500_Ph2EarlyStart",null,null,"Phase Early Start",null,{"$f":"IF(AND(E182=\"\",E$179=\"Yes\"),\"< FIX\",\"\")","v":""},null,null,"Phase 02"]
["500_Ph2LateStart",null,null,"Phase Late Start",null,{"$f":"IF(AND(E183=\"\",E$179=\"Yes\"),\"< FIX\",\"\")","v":""},null,null,"Phase 02"]
[null,null,null,"Phase Dates for Completion:","Choose One",{"$f":"IF(AND(E184=\"Choose One\",E$179=\"Yes\"),\"< FIX\",\"\")","v":""},null,"Motivation Info","Phase 02"]
[null,null,null,"    Completion Date / Days Allowance",null,{"$f":"IF(AND(E185=\"\",E$179=\"Yes\",E184<>\"Not Applicable - Early/Late Starts Only\"),\"< FIX\",\"\")","v":""},null,{"$f":"E201","v":""},"Phase 02"]
[null,null,null,"    Completion Motivation","Choose One",{"$f":"IF(AND(E186=\"Choose One\",E$179=\"Yes\",E184<>\"Not Applicable - Early/Late Starts Only\"),\"< FIX\",\"\")","v":""},null,null,"Phase 02"]
[null,null,null,"    Reward/Penalty per Day",null,{"$f":"IF(AND(E187=\"\",E$179=\"Yes\",E184<>\"Not Applicable - Early/Late Starts Only\"),\"< FIX\",\"\")","v":""},null,null,"Phase 02"]
[null,null,null,"    Incentive cap (leave blank if N/A)",null,{"$f":"IF(AND(E188=\"\",OR(E186=\"Incentive\",E186=\"Incentive/Disincentive\",E186=\"No Excuse Completion Incentive/Disincentive\"),E184<>\"Not Applicable - Early/Late Starts Only\"),\"< FIX\",\"\")","v":""},null,"Closure Info:","Phase 02"]
[null,null,null,"Closure Days Used in Phase?","Choose One",{"$f":"IF(AND(E189=\"Choose One\",E$179=\"Yes\"),\"< FIX\",\"\")","v":""},null,{"$f":"E205","v":""},"Phase 02"]
[null,null,null,"    Closure Location(s)",null,{"$f":"IF(AND(E190=\"\",E$189=\"Yes\"),\"< FIX\",\"\")","v":""},null,null,"Phase 02"]
[null,null,null,"    Closure Early Start",null,{"$f":"IF(AND(E191=\"\",E$189=\"Yes\"),\"< FIX\",\"\")","v":""},null,null,"Phase 02"]
[null,null,null,"    Closure Late Start",null,"",null,null,"Phase 02"]
[null,null,null,"    Closure Days Allotted",null,"",null,null,"Phase 02"]
[null,null,null,"    Closure Dates Motivation","Choose One",{"$f":"IF(AND(E194=\"Choose One\",E$189=\"Yes\"),\"< FIX\",\"\")","v":""},null,null,"Phase 02"]
[null,null,null,"    Closure Reward/Penalty per Day",null,{"$f":"IF(AND(E195=\"\",E$189=\"Yes\"),\"< FIX\",\"\")","v":""},null,null,"Phase 02"]
[null,null,null,"    Incentive cap (leave blank if N/A)",null,{"$f":"IF(AND(E196=\"\",OR(E194=\"Incentive\",E194=\"Incentive/Disincentive\",E194=\"No Excuse Completion Incentive/Disincentive\")),\"< FIX\",\"\")","v":""},null,null,"Phase 02"]
[null,null,null,"Autofill - Phase 2 Early Start Concatenate, 00100",{"$f":"IF(E149=\"Yes\",CONCATENATE(CHAR(10),E180,\" - \",E182),\"\")","v":""},null,null,null,"Autofill Lines"]
[null,null,null,"Autofill - Phase 2 Late Start Concatenate, 00100",{"$f":"IF(E149=\"Yes\",CONCATENATE(CHAR(10),E180,\" - \",E183),\"\")","v":""},null,null,null,"Autofill Lines"]
[null,null,null,"Autofill - Phase 2 Completion as appears in 00100",{"$f":"IF(OR(E149=\"Choose One\",E149=\"No\"),\"\",CONCATENATE(CHAR(10),E180,\": \",E184,\" - \",E185))","v":""},null,null,null,"Autofill Lines"]
["500_Ph2Days",null,null,"Autofill - Phase 2 Completion as appears in 00500",{"$f":"IF(E184=\"Choose One\",\"\",IF(E184=\"Not Applicable - Early/Late Starts Only\",\"Not used, delete.\",IF(E184=\"Completion Date\",CONCATENATE(\"A completion date has been specified for this contract. All work shall be completed by \",E185,\".\"),IF(E184=\"Calendar Days\",CONCATENATE(\"All work shall be completed within \",E185,\" calendar days.\"),CONCATENATE(\"All work shall be completed within \",E185, \" working days.\")))))","v":""},null,null,null,"Autofill Lines"]
["500_Ph2Motive",null,null,"Autofill - Phase 2 Motivation as appears in 00500",{"$f":"IF(E186=\"Choose One\",\"\",IF(E186=\"Liquidated Damages\",CONCATENATE(\"Liquidated damages of \",E187,\" per day shall be charged per Article 4.04.\"),IF(E186=\"Incentive\",CONCATENATE(\"An incentive of \",E187,\" per day, up to a maximum of \",E188,\", shall be paid per Article 4.05.\"),IF(E186=\"Incentive/Disincentive\",CONCATENATE(\"An incentive/disincentive of \",E187,\" per day, with a maximum incentive payment of \",E188,\", shall be applied per Article 4.05.\"),IF(E186=\"No Excuse Completion Incentive\",CONCATENATE(\"A No Excuse Completion Incentive of \",E187,\" per day, with a maximum incentive payment of \",E188,\", shall be paid per Article 4.05.\"),IF(E186=\"No Excuse Completion Disincentive\",CONCATENATE(\"A No Excuse Completion Disincentive of \",E187,\" per day shall be charged per Article 4.05.\"),CONCATENATE(\"A No Excuse Completion Incentive/Disincentive of \",E187,\" per day, with a maximum incentive payment of \",E188,\", shall be applied per Article 4.05.\")))))))","v":""},null,null,null,"Autofill Lines"]
[null,null,null,"Autofill - Phase 2 Closure Early Date Concatenate",{"$f":"IF(E191=\"None\",\"\",CONCATENATE(\" The early start date for closure work is \",E191,\".\"))","v":" The early start date for closure work is ."},null,null,null,"Autofill Lines"]
[null,null,null,"Autofill - Phase 2 Closure Late Date Concatenate",{"$f":"IF(E192=\"None\",\"\",CONCATENATE(\" The late start date for closure work is \",E192,\".\"))","v":" The late start date for closure work is ."},null,null,null,"Autofill Lines"]
[null,null,null,"Autofill - Phase 2 Closure Days Motivation Concatenate",{"$f":"IF(E194=\"Choose One\",\"\",IF(E194=\"Liquidated Damages\",CONCATENATE(\"Failure to complete closure work within the allotted days will result in liquidated damages of \",E195,\" per day.\"),IF(E194=\"Incentive\",CONCATENATE(\"Use of less than the allotted days shall be paid an incentive of \",E195,\" per day, up to a maximum of \",E196,\".\"),IF(E194=\"Incentive/Disincentive\",CONCATENATE(\"An incentive/disincentive of \",E195,\" per day, with a maximum incentive payment of \",E196,\", shall be applied for closure days used ahead/past the specified allottment.\"),IF(E194=\"No Excuse Completion Incentive\",CONCATENATE(\"A No Excuse Completion Incentive of \",E195,\" per day, with a maximum incentive payment of \",E196,\", shall be paid for use of less than the allotted days.\"),IF(E194=\"No Excuse Completion Disincentive\",CONCATENATE(\"A No Excuse Completion Disincentive of \",E195,\" per day shall be charged for failure to complete closure work within the allotted days.\"),CONCATENATE(\"A No Excuse Completion Incentive/Disincentive of \",E195,\" per day, with a maximum incentive payment of \",E196,\", shall be applied for closure days used ahead/past the specified allottment.\")))))))","v":""},null,null,null,"Autofill Lines"]
["500_Ph2Closures",null,null,"Autofill - Phase 2 Closure Info as Appears in 00500",{"$f":"IF(E189=\"Choose One\",\"\",IF(E189=\"No\",\"Delete this line\",CONCATENATE(\"A maximum of \",E193,\" calendar days shall be allotted for closure work for \",E190,\".\",E202,E203,\" \",E204)))","v":""},null,null,null,"Autofill Lines"]
[null,null,null,"Autofill - Phase 2 Quick View MotivationConcatenate",{"$f":"IF(E201=\"\",\"\",CONCATENATE(CHAR(10),E180,\" - \",E201))","v":""},null,null,null,"Autofill Lines"]
[null,null,"Is there a Third Phase with Restrictions?",null,{"$f":"IF(E179=\"No\",\"No\",\"Choose One\")","v":"Choose One"},{"$f":"IF(AND(E207=\"Choose One\",E179=\"Yes\"),\"< FIX\",\"\")","v":""},"00100, 00500","Completion Info","Phase 02"]
["500_Ph3Name",null,null,"Phase Name",{"$f":"IF(E207=\"Yes\",\"\",\"Not Used - Delete This Phase\")","v":"Not Used - Delete This Phase"},{"$f":"IF(E208=\"\",\"< FIX\",\"\")","v":""},null,{"$f":"E228","v":""},"Phase 03"]
["500_Ph3Desc",null,null,"Phase Description",null,{"$f":"IF(AND(E209=\"\",E$207=\"Yes\"),\"< FIX\",\"\")","v":""},null,null,"Phase 03"]
["500_Ph3EarlyStart",null,null,"Phase Early Start",null,{"$f":"IF(AND(E210=\"\",E$207=\"Yes\"),\"< FIX\",\"\")","v":""},null,null,"Phase 03"]
["500_Ph3LateStart",null,null,"Phase Late Start",null,"",null,"Motivation Info","Phase 03"]
[null,null,null,"Phase Dates for Completion:","Choose One",{"$f":"IF(AND(E212=\"Choose One\",E$207=\"Yes\"),\"< FIX\",\"\")","v":""},null,{"$f":"E229","v":""},"Phase 03"]
[null,null,null,"    Completion Date / Days Allowance",null,{"$f":"IF(AND(E213=\"\",E$207=\"Yes\",E212<>\"Not Applicable - Early/Late Starts Only\"),\"< FIX\",\"\")","v":""},null,null,"Phase 03"]
[null,null,null,"    Completion Motivation","Choose One",{"$f":"IF(AND(E214=\"Choose One\",E$207=\"Yes\",E212<>\"Not Applicable - Early/Late Starts Only\"),\"< FIX\",\"\")","v":""},null,null,"Phase 03"]
[null,null,null,"    Reward/Penalty per Day",null,{"$f":"IF(AND(E215=\"\",E$207=\"Yes\",E212<>\"Not Applicable - Early/Late Starts Only\"),\"< FIX\",\"\")","v":""},null,"Closure Info:","Phase 03"]
[null,null,null,"    Incentive cap (leave blank if N/A)",null,{"$f":"IF(AND(E216=\"\",OR(E214=\"Incentive\",E214=\"Incentive/Disincentive\",E214=\"No Excuse Completion Incentive/Disincentive\"),E212<>\"Not Applicable - Early/Late Starts Only\"),\"< FIX\",\"\")","v":""},null,{"$f":"E233","v":""},"Phase 03"]
[null,null,null,"Closure Days Used in Phase?","Choose One",{"$f":"IF(AND(E217=\"Choose One\",E207=\"Yes\"),\"< FIX\",\"\")","v":""},null,null,"Phase 03"]
[null,null,null,"    Closure Location(s)",null,{"$f":"IF(AND(E218=\"\",E$217=\"Yes\"),\"< FIX\",\"\")","v":""},null,null,"Phase 03"]
[null,null,null,"    Closure Early Start",null,{"$f":"IF(AND(E219=\"\",E$217=\"Yes\"),\"< FIX\",\"\")","v":""},null,null,"Phase 03"]
[null,null,null,"    Closure Late Start",null,"",null,null,"Phase 03"]
[null,null,null,"    Closure Days Allotted",null,"",null,null,"Phase 03"]
[null,null,null,"    Closure Dates Motivation","Choose One",{"$f":"IF(AND(E222=\"Choose One\",E$217=\"Yes\"),\"< FIX\",\"\")","v":""},null,null,"Phase 03"]
[null,null,null,"    Closure Reward/Penalty per Day",null,"",null,null,"Phase 03"]
[null,null,null,"    Incentive cap (leave blank if N/A)",null,{"$f":"IF(AND(E224=\"\",OR(E222=\"Incentive\",E222=\"Incentive/Disincentive\",E222=\"No Excuse Completion Incentive/Disincentive\")),\"< FIX\",\"\")","v":""},null,null,"Phase 03"]
[null,null,null,"Autofill - Phase 3 Early Start Concatenate, 00100",{"$f":"IF(E207=\"Yes\",CONCATENATE(CHAR(10),E208,\" - \",E210),\"\")","v":""},null,null,null,"Autofill Lines"]
[null,null,null,"Autofill - Phase 3 Late Start Concatenate, 00100",{"$f":"IF(E207=\"Yes\",CONCATENATE(CHAR(10),E208,\" - \",E211),\"\")","v":""},null,null,null,"Autofill Lines"]
[null,null,null,"Autofill - Phase 3 Completion as appears in 00100",{"$f":"IF(OR(E207=\"Choose One\",E207=\"No\"),\"\",CONCATENATE(CHAR(10),E208,\": \",E212,\" - \",E213))","v":""},null,null,null,"Autofill Lines"]
["500_Ph3Days",null,null,"Autofill - Phase 3 Completion as appears in 00500",{"$f":"IF(E212=\"Choose One\",\"\",IF(E212=\"Not Applicable - Early/Late Starts Only\",\"Not used, delete.\",IF(E212=\"Completion Date\",CONCATENATE(\"A completion date has been specified for this contract. All work shall be completed by \",E213,\".\"),IF(E212=\"Calendar Days\",CONCATENATE(\"All work shall be completed within \",E213,\" calendar days.\"),CONCATENATE(\"All work shall be completed within \",E213, \" working days.\")))))","v":""},null,null,null,"Autofill Lines"]
["500_Ph3Motive",null,null,"Autofill - Phase 3 Motivation as appears in 00500",{"$f":"IF(E214=\"Choose One\",\"\",IF(E214=\"Liquidated Damages\",CONCATENATE(\"Liquidated damages of \",E215,\" per day shall be charged per Article 4.04.\"),IF(E214=\"Incentive\",CONCATENATE(\"An incentive of \",E215,\" per day, up to a maximum of \",E216,\", shall be paid per Article 4.05.\"),IF(E214=\"Incentive/Disincentive\",CONCATENATE(\"An incentive/disincentive of \",E215,\" per day, with a maximum incentive payment of \",E216,\", shall be applied per Article 4.05.\"),IF(E214=\"No Excuse Completion Incentive\",CONCATENATE(\"A No Excuse Completion Incentive of \",E215,\" per day, with a maximum incentive payment of \",E216,\", shall be paid per Article 4.05.\"),IF(E214=\"No Excuse Completion Disincentive\",CONCATENATE(\"A No Excuse Completion Disincentive of \",E215,\" per day shall be charged per Article 4.05.\"),CONCATENATE(\"A No Excuse Completion Incentive/Disincentive of \",E215,\" per day, with a maximum incentive payment of \",E216,\", shall be applied per Article 4.05.\")))))))","v":""},null,null,null,"Autofill Lines"]
[null,null,null,"Autofill - Phase 3 Closure Early Date Concatenate",{"$f":"IF(E219=\"None\",\"\",CONCATENATE(\" The early start date for closure work is \",E219,\".\"))","v":" The early start date for closure work is ."},null,null,null,"Autofill Lines"]
[null,null,null,"Autofill - Phase 3 Closure Late Date Concatenate",{"$f":"IF(E220=\"None\",\"\",CONCATENATE(\" The late start date for closure work is \",E220,\".\"))","v":" The late start date for closure work is ."},null,null,null,"Autofill Lines"]
[null,null,null,"Autofill - Phase 3 Closure Days Motivation Concatenate",{"$f":"IF(E222=\"Choose One\",\"\",IF(E222=\"Liquidated Damages\",CONCATENATE(\"Failure to complete closure work within the allotted days will result in liquidated damages of \",E223,\" per day.\"),IF(E222=\"Incentive\",CONCATENATE(\"Use of less than the allotted days shall be paid an incentive of \",E223,\" per day, up to a maximum of \",E224,\".\"),IF(E222=\"Incentive/Disincentive\",CONCATENATE(\"An incentive/disincentive of \",E223,\" per day, with a maximum incentive payment of \",E224,\", shall be applied for closure days used ahead/past the specified allottment.\"),IF(E222=\"No Excuse Completion Incentive\",CONCATENATE(\"A No Excuse Completion Incentive of \",E223,\" per day, with a maximum incentive payment of \",E224,\", shall be paid for use of less than the allotted days.\"),IF(E222=\"No Excuse Completion Disincentive\",CONCATENATE(\"A No Excuse Completion Disincentive of \",E223,\" per day shall be charged for failure to complete closure work within the allotted days.\"),CONCATENATE(\"A No Excuse Completion Incentive/Disincentive of \",E223,\" per day, with a maximum incentive payment of \",E224,\", shall be applied for closure days used ahead/past the specified allottment.\")))))))","v":""},null,null,null,"Autofill Lines"]
["500_Ph3Closures",null,null,"Autofill - Phase 3 Closure Info as Appears in 00500",{"$f":"IF(E217=\"Choose One\",\"\",IF(E217=\"No\",\"Delete this line\",CONCATENATE(\"A maximum of \",E221,\" calendar days shall be allotted for closure work for \",E218,\".\",E230,E231,\" \",E232)))","v":""},null,null,null,"Autofill Lines"]
[null,null,null,"Autofill - Phase 3 Quick View MotivationConcatenate",{"$f":"IF(E229=\"\",\"\",CONCATENATE(CHAR(10),E208,\" - \",E229))","v":""},null,null,null,"Autofill Lines"]
[null,null,"Is there a Fourth Phase with Restrictions?",null,{"$f":"IF(E207=\"No\",\"No\",\"Choose One\")","v":"Choose One"},{"$f":"IF(AND(E235=\"Choose One\",E207=\"Yes\"),\"< FIX\",\"\")","v":""},"00100, 00500","Completion Info","Phase 03"]
["500_Ph4Name",null,null,"Phase Name",{"$f":"IF(E235=\"Yes\",\"\",\"Not Used - Delete This Phase\")","v":"Not Used - Delete This Phase"},{"$f":"IF(E236=\"\",\"< FIX\",\"\")","v":""},null,{"$f":"E256","v":""},"Phase 04"]
["500_Ph4Desc",null,null,"Phase Description",null,{"$f":"IF(AND(E237=\"\",E$235=\"Yes\"),\"< FIX\",\"\")","v":""},null,null,"Phase 04"]
["500_Ph4EarlyStart",null,null,"Phase Early Start",null,{"$f":"IF(AND(E238=\"\",E$235=\"Yes\"),\"< FIX\",\"\")","v":""},null,null,"Phase 04"]
["500_Ph4LateStart",null,null,"Phase Late Start",null,"",null,"Motivation Info","Phase 04"]
[null,null,null,"Phase Dates for Completion:","Choose One",{"$f":"IF(AND(E240=\"Choose One\",E$235=\"Yes\"),\"< FIX\",\"\")","v":""},null,{"$f":"E257","v":""},"Phase 04"]
[null,null,null,"    Completion Date / Days Allowance",null,{"$f":"IF(AND(E241=\"\",E$235=\"Yes\",E240<>\"Not Applicable - Early/Late Starts Only\"),\"< FIX\",\"\")","v":""},null,null,"Phase 04"]
[null,null,null,"    Completion Motivation","Choose One",{"$f":"IF(AND(E242=\"Choose One\",E$235=\"Yes\",E240<>\"Not Applicable - Early/Late Starts Only\"),\"< FIX\",\"\")","v":""},null,null,"Phase 04"]
[null,null,null,"    Reward/Penalty per Day",null,{"$f":"IF(AND(E243=\"\",E$235=\"Yes\",E240<>\"Not Applicable - Early/Late Starts Only\"),\"< FIX\",\"\")","v":""},null,"Closure Info:","Phase 04"]
[null,null,null,"    Incentive cap (leave blank if N/A)",null,{"$f":"IF(AND(E244=\"\",OR(E242=\"Incentive\",E242=\"Incentive/Disincentive\",E242=\"No Excuse Completion Incentive/Disincentive\"),E240<>\"Not Applicable - Early/Late Starts Only\"),\"< FIX\",\"\")","v":""},null,{"$f":"E261","v":""},"Phase 04"]
[null,null,null,"Closure Days Used in Phase?","Choose One",{"$f":"IF(AND(E245=\"Choose One\",E$235=\"Yes\"),\"< FIX\",\"\")","v":""},null,null,"Phase 04"]
[null,null,null,"    Closure Location(s)",null,{"$f":"IF(AND(E246=\"\",E$245=\"Yes\"),\"< FIX\",\"\")","v":""},null,null,"Phase 04"]
[null,null,null,"    Closure Early Start",null,{"$f":"IF(AND(E247=\"\",E$245=\"Yes\"),\"< FIX\",\"\")","v":""},null,null,"Phase 04"]
[null,null,null,"    Closure Late Start",null,"",null,null,"Phase 04"]
[null,null,null,"    Closure Days Allotted",null,"",null,null,"Phase 04"]
[null,null,null,"    Closure Dates Motivation","Choose One",{"$f":"IF(AND(E250=\"Choose One\",E$245=\"Yes\"),\"< FIX\",\"\")","v":""},null,null,"Phase 04"]
[null,null,null,"    Closure Reward/Penalty per Day",null,{"$f":"IF(AND(E251=\"\",E$245=\"Yes\"),\"< FIX\",\"\")","v":""},null,null,"Phase 04"]
[null,null,null,"    Incentive cap (leave blank if N/A)",null,{"$f":"IF(AND(E252=\"\",OR(E250=\"Incentive\",E250=\"Incentive/Disincentive\",E250=\"No Excuse Completion Incentive/Disincentive\")),\"< FIX\",\"\")","v":""},null,null,"Phase 04"]
[null,null,null,"Autofill - Phase 4 Early Start Concatenate, 00100",{"$f":"IF(E235=\"Yes\",CONCATENATE(CHAR(10),E236,\" - \",E238),\"\")","v":""},null,null,null,"Autofill Lines"]
[null,null,null,"Autofill - Phase 4 Late Start Concatenate, 00100",{"$f":"IF(E235=\"Yes\",CONCATENATE(CHAR(10),E236,\" - \",E239),\"\")","v":""},null,null,null,"Autofill Lines"]
[null,null,null,"Autofill - Phase 4 Completion as appears in 00100",{"$f":"IF(OR(E235=\"Choose One\",E235=\"No\"),\"\",CONCATENATE(CHAR(10),E236,\": \",E240,\" - \",E241))","v":""},null,null,null,"Autofill Lines"]
["500_Ph4Days",null,null,"Autofill - Phase 4 Completion as appears in 00500",{"$f":"IF(E240=\"Choose One\",\"\",IF(E240=\"Not Applicable - Early/Late Starts Only\",\"Not used, delete.\",IF(E240=\"Completion Date\",CONCATENATE(\"A completion date has been specified for this contract. All work shall be completed by \",E241,\".\"),IF(E240=\"Calendar Days\",CONCATENATE(\"All work shall be completed within \",E241,\" calendar days.\"),CONCATENATE(\"All work shall be completed within \",E241, \" working days.\")))))","v":""},null,null,null,"Autofill Lines"]
["500_Ph4Motive",null,null,"Autofill - Phase 4 Motivation as appears in 00500",{"$f":"IF(E242=\"Choose One\",\"\",IF(E242=\"Liquidated Damages\",CONCATENATE(\"Liquidated damages of \",E243,\" per day shall be charged per Article 4.04.\"),IF(E242=\"Incentive\",CONCATENATE(\"An incentive of \",E243,\" per day, up to a maximum of \",E244,\", shall be paid per Article 4.05.\"),IF(E242=\"Incentive/Disincentive\",CONCATENATE(\"An incentive/disincentive of \",E243,\" per day, with a maximum incentive payment of \",E244,\", shall be applied per Article 4.05.\"),IF(E242=\"No Excuse Completion Incentive\",CONCATENATE(\"A No Excuse Completion Incentive of \",E243,\" per day, with a maximum incentive payment of \",E244,\", shall be paid per Article 4.05.\"),IF(E242=\"No Excuse Completion Disincentive\",CONCATENATE(\"A No Excuse Completion Disincentive of \",E243,\" per day shall be charged per Article 4.05.\"),CONCATENATE(\"A No Excuse Completion Incentive/Disincentive of \",E243,\" per day, with a maximum incentive payment of \",E244,\", shall be applied per Article 4.05.\")))))))","v":""},null,null,null,"Autofill Lines"]
[null,null,null,"Autofill - Phase 4 Closure Early Date Concatenate",{"$f":"IF(E247=\"None\",\"\",CONCATENATE(\" The early start date for closure work is \",E247,\".\"))","v":" The early start date for closure work is ."},null,null,null,"Autofill Lines"]
[null,null,null,"Autofill - Phase 4 Closure Late Date Concatenate",{"$f":"IF(E248=\"None\",\"\",CONCATENATE(\" The late start date for closure work is \",E248,\".\"))","v":" The late start date for closure work is ."},null,null,null,"Autofill Lines"]
[null,null,null,"Autofill - Phase 4 Closure Days Motivation Concatenate",{"$f":"IF(E250=\"Choose One\",\"\",IF(E250=\"Liquidated Damages\",CONCATENATE(\"Failure to complete closure work within the allotted days will result in liquidated damages of \",E251,\" per day.\"),IF(E250=\"Incentive\",CONCATENATE(\"Use of less than the allotted days shall be paid an incentive of \",E251,\" per day, up to a maximum of \",E252,\".\"),IF(E250=\"Incentive/Disincentive\",CONCATENATE(\"An incentive/disincentive of \",E251,\" per day, with a maximum incentive payment of \",E252,\", shall be applied for closure days used ahead/past the specified allottment.\"),IF(E250=\"No Excuse Completion Incentive\",CONCATENATE(\"A No Excuse Completion Incentive of \",E251,\" per day, with a maximum incentive payment of \",E252,\", shall be paid for use of less than the allotted days.\"),IF(E250=\"No Excuse Completion Disincentive\",CONCATENATE(\"A No Excuse Completion Disincentive of \",E251,\" per day shall be charged for failure to complete closure work within the allotted days.\"),CONCATENATE(\"A No Excuse Completion Incentive/Disincentive of \",E251,\" per day, with a maximum incentive payment of \",E252,\", shall be applied for closure days used ahead/past the specified allottment.\")))))))","v":""},null,null,null,"Autofill Lines"]
["500_Ph4Closures",null,null,"Autofill - Phase 4 Closure Info as Appears in 00500",{"$f":"IF(E245=\"Choose One\",\"\",IF(E245=\"No\",\"Delete this line\",CONCATENATE(\"A maximum of \",E249,\" calendar days shall be allotted for closure work for \",E246,\".\",E258,E259,\" \",E260)))","v":""},null,null,null,"Autofill Lines"]
[null,null,null,"Autofill - Phase 4 Quick View MotivationConcatenate",{"$f":"IF(E257=\"\",\"\",CONCATENATE(CHAR(10),E236,\" - \",E257))","v":""},null,null,null,"Autofill Lines"]
[null,null,"Is there a Fifth Phase with Restrictions?",null,{"$f":"IF(E235=\"No\",\"No\",\"Choose One\")","v":"Choose One"},{"$f":"IF(AND(E263=\"Choose One\",E235=\"Yes\"),\"< FIX\",\"\")","v":""},"00100, 00500","Completion Info","Phase 04"]
["500_Ph5Name",null,null,"Phase Name",{"$f":"IF(E263=\"Yes\",\"\",\"Not Used - Delete This Phase\")","v":"Not Used - Delete This Phase"},{"$f":"IF(E264=\"\",\"< FIX\",\"\")","v":""},null,{"$f":"E284","v":""},"Phase 05"]
["500_Ph5Desc",null,null,"Phase Description",null,{"$f":"IF(AND(E265=\"\",E$263=\"Yes\"),\"< FIX\",\"\")","v":""},null,null,"Phase 05"]
["500_Ph5EarlyStart",null,null,"Phase Early Start",null,{"$f":"IF(AND(E266=\"\",E$263=\"Yes\"),\"< FIX\",\"\")","v":""},null,null,"Phase 05"]
["500_Ph5LateStart",null,null,"Phase Late Start",null,"",null,"Motivation Info","Phase 05"]
[null,null,null,"Phase Dates for Completion:","Choose One",{"$f":"IF(AND(E268=\"Choose One\",E$263=\"Yes\"),\"< FIX\",\"\")","v":""},null,{"$f":"E285","v":""},"Phase 05"]
[null,null,null,"    Completion Date / Days Allowance",null,{"$f":"IF(AND(E269=\"\",E$263=\"Yes\",E268<>\"Not Applicable - Early/Late Starts Only\"),\"< FIX\",\"\")","v":""},null,null,"Phase 05"]
[null,null,null,"    Completion Motivation","Choose One",{"$f":"IF(AND(E270=\"Choose One\",E$263=\"Yes\",E268<>\"Not Applicable - Early/Late Starts Only\"),\"< FIX\",\"\")","v":""},null,null,"Phase 05"]
[null,null,null,"    Reward/Penalty per Day",null,{"$f":"IF(AND(E271=\"\",E$263=\"Yes\",E268<>\"Not Applicable - Early/Late Starts Only\"),\"< FIX\",\"\")","v":""},null,"Closure Info:","Phase 05"]
[null,null,null,"    Incentive cap (leave blank if N/A)",null,{"$f":"IF(AND(E272=\"\",OR(E270=\"Incentive\",E270=\"Incentive/Disincentive\",E270=\"No Excuse Completion Incentive/Disincentive\"),E268<>\"Not Applicable - Early/Late Starts Only\"),\"< FIX\",\"\")","v":""},null,{"$f":"E289","v":""},"Phase 05"]
[null,null,null,"Closure Days Used in Phase?","Choose One",{"$f":"IF(AND(E273=\"Choose One\",E$263=\"Yes\"),\"< FIX\",\"\")","v":""},null,null,"Phase 05"]
[null,null,null,"    Closure Location(s)",null,{"$f":"IF(AND(E274=\"\",E$273=\"Yes\"),\"< FIX\",\"\")","v":""},null,null,"Phase 05"]
[null,null,null,"    Closure Early Start",null,{"$f":"IF(AND(E275=\"\",E$273=\"Yes\"),\"< FIX\",\"\")","v":""},null,null,"Phase 05"]
[null,null,null,"    Closure Late Start",null,"",null,null,"Phase 05"]
[null,null,null,"    Closure Days Allotted",null,"",null,null,"Phase 05"]
[null,null,null,"    Closure Dates Motivation","Choose One",{"$f":"IF(AND(E278=\"Choose One\",E$273=\"Yes\"),\"< FIX\",\"\")","v":""},null,null,"Phase 05"]
[null,null,null,"    Closure Reward/Penalty per Day",null,{"$f":"IF(AND(E279=\"\",E$273=\"Yes\"),\"< FIX\",\"\")","v":""},null,null,"Phase 05"]
[null,null,null,"    Incentive cap (leave blank if N/A)",null,{"$f":"IF(AND(E280=\"\",OR(E278=\"Incentive\",E278=\"Incentive/Disincentive\",E278=\"No Excuse Completion Incentive/Disincentive\")),\"< FIX\",\"\")","v":""},null,null,"Phase 05"]
[null,null,null,"Autofill - Phase 5 Early Start Concatenate, 00100",{"$f":"IF(E263=\"Yes\",CONCATENATE(CHAR(10),E264,\" - \",E266),\"\")","v":""},null,null,null,"Autofill Lines"]
[null,null,null,"Autofill - Phase 5 Late Start Concatenate, 00100",{"$f":"IF(E263=\"Yes\",CONCATENATE(CHAR(10),E264,\" - \",E267),\"\")","v":""},null,null,null,"Autofill Lines"]
[null,null,null,"Autofill - Phase 5 Completion as appears in 00100",{"$f":"IF(OR(E263=\"Choose One\",E263=\"No\"),\"\",CONCATENATE(CHAR(10),E264,\": \",E268,\" - \",E269))","v":""},null,null,null,"Autofill Lines"]
["500_Ph5Days",null,null,"Autofill - Phase 5 Completion as appears in 00500",{"$f":"IF(E268=\"Choose One\",\"\",IF(E268=\"Not Applicable - Early/Late Starts Only\",\"Not used, delete.\",IF(E268=\"Completion Date\",CONCATENATE(\"A completion date has been specified for this contract. All work shall be completed by \",E269,\".\"),IF(E268=\"Calendar Days\",CONCATENATE(\"All work shall be completed within \",E269,\" calendar days.\"),CONCATENATE(\"All work shall be completed within \",E269, \" working days.\")))))","v":""},null,null,null,"Autofill Lines"]
["500_Ph5Motive",null,null,"Autofill - Phase 5 Motivation as appears in 00500",{"$f":"IF(E270=\"Choose One\",\"\",IF(E270=\"Liquidated Damages\",CONCATENATE(\"Liquidated damages of \",E271,\" per day shall be charged per Article 4.04.\"),IF(E270=\"Incentive\",CONCATENATE(\"An incentive of \",E271,\" per day, up to a maximum of \",E272,\", shall be paid per Article 4.05.\"),IF(E270=\"Incentive/Disincentive\",CONCATENATE(\"An incentive/disincentive of \",E271,\" per day, with a maximum incentive payment of \",E272,\", shall be applied per Article 4.05.\"),IF(E270=\"No Excuse Completion Incentive\",CONCATENATE(\"A No Excuse Completion Incentive of \",E271,\" per day, with a maximum incentive payment of \",E272,\", shall be paid per Article 4.05.\"),IF(E270=\"No Excuse Completion Disincentive\",CONCATENATE(\"A No Excuse Completion Disincentive of \",E271,\" per day shall be charged per Article 4.05.\"),CONCATENATE(\"A No Excuse Completion Incentive/Disincentive of \",E271,\" per day, with a maximum incentive payment of \",E272,\", shall be applied per Article 4.05.\")))))))","v":""},null,null,null,"Autofill Lines"]
[null,null,null,"Autofill - Phase 5 Closure Early Date Concatenate",{"$f":"IF(E275=\"None\",\"\",CONCATENATE(\" The early start date for closure work is \",E275,\".\"))","v":" The early start date for closure work is ."},null,null,null,"Autofill Lines"]
[null,null,null,"Autofill - Phase 5 Closure Late Date Concatenate",{"$f":"IF(E276=\"None\",\"\",CONCATENATE(\" The late start date for closure work is \",E276,\".\"))","v":" The late start date for closure work is ."},null,null,null,"Autofill Lines"]
[null,null,null,"Autofill - Phase 5 Closure Days Motivation Concatenate",{"$f":"IF(E278=\"Choose One\",\"\",IF(E278=\"Liquidated Damages\",CONCATENATE(\"Failure to complete closure work within the allotted days will result in liquidated damages of \",E279,\" per day.\"),IF(E278=\"Incentive\",CONCATENATE(\"Use of less than the allotted days shall be paid an incentive of \",E279,\" per day, up to a maximum of \",E280,\".\"),IF(E278=\"Incentive/Disincentive\",CONCATENATE(\"An incentive/disincentive of \",E279,\" per day, with a maximum incentive payment of \",E280,\", shall be applied for closure days used ahead/past the specified allottment.\"),IF(E278=\"No Excuse Completion Incentive\",CONCATENATE(\"A No Excuse Completion Incentive of \",E279,\" per day, with a maximum incentive payment of \",E280,\", shall be paid for use of less than the allotted days.\"),IF(E278=\"No Excuse Completion Disincentive\",CONCATENATE(\"A No Excuse Completion Disincentive of \",E279,\" per day shall be charged for failure to complete closure work within the allotted days.\"),CONCATENATE(\"A No Excuse Completion Incentive/Disincentive of \",E279,\" per day, with a maximum incentive payment of \",E280,\", shall be applied for closure days used ahead/past the specified allottment.\")))))))","v":""},null,null,null,"Autofill Lines"]
["500_Ph5Closures",null,null,"Autofill - Phase 5 Closure Info as Appears in 00500",{"$f":"IF(E273=\"Choose One\",\"\",IF(E273=\"No\",\"Delete this line\",CONCATENATE(\"A maximum of \",E277,\" calendar days shall be allotted for closure work for \",E274,\".\",E286,E287,\" \",E288)))","v":""},null,null,null,"Autofill Lines"]
[null,null,null,"Autofill - Phase 5 Quick View MotivationConcatenate",{"$f":"IF(E285=\"\",\"\",CONCATENATE(CHAR(10),E264,\" - \",E285))","v":""},null,null,null,"Autofill Lines"]
[null,null,"Is there a Sixth Phase with Restrictions?",null,{"$f":"IF(E263=\"No\",\"No\",\"Choose One\")","v":"Choose One"},{"$f":"IF(AND(E291=\"Choose One\",E263=\"Yes\"),\"< FIX\",\"\")","v":""},"00100, 00500","Completion Info","Phase 05"]
["500_Ph6Name",null,null,"Phase Name",{"$f":"IF(E291=\"Yes\",\"\",\"Not Used - Delete This Phase\")","v":"Not Used - Delete This Phase"},{"$f":"IF(E292=\"\",\"< FIX\",\"\")","v":""},null,{"$f":"E312","v":""},"Phase 06"]
["500_Ph6Desc",null,null,"Phase Description",null,{"$f":"IF(AND(E293=\"\",E$291=\"Yes\"),\"< FIX\",\"\")","v":""},null,null,"Phase 06"]
["500_Ph6EarlyStart",null,null,"Phase Early Start",null,{"$f":"IF(AND(E294=\"\",E$291=\"Yes\"),\"< FIX\",\"\")","v":""},null,null,"Phase 06"]
["500_Ph6LateStart",null,null,"Phase Late Start",null,{"$f":"IF(AND(E295=\"\",E$291=\"Yes\"),\"< FIX\",\"\")","v":""},null,"Motivation Info","Phase 06"]
[null,null,null,"Phase Dates for Completion:","Choose One",{"$f":"IF(AND(E296=\"Choose One\",E$291=\"Yes\"),\"< FIX\",\"\")","v":""},null,{"$f":"E313","v":""},"Phase 06"]
[null,null,null,"    Completion Date / Days Allowance",null,{"$f":"IF(AND(E297=\"\",E$291=\"Yes\",E296<>\"Not Applicable - Early/Late Starts Only\"),\"< FIX\",\"\")","v":""},null,null,"Phase 06"]
[null,null,null,"    Completion Motivation","Choose One",{"$f":"IF(AND(E298=\"Choose One\",E$291=\"Yes\",E296<>\"Not Applicable - Early/Late Starts Only\"),\"< FIX\",\"\")","v":""},null,null,"Phase 06"]
[null,null,null,"    Reward/Penalty per Day",null,{"$f":"IF(AND(E299=\"\",E$291=\"Yes\",E296<>\"Not Applicable - Early/Late Starts Only\"),\"< FIX\",\"\")","v":""},null,"Closure Info:","Phase 06"]
[null,null,null,"    Incentive cap (leave blank if N/A)",null,{"$f":"IF(AND(E300=\"\",OR(E298=\"Incentive\",E298=\"Incentive/Disincentive\",E298=\"No Excuse Completion Incentive/Disincentive\"),E296<>\"Not Applicable - Early/Late Starts Only\"),\"< FIX\",\"\")","v":""},null,{"$f":"E317","v":""},"Phase 06"]
[null,null,null,"Closure Days Used in Phase?","Choose One",{"$f":"IF(AND(E301=\"Choose One\",E291=\"Yes\"),\"< FIX\",\"\")","v":""},null,null,"Phase 06"]
[null,null,null,"    Closure Location(s)",null,{"$f":"IF(AND(E302=\"\",E$301=\"Yes\"),\"< FIX\",\"\")","v":""},null,null,"Phase 06"]
[null,null,null,"    Closure Early Start",null,{"$f":"IF(AND(E303=\"\",E$301=\"Yes\"),\"< FIX\",\"\")","v":""},null,null,"Phase 06"]
[null,null,null,"    Closure Late Start",null,{"$f":"IF(AND(E304=\"\",E$301=\"Yes\"),\"< FIX\",\"\")","v":""},null,null,"Phase 06"]
[null,null,null,"    Closure Days Allotted",null,{"$f":"IF(AND(E305=\"\",E$301=\"Yes\"),\"< FIX\",\"\")","v":""},null,null,"Phase 06"]
[null,null,null,"    Closure Dates Motivation","Choose One",{"$f":"IF(AND(E306=\"Choose One\",E$301=\"Yes\"),\"< FIX\",\"\")","v":""},null,null,"Phase 06"]
[null,null,null,"    Closure Reward/Penalty per Day",null,{"$f":"IF(AND(E307=\"\",E$301=\"Yes\"),\"< FIX\",\"\")","v":""},null,null,"Phase 06"]
[null,null,null,"    Incentive cap (leave blank if N/A)",null,{"$f":"IF(AND(E308=\"\",OR(E306=\"Incentive\",E306=\"Incentive/Disincentive\",E306=\"No Excuse Completion Incentive/Disincentive\")),\"< FIX\",\"\")","v":""},null,null,"Phase 06"]
[null,null,null,"Autofill - Phase 6 Early Start Concatenate, 00100",{"$f":"IF(E291=\"Yes\",CONCATENATE(CHAR(10),E292,\" - \",E294),\"\")","v":""},null,null,null,"Autofill Lines"]
[null,null,null,"Autofill - Phase 6 Late Start Concatenate, 00100",{"$f":"IF(E291=\"Yes\",CONCATENATE(CHAR(10),E292,\" - \",E295),\"\")","v":""},null,null,null,"Autofill Lines"]
[null,null,null,"Autofill - Phase 6 Completion as appears in 00100",{"$f":"IF(OR(E291=\"Choose One\",E291=\"No\"),\"\",CONCATENATE(CHAR(10),E292,\": \",E296,\" - \",E297))","v":""},null,null,null,"Autofill Lines"]
["500_Ph6Days",null,null,"Autofill - Phase 6 Completion as appears in 00500",{"$f":"IF(E296=\"Choose One\",\"\",IF(E296=\"Not Applicable - Early/Late Starts Only\",\"Not used, delete.\",IF(E296=\"Completion Date\",CONCATENATE(\"A completion date has been specified for this contract. All work shall be completed by \",E297,\".\"),IF(E296=\"Calendar Days\",CONCATENATE(\"All work shall be completed within \",E297,\" calendar days.\"),CONCATENATE(\"All work shall be completed within \",E297, \" working days.\")))))","v":""},null,null,null,"Autofill Lines"]
["500_Ph6Motive",null,null,"Autofill - Phase 6 Motivation as appears in 00500",{"$f":"IF(E298=\"Choose One\",\"\",IF(E298=\"Liquidated Damages\",CONCATENATE(\"Liquidated damages of \",E299,\" per day shall be charged per Article 4.04.\"),IF(E298=\"Incentive\",CONCATENATE(\"An incentive of \",E299,\" per day, up to a maximum of \",E300,\", shall be paid per Article 4.05.\"),IF(E298=\"Incentive/Disincentive\",CONCATENATE(\"An incentive/disincentive of \",E299,\" per day, with a maximum incentive payment of \",E300,\", shall be applied per Article 4.05.\"),IF(E298=\"No Excuse Completion Incentive\",CONCATENATE(\"A No Excuse Completion Incentive of \",E299,\" per day, with a maximum incentive payment of \",E300,\", shall be paid per Article 4.05.\"),IF(E298=\"No Excuse Completion Disincentive\",CONCATENATE(\"A No Excuse Completion Disincentive of \",E299,\" per day shall be charged per Article 4.05.\"),CONCATENATE(\"A No Excuse Completion Incentive/Disincentive of \",E299,\" per day, with a maximum incentive payment of \",E300,\", shall be applied per Article 4.05.\")))))))","v":""},null,null,null,"Autofill Lines"]
[null,null,null,"Autofill - Phase 6 Closure Early Date Concatenate",{"$f":"IF(E303=\"None\",\"\",CONCATENATE(\" The early start date for closure work is \",E303,\".\"))","v":" The early start date for closure work is ."},null,null,null,"Autofill Lines"]
[null,null,null,"Autofill - Phase 6 Closure Late Date Concatenate",{"$f":"IF(E304=\"None\",\"\",CONCATENATE(\" The late start date for closure work is \",E304,\".\"))","v":" The late start date for closure work is ."},null,null,null,"Autofill Lines"]
[null,null,null,"Autofill - Phase 6 Closure Days Motivation Concatenate",{"$f":"IF(E306=\"Choose One\",\"\",IF(E306=\"Liquidated Damages\",CONCATENATE(\"Failure to complete closure work within the allotted days will result in liquidated damages of \",E307,\" per day.\"),IF(E306=\"Incentive\",CONCATENATE(\"Use of less than the allotted days shall be paid an incentive of \",E307,\" per day, up to a maximum of \",E308,\".\"),IF(E306=\"Incentive/Disincentive\",CONCATENATE(\"An incentive/disincentive of \",E307,\" per day, with a maximum incentive payment of \",E308,\", shall be applied for closure days used ahead/past the specified allottment.\"),IF(E306=\"No Excuse Completion Incentive\",CONCATENATE(\"A No Excuse Completion Incentive of \",E307,\" per day, with a maximum incentive payment of \",E308,\", shall be paid for use of less than the allotted days.\"),IF(E306=\"No Excuse Completion Disincentive\",CONCATENATE(\"A No Excuse Completion Disincentive of \",E307,\" per day shall be charged for failure to complete closure work within the allotted days.\"),CONCATENATE(\"A No Excuse Completion Incentive/Disincentive of \",E307,\" per day, with a maximum incentive payment of \",E308,\", shall be applied for closure days used ahead/past the specified allottment.\")))))))","v":""},null,null,null,"Autofill Lines"]
["500_Ph6Closures",null,null,"Autofill - Phase 6 Closure Info as Appears in 00500",{"$f":"IF(E301=\"Choose One\",\"\",IF(E301=\"No\",\"Delete this line\",CONCATENATE(\"A maximum of \",E305,\" calendar days shall be allotted for closure work for \",E302,\".\",E314,E315,\" \",E316)))","v":""},null,null,null,"Autofill Lines"]
[null,null,null,"Autofill - Phase 6 Quick View MotivationConcatenate",{"$f":"IF(E313=\"\",\"\",CONCATENATE(CHAR(10),E292,\" - \",E313))","v":""},null,null,null,"Autofill Lines"]
[null,null,"Is there a Seventh Phase with Restrictions?",null,{"$f":"IF(E291=\"No\",\"No\",\"Choose One\")","v":"Choose One"},{"$f":"IF(AND(E319=\"Choose One\",E291=\"Yes\"),\"< FIX\",\"\")","v":""},"00100, 00500","Completion Info","Phase 06"]
["500_Ph7Name",null,null,"Phase Name",{"$f":"IF(E319=\"Yes\",\"\",\"Not Used - Delete This Phase\")","v":"Not Used - Delete This Phase"},{"$f":"IF(E320=\"\",\"< FIX\",\"\")","v":""},null,{"$f":"E340","v":""},"Phase 07"]
["500_Ph7Desc",null,null,"Phase Description",null,{"$f":"IF(AND(E321=\"\",E$319=\"Yes\"),\"< FIX\",\"\")","v":""},null,null,"Phase 07"]
["500_Ph7EarlyStart",null,null,"Phase Early Start",null,{"$f":"IF(AND(E322=\"\",E$319=\"Yes\"),\"< FIX\",\"\")","v":""},null,null,"Phase 07"]
["500_Ph7LateStart",null,null,"Phase Late Start",null,{"$f":"IF(AND(E323=\"\",E$319=\"Yes\"),\"< FIX\",\"\")","v":""},null,"Motivation Info","Phase 07"]
[null,null,null,"Phase Dates for Completion:","Choose One",{"$f":"IF(AND(E324=\"Choose One\",E$319=\"Yes\"),\"< FIX\",\"\")","v":""},null,{"$f":"E341","v":""},"Phase 07"]
[null,null,null,"    Completion Date / Days Allowance",null,{"$f":"IF(AND(E325=\"\",E$319=\"Yes\",E324<>\"Not Applicable - Early/Late Starts Only\"),\"< FIX\",\"\")","v":""},null,null,"Phase 07"]
[null,null,null,"    Completion Motivation","Choose One",{"$f":"IF(AND(E326=\"Choose One\",E$319=\"Yes\",E324<>\"Not Applicable - Early/Late Starts Only\"),\"< FIX\",\"\")","v":""},null,null,"Phase 07"]
[null,null,null,"    Reward/Penalty per Day",null,{"$f":"IF(AND(E327=\"\",E$319=\"Yes\",E324<>\"Not Applicable - Early/Late Starts Only\"),\"< FIX\",\"\")","v":""},null,"Closure Info:","Phase 07"]
[null,null,null,"    Incentive cap (leave blank if N/A)",null,{"$f":"IF(AND(E328=\"\",OR(E326=\"Incentive\",E326=\"Incentive/Disincentive\",E326=\"No Excuse Completion Incentive/Disincentive\"),E324<>\"Not Applicable - Early/Late Starts Only\"),\"< FIX\",\"\")","v":""},null,{"$f":"E345","v":""},"Phase 07"]
[null,null,null,"Closure Days Used in Phase?","Choose One",{"$f":"IF(AND(E329=\"Choose One\",E319=\"Yes\"),\"< FIX\",\"\")","v":""},null,null,"Phase 07"]
[null,null,null,"    Closure Location(s)",null,{"$f":"IF(AND(E330=\"\",E$329=\"Yes\"),\"< FIX\",\"\")","v":""},null,null,"Phase 07"]
[null,null,null,"    Closure Early Start",null,{"$f":"IF(AND(E331=\"\",E$329=\"Yes\"),\"< FIX\",\"\")","v":""},null,null,"Phase 07"]
[null,null,null,"    Closure Late Start",null,{"$f":"IF(AND(E332=\"\",E$329=\"Yes\"),\"< FIX\",\"\")","v":""},null,null,"Phase 07"]
[null,null,null,"    Closure Days Allotted",null,{"$f":"IF(AND(E333=\"\",E$329=\"Yes\"),\"< FIX\",\"\")","v":""},null,null,"Phase 07"]
[null,null,null,"    Closure Dates Motivation","Choose One",{"$f":"IF(AND(E334=\"Choose One\",E$329=\"Yes\"),\"< FIX\",\"\")","v":""},null,null,"Phase 07"]
[null,null,null,"    Closure Reward/Penalty per Day",null,{"$f":"IF(AND(E335=\"\",E$329=\"Yes\"),\"< FIX\",\"\")","v":""},null,null,"Phase 07"]
[null,null,null,"    Incentive cap (leave blank if N/A)",null,{"$f":"IF(AND(E336=\"\",OR(E334=\"Incentive\",E334=\"Incentive/Disincentive\",E334=\"No Excuse Completion Incentive/Disincentive\")),\"< FIX\",\"\")","v":""},null,null,"Phase 07"]
[null,null,null,"Autofill - Phase 7 Early Start Concatenate, 00100",{"$f":"IF(E319=\"Yes\",CONCATENATE(CHAR(10),E320,\" - \",E322),\"\")","v":""},null,null,null,"Autofill Lines"]
[null,null,null,"Autofill - Phase 7 Late Start Concatenate, 00100",{"$f":"IF(E319=\"Yes\",CONCATENATE(CHAR(10),E320,\" - \",E323),\"\")","v":""},null,null,null,"Autofill Lines"]
[null,null,null,"Autofill - Phase 7 Completion as appears in 00100",{"$f":"IF(OR(E319=\"Choose One\",E319=\"No\"),\"\",CONCATENATE(CHAR(10),E320,\": \",E324,\" - \",E325))","v":""},null,null,null,"Autofill Lines"]
["500_Ph7Days",null,null,"Autofill - Phase 7 Completion as appears in 00500",{"$f":"IF(E324=\"Choose One\",\"\",IF(E324=\"Not Applicable - Early/Late Starts Only\",\"Not used, delete.\",IF(E324=\"Completion Date\",CONCATENATE(\"A completion date has been specified for this contract. All work shall be completed by \",E325,\".\"),IF(E324=\"Calendar Days\",CONCATENATE(\"All work shall be completed within \",E325,\" calendar days.\"),CONCATENATE(\"All work shall be completed within \",E325, \" working days.\")))))","v":""},null,null,null,"Autofill Lines"]
["500_Ph7Motive",null,null,"Autofill - Phase 7 Motivation as appears in 00500",{"$f":"IF(E326=\"Choose One\",\"\",IF(E326=\"Liquidated Damages\",CONCATENATE(\"Liquidated damages of \",E327,\" per day shall be charged per Article 4.04.\"),IF(E326=\"Incentive\",CONCATENATE(\"An incentive of \",E327,\" per day, up to a maximum of \",E328,\", shall be paid per Article 4.05.\"),IF(E326=\"Incentive/Disincentive\",CONCATENATE(\"An incentive/disincentive of \",E327,\" per day, with a maximum incentive payment of \",E328,\", shall be applied per Article 4.05.\"),IF(E326=\"No Excuse Completion Incentive\",CONCATENATE(\"A No Excuse Completion Incentive of \",E327,\" per day, with a maximum incentive payment of \",E328,\", shall be paid per Article 4.05.\"),IF(E326=\"No Excuse Completion Disincentive\",CONCATENATE(\"A No Excuse Completion Disincentive of \",E327,\" per day shall be charged per Article 4.05.\"),CONCATENATE(\"A No Excuse Completion Incentive/Disincentive of \",E327,\" per day, with a maximum incentive payment of \",E328,\", shall be applied per Article 4.05.\")))))))","v":""},null,null,null,"Autofill Lines"]
[null,null,null,"Autofill - Phase 7 Closure Early Date Concatenate",{"$f":"IF(E331=\"None\",\"\",CONCATENATE(\" The early start date for closure work is \",E331,\".\"))","v":" The early start date for closure work is ."},null,null,null,"Autofill Lines"]
[null,null,null,"Autofill - Phase 7 Closure Late Date Concatenate",{"$f":"IF(E332=\"None\",\"\",CONCATENATE(\" The late start date for closure work is \",E332,\".\"))","v":" The late start date for closure work is ."},null,null,null,"Autofill Lines"]
[null,null,null,"Autofill - Phase 7 Closure Days Motivation Concatenate",{"$f":"IF(E334=\"Choose One\",\"\",IF(E334=\"Liquidated Damages\",CONCATENATE(\"Failure to complete closure work within the allotted days will result in liquidated damages of \",E335,\" per day.\"),IF(E334=\"Incentive\",CONCATENATE(\"Use of less than the allotted days shall be paid an incentive of \",E335,\" per day, up to a maximum of \",E336,\".\"),IF(E334=\"Incentive/Disincentive\",CONCATENATE(\"An incentive/disincentive of \",E335,\" per day, with a maximum incentive payment of \",E336,\", shall be applied for closure days used ahead/past the specified allottment.\"),IF(E334=\"No Excuse Completion Incentive\",CONCATENATE(\"A No Excuse Completion Incentive of \",E335,\" per day, with a maximum incentive payment of \",E336,\", shall be paid for use of less than the allotted days.\"),IF(E334=\"No Excuse Completion Disincentive\",CONCATENATE(\"A No Excuse Completion Disincentive of \",E335,\" per day shall be charged for failure to complete closure work within the allotted days.\"),CONCATENATE(\"A No Excuse Completion Incentive/Disincentive of \",E335,\" per day, with a maximum incentive payment of \",E336,\", shall be applied for closure days used ahead/past the specified allottment.\")))))))","v":""},null,null,null,"Autofill Lines"]
["500_Ph7Closures",null,null,"Autofill - Phase 7 Closure Info as Appears in 00500",{"$f":"IF(E329=\"Choose One\",\"\",IF(E329=\"No\",\"Delete this line\",CONCATENATE(\"A maximum of \",E333,\" calendar days shall be allotted for closure work for \",E330,\".\",E342,E343,\" \",E344)))","v":""},null,null,null,"Autofill Lines"]
[null,null,null,"Autofill - Phase 7 Quick View MotivationConcatenate",{"$f":"IF(E341=\"\",\"\",CONCATENATE(CHAR(10),E320,\" - \",E341))","v":""},null,null,null,"Autofill Lines"]
[null,null,"Is there an Eighth Phase with Restrictions?",null,{"$f":"IF(E319=\"No\",\"No\",\"Choose One\")","v":"Choose One"},{"$f":"IF(AND(E347=\"Choose One\",E319=\"Yes\"),\"< FIX\",\"\")","v":""},"00100, 00500","Completion Info","Phase 07"]
["500_Ph8Name",null,null,"Phase Name",{"$f":"IF(E347=\"Yes\",\"\",\"Not Used - Delete This Phase\")","v":"Not Used - Delete This Phase"},{"$f":"IF(E348=\"\",\"< FIX\",\"\")","v":""},null,{"$f":"E368","v":""},"Phase 08"]
["500_Ph8Desc",null,null,"Phase Description",null,{"$f":"IF(AND(E349=\"\",E347=\"Yes\"),\"< FIX\",\"\")","v":""},null,null,"Phase 08"]
["500_Ph8EarlyStart",null,null,"Phase Early Start",null,{"$f":"IF(AND(E350=\"\",E347=\"Yes\"),\"< FIX\",\"\")","v":""},null,null,"Phase 08"]
["500_Ph8LateStart",null,null,"Phase Late Start",null,{"$f":"IF(AND(E351=\"\",E347=\"Yes\"),\"< FIX\",\"\")","v":""},null,"Motivation Info","Phase 08"]
[null,null,null,"Phase Dates for Completion:","Choose One",{"$f":"IF(AND(E352=\"Choose One\",E347=\"Yes\"),\"< FIX\",\"\")","v":""},null,{"$f":"E369","v":""},"Phase 08"]
[null,null,null,"    Completion Date / Days Allowance",null,{"$f":"IF(AND(E353=\"\",E347=\"Yes\",E352<>\"Not Applicable - Early/Late Starts Only\"),\"< FIX\",\"\")","v":""},null,null,"Phase 08"]
[null,null,null,"    Completion Motivation","Choose One",{"$f":"IF(AND(E354=\"Choose One\",E347=\"Yes\",E352<>\"Not Applicable - Early/Late Starts Only\"),\"< FIX\",\"\")","v":""},null,null,"Phase 08"]
[null,null,null,"    Reward/Penalty per Day",null,{"$f":"IF(AND(E355=\"\",E347=\"Yes\",E352<>\"Not Applicable - Early/Late Starts Only\"),\"< FIX\",\"\")","v":""},null,"Closure Info:","Phase 08"]
[null,null,null,"    Incentive cap (leave blank if N/A)",null,{"$f":"IF(AND(E356=\"\",OR(E354=\"Incentive\",E354=\"Incentive/Disincentive\",E354=\"No Excuse Completion Incentive/Disincentive\"),E352<>\"Not Applicable - Early/Late Starts Only\"),\"< FIX\",\"\")","v":""},null,{"$f":"E373","v":""},"Phase 08"]
[null,null,null,"Closure Days Used in Phase?","Choose One",{"$f":"IF(AND(E357=\"Choose One\",E347=\"Yes\"),\"< FIX\",\"\")","v":""},null,null,"Phase 08"]
[null,null,null,"    Closure Location(s)",null,{"$f":"IF(AND(E358=\"\",E357=\"Yes\"),\"< FIX\",\"\")","v":""},null,null,"Phase 08"]
[null,null,null,"    Closure Early Start",null,{"$f":"IF(AND(E359=\"\",E357=\"Yes\"),\"< FIX\",\"\")","v":""},null,null,"Phase 08"]
[null,null,null,"    Closure Late Start",null,{"$f":"IF(AND(E360=\"\",E357=\"Yes\"),\"< FIX\",\"\")","v":""},null,null,"Phase 08"]
[null,null,null,"    Closure Days Allotted",null,{"$f":"IF(AND(E361=\"\",E357=\"Yes\"),\"< FIX\",\"\")","v":""},null,null,"Phase 08"]
[null,null,null,"    Closure Dates Motivation","Choose One",{"$f":"IF(AND(E362=\"Choose One\",E357=\"Yes\"),\"< FIX\",\"\")","v":""},null,null,"Phase 08"]
[null,null,null,"    Closure Reward/Penalty per Day",null,{"$f":"IF(AND(E363=\"\",E357=\"Yes\"),\"< FIX\",\"\")","v":""},null,null,"Phase 08"]
[null,null,null,"    Incentive cap (leave blank if N/A)",null,{"$f":"IF(AND(E364=\"\",OR(E362=\"Incentive\",E362=\"Incentive/Disincentive\",E362=\"No Excuse Completion Incentive/Disincentive\")),\"< FIX\",\"\")","v":""},null,null,"Phase 08"]
[null,null,null,"Autofill - Phase 8 Early Start Concatenate, 00100",{"$f":"IF(E347=\"Yes\",CONCATENATE(CHAR(10),E348,\" - \",E350),\"\")","v":""},null,null,null,"Autofill Lines"]
[null,null,null,"Autofill - Phase 8 Late Start Concatenate, 00100",{"$f":"IF(E347=\"Yes\",CONCATENATE(CHAR(10),E348,\" - \",E351),\"\")","v":""},null,null,null,"Autofill Lines"]
[null,null,null,"Autofill - Phase 8 Completion as appears in 00100",{"$f":"IF(OR(E347=\"Choose One\",E347=\"No\"),\"\",CONCATENATE(CHAR(10),E348,\": \",E352,\" - \",E353))","v":""},null,null,null,"Autofill Lines"]
["500_Ph8Days",null,null,"Autofill - Phase 8 Completion as appears in 00500",{"$f":"IF(E352=\"Choose One\",\"\",IF(E352=\"Not Applicable - Early/Late Starts Only\",\"Not used, delete.\",IF(E352=\"Completion Date\",CONCATENATE(\"A completion date has been specified for this contract. All work shall be completed by \",E353,\".\"),IF(E352=\"Calendar Days\",CONCATENATE(\"All work shall be completed within \",E353,\" calendar days.\"),CONCATENATE(\"All work shall be completed within \",E353, \" working days.\")))))","v":""},null,null,null,"Autofill Lines"]
["500_Ph8Motive",null,null,"Autofill - Phase 8 Motivation as appears in 00500",{"$f":"IF(E354=\"Choose One\",\"\",IF(E354=\"Liquidated Damages\",CONCATENATE(\"Liquidated damages of \",E355,\" per day shall be charged per Article 4.04.\"),IF(E354=\"Incentive\",CONCATENATE(\"An incentive of \",E355,\" per day, up to a maximum of \",E356,\", shall be paid per Article 4.05.\"),IF(E354=\"Incentive/Disincentive\",CONCATENATE(\"An incentive/disincentive of \",E355,\" per day, with a maximum incentive payment of \",E356,\", shall be applied per Article 4.05.\"),IF(E354=\"No Excuse Completion Incentive\",CONCATENATE(\"A No Excuse Completion Incentive of \",E355,\" per day, with a maximum incentive payment of \",E356,\", shall be paid per Article 4.05.\"),IF(E354=\"No Excuse Completion Disincentive\",CONCATENATE(\"A No Excuse Completion Disincentive of \",E355,\" per day shall be charged per Article 4.05.\"),CONCATENATE(\"A No Excuse Completion Incentive/Disincentive of \",E355,\" per day, with a maximum incentive payment of \",E356,\", shall be applied per Article 4.05.\")))))))","v":""},null,null,null,"Autofill Lines"]
[null,null,null,"Autofill - Phase 8 Closure Early Date Concatenate",{"$f":"IF(E359=\"None\",\"\",CONCATENATE(\" The early start date for closure work is \",E359,\".\"))","v":" The early start date for closure work is ."},null,null,null,"Autofill Lines"]
[null,null,null,"Autofill - Phase 8 Closure Late Date Concatenate",{"$f":"IF(E360=\"None\",\"\",CONCATENATE(\" The late start date for closure work is \",E360,\".\"))","v":" The late start date for closure work is ."},null,null,null,"Autofill Lines"]
[null,null,null,"Autofill - Phase 8 Closure Days Motivation Concatenate",{"$f":"IF(E362=\"Choose One\",\"\",IF(E362=\"Liquidated Damages\",CONCATENATE(\"Failure to complete closure work within the allotted days will result in liquidated damages of \",E363,\" per day.\"),IF(E362=\"Incentive\",CONCATENATE(\"Use of less than the allotted days shall be paid an incentive of \",E363,\" per day, up to a maximum of \",E364,\".\"),IF(E362=\"Incentive/Disincentive\",CONCATENATE(\"An incentive/disincentive of \",E363,\" per day, with a maximum incentive payment of \",E364,\", shall be applied for closure days used ahead/past the specified allottment.\"),IF(E362=\"No Excuse Completion Incentive\",CONCATENATE(\"A No Excuse Completion Incentive of \",E363,\" per day, with a maximum incentive payment of \",E364,\", shall be paid for use of less than the allotted days.\"),IF(E362=\"No Excuse Completion Disincentive\",CONCATENATE(\"A No Excuse Completion Disincentive of \",E363,\" per day shall be charged for failure to complete closure work within the allotted days.\"),CONCATENATE(\"A No Excuse Completion Incentive/Disincentive of \",E363,\" per day, with a maximum incentive payment of \",E364,\", shall be applied for closure days used ahead/past the specified allottment.\")))))))","v":""},null,null,null,"Autofill Lines"]
["500_Ph8Closures",null,null,"Autofill - Phase 8 Closure Info as Appears in 00500",{"$f":"IF(E357=\"Choose One\",\"\",IF(E357=\"No\",\"Delete this line\",CONCATENATE(\"A maximum of \",E361,\" calendar days shall be allotted for closure work for \",E358,\".\",E370,E371,\" \",E372)))","v":""},null,null,null,"Autofill Lines"]
[null,null,null,"Autofill - Phase 8 Quick View MotivationConcatenate",{"$f":"IF(E369=\"\",\"\",CONCATENATE(CHAR(10),E348,\" - \",E369))","v":""},null,null,null,"Autofill Lines"]
[null,null,"Is there a Ninth Phase with Restrictions?",null,{"$f":"IF(E347=\"No\",\"No\",\"Choose One\")","v":"Choose One"},{"$f":"IF(AND(E375=\"Choose One\",E347=\"Yes\"),\"< FIX\",\"\")","v":""},"00100, 00500","Completion Info","Phase 08"]
["500_Ph9Name",null,null,"Phase Name",{"$f":"IF(E375=\"Yes\",\"\",\"Not Used - Delete This Phase\")","v":"Not Used - Delete This Phase"},{"$f":"IF(E376=\"\",\"< FIX\",\"\")","v":""},null,{"$f":"E396","v":""},"Phase 09"]
["500_Ph9Desc",null,null,"Phase Description",null,{"$f":"IF(AND(E377=\"\",E375=\"Yes\"),\"< FIX\",\"\")","v":""},null,null,"Phase 09"]
["500_Ph9EarlyStart",null,null,"Phase Early Start",null,{"$f":"IF(AND(E378=\"\",E375=\"Yes\"),\"< FIX\",\"\")","v":""},null,null,"Phase 09"]
["500_Ph9LateStart",null,null,"Phase Late Start",null,{"$f":"IF(AND(E379=\"\",E375=\"Yes\"),\"< FIX\",\"\")","v":""},null,"Motivation Info","Phase 09"]
[null,null,null,"Phase Dates for Completion:","Choose One",{"$f":"IF(AND(E380=\"Choose One\",E375=\"Yes\",E379<>\"Not Applicable - Early/Late Starts Only\"),\"< FIX\",\"\")","v":""},null,{"$f":"E397","v":""},"Phase 09"]
[null,null,null,"    Completion Date / Days Allowance",null,{"$f":"IF(AND(E381=\"\",E375=\"Yes\",E379<>\"Not Applicable - Early/Late Starts Only\"),\"< FIX\",\"\")","v":""},null,null,"Phase 09"]
[null,null,null,"    Completion Motivation","Choose One",{"$f":"IF(AND(E382=\"Choose One\",E375=\"Yes\",E379<>\"Not Applicable - Early/Late Starts Only\"),\"< FIX\",\"\")","v":""},null,null,"Phase 09"]
[null,null,null,"    Reward/Penalty per Day",null,{"$f":"IF(AND(E383=\"\",E375=\"Yes\",E379<>\"Not Applicable - Early/Late Starts Only\"),\"< FIX\",\"\")","v":""},null,"Closure Info:","Phase 09"]
[null,null,null,"    Incentive cap (leave blank if N/A)",null,{"$f":"IF(AND(E384=\"\",OR(E382=\"Incentive\",E382=\"Incentive/Disincentive\",E382=\"No Excuse Completion Incentive/Disincentive\"),E379<>\"Not Applicable - Early/Late Starts Only\"),\"< FIX\",\"\")","v":""},null,{"$f":"E401","v":""},"Phase 09"]
[null,null,null,"Closure Days Used in Phase?","Choose One",{"$f":"IF(AND(E385=\"Choose One\",E375=\"Yes\"),\"< FIX\",\"\")","v":""},null,null,"Phase 09"]
[null,null,null,"    Closure Location(s)",null,{"$f":"IF(AND(E386=\"\",E385=\"Yes\"),\"< FIX\",\"\")","v":""},null,null,"Phase 09"]
[null,null,null,"    Closure Early Start",null,{"$f":"IF(AND(E387=\"\",E385=\"Yes\"),\"< FIX\",\"\")","v":""},null,null,"Phase 09"]
[null,null,null,"    Closure Late Start",null,{"$f":"IF(AND(E388=\"\",E385=\"Yes\"),\"< FIX\",\"\")","v":""},null,null,"Phase 09"]
[null,null,null,"    Closure Days Allotted",null,{"$f":"IF(AND(E389=\"\",E385=\"Yes\"),\"< FIX\",\"\")","v":""},null,null,"Phase 09"]
[null,null,null,"    Closure Dates Motivation","Choose One",{"$f":"IF(AND(E390=\"Choose One\",E385=\"Yes\"),\"< FIX\",\"\")","v":""},null,null,"Phase 09"]
[null,null,null,"    Closure Reward/Penalty per Day",null,{"$f":"IF(AND(E391=\"\",E385=\"Yes\"),\"< FIX\",\"\")","v":""},null,null,"Phase 09"]
[null,null,null,"    Incentive cap (leave blank if N/A)",null,{"$f":"IF(AND(E392=\"\",OR(E390=\"Incentive\",E390=\"Incentive/Disincentive\",E390=\"No Excuse Completion Incentive/Disincentive\")),\"< FIX\",\"\")","v":""},null,null,"Phase 09"]
[null,null,null,"Autofill - Phase 9 Early Start Concatenate, 00100",{"$f":"IF(E375=\"Yes\",CONCATENATE(CHAR(10),E376,\" - \",E378),\"\")","v":""},null,null,null,"Autofill Lines"]
[null,null,null,"Autofill - Phase 9 Late Start Concatenate, 00100",{"$f":"IF(E375=\"Yes\",CONCATENATE(CHAR(10),E376,\" - \",E379),\"\")","v":""},null,null,null,"Autofill Lines"]
[null,null,null,"Autofill - Phase 9 Completion as appears in 00100",{"$f":"IF(OR(E375=\"Choose One\",E375=\"No\"),\"\",CONCATENATE(CHAR(10),E376,\": \",E380,\" - \",E381))","v":""},null,null,null,"Autofill Lines"]
["500_Ph9Days",null,null,"Autofill - Phase 9 Completion as appears in 00500",{"$f":"IF(E380=\"Choose One\",\"\",IF(E380=\"Not Applicable - Early/Late Starts Only\",\"Not used, delete.\",IF(E380=\"Completion Date\",CONCATENATE(\"A completion date has been specified for this contract. All work shall be completed by \",E381,\".\"),IF(E380=\"Calendar Days\",CONCATENATE(\"All work shall be completed within \",E381,\" calendar days.\"),CONCATENATE(\"All work shall be completed within \",E381, \" working days.\")))))","v":""},null,null,null,"Autofill Lines"]
["500_Ph9Motive",null,null,"Autofill - Phase 9 Motivation as appears in 00500",{"$f":"IF(E382=\"Choose One\",\"\",IF(E382=\"Liquidated Damages\",CONCATENATE(\"Liquidated damages of \",E383,\" per day shall be charged per Article 4.04.\"),IF(E382=\"Incentive\",CONCATENATE(\"An incentive of \",E383,\" per day, up to a maximum of \",E384,\", shall be paid per Article 4.05.\"),IF(E382=\"Incentive/Disincentive\",CONCATENATE(\"An incentive/disincentive of \",E383,\" per day, with a maximum incentive payment of \",E384,\", shall be applied per Article 4.05.\"),IF(E382=\"No Excuse Completion Incentive\",CONCATENATE(\"A No Excuse Completion Incentive of \",E383,\" per day, with a maximum incentive payment of \",E384,\", shall be paid per Article 4.05.\"),IF(E382=\"No Excuse Completion Disincentive\",CONCATENATE(\"A No Excuse Completion Disincentive of \",E383,\" per day shall be charged per Article 4.05.\"),CONCATENATE(\"A No Excuse Completion Incentive/Disincentive of \",E383,\" per day, with a maximum incentive payment of \",E384,\", shall be applied per Article 4.05.\")))))))","v":""},null,null,null,"Autofill Lines"]
[null,null,null,"Autofill - Phase 9 Closure Early Date Concatenate",{"$f":"IF(E387=\"None\",\"\",CONCATENATE(\" The early start date for closure work is \",E387,\".\"))","v":" The early start date for closure work is ."},null,null,null,"Autofill Lines"]
[null,null,null,"Autofill - Phase 9 Closure Late Date Concatenate",{"$f":"IF(E388=\"None\",\"\",CONCATENATE(\" The late start date for closure work is \",E388,\".\"))","v":" The late start date for closure work is ."},null,null,null,"Autofill Lines"]
[null,null,null,"Autofill - Phase 9 Closure Days Motivation Concatenate",{"$f":"IF(E390=\"Choose One\",\"\",IF(E390=\"Liquidated Damages\",CONCATENATE(\"Failure to complete closure work within the allotted days will result in liquidated damages of \",E391,\" per day.\"),IF(E390=\"Incentive\",CONCATENATE(\"Use of less than the allotted days shall be paid an incentive of \",E391,\" per day, up to a maximum of \",E392,\".\"),IF(E390=\"Incentive/Disincentive\",CONCATENATE(\"An incentive/disincentive of \",E391,\" per day, with a maximum incentive payment of \",E392,\", shall be applied for closure days used ahead/past the specified allottment.\"),IF(E390=\"No Excuse Completion Incentive\",CONCATENATE(\"A No Excuse Completion Incentive of \",E391,\" per day, with a maximum incentive payment of \",E392,\", shall be paid for use of less than the allotted days.\"),IF(E390=\"No Excuse Completion Disincentive\",CONCATENATE(\"A No Excuse Completion Disincentive of \",E391,\" per day shall be charged for failure to complete closure work within the allotted days.\"),CONCATENATE(\"A No Excuse Completion Incentive/Disincentive of \",E391,\" per day, with a maximum incentive payment of \",E392,\", shall be applied for closure days used ahead/past the specified allottment.\")))))))","v":""},null,null,null,"Autofill Lines"]
["500_Ph9Closures",null,null,"Autofill - Phase 9 Closure Info as Appears in 00500",{"$f":"IF(E385=\"Choose One\",\"\",IF(E385=\"No\",\"Delete this line\",CONCATENATE(\"A maximum of \",E389,\" calendar days shall be allotted for closure work for \",E386,\".\",E398,E399,\" \",E400)))","v":""},null,null,null,"Autofill Lines"]
[null,null,null,"Autofill - Phase 9 Quick View MotivationConcatenate",{"$f":"IF(E397=\"\",\"\",CONCATENATE(CHAR(10),E376,\" - \",E397))","v":""},null,null,null,"Autofill Lines"]
[null,null,"Is there a Tenth Phase with Restrictions?",null,{"$f":"IF(E375=\"No\",\"No\",\"Choose One\")","v":"Choose One"},{"$f":"IF(AND(E403=\"Choose One\",E375=\"Yes\"),\"< FIX\",\"\")","v":""},"00100, 00500","Completion Info","Phase 09"]
["500_Ph10Name",null,null,"Phase Name",{"$f":"IF(E403=\"Yes\",\"\",\"Not Used - Delete This Phase\")","v":"Not Used - Delete This Phase"},{"$f":"IF(E404=\"\",\"< FIX\",\"\")","v":""},null,{"$f":"E424","v":""},"Phase 10"]
["500_Ph10Desc",null,null,"Phase Description",null,{"$f":"IF(AND(E405=\"\",E403=\"Yes\"),\"< FIX\",\"\")","v":""},null,null,"Phase 10"]
["500_Ph10EarlyStart",null,null,"Phase Early Start",null,{"$f":"IF(AND(E406=\"\",E403=\"Yes\"),\"< FIX\",\"\")","v":""},null,null,"Phase 10"]
["500_Ph10LateStart",null,null,"Phase Late Start",null,{"$f":"IF(AND(E407=\"\",E403=\"Yes\"),\"< FIX\",\"\")","v":""},null,"Motivation Info","Phase 10"]
[null,null,null,"Phase Dates for Completion:","Choose One",{"$f":"IF(AND(E408=\"Choose One\",E403=\"Yes\"),\"< FIX\",\"\")","v":""},null,{"$f":"E425","v":""},"Phase 10"]
[null,null,null,"    Completion Date / Days Allowance",null,{"$f":"IF(AND(E409=\"\",E403=\"Yes\",E408<>\"Not Applicable - Early/Late Starts Only\"),\"< FIX\",\"\")","v":""},null,null,"Phase 10"]
[null,null,null,"    Completion Motivation","Choose One",{"$f":"IF(AND(E410=\"Choose One\",E403=\"Yes\",E408<>\"Not Applicable - Early/Late Starts Only\"),\"< FIX\",\"\")","v":""},null,null,"Phase 10"]
[null,null,null,"    Reward/Penalty per Day",null,{"$f":"IF(AND(E411=\"\",E403=\"Yes\",E408<>\"Not Applicable - Early/Late Starts Only\"),\"< FIX\",\"\")","v":""},null,"Closure Info:","Phase 10"]
[null,null,null,"    Incentive cap (leave blank if N/A)",null,{"$f":"IF(AND(E412=\"\",OR(E410=\"Incentive\",E410=\"Incentive/Disincentive\",E410=\"No Excuse Completion Incentive/Disincentive\"),E408<>\"Not Applicable - Early/Late Starts Only\"),\"< FIX\",\"\")","v":""},null,{"$f":"E429","v":""},"Phase 10"]
[null,null,null,"Closure Days Used in Phase?","Choose One",{"$f":"IF(AND(E413=\"Choose One\",E403=\"Yes\"),\"< FIX\",\"\")","v":""},null,null,"Phase 10"]
[null,null,null,"    Closure Location(s)",null,{"$f":"IF(AND(E414=\"\",E413=\"Yes\"),\"< FIX\",\"\")","v":""},null,null,"Phase 10"]
[null,null,null,"    Closure Early Start",null,{"$f":"IF(AND(E415=\"\",E413=\"Yes\"),\"< FIX\",\"\")","v":""},null,null,"Phase 10"]
[null,null,null,"    Closure Late Start",null,{"$f":"IF(AND(E416=\"\",E413=\"Yes\"),\"< FIX\",\"\")","v":""},null,null,"Phase 10"]
[null,null,null,"    Closure Days Allotted",null,{"$f":"IF(AND(E417=\"\",E413=\"Yes\"),\"< FIX\",\"\")","v":""},null,null,"Phase 10"]
[null,null,null,"    Closure Dates Motivation","Choose One",{"$f":"IF(AND(E418=\"Choose One\",E413=\"Yes\"),\"< FIX\",\"\")","v":""},null,null,"Phase 10"]
[null,null,null,"    Closure Reward/Penalty per Day",null,{"$f":"IF(AND(E419=\"\",E413=\"Yes\"),\"< FIX\",\"\")","v":""},null,null,"Phase 10"]
[null,null,null,"    Incentive cap (leave blank if N/A)",null,{"$f":"IF(AND(E420=\"\",OR(E418=\"Incentive\",E418=\"Incentive/Disincentive\",E418=\"No Excuse Completion Incentive/Disincentive\")),\"< FIX\",\"\")","v":""},null,null,"Phase 10"]
[null,null,null,"Autofill - Phase 10 Early Start Concatenate, 00100",{"$f":"IF(E403=\"Yes\",CONCATENATE(CHAR(10),E404,\" - \",E406),\"\")","v":""},null,null,null,"Autofill Lines"]
[null,null,null,"Autofill - Phase 10 Late Start Concatenate, 00100",{"$f":"IF(E403=\"Yes\",CONCATENATE(CHAR(10),E404,\" - \",E407),\"\")","v":""},null,null,null,"Autofill Lines"]
[null,null,null,"Autofill - Phase 10 Completion as appears in 00100",{"$f":"IF(OR(E403=\"Choose One\",E403=\"No\"),\"\",CONCATENATE(CHAR(10),E404,\": \",E408,\" - \",E409))","v":""},null,null,null,"Autofill Lines"]
["500_Ph10Days",null,null,"Autofill - Phase 10 Completion as appears in 00500",{"$f":"IF(E408=\"Choose One\",\"\",IF(E408=\"Not Applicable - Early/Late Starts Only\",\"Not used, delete.\",IF(E408=\"Completion Date\",CONCATENATE(\"A completion date has been specified for this contract. All work shall be completed by \",E409,\".\"),IF(E408=\"Calendar Days\",CONCATENATE(\"All work shall be completed within \",E409,\" calendar days.\"),CONCATENATE(\"All work shall be completed within \",E409, \" working days.\")))))","v":""},null,null,null,"Autofill Lines"]
["500_Ph10Motive",null,null,"Autofill - Phase 10 Motivation as appears in 00500",{"$f":"IF(E410=\"Choose One\",\"\",IF(E410=\"Liquidated Damages\",CONCATENATE(\"Liquidated damages of \",E411,\" per day shall be charged per Article 4.04.\"),IF(E410=\"Incentive\",CONCATENATE(\"An incentive of \",E411,\" per day, up to a maximum of \",E412,\", shall be paid per Article 4.05.\"),IF(E410=\"Incentive/Disincentive\",CONCATENATE(\"An incentive/disincentive of \",E411,\" per day, with a maximum incentive payment of \",E412,\", shall be applied per Article 4.05.\"),IF(E410=\"No Excuse Completion Incentive\",CONCATENATE(\"A No Excuse Completion Incentive of \",E411,\" per day, with a maximum incentive payment of \",E412,\", shall be paid per Article 4.05.\"),IF(E410=\"No Excuse Completion Disincentive\",CONCATENATE(\"A No Excuse Completion Disincentive of \",E411,\" per day shall be charged per Article 4.05.\"),CONCATENATE(\"A No Excuse Completion Incentive/Disincentive of \",E411,\" per day, with a maximum incentive payment of \",E412,\", shall be applied per Article 4.05.\")))))))","v":""},null,null,null,"Autofill Lines"]
[null,null,null,"Autofill - Phase 10 Closure Early Date Concatenate",{"$f":"IF(E415=\"None\",\"\",CONCATENATE(\" The early start date for closure work is \",E415,\".\"))","v":" The early start date for closure work is ."},null,null,null,"Autofill Lines"]
[null,null,null,"Autofill - Phase 10 Closure Late Date Concatenate",{"$f":"IF(E416=\"None\",\"\",CONCATENATE(\" The late start date for closure work is \",E416,\".\"))","v":" The late start date for closure work is ."},null,null,null,"Autofill Lines"]
[null,null,null,"Autofill - Phase 10 Closure Days Motivation Concatenate",{"$f":"IF(E418=\"Choose One\",\"\",IF(E418=\"Liquidated Damages\",CONCATENATE(\"Failure to complete closure work within the allotted days will result in liquidated damages of \",E419,\" per day.\"),IF(E418=\"Incentive\",CONCATENATE(\"Use of less than the allotted days shall be paid an incentive of \",E419,\" per day, up to a maximum of \",E420,\".\"),IF(E418=\"Incentive/Disincentive\",CONCATENATE(\"An incentive/disincentive of \",E419,\" per day, with a maximum incentive payment of \",E420,\", shall be applied for closure days used ahead/past the specified allottment.\"),IF(E418=\"No Excuse Completion Incentive\",CONCATENATE(\"A No Excuse Completion Incentive of \",E419,\" per day, with a maximum incentive payment of \",E420,\", shall be paid for use of less than the allotted days.\"),IF(E418=\"No Excuse Completion Disincentive\",CONCATENATE(\"A No Excuse Completion Disincentive of \",E419,\" per day shall be charged for failure to complete closure work within the allotted days.\"),CONCATENATE(\"A No Excuse Completion Incentive/Disincentive of \",E419,\" per day, with a maximum incentive payment of \",E420,\", shall be applied for closure days used ahead/past the specified allottment.\")))))))","v":""},null,null,null,"Autofill Lines"]
["500_Ph10Closures",null,null,"Autofill - Phase 10 Closure Info as Appears in 00500",{"$f":"IF(E413=\"Choose One\",\"\",IF(E413=\"No\",\"Delete this line\",CONCATENATE(\"A maximum of \",E417,\" calendar days shall be allotted for closure work for \",E414,\".\",E426,E427,\" \",E428)))","v":""},null,null,null,"Autofill Lines"]
[null,null,null,"Autofill - Phase 10 Quick View MotivationConcatenate",{"$f":"IF(E425=\"\",\"\",CONCATENATE(CHAR(10),E404,\" - \",E425))","v":""},null,null,null,"Autofill Lines"]
[null,null,null,"Autofill - Detect Liquidated Damages",{"$f":"OR(E127=\"Liquidated Damages\",E135=\"Liquidated Damages\",E158=\"Liquidated Damages\",E166=\"Liquidated Damages\",E186=\"Liquidated Damages\",E194=\"Liquidated Damages\",E214=\"Liquidated Damages\",E222=\"Liquidated Damages\",E242=\"Liquidated Damages\",E250=\"Liquidated Damages\",E270=\"Liquidated Damages\",E278=\"Liquidated Damages\",E298=\"Liquidated Damages\",E306=\"Liquidated Damages\",E326=\"Liquidated Damages\",E334=\"Liquidated Damages\",E354=\"Liquidated Damages\",E362=\"Liquidated Damages\",E382=\"Liquidated Damages\",E390=\"Liquidated Damages\",E410=\"Liquidated Damages\",E418=\"Liquidated Damages\",E440=\"Yes\",E447=\"Liquidated Damages\",E456=\"Liquidated Damages\",E465=\"Liquidated Damages\")","v":false},null,null,null,"Autofill Lines"]
["500_LDDelete",null,null,"Autofill - Liquidated Damages Delete Prompt",{"$f":"IF(E431=FALSE,\"Not Used - Delete Liquidated Damages Section\",\"\")","v":"Not Used - Delete Liquidated Damages Section"},null,null,null,"Autofill Lines"]
[null,null,null,"Autofill - Detect Incentives/Disincentives",{"$f":"OR(E127=\"Incentive\",E135=\"Incentive\",E158=\"Incentive\",E166=\"Incentive\",E186=\"Incentive\",E194=\"Incentive\",E214=\"Incentive\",E222=\"Incentive\",E242=\"Incentive\",E250=\"Incentive\",E270=\"Incentive\",E278=\"Incentive\",E298=\"Incentive\",E306=\"Incentive\",E326=\"Incentive\",E334=\"Incentive\",E354=\"Incentive\",E362=\"Incentive\",E382=\"Incentive\",E390=\"Incentive\",E410=\"Incentive\",E418=\"Incentive\",E447=\"Incentive\",E456=\"Incentive\",E465=\"Incentive\",E127=\"Incentive/Disincentive\",E135=\"Incentive/Disincentive\",E158=\"Incentive/Disincentive\",E166=\"Incentive/Disincentive\",E186=\"Incentive/Disincentive\",E194=\"Incentive/Disincentive\",E214=\"Incentive/Disincentive\",E222=\"Incentive/Disincentive\",E242=\"Incentive/Disincentive\",E250=\"Incentive/Disincentive\",E270=\"Incentive/Disincentive\",E278=\"Incentive/Disincentive\",E298=\"Incentive/Disincentive\",E306=\"Incentive/Disincentive\",E326=\"Incentive/Disincentive\",E334=\"Incentive/Disincentive\",E354=\"Incentive/Disincentive\",E362=\"Incentive/Disincentive\",E382=\"Incentive/Disincentive\",E390=\"Incentive/Disincentive\",E410=\"Incentive/Disincentive\",E418=\"Incentive/Disincentive\",E447=\"Incentive/Disincentive\",E456=\"Incentive/Disincentive\",E465=\"Incentive/Disincentive\",E127=\"No Excuse Completion Incentive\",E135=\"No Excuse Completion Incentive\",E158=\"No Excuse Completion Incentive\",E166=\"No Excuse Completion Incentive\",E186=\"No Excuse Completion Incentive\",E194=\"No Excuse Completion Incentive\",E214=\"No Excuse Completion Incentive\",E222=\"No Excuse Completion Incentive\",E242=\"No Excuse Completion Incentive\",E250=\"No Excuse Completion Incentive\",E270=\"No Excuse Completion Incentive\",E278=\"No Excuse Completion Incentive\",E298=\"No Excuse Completion Incentive\",E306=\"No Excuse Completion Incentive\",E326=\"No Excuse Completion Incentive\",E334=\"No Excuse Completion Incentive\",E354=\"No Excuse Completion Incentive\",E362=\"No Excuse Completion Incentive\",E382=\"No Excuse Completion Incentive\",E390=\"No Excuse Completion Incentive\",E410=\"No Excuse Completion Incentive\",E418=\"No Excuse Completion Incentive\",E447=\"No Excuse Completion Incentive\",E456=\"No Excuse Completion Incentive\",E465=\"No Excuse Completion Incentive\",E127=\"No Excuse Completion Disincentive\",E135=\"No Excuse Completion Disincentive\",E158=\"No Excuse Completion Disincentive\",E166=\"No Excuse Completion Disincentive\",E186=\"No Excuse Completion Disincentive\",E194=\"No Excuse Completion Disincentive\",E214=\"No Excuse Completion Disincentive\",E222=\"No Excuse Completion Disincentive\",E242=\"No Excuse Completion Disincentive\",E250=\"No Excuse Completion Disincentive\",E270=\"No Excuse Completion Disincentive\",E278=\"No Excuse Completion Disincentive\",E298=\"No Excuse Completion Disincentive\",E306=\"No Excuse Completion Disincentive\",E326=\"No Excuse Completion Disincentive\",E334=\"No Excuse Completion Disincentive\",E354=\"No Excuse Completion Disincentive\",E362=\"No Excuse Completion Disincentive\",E382=\"No Excuse Completion Disincentive\",E390=\"No Excuse Completion Disincentive\",E410=\"No Excuse Completion Disincentive\",E418=\"No Excuse Completion Disincentive\",E447=\"No Excuse Completion Disincentive\",E456=\"No Excuse Completion Disincentive\",E465=\"No Excuse Completion Disincentive\",E127=\"No Excuse Completion Incentive/Disincentive\",E135=\"No Excuse Completion Incentive/Disincentive\",E158=\"No Excuse Completion Incentive/Disincentive\",E166=\"No Excuse Completion Incentive/Disincentive\",E186=\"No Excuse Completion Incentive/Disincentive\",E194=\"No Excuse Completion Disincentive\",E214=\"No Excuse Completion Incentive/Disincentive\",E222=\"No Excuse Completion Incentive/Disincentive\",E242=\"No Excuse Completion Incentive/Disincentive\",E250=\"No Excuse Completion Incentive/Disincentive\",E270=\"No Excuse Completion Incentive/Disincentive\",E278=\"No Excuse Completion Incentive/Disincentive\",E298=\"No Excuse Completion Incentive/Disincentive\",E306=\"No Excuse Completion Incentive/Disincentive\",E326=\"No Excuse Completion Incentive/Disincentive\",E334=\"No Excuse Completion Incentive/Disincentive\",E354=\"No Excuse Completion Incentive/Disincentive\",E362=\"No Excuse Completion Incentive/Disincentive\",E382=\"No Excuse Completion Incentive/Disincentive\",E390=\"No Excuse Completion Incentive/Disincentive\",E410=\"No Excuse Completion Incentive/Disincentive\",E418=\"No Excuse Completion Incentive/Disincentive\",E447=\"No Excuse Completion Incentive/Disincentive\",E456=\"No Excuse Completion Disincentive\",E465=\"No Excuse Completion Incentive/Disincentive\")","v":false},null,null,null,"Autofill Lines"]
["500_IDDelete",null,null,"Autofill - Incentives/Disincentives Delete Prompt",{"$f":"IF(E433=FALSE,\"Not Used - Delete Incentives/Disincentives Section\",\"\")","v":"Not Used - Delete Incentives/Disincentives Section"},null,null,null,"Autofill Lines"]
["100_EarlyStart",null,null,"Autofill - Early Start",{"$f":"CONCATENATE(E139,E169,E197,E225,E253,E281,E309,E337,E365,E393,E421)","v":"Upon Receipt of Notice to Proceed"},null,"00100, 00500 4.01",null,"Autofill Lines"]
["100_LateStart",null,null,"Autofill - Late Start",{"$f":"CONCATENATE(E140,E170,E198,E226,E254,E282,E310,E338,E366,E394,E422)","v":"N/A"},null,"00100, 00500 4.01",null,"Autofill Lines"]
["100_FinCompl",null,null,"Autofill - Final Completion, 00100",{"$f":"CONCATENATE(E141,E171,E199,E227,E255,E283,E311,E339,E367,E395,E423)","v":"Choose One - "},null,"00100",null,"Autofill Lines"]
[null,null,null,"Autofill - Quick View MotivationConcatenate",{"$f":"CONCATENATE(E148,E178,E206,E234,E262,E290,E318,E346,E374,E402,E430)","v":""},null,null,null,"Autofill Lines"]
[]
[null,"Will Milestones be Used in the Project?",null,null,"Choose One",{"$f":"IF(E440=\"Choose One\",\"< FIX\",\"\")","v":"< FIX"}]
[null,null,null,null,null,null,null,"Milestone Info - Section 00100:"]
[null,null,null,null,{"$f":"IF(E440=\"Yes\",\"Go to the top of Column I (next to 'Show/Hide Sections' up top) and select 'Milestones' to get the appropriate info to appear.\",\"\")","v":""},null,null,{"$f":"E470","v":"None"}]
[]
[null,null,"Milestone 1",null,null,null,"00100, 00500","Milestone 1 Motivation - Section 00500:","Milestones"]
[null,null,null,"Date",null,{"$f":"IF(AND(E445=\"\",E$440=\"Yes\"),\"< FIX\",\"\")","v":""},null,{"$f":"E451","v":""},"Milestones"]
[null,null,null,"Description",null,{"$f":"IF(AND(E446=\"\",E$440=\"Yes\"),\"< FIX\",\"\")","v":""},null,null,"Milestones"]
[null,null,null,"Motivation","Choose One",{"$f":"IF(AND(E447=\"Choose One\",E$440=\"Yes\"),\"< FIX\",\"\")","v":""},null,null,"Milestones"]
[null,null,null,"    Completion Reward/Penalty per Day",null,{"$f":"IF(AND(E448=\"\",E$440=\"Yes\"),\"< FIX\",\"\")","v":""},null,null,"Milestones"]
[null,null,null,"    Incentive cap (leave blank if N/A)",null,{"$f":"IF(AND(E449=\"\",OR(E447=\"Incentive\",E447=\"Incentive/Disincentive\",E447=\"No Excuse Completion Incentive/Disincentive\")),\"< FIX\",\"\")","v":""},null,null,"Milestones"]
[null,null,null,"Autofill - Milestone 1, 00100",{"$f":"IF(E440=\"Choose One\",\"\",IF(E440=\"No\",\"None\",CONCATENATE(\"Milestone 1 (\",E445,\") - \",PROPER(E446))))","v":""},null,null,null,"Autofill Lines"]
[null,null,null,"Autofill - Milestone 1, 00500",{"$f":"IF(E447=\"Choose One\",\"\",IF(E447=\"Liquidated Damages\",CONCATENATE(\"Liquidated damages of \",E448,\" per day shall be charged per Article 4.04.\"),IF(E447=\"Incentive\",CONCATENATE(\"An incentive of \",E448,\" per day, up to a maximum of \",E449,\", shall be paid per Article 4.05.\"),IF(E447=\"Incentive/Disincentive\",CONCATENATE(\"An incentive/disincentive of \",E448,\" per day, with a maximum incentive payment of \",E449,\", shall be applied per Article 4.05.\"),IF(E447=\"No Excuse Completion Incentive\",CONCATENATE(\"A No Excuse Completion Incentive of \",E448,\" per day, with a maximum incentive payment of \",E449,\", shall be paid per Article 4.05.\"),IF(E447=\"No Excuse Completion Disincentive\",CONCATENATE(\"A No Excuse Completion Disincentive of \",E448,\" per day shall be charged per Article 4.05.\"),CONCATENATE(\"A No Excuse Completion Incentive/Disincentive of \",E448,\" per day, with a maximum incentive payment of \",E449,\", shall be applied per Article 4.05.\")))))))","v":""},null,null,null,"Autofill Lines"]
[null,null,"Milestone 2",null,null,null,"00100, 00500","Milestone 2 Motivation - Section 00500:","Milestones"]
[null,null,null,"Is there a Milestone 2?","Choose One",{"$f":"IF(AND(E453=\"Choose One\",E$440=\"Yes\"),\"< FIX\",\"\")","v":""},null,{"$f":"E460","v":""},"Milestones"]
[null,null,null,"Date",null,{"$f":"IF(AND(E453=\"Yes\",E454=0),\"< FIX\",\"\")","v":""},null,null,"Milestones"]
[null,null,null,"Description",null,{"$f":"IF(AND(E453=\"Yes\",E455=0),\"< FIX\",\"\")","v":""},null,null,"Milestones"]
[null,null,null,"Motivation","Choose One",{"$f":"IF(AND(E453=\"Yes\",E456=0),\"< FIX\",\"\")","v":""},null,null,"Milestones"]
[null,null,null,"    Completion Reward/Penalty per Day",null,{"$f":"IF(AND(E457=\"\",E453=\"Yes\"),\"< FIX\",\"\")","v":""},null,null,"Milestones"]
[null,null,null,"    Incentive cap (leave blank if N/A)",null,{"$f":"IF(AND(E458=\"\",OR(E456=\"Incentive\",E456=\"Incentive/Disincentive\",E456=\"No Excuse Completion Incentive/Disincentive\")),\"< FIX\",\"\")","v":""},null,null,"Milestones"]
[null,null,null,"Autofill - Milestone 2, 00100",{"$f":"IF(E453=\"Choose One\",\"\",IF(E453=\"No\",\"\",CONCATENATE(CHAR(10),\"Milestone 2 (\",E454,\") - \",PROPER(E455))))","v":""},null,null,null,"Autofill Lines"]
[null,null,null,"Autofill - Milestone 2, 00500",{"$f":"IF(E456=\"Choose One\",\"\",IF(E456=\"Liquidated Damages\",CONCATENATE(\"Liquidated damages of \",E457,\" per day shall be charged per Article 4.04.\"),IF(E456=\"Incentive\",CONCATENATE(\"An incentive of \",E457,\" per day, up to a maximum of \",E458,\", shall be paid per Article 4.05.\"),IF(E456=\"Incentive/Disincentive\",CONCATENATE(\"An incentive/disincentive of \",E457,\" per day, with a maximum incentive payment of \",E458,\", shall be applied per Article 4.05.\"),IF(E456=\"No Excuse Completion Incentive\",CONCATENATE(\"A No Excuse Completion Incentive of \",E457,\" per day, with a maximum incentive payment of \",E458,\", shall be paid per Article 4.05.\"),IF(E456=\"No Excuse Completion Disincentive\",CONCATENATE(\"A No Excuse Completion Disincentive of \",E457,\" per day shall be charged per Article 4.05.\"),CONCATENATE(\"A No Excuse Completion Incentive/Disincentive of \",E457,\" per day, with a maximum incentive payment of \",E458,\", shall be applied per Article 4.05.\")))))))","v":""},null,null,null,"Autofill Lines"]
[null,null,"Milestone 3",null,null,null,"00100, 00500","Milestone 3 Motivation - Section 00500:","Milestones"]
[null,null,null,"Is there a Milestone 3?",{"$f":"IF(E453=\"No\",\"No\",\"Choose One\")","v":"Choose One"},{"$f":"IF(AND(E462=\"Choose One\",E$440=\"Yes\"),\"< FIX\",\"\")","v":""},null,{"$f":"E469","v":""},"Milestones"]
[null,null,null,"Date",null,{"$f":"IF(AND(E462=\"Yes\",E463=0),\"< FIX\",\"\")","v":""},null,null,"Milestones"]
[null,null,null,"Description",null,{"$f":"IF(AND(E462=\"Yes\",E464=0),\"< FIX\",\"\")","v":""},null,null,"Milestones"]
[null,null,null,"Motivation","Choose One",{"$f":"IF(AND(E462=\"Yes\",E465=0),\"< FIX\",\"\")","v":""},null,null,"Milestones"]
[null,null,null,"    Completion Reward/Penalty per Day",null,{"$f":"IF(AND(E466=\"\",E462=\"Yes\"),\"< FIX\",\"\")","v":""},null,null,"Milestones"]
[null,null,null,"    Incentive cap (leave blank if N/A)",null,{"$f":"IF(AND(E467=\"\",OR(E465=\"Incentive\",E465=\"Incentive/Disincentive\",E465=\"No Excuse Completion Incentive/Disincentive\")),\"< FIX\",\"\")","v":""},null,null,"Milestones"]
[null,null,null,"Autofill - Milestone 3, 00100",{"$f":"IF(E462=\"Choose One\",\"\",IF(E462=\"No\",\"\",CONCATENATE(CHAR(10),\"Milestone 3 (\",E463,\") - \",PROPER(E464))))","v":""},null,null,null,"Autofill Lines"]
[null,null,null,"Autofill - Milestone 3, 00500",{"$f":"IF(E465=\"Choose One\",\"\",IF(E465=\"Liquidated Damages\",CONCATENATE(\"Liquidated damages of \",E466,\" per day shall be charged per Article 4.04.\"),IF(E465=\"Incentive\",CONCATENATE(\"An incentive of \",E466,\" per day, up to a maximum of \",E467,\", shall be paid per Article 4.05.\"),IF(E465=\"Incentive/Disincentive\",CONCATENATE(\"An incentive/disincentive of \",E466,\" per day, with a maximum incentive payment of \",E467,\", shall be applied per Article 4.05.\"),IF(E465=\"No Excuse Completion Incentive\",CONCATENATE(\"A No Excuse Completion Incentive of \",E466,\" per day, with a maximum incentive payment of \",E467,\", shall be paid per Article 4.05.\"),IF(E465=\"No Excuse Completion Disincentive\",CONCATENATE(\"A No Excuse Completion Disincentive of \",E466,\" per day shall be charged per Article 4.05.\"),CONCATENATE(\"A No Excuse Completion Incentive/Disincentive of \",E466,\" per day, with a maximum incentive payment of \",E467,\", shall be applied per Article 4.05.\")))))))","v":""},null,null,null,"Autofill Lines"]
["100_Milestones",null,null,"Autofill - Milestones, 00100",{"$f":"IF(OR(E440=\"Choose One\",E440=\"No\"),\"None\",CONCATENATE(E450,E459,E468))","v":"None"},null,"00100",null,"Autofill Lines"]
[]
[null,"Special Paragraphs"]
[]
[null,"Pre-Bid Conference"]
[null,null,"Is a Pre-Bid Conference Needed?",null,"Choose One",{"$f":"IF(E475=\"Choose One\",\"< FIX\",\"\")","v":"< FIX"},"00100"]
[null,null,"Time",null,null,{"$f":"IF(AND(E475=\"Yes\",E476=0),\"< FIX\",\"\")","v":""}]
[null,null,"Date",null,null,{"$f":"IF(AND(E475=\"Yes\",E477=0),\"< FIX\",\"\")","v":""}]
[null,null,"Location",null,null,{"$f":"IF(AND(E475=\"Yes\",E478=0),\"< FIX\",\"\")","v":""}]
[null,null,"Is attendance at the Pre-Bid Conference mandatory?",null,{"$f":"IF(E475=\"no\",\"Not Applicable\",\"Choose One\")","v":"Choose One"},{"$f":"IF(AND(E475=\"Yes\",E479=\"Choose One\"),\"< FIX\",\"\")","v":""}]
["100_PreBidHead",null,"Autofill - Pre-Bid Conference Header",null,{"$f":"IF(AND(E475=\"Yes\",E479=\"Yes\"),\"Mandatory Pre-Bid Conference\",\"Pre-Bid Conference\")","v":"Pre-Bid Conference"},null,null,null,"Autofill Lines"]
["100_PreBidBody",null,"Autofill - Pre-Bid Conference Info, 00100",null,{"$f":"IF(E475=\"Choose One\",\"\",IF(E475=\"No\",CONCATENATE('Validation Fields'!S2),IF(E479=\"No\",CONCATENATE('Validation Fields'!S3,\" \",'Project Manual Form'!E476,\" on \",E477,\" at \",E478,\". \",'Validation Fields'!S4),CONCATENATE('Validation Fields'!S5,\" \",'Project Manual Form'!E476,\" on \",E477,\" at \",E478,\". \",'Validation Fields'!S6))))","v":""},null,null,null,"Autofill Lines"]
[null,"Will the Project Manual include a Special Provisions section 01000?",null,null,"Choose One",{"$f":"IF(E482=\"Choose One\",\"< FIX\",\"\")","v":"< FIX"},"01000"]
["TOC_1000DelPrompt, 1000_DelPrompt",null,"Autofill - 01000 Delete Prompt",null,{"$f":"IF(E482=\"Choose One\",\"\",IF(E482=\"Yes\",\"\",\"DELETE 01000, NOT USED\"))","v":""},null,null,null,"Autofill Lines"]
["500_CD7",null,"Autofill - 00500 9.01.A.10",null,{"$f":"IF(E482=\"Choose One\",\"\",IF(E482=\"Yes\",\"X\",\"\"))","v":""},null,null,null,"Autofill Lines"]
[]
["100_BidType","Is this a Unit Price Contract or a Lump Sum Contract?",null,null,"Choose One",{"$f":"IF(E486=\"Choose One\",\"< FIX\",\"\")","v":"< FIX"},"00100, 00300-A"]
[null,"Will this project use an Alternate Bid?",null,null,"Choose One",{"$f":"IF(E487=\"Choose One\",\"< FIX\",\"\")","v":"< FIX"},"ToC, 00300-B"]
["TOC_BidForms",null,"Autofill - Table of Contents",null,{"$f":"IF(E487=\"Choose One\",\"00300-A\",IF(E487=\"Yes\",\"00300-A, 00300-B\",\"00300-A\"))","v":"00300-A"},null,"Table of Contents",null,"Autofill Lines"]
["500_BidExhibit",null,"Autofill - Contractor's Bid Exhibits",null,{"$f":"IF(E487=\"Choose One\",\"00300-A\",IF(E487=\"Yes\",\"00300-A, 00300-B\",\"00300-A\"))","v":"00300-A"},null,"00500 9.01",null,"Autofill Lines"]
[null,"Are State or Federal Affirmative Action Requirements in Effect? (Required for all projects that are federal or state-funded or partially funded)",null,null,"Choose One",{"$f":"IF(E490=\"Choose One\",\"< FIX\",\"\")","v":"< FIX"},"00100"]
["100_FedAffirmAct",null,"Autofill - 00100 Federal Affirmative Action paragraph",null,{"$f":"IF(E490=\"Choose One\",\"\",IF(E490=\"No\",\"\",CONCATENATE('Validation Fields'!U2)))","v":""},null,null,null,"Autofill Lines"]
[null,"Is there a Targeted Small Business (TSB) Requirement?",null,null,"Choose One",{"$f":"IF(E492=\"Choose One\",\"< FIX\",\"\")","v":"< FIX"},"List of required bid attachments"]
[null,null,"Autofill - TSB Attachment Listing",null,{"$f":"IF(E492=\"Yes\",CONCATENATE(CHAR(10),\"Targeted Small Business Form\"),\"\")","v":""},null,null,null,"Autofill Lines"]
[null,null,"Autofill - TSB Attachment Prompt",null,{"$f":"IF(E492=\"Yes\",\"Targeted Small Business Project - Check with your Iowa DOT contact for the most recent forms required of bidders.\", \"\")","v":""},null,null,null,"Autofill Lines"]
[null,"Is there a Disadvantaged Business Enterprise (DBE) Requirement?",null,null,"Choose One",{"$f":"IF(E495=\"Choose One\",\"< FIX\",\"\")","v":"< FIX"},"List of required bid attachments"]
[null,null,"Autofill - DBD Attachment Listing",null,{"$f":"IF(E495=\"Yes\",CONCATENATE(CHAR(10),\"Disadvantaged Business Enterprise Form\"),\"\")","v":""},null,null,null,"Autofill Lines"]
[null,null,"Autofill - DBE Attachment Prompt",null,{"$f":"IF(E495=\"Yes\",CONCATENATE(CHAR(10),\"Disadvantaged Business Enterprise Project - Ask your Dept of Transportation contact for the most recent version of required documents showing the bidder's Disadvantage Business Enterprise status.\"),\"\")","v":""},null,null,null,"Autofill Lines"]
[null,"Is this a Federal Transit Administration (FTA)-Funded (Buy America) Project?",null,null,"Choose One",{"$f":"IF(E498=\"Choose One\",\"< FIX\",\"\")","v":"< FIX"},"List of required bid attachments"]
[null,null,"Autofill - 00800 6.03D Services Material and Equipment",null,{"$f":"IF(E498=\"Choose One\",\"\",IF(E498=\"Yes\",\"\",\"Not Used, Delete SC-6.03D\"))","v":""},null,null,null,"Autofill Lines"]
[null,null,"Autofill - FTA Attachment Listing",null,{"$f":"IF(E498=\"Yes\",CONCATENATE(CHAR(10),\"Federal Transit Administration (Buy America) Form\"),\"\")","v":""},null,null,null,"Autofill Lines"]
[null,null,"Autofill - FTA Attachment Prompt",null,{"$f":"IF(E498=\"Yes\",CONCATENATE(CHAR(10),\"Federal Transit Administration Project - Check with your FTA contact to retrieve the most recent documents required with bid submission.\"),\"\")","v":""},null,null,null,"Autofill Lines"]
["M_410_AttachDeletePrompt",null,"Autofill - Prompt to Delete Additional Attachments page",null,{"$f":"IF(E504=\"\",\"No Additional Attachments - Delete This Page\",\"\")","v":"No Additional Attachments - Delete This Page"},null,null,null,"Autofill Lines"]
[null,null,"Autofill - Additional Attachments Required",null,{"$f":"IF(AND(E492=\"No\",E495=\"No\",E498=\"No\"),FALSE,TRUE)","v":true},null,null,null,"Autofill Lines"]
["M_410_AddAttachList",null,"Autofill - Listing of Additional Attachments Required",null,{"$f":"IF(E503=FALSE,\"None - Delete This Section\",CONCATENATE(E494,E497,E501))","v":""},null,null,null,"Autofill Lines"]
[null,null,"Default Attachments",null,"Bidder Status Form",null,null,null,"Autofill Lines"]
["200_AttachList, 300_AttachList,\n500_AttachList",null,"List of Attachments Required with Bid Submission",null,{"$f":"CONCATENATE(E505,E493,E496,E500)","v":"Bidder Status Form"},null,"00200 Art. 5, 00300, 00410, 00500",null,"Autofill Lines"]
[null,"Are there Federal Wage Rate Requirements?",null,null,"Choose One","< FIX","00100"]
["100_FedWageReq",null,"Autofill - 00100 Federal Wage Rates",null,{"$f":"IF(E507=\"Choose One\",\"\",IF(E507=\"No\",\"\",\"The CONTRACTOR shall be required to comply with the wage and labor requirements, and to pay minimum wages in accordance with the schedule of rates established by the United States Department of Labor.\"))","v":""},null,null,null,"Autofill Lines"]
[null,"Is this a Special Assessment Project?",null,null,"Choose One",{"$f":"IF(E509=\"Choose One\",\"< FIX\",\"\")","v":"< FIX"},"00100"]
[null,null,"Specifically for sidewalk repair?",null,"Choose One",{"$f":"IF(OR(E510=\"Choose One\",AND(E509=\"Yes\",E510=\"Not Applicable\")),\"< FIX\",\"\")","v":"< FIX"},"00100"]
["100_AssessHead",null,"Autofill - 00100 Special Assessments Header",null,{"$f":"IF(E509=\"Choose One\",\"\",IF(E509=\"No\",\"\",\"Source of Payment\"))","v":""},null,null,null,"Autofill Lines"]
["100_AssessBody1",null,"Autofill - 00100 Special Assessments Paragraph 1",null,{"$f":"IF(OR(E509=\"No\",E509=\"Choose One\"),\"\",IF(E510=\"No\",'Validation Fields'!V2,'Validation Fields'!V3))","v":""},null,null,null,"Autofill Lines"]
["100_AssessBody2",null,"Autofill - 00100 Special Assessments Paragraph 2",null,{"$f":"IF(E509=\"Choose One\",\"\",IF(E509=\"No\",\"\",CONCATENATE('Validation Fields'!V4)))","v":""},null,null,null,"Autofill Lines"]
[null,"Joint Projects with Other Cedar Rapids Departments/Orgs"]
[null,null,"Is an Additional Department/Org Involved, aside from Engineering, Water/Utilities and Traffic Engineering?",null,"Choose One",{"$f":"IF(E515=\"Choose One\",\"< FIX\",\"\")","v":"< FIX"},"00001"]
[null,null,null,"If Yes, Department/Organization Name:",null,{"$f":"IF(AND(E515=\"Yes\",E516=0),\"< FIX\",\"\")","v":""}]
[null,null,null,"Signatory's Name:",null,{"$f":"IF(AND(E515=\"Yes\",E517=0),\"< FIX\",\"\")","v":""}]
[null,null,null,"Signatory's Title:",null,{"$f":"IF(AND(E515=\"Yes\",E518=0),\"< FIX\",\"\")","v":""}]
["1_ExtraSigLine",null,null,"Autofill:",{"$f":"IF(E515=\"Yes\",CONCATENATE(E516,\" \",E518,\", or Designee\"),\"NOT USED - REMOVE EXTRA SIGNATURE LINE\")","v":"NOT USED - REMOVE EXTRA SIGNATURE LINE"},null,"00001-1",null,"Autofill Lines"]
["630_BondLength","Length of Contractor's Bond Correction Period for Project (Years)",null,null,"Choose One",{"$f":"IF(E520=\"Choose One\",\"< FIX\",\"\")","v":"< FIX"},"00630, 00800"]
[null,"Insurance"]
[null,null,null,null,"The following insurance coverages are already obligated by the 2019 Cedar Rapids Supplemental Specifications to SUDAS:\n 1. Workers Compensation\n 2. Commercial General Liability Insurance\n 3. Automobile Liability Insurance\n 4. Property Insurance (Builder's Risk Insurance)\n\nRequirements 1-3 may instead be covered with a mix of primary and Umbrella/Excess Insurance",null,null,"Refer to the Cedar Rapids Supplemental Specifications for SUDAS for more information."]
[null,"Additional Insurance Required for this Contract:"]
[null,null,"Railroad Protective Insurance?",null,"Choose One",{"$f":"IF(E524=\"Choose One\",\"< FIX\",\"\")","v":"< FIX"},"00800"]
[null,null,null,"Additional action needed, if any",{"$f":"IF(E524=\"Choose One\",\"\",IF(E524=\"No\",\"No action necessary\",\"Please refer to the Cedar Rapids Supplemental Specifications to SUDAS (SC CR 1070 3.02 C.4) for coverage requirements. Add Railroad Protective Insurance as a bid item.\"))","v":""}]
[null,null,"Boiler & Machinery Policy?",null,"Choose One",{"$f":"IF(E526=\"Choose One\",\"< FIX\",\"\")","v":"< FIX"},"00800"]
[null,null,null,"Autofill - Boiler & Machinery Policy",{"$f":"IF(OR(E526=\"Choose One\",E526=\"No\"),\"\",CONCATENATE(CHAR(10),\"Boiler & Machinery Insurance is required for this project. Please refer to the Cedar Rapids Supplemental Specifications to SUDAS (SC CR 1070 3.05 D) for coverage requirements.\"))","v":""},null,null,null,"Autofill Lines"]
[null,null,"Additional Insurance Not Listed Here or in the Cedar Rapids Supplemental? Any increases to required coverage amounts?",null,"Choose One",{"$f":"IF(E528=\"Choose One\",\"< FIX\",\"\")","v":"< FIX"},"00800"]
[null,null,null,"If yes, please elaborate:"]
["800_AddInsur",null,null,"Autofill - Additional Insurance Req's",{"$f":"IF(OR(E528=\"Choose One\",E528=\"No\"),\"\",CONCATENATE(CHAR(10),E529))","v":""},null,null,null,"Autofill Lines"]
["800_AddInsur",null,null,"Autofill - Insurance paragraph for 00800",{"$f":"IF(AND(E526=\"No\",E528=\"No\"),\"No additional insurance needed, delete this paragraph\",CONCATENATE(E527,E530))","v":""},null,null,null,"Autofill Lines"]
[null,null,"Errors Present?",null,null,null,null,null,"Autofill Lines"]
[null,null,null,{"$f":"COUNTIF(F6:F533,\"*\"&\"< FIX\"&\"*\")>0","v":true},null,null,null,null,"Autofill Lines"]
[]
[null,"Creating a Project Manual"]
[null,"•","To produce a Project Manual, you will need the most recent versions of:"]
[null,null,"◊","This document"]
[null,null,"◊","\"Project Manual Front End Document\" (a Word file)"]
[null,"•","Please check the FTP site template documents folder *every* time you produce a Project Manual to ensure you are working with the most up to date documents."]
[null,"•","Save the finished PDG and Project Manual Front End Document files in the same file folder. Make sure they are located where you want them, as changing file locations later will complicate future attempts at mail merging."]
[null,"•","The Project Manual is created by doing a mail merge between the Word document and this file:"]
[null,null,"◊","Open the Project Manual Front End Document"]
[null,null,"◊","Go to the Mailings ribbon"]
[null,null,"◊","Click Start Mail Merge > Step by Step Mail Merge Wizard"]
[null,null,"◊","Step 1 - Select Document type \"Letters\" and click Next"]
[null,null,"◊","Step 2 - Select \"Use the current document\" and click Next"]
[null,null,"◊","Step 3 - Browse for an existing list. Find your completed PDG, and choose \"Mail Merge This Tab\" from the list of available sheets"]
[null,null,"◊","You will see a single row of Mail Merge Recipients. Click OK."]
[null,null,"◊","Step 4 - Click Next: Write Your Letter"]
[null,null,"◊","Step 5 - Click Next: Preview Your Letter"]
[null,null,"◊","STOP. Do not click \"Complete the Merge.\" Read through the merged document and make your revisions now. At this point you are able to save, close and return to the document later. Any changes you make in the source Excel file will be reflected the next time you open the Word document. The bookmarks used to populate the Table of Contents will also still work so long as you do not fully complete the merge."]
[null,null,"◊","Read through the entire auto-populated document and check to verify information was populated as intended in a readable format. Find everything highlighted in yellow, review for accuracy, and remove the yellow highlighting once correct."]
[null,"•","Update the Table of Contents in the front end document"]
[null,"•","Perform all of your quality checks. If the document looks good, save the document, then do a Save As to make the document into a PDF"]
[null,"•","After the Project Manual is generated, create your 00300-A Reference and IonWave Importer sheets, found in this document. Make sure your EOPC is up to date so that you import the correct information."]

{"sheet":"Quick View","index":11,"n_rows":14,"n_cols":2,"rows_kept":14,"cut":false,"hidden":false,"merged":[[0,0,0,1],[1,0,1,1]]}
["Project Quick View Sheet"]
["For Review Only, Do Not Make Entries into This Sheet. Row heights may need adjustment."]
["Project Name",{"$f":"'Project Manual Form'!E7","v":0}]
["Contract No.",{"$f":"'Project Manual Form'!E6","v":0}]
["Project Description",{"$f":"'Project Manual Form'!E57","v":"The Public Improvement, upon which  are requested, generally consists of 0 located at 0"}]
["EOPC",{"$f":"'Project Manual Form'!E59","v":0}]
["Filing Date",{"$f":"'Project Manual Form'!E79","v":0}]
["Bid Opening Date",{"$f":"'Project Manual Form'!E113","v":0}]
["Early Start Date(s)",{"$f":"'Project Manual Form'!E435","v":"Upon Receipt of Notice to Proceed"}]
["Late Start Date(s)",{"$f":"'Project Manual Form'!E436","v":"N/A"}]
["Completion Date(s)",{"$f":"'Project Manual Form'!E437","v":"Choose One - "}]
["Milestones",{"$f":"'Project Manual Form'!E470","v":"None"}]
["Assessment Project?",{"$f":"'Project Manual Form'!E509","v":"Choose One"}]
["Contractor Motivation:",{"$f":"'Project Manual Form'!E438","v":""}]

{"sheet":"Sign-Off Sheet","index":12,"n_rows":42,"n_cols":10,"rows_kept":42,"cut":false,"hidden":false,"merged":[[28,0,28,6],[32,0,32,6],[0,0,0,6],[1,0,1,6],[3,2,3,6],[4,2,4,6],[23,0,23,6]]}
["CITY OF CEDAR RAPIDS"]
["PROJECT MANUAL FORM"]
[]
["PROJECT NAME",null,{"$f":"'Project Manual Form'!E7","v":0}]
["CONTRACT NO.",null,{"$f":"'Project Manual Form'!E6","v":0}]
[]
["Project Manager Approval",null,null,null,null,null,null,"Who Signs?",null,"< Signatures to review the draft Project Manual Form (PMF)"]
[null,"Submitted by",null,"Date",null,null,null,"Designer"]
[null,"Reviewed by",null,"Date",null,null,null,"City Project Manager",null,"Instructions for digitally signing"]
[null,null,null,null,null,null,null,null,null," - Type your name into the appropriate field"]
["Program Manager Approval",null,null,null,null,null,null,null,null," - Use the mouse to select the cell you typed your name into"]
[null,"Submitted by",null,"Date",null,null,null,"City Project Manager",null," - In the ribbon up top, click on \"Review\" and choose \"New Comment\""]
[null,"Reviewed by",null,"Date",null,null,null,"Program Manager",null," - Type \"verified\" into the comment. Comments carry your name as a tag, which is not easy to falsify"]
[]
["Public Works Financial Analyst Approval"]
[null,"Submitted by",null,"Date",null,null,null,"Program Manager"]
[null,"Reviewed by",null,"Date",null,null,null,"Finance Analyst"]
[]
["Utility Analyst Approval"]
[null,"Submitted by",null,"Date",null,null,null,"City Project Manager"]
[null,"Reviewed by",null,"Date",null,null,null,"Utility Analyst"]
[]
["CERTIFICATION BY LEAD PROFESSIONAL OF RECORD:",null,null,null,null,null,null,null,null,"< Design engineer signs final draft, sends to Project Manager"]
["I certify the Iowa Statewide Urban Design and Specifications (SUDAS), and the Cedar Rapids Supplement to SUDAS, have been reviewed for suitability with this project, and I am responsible for the corresponding Supplemental Conditions, Special Provisions and contract terms."]
[null,"By",null,null,"(signed)","Date:",null,"Designer"]
[]
[]
["CERTIFICATION BY REAL ESTATE SERVICES MANAGER:",null,null,null,null,null,null,null,null,"< Real estate and PM acknowledge acceptance of PMF final draft"]
["I certify permanent right-of-way for [#] parcels, permanent easements for [type of easement] for [#] parcels, and temporary construction easements for [#] parcels have been acquired as provided to me."]
[null,"By",null,null,"(signed)","Date:",null,"Real Estate Manager"]
[null,null,"Real Estate Services Manager"]
[]
["I certify the above-referenced acquisitions are all that are required for the following bid documents."]
[null,"By",null,null,"(signed)","Date:",null,"City Project Manager"]
[null,null,"Project Manager"]
[]
["PROJECT MANUAL PREPARATION SIGNATURES:",null,null,null,null,null,null,null,null,"< Signatures taking ownership of finished Project Manual. QC check and 2nd "]
["Prepared by:",null,"Public Works Staff              Consultant",null,null,null,null,null,null,"review should be done by separate people"]
[]
[null,"Preparer Name",null,null,"(signed)","Date:"]
[null,"QC Check By",null,null,"(signed)","Date:"]
[null,"2nd Review By",null,null,"(signed)","Date:"]

{"sheet":"300-A Reference","index":13,"n_rows":23,"n_cols":9,"rows_kept":23,"cut":false,"hidden":false,"merged":[[5,8,5,17],[5,0,5,4],[0,0,0,4],[1,0,1,4],[2,0,2,4],[3,0,3,4]]}
[{"$f":"IF('Project Manual Form'!E486<>\"Lump Sum\",\"UNIT PRICE BID\",\"LUMP SUM BID\")","v":"UNIT PRICE BID"}]
[{"$f":"UPPER('Project Manual Form'!E7)","v":"0"}]
[{"$f":"CONCATENATE(\"CONTRACT NO. \",'Project Manual Form'!E6)","v":"CONTRACT NO. "}]
["CITY OF CEDAR RAPIDS, IOWA"]
[]
["The following spreadsheet is for reference only. Unit prices must be entered into the City's IonWave website at https://citycrbids.ionwave.net.",null,null,null,null,null,null,null,"Do not alter quanties or items on this page. Make changes in EOPC, and refresh the workbook query for 300A"]
[]
["Column1","Column2","Column3","Column4","Column5"]
[null,null,null,null,null,null,null,null,"Designers"]
[null,null,null,null,null,null,null,null,"The bid items and quantities on this page are pulled from the EOPC worksheet. To get this page to match"]
[null,null,null,null,null,null,null,null,"EOPC, go to Data > Show Queries. Click on the Refresh symbol next to the 300A worksheet listing."]
[]
[null,null,null,null,null,null,null,null,"Project Manual Assemblers"]
[null,null,null,null,null,null,null,null,"Cut down the Bid Items table to an appropriate number of rows once your list is finalized. Resize the"]
[null,null,null,null,null,null,null,null,"table columns as appropriate. If you make a mistake, refresh the table to revert to what's listed in EOPC."]
[]
[null,null,null,null,null,null,null,null,"Do a Save As to create a new workbook, entitled \"Unit Price Reference Sheet,\" saving it to the Project Manual "]
[null,null,null,null,null,null,null,null,"folder. Select the values in the sheet, and do a Copy + Paste Values to make the table values permanent."]
[null,null,null,null,null,null,null,null,"Delete the other worksheets until only \"300-A Reference\" remains."]
[]
[null,null,null,null,null,null,null,null,"Upload a copy of the file to the Attachments section of the project's listing on IonWave. This will be used by "]
[null,null,null,null,null,null,null,null,"contractors who have their own bid software. Making this list available saves them the effort of typing in values"]
[null,null,null,null,null,null,null,null,"manually. With every addendum, replace this reference sheet as needed."]

{"sheet":"IonWave Importer","index":14,"n_rows":301,"n_cols":16,"rows_kept":301,"cut":false,"hidden":false,"merged":[]}
["Column1","Column2","Column3","Column4","Column5","KEEP","Item No","System Code","Qty","Unit2","Item Number - Item Name"]
[null,null,null,null,null,"LINE",1,"UnitPrice-NoAlts",{"$f":"_IonWaveImport[[#This Row],[Column4]]","v":0},{"$f":"_IonWaveImport[[#This Row],[Column5]]","v":0},{"$f":"_IonWaveImport[[#This Row],[Column2]]&\" - \"&_IonWaveImport[[#This Row],[Column3]]","v":" - "},null,null,null,"Designers"]
[null,null,null,null,null,"LINE",2,"UnitPrice-NoAlts",{"$f":"_IonWaveImport[[#This Row],[Column4]]","v":0},{"$f":"_IonWaveImport[[#This Row],[Column5]]","v":0},{"$f":"_IonWaveImport[[#This Row],[Column2]]&\" - \"&_IonWaveImport[[#This Row],[Column3]]","v":" - "},null,null,null,"The bid items and quantities on this page are pulled from the EOPC worksheet. To get this page to match"]
[null,null,null,null,null,"LINE",3,"UnitPrice-NoAlts",{"$f":"_IonWaveImport[[#This Row],[Column4]]","v":0},{"$f":"_IonWaveImport[[#This Row],[Column5]]","v":0},{"$f":"_IonWaveImport[[#This Row],[Column2]]&\" - \"&_IonWaveImport[[#This Row],[Column3]]","v":" - "},null,null,null,"EOPC, go to Data > Show Queries. Click on the Refresh symbol next to the IonWave Import worksheet listing."]
[null,null,null,null,null,"LINE",4,"UnitPrice-NoAlts",{"$f":"_IonWaveImport[[#This Row],[Column4]]","v":0},{"$f":"_IonWaveImport[[#This Row],[Column5]]","v":0},{"$f":"_IonWaveImport[[#This Row],[Column2]]&\" - \"&_IonWaveImport[[#This Row],[Column3]]","v":" - "}]
[null,null,null,null,null,"LINE",5,"UnitPrice-NoAlts",{"$f":"_IonWaveImport[[#This Row],[Column4]]","v":0},{"$f":"_IonWaveImport[[#This Row],[Column5]]","v":0},{"$f":"_IonWaveImport[[#This Row],[Column2]]&\" - \"&_IonWaveImport[[#This Row],[Column3]]","v":" - "},null,null,null,"The column \"System Code\" tells the IonWave website what kind of bid item you are listing. The default"]
[null,null,null,null,null,"LINE",6,"UnitPrice-NoAlts",{"$f":"_IonWaveImport[[#This Row],[Column4]]","v":0},{"$f":"_IonWaveImport[[#This Row],[Column5]]","v":0},{"$f":"_IonWaveImport[[#This Row],[Column2]]&\" - \"&_IonWaveImport[[#This Row],[Column3]]","v":" - "},null,null,null,"is \"UnitPrice-NoAlts,\" which tells the system the item is 1) a unit price item 2) there are no bid alternates"]
[null,null,null,null,null,"LINE",7,"UnitPrice-NoAlts",{"$f":"_IonWaveImport[[#This Row],[Column4]]","v":0},{"$f":"_IonWaveImport[[#This Row],[Column5]]","v":0},{"$f":"_IonWaveImport[[#This Row],[Column2]]&\" - \"&_IonWaveImport[[#This Row],[Column3]]","v":" - "},null,null,null,"for this item 3) $0 bids / no bids are not allowed."]
[null,null,null,null,null,"LINE",8,"UnitPrice-NoAlts",{"$f":"_IonWaveImport[[#This Row],[Column4]]","v":0},{"$f":"_IonWaveImport[[#This Row],[Column5]]","v":0},{"$f":"_IonWaveImport[[#This Row],[Column2]]&\" - \"&_IonWaveImport[[#This Row],[Column3]]","v":" - "}]
[null,null,null,null,null,"LINE",9,"UnitPrice-NoAlts",{"$f":"_IonWaveImport[[#This Row],[Column4]]","v":0},{"$f":"_IonWaveImport[[#This Row],[Column5]]","v":0},{"$f":"_IonWaveImport[[#This Row],[Column2]]&\" - \"&_IonWaveImport[[#This Row],[Column3]]","v":" - "},null,null,null,"If appropriate the other codes are available as described. Type them exactly as seen below:"]
[null,null,null,null,null,"LINE",10,"UnitPrice-NoAlts",{"$f":"_IonWaveImport[[#This Row],[Column4]]","v":0},{"$f":"_IonWaveImport[[#This Row],[Column5]]","v":0},{"$f":"_IonWaveImport[[#This Row],[Column2]]&\" - \"&_IonWaveImport[[#This Row],[Column3]]","v":" - "},null,null,null,null,"UnitPrice-Alts  =  1) unit price item 2) bid alternates are allowed 3) $0 bids not allowed"]
[null,null,null,null,null,"LINE",11,"UnitPrice-NoAlts",{"$f":"_IonWaveImport[[#This Row],[Column4]]","v":0},{"$f":"_IonWaveImport[[#This Row],[Column5]]","v":0},{"$f":"_IonWaveImport[[#This Row],[Column2]]&\" - \"&_IonWaveImport[[#This Row],[Column3]]","v":" - "},null,null,null,null,"UnitPrice-0Allowed = 1) unit price item 3) bid alternates not allowed 3) $0 bid allowed"]
[null,null,null,null,null,"LINE",12,"UnitPrice-NoAlts",{"$f":"_IonWaveImport[[#This Row],[Column4]]","v":0},{"$f":"_IonWaveImport[[#This Row],[Column5]]","v":0},{"$f":"_IonWaveImport[[#This Row],[Column2]]&\" - \"&_IonWaveImport[[#This Row],[Column3]]","v":" - "},null,null,null,null,"LumpSum = 1) lump sum item 2) bid alternates not allowed 3) $0 bid not allowed"]
[null,null,null,null,null,"LINE",13,"UnitPrice-NoAlts",{"$f":"_IonWaveImport[[#This Row],[Column4]]","v":0},{"$f":"_IonWaveImport[[#This Row],[Column5]]","v":0},{"$f":"_IonWaveImport[[#This Row],[Column2]]&\" - \"&_IonWaveImport[[#This Row],[Column3]]","v":" - "}]
[null,null,null,null,null,"LINE",14,"UnitPrice-NoAlts",{"$f":"_IonWaveImport[[#This Row],[Column4]]","v":0},{"$f":"_IonWaveImport[[#This Row],[Column5]]","v":0},{"$f":"_IonWaveImport[[#This Row],[Column2]]&\" - \"&_IonWaveImport[[#This Row],[Column3]]","v":" - "},null,null,null,"To learn how to enter bid items with alternates, watch the Tutorial video"]
[null,null,null,null,null,"LINE",15,"UnitPrice-NoAlts",{"$f":"_IonWaveImport[[#This Row],[Column4]]","v":0},{"$f":"_IonWaveImport[[#This Row],[Column5]]","v":0},{"$f":"_IonWaveImport[[#This Row],[Column2]]&\" - \"&_IonWaveImport[[#This Row],[Column3]]","v":" - "}]
[null,null,null,null,null,"LINE",16,"UnitPrice-NoAlts",{"$f":"_IonWaveImport[[#This Row],[Column4]]","v":0},{"$f":"_IonWaveImport[[#This Row],[Column5]]","v":0},{"$f":"_IonWaveImport[[#This Row],[Column2]]&\" - \"&_IonWaveImport[[#This Row],[Column3]]","v":" - "},null,null,null,"Please verify items and quantities are correct. A Public Works Admin will be responsible for listing this"]
[null,null,null,null,null,"LINE",17,"UnitPrice-NoAlts",{"$f":"_IonWaveImport[[#This Row],[Column4]]","v":0},{"$f":"_IonWaveImport[[#This Row],[Column5]]","v":0},{"$f":"_IonWaveImport[[#This Row],[Column2]]&\" - \"&_IonWaveImport[[#This Row],[Column3]]","v":" - "},null,null,null,"info onto the IonWave website. You need to check the website for accuracy before it can be published."]
[null,null,null,null,null,"LINE",18,"UnitPrice-NoAlts",{"$f":"_IonWaveImport[[#This Row],[Column4]]","v":0},{"$f":"_IonWaveImport[[#This Row],[Column5]]","v":0},{"$f":"_IonWaveImport[[#This Row],[Column2]]&\" - \"&_IonWaveImport[[#This Row],[Column3]]","v":" - "}]
[null,null,null,null,null,"LINE",19,"UnitPrice-NoAlts",{"$f":"_IonWaveImport[[#This Row],[Column4]]","v":0},{"$f":"_IonWaveImport[[#This Row],[Column5]]","v":0},{"$f":"_IonWaveImport[[#This Row],[Column2]]&\" - \"&_IonWaveImport[[#This Row],[Column3]]","v":" - "},null,null,null,"Public Works Admin Responsible for Listing on IonWave"]
[null,null,null,null,null,"LINE",20,"UnitPrice-NoAlts",{"$f":"_IonWaveImport[[#This Row],[Column4]]","v":0},{"$f":"_IonWaveImport[[#This Row],[Column5]]","v":0},{"$f":"_IonWaveImport[[#This Row],[Column2]]&\" - \"&_IonWaveImport[[#This Row],[Column3]]","v":" - "},null,null,null,"Verify with the Designer all values in this table are correct."]
[null,null,null,null,null,"LINE",21,"UnitPrice-NoAlts",{"$f":"_IonWaveImport[[#This Row],[Column4]]","v":0},{"$f":"_IonWaveImport[[#This Row],[Column5]]","v":0},{"$f":"_IonWaveImport[[#This Row],[Column2]]&\" - \"&_IonWaveImport[[#This Row],[Column3]]","v":" - "}]
[null,null,null,null,null,"LINE",22,"UnitPrice-NoAlts",{"$f":"_IonWaveImport[[#This Row],[Column4]]","v":0},{"$f":"_IonWaveImport[[#This Row],[Column5]]","v":0},{"$f":"_IonWaveImport[[#This Row],[Column2]]&\" - \"&_IonWaveImport[[#This Row],[Column3]]","v":" - "},null,null,null,"To import items onto the IonWave website, do the following:"]
[null,null,null,null,null,"LINE",23,"UnitPrice-NoAlts",{"$f":"_IonWaveImport[[#This Row],[Column4]]","v":0},{"$f":"_IonWaveImport[[#This Row],[Column5]]","v":0},{"$f":"_IonWaveImport[[#This Row],[Column2]]&\" - \"&_IonWaveImport[[#This Row],[Column3]]","v":" - "},null,null,null,"  1) Do a Save As and save the workbook to your desktop so you don't alter the PDG"]
[null,null,null,null,null,"LINE",24,"UnitPrice-NoAlts",{"$f":"_IonWaveImport[[#This Row],[Column4]]","v":0},{"$f":"_IonWaveImport[[#This Row],[Column5]]","v":0},{"$f":"_IonWaveImport[[#This Row],[Column2]]&\" - \"&_IonWaveImport[[#This Row],[Column3]]","v":" - "},null,null,null,"  2) Copy the entire worksheet and Paste Values to set all the values in stone"]
[null,null,null,null,null,"LINE",25,"UnitPrice-NoAlts",{"$f":"_IonWaveImport[[#This Row],[Column4]]","v":0},{"$f":"_IonWaveImport[[#This Row],[Column5]]","v":0},{"$f":"_IonWaveImport[[#This Row],[Column2]]&\" - \"&_IonWaveImport[[#This Row],[Column3]]","v":" - "},null,null,null,"  3) Delete all the columns that are blacked out."]
[null,null,null,null,null,"LINE",26,"UnitPrice-NoAlts",{"$f":"_IonWaveImport[[#This Row],[Column4]]","v":0},{"$f":"_IonWaveImport[[#This Row],[Column5]]","v":0},{"$f":"_IonWaveImport[[#This Row],[Column2]]&\" - \"&_IonWaveImport[[#This Row],[Column3]]","v":" - "},null,null,null,"  4) Delete extra, unused rows at the bottom of the table"]
[null,null,null,null,null,"LINE",27,"UnitPrice-NoAlts",{"$f":"_IonWaveImport[[#This Row],[Column4]]","v":0},{"$f":"_IonWaveImport[[#This Row],[Column5]]","v":0},{"$f":"_IonWaveImport[[#This Row],[Column2]]&\" - \"&_IonWaveImport[[#This Row],[Column3]]","v":" - "},null,null,null,"  5) Delete the header row at the top of the table. To do this, click on the Table, go to Table Tools >"]
[null,null,null,null,null,"LINE",28,"UnitPrice-NoAlts",{"$f":"_IonWaveImport[[#This Row],[Column4]]","v":0},{"$f":"_IonWaveImport[[#This Row],[Column5]]","v":0},{"$f":"_IonWaveImport[[#This Row],[Column2]]&\" - \"&_IonWaveImport[[#This Row],[Column3]]","v":" - "},null,null,null,"       Design, unselect the Table Header box, and then delete the header row. You will be asked if you"]
[null,null,null,null,null,"LINE",29,"UnitPrice-NoAlts",{"$f":"_IonWaveImport[[#This Row],[Column4]]","v":0},{"$f":"_IonWaveImport[[#This Row],[Column5]]","v":0},{"$f":"_IonWaveImport[[#This Row],[Column2]]&\" - \"&_IonWaveImport[[#This Row],[Column3]]","v":" - "},null,null,null,"       want to break formulas. This is ok."]
[null,null,null,null,null,"LINE",30,"UnitPrice-NoAlts",{"$f":"_IonWaveImport[[#This Row],[Column4]]","v":0},{"$f":"_IonWaveImport[[#This Row],[Column5]]","v":0},{"$f":"_IonWaveImport[[#This Row],[Column2]]&\" - \"&_IonWaveImport[[#This Row],[Column3]]","v":" - "},null,null,null,"  6) Delete all other worksheets in this workbook (make sure you aren't deleting the original PDG!)"]
[null,null,null,null,null,"LINE",31,"UnitPrice-NoAlts",{"$f":"_IonWaveImport[[#This Row],[Column4]]","v":0},{"$f":"_IonWaveImport[[#This Row],[Column5]]","v":0},{"$f":"_IonWaveImport[[#This Row],[Column2]]&\" - \"&_IonWaveImport[[#This Row],[Column3]]","v":" - "},null,null,null,"  7) Delete all other information and buttons shown on this worksheet, including these directions"]
[null,null,null,null,null,"LINE",32,"UnitPrice-NoAlts",{"$f":"_IonWaveImport[[#This Row],[Column4]]","v":0},{"$f":"_IonWaveImport[[#This Row],[Column5]]","v":0},{"$f":"_IonWaveImport[[#This Row],[Column2]]&\" - \"&_IonWaveImport[[#This Row],[Column3]]","v":" - "},null,null,null,"  8) Do a Save As of this worksheet as a Text (Tab Delimited) file type into the Project Manual folder"]
[null,null,null,null,null,"LINE",33,"UnitPrice-NoAlts",{"$f":"_IonWaveImport[[#This Row],[Column4]]","v":0},{"$f":"_IonWaveImport[[#This Row],[Column5]]","v":0},{"$f":"_IonWaveImport[[#This Row],[Column2]]&\" - \"&_IonWaveImport[[#This Row],[Column3]]","v":" - "},null,null,null,"  9) When you're ready to list the bid items on the IonWave project listing, import the text file"]
[null,null,null,null,null,"LINE",34,"UnitPrice-NoAlts",{"$f":"_IonWaveImport[[#This Row],[Column4]]","v":0},{"$f":"_IonWaveImport[[#This Row],[Column5]]","v":0},{"$f":"_IonWaveImport[[#This Row],[Column2]]&\" - \"&_IonWaveImport[[#This Row],[Column3]]","v":" - "}]
[null,null,null,null,null,"LINE",35,"UnitPrice-NoAlts",{"$f":"_IonWaveImport[[#This Row],[Column4]]","v":0},{"$f":"_IonWaveImport[[#This Row],[Column5]]","v":0},{"$f":"_IonWaveImport[[#This Row],[Column2]]&\" - \"&_IonWaveImport[[#This Row],[Column3]]","v":" - "},null,null,null,"Before publishing the Bid, have the Designer double-check all values listed on the website"]
[null,null,null,null,null,"LINE",36,"UnitPrice-NoAlts",{"$f":"_IonWaveImport[[#This Row],[Column4]]","v":0},{"$f":"_IonWaveImport[[#This Row],[Column5]]","v":0},{"$f":"_IonWaveImport[[#This Row],[Column2]]&\" - \"&_IonWaveImport[[#This Row],[Column3]]","v":" - "}]
[null,null,null,null,null,"LINE",37,"UnitPrice-NoAlts",{"$f":"_IonWaveImport[[#This Row],[Column4]]","v":0},{"$f":"_IonWaveImport[[#This Row],[Column5]]","v":0},{"$f":"_IonWaveImport[[#This Row],[Column2]]&\" - \"&_IonWaveImport[[#This Row],[Column3]]","v":" - "}]
[null,null,null,null,null,"LINE",38,"UnitPrice-NoAlts",{"$f":"_IonWaveImport[[#This Row],[Column4]]","v":0},{"$f":"_IonWaveImport[[#This Row],[Column5]]","v":0},{"$f":"_IonWaveImport[[#This Row],[Column2]]&\" - \"&_IonWaveImport[[#This Row],[Column3]]","v":" - "}]
[null,null,null,null,null,"LINE",39,"UnitPrice-NoAlts",{"$f":"_IonWaveImport[[#This Row],[Column4]]","v":0},{"$f":"_IonWaveImport[[#This Row],[Column5]]","v":0},{"$f":"_IonWaveImport[[#This Row],[Column2]]&\" - \"&_IonWaveImport[[#This Row],[Column3]]","v":" - "}]
[null,null,null,null,null,"LINE",40,"UnitPrice-NoAlts",{"$f":"_IonWaveImport[[#This Row],[Column4]]","v":0},{"$f":"_IonWaveImport[[#This Row],[Column5]]","v":0},{"$f":"_IonWaveImport[[#This Row],[Column2]]&\" - \"&_IonWaveImport[[#This Row],[Column3]]","v":" - "}]
[null,null,null,null,null,"LINE",41,"UnitPrice-NoAlts",{"$f":"_IonWaveImport[[#This Row],[Column4]]","v":0},{"$f":"_IonWaveImport[[#This Row],[Column5]]","v":0},{"$f":"_IonWaveImport[[#This Row],[Column2]]&\" - \"&_IonWaveImport[[#This Row],[Column3]]","v":" - "}]
[null,null,null,null,null,"LINE",42,"UnitPrice-NoAlts",{"$f":"_IonWaveImport[[#This Row],[Column4]]","v":0},{"$f":"_IonWaveImport[[#This Row],[Column5]]","v":0},{"$f":"_IonWaveImport[[#This Row],[Column2]]&\" - \"&_IonWaveImport[[#This Row],[Column3]]","v":" - "}]
[null,null,null,null,null,"LINE",43,"UnitPrice-NoAlts",{"$f":"_IonWaveImport[[#This Row],[Column4]]","v":0},{"$f":"_IonWaveImport[[#This Row],[Column5]]","v":0},{"$f":"_IonWaveImport[[#This Row],[Column2]]&\" - \"&_IonWaveImport[[#This Row],[Column3]]","v":" - "}]
[null,null,null,null,null,"LINE",44,"UnitPrice-NoAlts",{"$f":"_IonWaveImport[[#This Row],[Column4]]","v":0},{"$f":"_IonWaveImport[[#This Row],[Column5]]","v":0},{"$f":"_IonWaveImport[[#This Row],[Column2]]&\" - \"&_IonWaveImport[[#This Row],[Column3]]","v":" - "}]
[null,null,null,null,null,"LINE",45,"UnitPrice-NoAlts",{"$f":"_IonWaveImport[[#This Row],[Column4]]","v":0},{"$f":"_IonWaveImport[[#This Row],[Column5]]","v":0},{"$f":"_IonWaveImport[[#This Row],[Column2]]&\" - \"&_IonWaveImport[[#This Row],[Column3]]","v":" - "}]
[null,null,null,null,null,"LINE",46,"UnitPrice-NoAlts",{"$f":"_IonWaveImport[[#This Row],[Column4]]","v":0},{"$f":"_IonWaveImport[[#This Row],[Column5]]","v":0},{"$f":"_IonWaveImport[[#This Row],[Column2]]&\" - \"&_IonWaveImport[[#This Row],[Column3]]","v":" - "}]
[null,null,null,null,null,"LINE",47,"UnitPrice-NoAlts",{"$f":"_IonWaveImport[[#This Row],[Column4]]","v":0},{"$f":"_IonWaveImport[[#This Row],[Column5]]","v":0},{"$f":"_IonWaveImport[[#This Row],[Column2]]&\" - \"&_IonWaveImport[[#This Row],[Column3]]","v":" - "}]
[null,null,null,null,null,"LINE",48,"UnitPrice-NoAlts",{"$f":"_IonWaveImport[[#This Row],[Column4]]","v":0},{"$f":"_IonWaveImport[[#This Row],[Column5]]","v":0},{"$f":"_IonWaveImport[[#This Row],[Column2]]&\" - \"&_IonWaveImport[[#This Row],[Column3]]","v":" - "}]
[null,null,null,null,null,"LINE",49,"UnitPrice-NoAlts",{"$f":"_IonWaveImport[[#This Row],[Column4]]","v":0},{"$f":"_IonWaveImport[[#This Row],[Column5]]","v":0},{"$f":"_IonWaveImport[[#This Row],[Column2]]&\" - \"&_IonWaveImport[[#This Row],[Column3]]","v":" - "}]
[null,null,null,null,null,"LINE",50,"UnitPrice-NoAlts",{"$f":"_IonWaveImport[[#This Row],[Column4]]","v":0},{"$f":"_IonWaveImport[[#This Row],[Column5]]","v":0},{"$f":"_IonWaveImport[[#This Row],[Column2]]&\" - \"&_IonWaveImport[[#This Row],[Column3]]","v":" - "}]
[null,null,null,null,null,"LINE",51,"UnitPrice-NoAlts",{"$f":"_IonWaveImport[[#This Row],[Column4]]","v":0},{"$f":"_IonWaveImport[[#This Row],[Column5]]","v":0},{"$f":"_IonWaveImport[[#This Row],[Column2]]&\" - \"&_IonWaveImport[[#This Row],[Column3]]","v":" - "}]
[null,null,null,null,null,"LINE",52,"UnitPrice-NoAlts",{"$f":"_IonWaveImport[[#This Row],[Column4]]","v":0},{"$f":"_IonWaveImport[[#This Row],[Column5]]","v":0},{"$f":"_IonWaveImport[[#This Row],[Column2]]&\" - \"&_IonWaveImport[[#This Row],[Column3]]","v":" - "}]
[null,null,null,null,null,"LINE",53,"UnitPrice-NoAlts",{"$f":"_IonWaveImport[[#This Row],[Column4]]","v":0},{"$f":"_IonWaveImport[[#This Row],[Column5]]","v":0},{"$f":"_IonWaveImport[[#This Row],[Column2]]&\" - \"&_IonWaveImport[[#This Row],[Column3]]","v":" - "}]
[null,null,null,null,null,"LINE",54,"UnitPrice-NoAlts",{"$f":"_IonWaveImport[[#This Row],[Column4]]","v":0},{"$f":"_IonWaveImport[[#This Row],[Column5]]","v":0},{"$f":"_IonWaveImport[[#This Row],[Column2]]&\" - \"&_IonWaveImport[[#This Row],[Column3]]","v":" - "}]
[null,null,null,null,null,"LINE",55,"UnitPrice-NoAlts",{"$f":"_IonWaveImport[[#This Row],[Column4]]","v":0},{"$f":"_IonWaveImport[[#This Row],[Column5]]","v":0},{"$f":"_IonWaveImport[[#This Row],[Column2]]&\" - \"&_IonWaveImport[[#This Row],[Column3]]","v":" - "}]
[null,null,null,null,null,"LINE",56,"UnitPrice-NoAlts",{"$f":"_IonWaveImport[[#This Row],[Column4]]","v":0},{"$f":"_IonWaveImport[[#This Row],[Column5]]","v":0},{"$f":"_IonWaveImport[[#This Row],[Column2]]&\" - \"&_IonWaveImport[[#This Row],[Column3]]","v":" - "}]
[null,null,null,null,null,"LINE",57,"UnitPrice-NoAlts",{"$f":"_IonWaveImport[[#This Row],[Column4]]","v":0},{"$f":"_IonWaveImport[[#This Row],[Column5]]","v":0},{"$f":"_IonWaveImport[[#This Row],[Column2]]&\" - \"&_IonWaveImport[[#This Row],[Column3]]","v":" - "}]
[null,null,null,null,null,"LINE",58,"UnitPrice-NoAlts",{"$f":"_IonWaveImport[[#This Row],[Column4]]","v":0},{"$f":"_IonWaveImport[[#This Row],[Column5]]","v":0},{"$f":"_IonWaveImport[[#This Row],[Column2]]&\" - \"&_IonWaveImport[[#This Row],[Column3]]","v":" - "}]
[null,null,null,null,null,"LINE",59,"UnitPrice-NoAlts",{"$f":"_IonWaveImport[[#This Row],[Column4]]","v":0},{"$f":"_IonWaveImport[[#This Row],[Column5]]","v":0},{"$f":"_IonWaveImport[[#This Row],[Column2]]&\" - \"&_IonWaveImport[[#This Row],[Column3]]","v":" - "}]
[null,null,null,null,null,"LINE",60,"UnitPrice-NoAlts",{"$f":"_IonWaveImport[[#This Row],[Column4]]","v":0},{"$f":"_IonWaveImport[[#This Row],[Column5]]","v":0},{"$f":"_IonWaveImport[[#This Row],[Column2]]&\" - \"&_IonWaveImport[[#This Row],[Column3]]","v":" - "}]
[null,null,null,null,null,"LINE",61,"UnitPrice-NoAlts",{"$f":"_IonWaveImport[[#This Row],[Column4]]","v":0},{"$f":"_IonWaveImport[[#This Row],[Column5]]","v":0},{"$f":"_IonWaveImport[[#This Row],[Column2]]&\" - \"&_IonWaveImport[[#This Row],[Column3]]","v":" - "}]
[null,null,null,null,null,"LINE",62,"UnitPrice-NoAlts",{"$f":"_IonWaveImport[[#This Row],[Column4]]","v":0},{"$f":"_IonWaveImport[[#This Row],[Column5]]","v":0},{"$f":"_IonWaveImport[[#This Row],[Column2]]&\" - \"&_IonWaveImport[[#This Row],[Column3]]","v":" - "}]
[null,null,null,null,null,"LINE",63,"UnitPrice-NoAlts",{"$f":"_IonWaveImport[[#This Row],[Column4]]","v":0},{"$f":"_IonWaveImport[[#This Row],[Column5]]","v":0},{"$f":"_IonWaveImport[[#This Row],[Column2]]&\" - \"&_IonWaveImport[[#This Row],[Column3]]","v":" - "}]
[null,null,null,null,null,"LINE",64,"UnitPrice-NoAlts",{"$f":"_IonWaveImport[[#This Row],[Column4]]","v":0},{"$f":"_IonWaveImport[[#This Row],[Column5]]","v":0},{"$f":"_IonWaveImport[[#This Row],[Column2]]&\" - \"&_IonWaveImport[[#This Row],[Column3]]","v":" - "}]
[null,null,null,null,null,"LINE",65,"UnitPrice-NoAlts",{"$f":"_IonWaveImport[[#This Row],[Column4]]","v":0},{"$f":"_IonWaveImport[[#This Row],[Column5]]","v":0},{"$f":"_IonWaveImport[[#This Row],[Column2]]&\" - \"&_IonWaveImport[[#This Row],[Column3]]","v":" - "}]
[null,null,null,null,null,"LINE",66,"UnitPrice-NoAlts",{"$f":"_IonWaveImport[[#This Row],[Column4]]","v":0},{"$f":"_IonWaveImport[[#This Row],[Column5]]","v":0},{"$f":"_IonWaveImport[[#This Row],[Column2]]&\" - \"&_IonWaveImport[[#This Row],[Column3]]","v":" - "}]
[null,null,null,null,null,"LINE",67,"UnitPrice-NoAlts",{"$f":"_IonWaveImport[[#This Row],[Column4]]","v":0},{"$f":"_IonWaveImport[[#This Row],[Column5]]","v":0},{"$f":"_IonWaveImport[[#This Row],[Column2]]&\" - \"&_IonWaveImport[[#This Row],[Column3]]","v":" - "}]
[null,null,null,null,null,"LINE",68,"UnitPrice-NoAlts",{"$f":"_IonWaveImport[[#This Row],[Column4]]","v":0},{"$f":"_IonWaveImport[[#This Row],[Column5]]","v":0},{"$f":"_IonWaveImport[[#This Row],[Column2]]&\" - \"&_IonWaveImport[[#This Row],[Column3]]","v":" - "}]
[null,null,null,null,null,"LINE",69,"UnitPrice-NoAlts",{"$f":"_IonWaveImport[[#This Row],[Column4]]","v":0},{"$f":"_IonWaveImport[[#This Row],[Column5]]","v":0},{"$f":"_IonWaveImport[[#This Row],[Column2]]&\" - \"&_IonWaveImport[[#This Row],[Column3]]","v":" - "}]
[null,null,null,null,null,"LINE",70,"UnitPrice-NoAlts",{"$f":"_IonWaveImport[[#This Row],[Column4]]","v":0},{"$f":"_IonWaveImport[[#This Row],[Column5]]","v":0},{"$f":"_IonWaveImport[[#This Row],[Column2]]&\" - \"&_IonWaveImport[[#This Row],[Column3]]","v":" - "}]
[null,null,null,null,null,"LINE",71,"UnitPrice-NoAlts",{"$f":"_IonWaveImport[[#This Row],[Column4]]","v":0},{"$f":"_IonWaveImport[[#This Row],[Column5]]","v":0},{"$f":"_IonWaveImport[[#This Row],[Column2]]&\" - \"&_IonWaveImport[[#This Row],[Column3]]","v":" - "}]
[null,null,null,null,null,"LINE",72,"UnitPrice-NoAlts",{"$f":"_IonWaveImport[[#This Row],[Column4]]","v":0},{"$f":"_IonWaveImport[[#This Row],[Column5]]","v":0},{"$f":"_IonWaveImport[[#This Row],[Column2]]&\" - \"&_IonWaveImport[[#This Row],[Column3]]","v":" - "}]
[null,null,null,null,null,"LINE",73,"UnitPrice-NoAlts",{"$f":"_IonWaveImport[[#This Row],[Column4]]","v":0},{"$f":"_IonWaveImport[[#This Row],[Column5]]","v":0},{"$f":"_IonWaveImport[[#This Row],[Column2]]&\" - \"&_IonWaveImport[[#This Row],[Column3]]","v":" - "}]
[null,null,null,null,null,"LINE",74,"UnitPrice-NoAlts",{"$f":"_IonWaveImport[[#This Row],[Column4]]","v":0},{"$f":"_IonWaveImport[[#This Row],[Column5]]","v":0},{"$f":"_IonWaveImport[[#This Row],[Column2]]&\" - \"&_IonWaveImport[[#This Row],[Column3]]","v":" - "}]
[null,null,null,null,null,"LINE",75,"UnitPrice-NoAlts",{"$f":"_IonWaveImport[[#This Row],[Column4]]","v":0},{"$f":"_IonWaveImport[[#This Row],[Column5]]","v":0},{"$f":"_IonWaveImport[[#This Row],[Column2]]&\" - \"&_IonWaveImport[[#This Row],[Column3]]","v":" - "}]
[null,null,null,null,null,"LINE",76,"UnitPrice-NoAlts",{"$f":"_IonWaveImport[[#This Row],[Column4]]","v":0},{"$f":"_IonWaveImport[[#This Row],[Column5]]","v":0},{"$f":"_IonWaveImport[[#This Row],[Column2]]&\" - \"&_IonWaveImport[[#This Row],[Column3]]","v":" - "}]
[null,null,null,null,null,"LINE",77,"UnitPrice-NoAlts",{"$f":"_IonWaveImport[[#This Row],[Column4]]","v":0},{"$f":"_IonWaveImport[[#This Row],[Column5]]","v":0},{"$f":"_IonWaveImport[[#This Row],[Column2]]&\" - \"&_IonWaveImport[[#This Row],[Column3]]","v":" - "}]
[null,null,null,null,null,"LINE",78,"UnitPrice-NoAlts",{"$f":"_IonWaveImport[[#This Row],[Column4]]","v":0},{"$f":"_IonWaveImport[[#This Row],[Column5]]","v":0},{"$f":"_IonWaveImport[[#This Row],[Column2]]&\" - \"&_IonWaveImport[[#This Row],[Column3]]","v":" - "}]
[null,null,null,null,null,"LINE",79,"UnitPrice-NoAlts",{"$f":"_IonWaveImport[[#This Row],[Column4]]","v":0},{"$f":"_IonWaveImport[[#This Row],[Column5]]","v":0},{"$f":"_IonWaveImport[[#This Row],[Column2]]&\" - \"&_IonWaveImport[[#This Row],[Column3]]","v":" - "}]
[null,null,null,null,null,"LINE",80,"UnitPrice-NoAlts",{"$f":"_IonWaveImport[[#This Row],[Column4]]","v":0},{"$f":"_IonWaveImport[[#This Row],[Column5]]","v":0},{"$f":"_IonWaveImport[[#This Row],[Column2]]&\" - \"&_IonWaveImport[[#This Row],[Column3]]","v":" - "}]
[null,null,null,null,null,"LINE",81,"UnitPrice-NoAlts",{"$f":"_IonWaveImport[[#This Row],[Column4]]","v":0},{"$f":"_IonWaveImport[[#This Row],[Column5]]","v":0},{"$f":"_IonWaveImport[[#This Row],[Column2]]&\" - \"&_IonWaveImport[[#This Row],[Column3]]","v":" - "}]
[null,null,null,null,null,"LINE",82,"UnitPrice-NoAlts",{"$f":"_IonWaveImport[[#This Row],[Column4]]","v":0},{"$f":"_IonWaveImport[[#This Row],[Column5]]","v":0},{"$f":"_IonWaveImport[[#This Row],[Column2]]&\" - \"&_IonWaveImport[[#This Row],[Column3]]","v":" - "}]
[null,null,null,null,null,"LINE",83,"UnitPrice-NoAlts",{"$f":"_IonWaveImport[[#This Row],[Column4]]","v":0},{"$f":"_IonWaveImport[[#This Row],[Column5]]","v":0},{"$f":"_IonWaveImport[[#This Row],[Column2]]&\" - \"&_IonWaveImport[[#This Row],[Column3]]","v":" - "}]
[null,null,null,null,null,"LINE",84,"UnitPrice-NoAlts",{"$f":"_IonWaveImport[[#This Row],[Column4]]","v":0},{"$f":"_IonWaveImport[[#This Row],[Column5]]","v":0},{"$f":"_IonWaveImport[[#This Row],[Column2]]&\" - \"&_IonWaveImport[[#This Row],[Column3]]","v":" - "}]
[null,null,null,null,null,"LINE",85,"UnitPrice-NoAlts",{"$f":"_IonWaveImport[[#This Row],[Column4]]","v":0},{"$f":"_IonWaveImport[[#This Row],[Column5]]","v":0},{"$f":"_IonWaveImport[[#This Row],[Column2]]&\" - \"&_IonWaveImport[[#This Row],[Column3]]","v":" - "}]
[null,null,null,null,null,"LINE",86,"UnitPrice-NoAlts",{"$f":"_IonWaveImport[[#This Row],[Column4]]","v":0},{"$f":"_IonWaveImport[[#This Row],[Column5]]","v":0},{"$f":"_IonWaveImport[[#This Row],[Column2]]&\" - \"&_IonWaveImport[[#This Row],[Column3]]","v":" - "}]
[null,null,null,null,null,"LINE",87,"UnitPrice-NoAlts",{"$f":"_IonWaveImport[[#This Row],[Column4]]","v":0},{"$f":"_IonWaveImport[[#This Row],[Column5]]","v":0},{"$f":"_IonWaveImport[[#This Row],[Column2]]&\" - \"&_IonWaveImport[[#This Row],[Column3]]","v":" - "}]
[null,null,null,null,null,"LINE",88,"UnitPrice-NoAlts",{"$f":"_IonWaveImport[[#This Row],[Column4]]","v":0},{"$f":"_IonWaveImport[[#This Row],[Column5]]","v":0},{"$f":"_IonWaveImport[[#This Row],[Column2]]&\" - \"&_IonWaveImport[[#This Row],[Column3]]","v":" - "}]
[null,null,null,null,null,"LINE",89,"UnitPrice-NoAlts",{"$f":"_IonWaveImport[[#This Row],[Column4]]","v":0},{"$f":"_IonWaveImport[[#This Row],[Column5]]","v":0},{"$f":"_IonWaveImport[[#This Row],[Column2]]&\" - \"&_IonWaveImport[[#This Row],[Column3]]","v":" - "}]
[null,null,null,null,null,"LINE",90,"UnitPrice-NoAlts",{"$f":"_IonWaveImport[[#This Row],[Column4]]","v":0},{"$f":"_IonWaveImport[[#This Row],[Column5]]","v":0},{"$f":"_IonWaveImport[[#This Row],[Column2]]&\" - \"&_IonWaveImport[[#This Row],[Column3]]","v":" - "}]
[null,null,null,null,null,"LINE",91,"UnitPrice-NoAlts",{"$f":"_IonWaveImport[[#This Row],[Column4]]","v":0},{"$f":"_IonWaveImport[[#This Row],[Column5]]","v":0},{"$f":"_IonWaveImport[[#This Row],[Column2]]&\" - \"&_IonWaveImport[[#This Row],[Column3]]","v":" - "}]
[null,null,null,null,null,"LINE",92,"UnitPrice-NoAlts",{"$f":"_IonWaveImport[[#This Row],[Column4]]","v":0},{"$f":"_IonWaveImport[[#This Row],[Column5]]","v":0},{"$f":"_IonWaveImport[[#This Row],[Column2]]&\" - \"&_IonWaveImport[[#This Row],[Column3]]","v":" - "}]
[null,null,null,null,null,"LINE",93,"UnitPrice-NoAlts",{"$f":"_IonWaveImport[[#This Row],[Column4]]","v":0},{"$f":"_IonWaveImport[[#This Row],[Column5]]","v":0},{"$f":"_IonWaveImport[[#This Row],[Column2]]&\" - \"&_IonWaveImport[[#This Row],[Column3]]","v":" - "}]
[null,null,null,null,null,"LINE",94,"UnitPrice-NoAlts",{"$f":"_IonWaveImport[[#This Row],[Column4]]","v":0},{"$f":"_IonWaveImport[[#This Row],[Column5]]","v":0},{"$f":"_IonWaveImport[[#This Row],[Column2]]&\" - \"&_IonWaveImport[[#This Row],[Column3]]","v":" - "}]
[null,null,null,null,null,"LINE",95,"UnitPrice-NoAlts",{"$f":"_IonWaveImport[[#This Row],[Column4]]","v":0},{"$f":"_IonWaveImport[[#This Row],[Column5]]","v":0},{"$f":"_IonWaveImport[[#This Row],[Column2]]&\" - \"&_IonWaveImport[[#This Row],[Column3]]","v":" - "}]
[null,null,null,null,null,"LINE",96,"UnitPrice-NoAlts",{"$f":"_IonWaveImport[[#This Row],[Column4]]","v":0},{"$f":"_IonWaveImport[[#This Row],[Column5]]","v":0},{"$f":"_IonWaveImport[[#This Row],[Column2]]&\" - \"&_IonWaveImport[[#This Row],[Column3]]","v":" - "}]
[null,null,null,null,null,"LINE",97,"UnitPrice-NoAlts",{"$f":"_IonWaveImport[[#This Row],[Column4]]","v":0},{"$f":"_IonWaveImport[[#This Row],[Column5]]","v":0},{"$f":"_IonWaveImport[[#This Row],[Column2]]&\" - \"&_IonWaveImport[[#This Row],[Column3]]","v":" - "}]
[null,null,null,null,null,"LINE",98,"UnitPrice-NoAlts",{"$f":"_IonWaveImport[[#This Row],[Column4]]","v":0},{"$f":"_IonWaveImport[[#This Row],[Column5]]","v":0},{"$f":"_IonWaveImport[[#This Row],[Column2]]&\" - \"&_IonWaveImport[[#This Row],[Column3]]","v":" - "}]
[null,null,null,null,null,"LINE",99,"UnitPrice-NoAlts",{"$f":"_IonWaveImport[[#This Row],[Column4]]","v":0},{"$f":"_IonWaveImport[[#This Row],[Column5]]","v":0},{"$f":"_IonWaveImport[[#This Row],[Column2]]&\" - \"&_IonWaveImport[[#This Row],[Column3]]","v":" - "}]
[null,null,null,null,null,"LINE",100,"UnitPrice-NoAlts",{"$f":"_IonWaveImport[[#This Row],[Column4]]","v":0},{"$f":"_IonWaveImport[[#This Row],[Column5]]","v":0},{"$f":"_IonWaveImport[[#This Row],[Column2]]&\" - \"&_IonWaveImport[[#This Row],[Column3]]","v":" - "}]
[null,null,null,null,null,"LINE",101,"UnitPrice-NoAlts",{"$f":"_IonWaveImport[[#This Row],[Column4]]","v":0},{"$f":"_IonWaveImport[[#This Row],[Column5]]","v":0},{"$f":"_IonWaveImport[[#This Row],[Column2]]&\" - \"&_IonWaveImport[[#This Row],[Column3]]","v":" - "}]
[null,null,null,null,null,"LINE",102,"UnitPrice-NoAlts",{"$f":"_IonWaveImport[[#This Row],[Column4]]","v":0},{"$f":"_IonWaveImport[[#This Row],[Column5]]","v":0},{"$f":"_IonWaveImport[[#This Row],[Column2]]&\" - \"&_IonWaveImport[[#This Row],[Column3]]","v":" - "}]
[null,null,null,null,null,"LINE",103,"UnitPrice-NoAlts",{"$f":"_IonWaveImport[[#This Row],[Column4]]","v":0},{"$f":"_IonWaveImport[[#This Row],[Column5]]","v":0},{"$f":"_IonWaveImport[[#This Row],[Column2]]&\" - \"&_IonWaveImport[[#This Row],[Column3]]","v":" - "}]
[null,null,null,null,null,"LINE",104,"UnitPrice-NoAlts",{"$f":"_IonWaveImport[[#This Row],[Column4]]","v":0},{"$f":"_IonWaveImport[[#This Row],[Column5]]","v":0},{"$f":"_IonWaveImport[[#This Row],[Column2]]&\" - \"&_IonWaveImport[[#This Row],[Column3]]","v":" - "}]
[null,null,null,null,null,"LINE",105,"UnitPrice-NoAlts",{"$f":"_IonWaveImport[[#This Row],[Column4]]","v":0},{"$f":"_IonWaveImport[[#This Row],[Column5]]","v":0},{"$f":"_IonWaveImport[[#This Row],[Column2]]&\" - \"&_IonWaveImport[[#This Row],[Column3]]","v":" - "}]
[null,null,null,null,null,"LINE",106,"UnitPrice-NoAlts",{"$f":"_IonWaveImport[[#This Row],[Column4]]","v":0},{"$f":"_IonWaveImport[[#This Row],[Column5]]","v":0},{"$f":"_IonWaveImport[[#This Row],[Column2]]&\" - \"&_IonWaveImport[[#This Row],[Column3]]","v":" - "}]
[null,null,null,null,null,"LINE",107,"UnitPrice-NoAlts",{"$f":"_IonWaveImport[[#This Row],[Column4]]","v":0},{"$f":"_IonWaveImport[[#This Row],[Column5]]","v":0},{"$f":"_IonWaveImport[[#This Row],[Column2]]&\" - \"&_IonWaveImport[[#This Row],[Column3]]","v":" - "}]
[null,null,null,null,null,"LINE",108,"UnitPrice-NoAlts",{"$f":"_IonWaveImport[[#This Row],[Column4]]","v":0},{"$f":"_IonWaveImport[[#This Row],[Column5]]","v":0},{"$f":"_IonWaveImport[[#This Row],[Column2]]&\" - \"&_IonWaveImport[[#This Row],[Column3]]","v":" - "}]
[null,null,null,null,null,"LINE",109,"UnitPrice-NoAlts",{"$f":"_IonWaveImport[[#This Row],[Column4]]","v":0},{"$f":"_IonWaveImport[[#This Row],[Column5]]","v":0},{"$f":"_IonWaveImport[[#This Row],[Column2]]&\" - \"&_IonWaveImport[[#This Row],[Column3]]","v":" - "}]
[null,null,null,null,null,"LINE",110,"UnitPrice-NoAlts",{"$f":"_IonWaveImport[[#This Row],[Column4]]","v":0},{"$f":"_IonWaveImport[[#This Row],[Column5]]","v":0},{"$f":"_IonWaveImport[[#This Row],[Column2]]&\" - \"&_IonWaveImport[[#This Row],[Column3]]","v":" - "}]
[null,null,null,null,null,"LINE",111,"UnitPrice-NoAlts",{"$f":"_IonWaveImport[[#This Row],[Column4]]","v":0},{"$f":"_IonWaveImport[[#This Row],[Column5]]","v":0},{"$f":"_IonWaveImport[[#This Row],[Column2]]&\" - \"&_IonWaveImport[[#This Row],[Column3]]","v":" - "}]
[null,null,null,null,null,"LINE",112,"UnitPrice-NoAlts",{"$f":"_IonWaveImport[[#This Row],[Column4]]","v":0},{"$f":"_IonWaveImport[[#This Row],[Column5]]","v":0},{"$f":"_IonWaveImport[[#This Row],[Column2]]&\" - \"&_IonWaveImport[[#This Row],[Column3]]","v":" - "}]
[null,null,null,null,null,"LINE",113,"UnitPrice-NoAlts",{"$f":"_IonWaveImport[[#This Row],[Column4]]","v":0},{"$f":"_IonWaveImport[[#This Row],[Column5]]","v":0},{"$f":"_IonWaveImport[[#This Row],[Column2]]&\" - \"&_IonWaveImport[[#This Row],[Column3]]","v":" - "}]
[null,null,null,null,null,"LINE",114,"UnitPrice-NoAlts",{"$f":"_IonWaveImport[[#This Row],[Column4]]","v":0},{"$f":"_IonWaveImport[[#This Row],[Column5]]","v":0},{"$f":"_IonWaveImport[[#This Row],[Column2]]&\" - \"&_IonWaveImport[[#This Row],[Column3]]","v":" - "}]
[null,null,null,null,null,"LINE",115,"UnitPrice-NoAlts",{"$f":"_IonWaveImport[[#This Row],[Column4]]","v":0},{"$f":"_IonWaveImport[[#This Row],[Column5]]","v":0},{"$f":"_IonWaveImport[[#This Row],[Column2]]&\" - \"&_IonWaveImport[[#This Row],[Column3]]","v":" - "}]
[null,null,null,null,null,"LINE",116,"UnitPrice-NoAlts",{"$f":"_IonWaveImport[[#This Row],[Column4]]","v":0},{"$f":"_IonWaveImport[[#This Row],[Column5]]","v":0},{"$f":"_IonWaveImport[[#This Row],[Column2]]&\" - \"&_IonWaveImport[[#This Row],[Column3]]","v":" - "}]
[null,null,null,null,null,"LINE",117,"UnitPrice-NoAlts",{"$f":"_IonWaveImport[[#This Row],[Column4]]","v":0},{"$f":"_IonWaveImport[[#This Row],[Column5]]","v":0},{"$f":"_IonWaveImport[[#This Row],[Column2]]&\" - \"&_IonWaveImport[[#This Row],[Column3]]","v":" - "}]
[null,null,null,null,null,"LINE",118,"UnitPrice-NoAlts",{"$f":"_IonWaveImport[[#This Row],[Column4]]","v":0},{"$f":"_IonWaveImport[[#This Row],[Column5]]","v":0},{"$f":"_IonWaveImport[[#This Row],[Column2]]&\" - \"&_IonWaveImport[[#This Row],[Column3]]","v":" - "}]
[null,null,null,null,null,"LINE",119,"UnitPrice-NoAlts",{"$f":"_IonWaveImport[[#This Row],[Column4]]","v":0},{"$f":"_IonWaveImport[[#This Row],[Column5]]","v":0},{"$f":"_IonWaveImport[[#This Row],[Column2]]&\" - \"&_IonWaveImport[[#This Row],[Column3]]","v":" - "}]
[null,null,null,null,null,"LINE",120,"UnitPrice-NoAlts",{"$f":"_IonWaveImport[[#This Row],[Column4]]","v":0},{"$f":"_IonWaveImport[[#This Row],[Column5]]","v":0},{"$f":"_IonWaveImport[[#This Row],[Column2]]&\" - \"&_IonWaveImport[[#This Row],[Column3]]","v":" - "}]
[null,null,null,null,null,"LINE",121,"UnitPrice-NoAlts",{"$f":"_IonWaveImport[[#This Row],[Column4]]","v":0},{"$f":"_IonWaveImport[[#This Row],[Column5]]","v":0},{"$f":"_IonWaveImport[[#This Row],[Column2]]&\" - \"&_IonWaveImport[[#This Row],[Column3]]","v":" - "}]
[null,null,null,null,null,"LINE",122,"UnitPrice-NoAlts",{"$f":"_IonWaveImport[[#This Row],[Column4]]","v":0},{"$f":"_IonWaveImport[[#This Row],[Column5]]","v":0},{"$f":"_IonWaveImport[[#This Row],[Column2]]&\" - \"&_IonWaveImport[[#This Row],[Column3]]","v":" - "}]
[null,null,null,null,null,"LINE",123,"UnitPrice-NoAlts",{"$f":"_IonWaveImport[[#This Row],[Column4]]","v":0},{"$f":"_IonWaveImport[[#This Row],[Column5]]","v":0},{"$f":"_IonWaveImport[[#This Row],[Column2]]&\" - \"&_IonWaveImport[[#This Row],[Column3]]","v":" - "}]
[null,null,null,null,null,"LINE",124,"UnitPrice-NoAlts",{"$f":"_IonWaveImport[[#This Row],[Column4]]","v":0},{"$f":"_IonWaveImport[[#This Row],[Column5]]","v":0},{"$f":"_IonWaveImport[[#This Row],[Column2]]&\" - \"&_IonWaveImport[[#This Row],[Column3]]","v":" - "}]
[null,null,null,null,null,"LINE",125,"UnitPrice-NoAlts",{"$f":"_IonWaveImport[[#This Row],[Column4]]","v":0},{"$f":"_IonWaveImport[[#This Row],[Column5]]","v":0},{"$f":"_IonWaveImport[[#This Row],[Column2]]&\" - \"&_IonWaveImport[[#This Row],[Column3]]","v":" - "}]
[null,null,null,null,null,"LINE",126,"UnitPrice-NoAlts",{"$f":"_IonWaveImport[[#This Row],[Column4]]","v":0},{"$f":"_IonWaveImport[[#This Row],[Column5]]","v":0},{"$f":"_IonWaveImport[[#This Row],[Column2]]&\" - \"&_IonWaveImport[[#This Row],[Column3]]","v":" - "}]
[null,null,null,null,null,"LINE",127,"UnitPrice-NoAlts",{"$f":"_IonWaveImport[[#This Row],[Column4]]","v":0},{"$f":"_IonWaveImport[[#This Row],[Column5]]","v":0},{"$f":"_IonWaveImport[[#This Row],[Column2]]&\" - \"&_IonWaveImport[[#This Row],[Column3]]","v":" - "}]
[null,null,null,null,null,"LINE",128,"UnitPrice-NoAlts",{"$f":"_IonWaveImport[[#This Row],[Column4]]","v":0},{"$f":"_IonWaveImport[[#This Row],[Column5]]","v":0},{"$f":"_IonWaveImport[[#This Row],[Column2]]&\" - \"&_IonWaveImport[[#This Row],[Column3]]","v":" - "}]
[null,null,null,null,null,"LINE",129,"UnitPrice-NoAlts",{"$f":"_IonWaveImport[[#This Row],[Column4]]","v":0},{"$f":"_IonWaveImport[[#This Row],[Column5]]","v":0},{"$f":"_IonWaveImport[[#This Row],[Column2]]&\" - \"&_IonWaveImport[[#This Row],[Column3]]","v":" - "}]
[null,null,null,null,null,"LINE",130,"UnitPrice-NoAlts",{"$f":"_IonWaveImport[[#This Row],[Column4]]","v":0},{"$f":"_IonWaveImport[[#This Row],[Column5]]","v":0},{"$f":"_IonWaveImport[[#This Row],[Column2]]&\" - \"&_IonWaveImport[[#This Row],[Column3]]","v":" - "}]
[null,null,null,null,null,"LINE",131,"UnitPrice-NoAlts",{"$f":"_IonWaveImport[[#This Row],[Column4]]","v":0},{"$f":"_IonWaveImport[[#This Row],[Column5]]","v":0},{"$f":"_IonWaveImport[[#This Row],[Column2]]&\" - \"&_IonWaveImport[[#This Row],[Column3]]","v":" - "}]
[null,null,null,null,null,"LINE",132,"UnitPrice-NoAlts",{"$f":"_IonWaveImport[[#This Row],[Column4]]","v":0},{"$f":"_IonWaveImport[[#This Row],[Column5]]","v":0},{"$f":"_IonWaveImport[[#This Row],[Column2]]&\" - \"&_IonWaveImport[[#This Row],[Column3]]","v":" - "}]
[null,null,null,null,null,"LINE",133,"UnitPrice-NoAlts",{"$f":"_IonWaveImport[[#This Row],[Column4]]","v":0},{"$f":"_IonWaveImport[[#This Row],[Column5]]","v":0},{"$f":"_IonWaveImport[[#This Row],[Column2]]&\" - \"&_IonWaveImport[[#This Row],[Column3]]","v":" - "}]
[null,null,null,null,null,"LINE",134,"UnitPrice-NoAlts",{"$f":"_IonWaveImport[[#This Row],[Column4]]","v":0},{"$f":"_IonWaveImport[[#This Row],[Column5]]","v":0},{"$f":"_IonWaveImport[[#This Row],[Column2]]&\" - \"&_IonWaveImport[[#This Row],[Column3]]","v":" - "}]
[null,null,null,null,null,"LINE",135,"UnitPrice-NoAlts",{"$f":"_IonWaveImport[[#This Row],[Column4]]","v":0},{"$f":"_IonWaveImport[[#This Row],[Column5]]","v":0},{"$f":"_IonWaveImport[[#This Row],[Column2]]&\" - \"&_IonWaveImport[[#This Row],[Column3]]","v":" - "}]
[null,null,null,null,null,"LINE",136,"UnitPrice-NoAlts",{"$f":"_IonWaveImport[[#This Row],[Column4]]","v":0},{"$f":"_IonWaveImport[[#This Row],[Column5]]","v":0},{"$f":"_IonWaveImport[[#This Row],[Column2]]&\" - \"&_IonWaveImport[[#This Row],[Column3]]","v":" - "}]
[null,null,null,null,null,"LINE",137,"UnitPrice-NoAlts",{"$f":"_IonWaveImport[[#This Row],[Column4]]","v":0},{"$f":"_IonWaveImport[[#This Row],[Column5]]","v":0},{"$f":"_IonWaveImport[[#This Row],[Column2]]&\" - \"&_IonWaveImport[[#This Row],[Column3]]","v":" - "}]
[null,null,null,null,null,"LINE",138,"UnitPrice-NoAlts",{"$f":"_IonWaveImport[[#This Row],[Column4]]","v":0},{"$f":"_IonWaveImport[[#This Row],[Column5]]","v":0},{"$f":"_IonWaveImport[[#This Row],[Column2]]&\" - \"&_IonWaveImport[[#This Row],[Column3]]","v":" - "}]
[null,null,null,null,null,"LINE",139,"UnitPrice-NoAlts",{"$f":"_IonWaveImport[[#This Row],[Column4]]","v":0},{"$f":"_IonWaveImport[[#This Row],[Column5]]","v":0},{"$f":"_IonWaveImport[[#This Row],[Column2]]&\" - \"&_IonWaveImport[[#This Row],[Column3]]","v":" - "}]
[null,null,null,null,null,"LINE",140,"UnitPrice-NoAlts",{"$f":"_IonWaveImport[[#This Row],[Column4]]","v":0},{"$f":"_IonWaveImport[[#This Row],[Column5]]","v":0},{"$f":"_IonWaveImport[[#This Row],[Column2]]&\" - \"&_IonWaveImport[[#This Row],[Column3]]","v":" - "}]
[null,null,null,null,null,"LINE",141,"UnitPrice-NoAlts",{"$f":"_IonWaveImport[[#This Row],[Column4]]","v":0},{"$f":"_IonWaveImport[[#This Row],[Column5]]","v":0},{"$f":"_IonWaveImport[[#This Row],[Column2]]&\" - \"&_IonWaveImport[[#This Row],[Column3]]","v":" - "}]
[null,null,null,null,null,"LINE",142,"UnitPrice-NoAlts",{"$f":"_IonWaveImport[[#This Row],[Column4]]","v":0},{"$f":"_IonWaveImport[[#This Row],[Column5]]","v":0},{"$f":"_IonWaveImport[[#This Row],[Column2]]&\" - \"&_IonWaveImport[[#This Row],[Column3]]","v":" - "}]
[null,null,null,null,null,"LINE",143,"UnitPrice-NoAlts",{"$f":"_IonWaveImport[[#This Row],[Column4]]","v":0},{"$f":"_IonWaveImport[[#This Row],[Column5]]","v":0},{"$f":"_IonWaveImport[[#This Row],[Column2]]&\" - \"&_IonWaveImport[[#This Row],[Column3]]","v":" - "}]
[null,null,null,null,null,"LINE",144,"UnitPrice-NoAlts",{"$f":"_IonWaveImport[[#This Row],[Column4]]","v":0},{"$f":"_IonWaveImport[[#This Row],[Column5]]","v":0},{"$f":"_IonWaveImport[[#This Row],[Column2]]&\" - \"&_IonWaveImport[[#This Row],[Column3]]","v":" - "}]
[null,null,null,null,null,"LINE",145,"UnitPrice-NoAlts",{"$f":"_IonWaveImport[[#This Row],[Column4]]","v":0},{"$f":"_IonWaveImport[[#This Row],[Column5]]","v":0},{"$f":"_IonWaveImport[[#This Row],[Column2]]&\" - \"&_IonWaveImport[[#This Row],[Column3]]","v":" - "}]
[null,null,null,null,null,"LINE",146,"UnitPrice-NoAlts",{"$f":"_IonWaveImport[[#This Row],[Column4]]","v":0},{"$f":"_IonWaveImport[[#This Row],[Column5]]","v":0},{"$f":"_IonWaveImport[[#This Row],[Column2]]&\" - \"&_IonWaveImport[[#This Row],[Column3]]","v":" - "}]
[null,null,null,null,null,"LINE",147,"UnitPrice-NoAlts",{"$f":"_IonWaveImport[[#This Row],[Column4]]","v":0},{"$f":"_IonWaveImport[[#This Row],[Column5]]","v":0},{"$f":"_IonWaveImport[[#This Row],[Column2]]&\" - \"&_IonWaveImport[[#This Row],[Column3]]","v":" - "}]
[null,null,null,null,null,"LINE",148,"UnitPrice-NoAlts",{"$f":"_IonWaveImport[[#This Row],[Column4]]","v":0},{"$f":"_IonWaveImport[[#This Row],[Column5]]","v":0},{"$f":"_IonWaveImport[[#This Row],[Column2]]&\" - \"&_IonWaveImport[[#This Row],[Column3]]","v":" - "}]
[null,null,null,null,null,"LINE",149,"UnitPrice-NoAlts",{"$f":"_IonWaveImport[[#This Row],[Column4]]","v":0},{"$f":"_IonWaveImport[[#This Row],[Column5]]","v":0},{"$f":"_IonWaveImport[[#This Row],[Column2]]&\" - \"&_IonWaveImport[[#This Row],[Column3]]","v":" - "}]
[null,null,null,null,null,"LINE",150,"UnitPrice-NoAlts",{"$f":"_IonWaveImport[[#This Row],[Column4]]","v":0},{"$f":"_IonWaveImport[[#This Row],[Column5]]","v":0},{"$f":"_IonWaveImport[[#This Row],[Column2]]&\" - \"&_IonWaveImport[[#This Row],[Column3]]","v":" - "}]
[null,null,null,null,null,"LINE",151,"UnitPrice-NoAlts",{"$f":"_IonWaveImport[[#This Row],[Column4]]","v":0},{"$f":"_IonWaveImport[[#This Row],[Column5]]","v":0},{"$f":"_IonWaveImport[[#This Row],[Column2]]&\" - \"&_IonWaveImport[[#This Row],[Column3]]","v":" - "}]
[null,null,null,null,null,"LINE",152,"UnitPrice-NoAlts",{"$f":"_IonWaveImport[[#This Row],[Column4]]","v":0},{"$f":"_IonWaveImport[[#This Row],[Column5]]","v":0},{"$f":"_IonWaveImport[[#This Row],[Column2]]&\" - \"&_IonWaveImport[[#This Row],[Column3]]","v":" - "}]
[null,null,null,null,null,"LINE",153,"UnitPrice-NoAlts",{"$f":"_IonWaveImport[[#This Row],[Column4]]","v":0},{"$f":"_IonWaveImport[[#This Row],[Column5]]","v":0},{"$f":"_IonWaveImport[[#This Row],[Column2]]&\" - \"&_IonWaveImport[[#This Row],[Column3]]","v":" - "}]
[null,null,null,null,null,"LINE",154,"UnitPrice-NoAlts",{"$f":"_IonWaveImport[[#This Row],[Column4]]","v":0},{"$f":"_IonWaveImport[[#This Row],[Column5]]","v":0},{"$f":"_IonWaveImport[[#This Row],[Column2]]&\" - \"&_IonWaveImport[[#This Row],[Column3]]","v":" - "}]
[null,null,null,null,null,"LINE",155,"UnitPrice-NoAlts",{"$f":"_IonWaveImport[[#This Row],[Column4]]","v":0},{"$f":"_IonWaveImport[[#This Row],[Column5]]","v":0},{"$f":"_IonWaveImport[[#This Row],[Column2]]&\" - \"&_IonWaveImport[[#This Row],[Column3]]","v":" - "}]
[null,null,null,null,null,"LINE",156,"UnitPrice-NoAlts",{"$f":"_IonWaveImport[[#This Row],[Column4]]","v":0},{"$f":"_IonWaveImport[[#This Row],[Column5]]","v":0},{"$f":"_IonWaveImport[[#This Row],[Column2]]&\" - \"&_IonWaveImport[[#This Row],[Column3]]","v":" - "}]
[null,null,null,null,null,"LINE",157,"UnitPrice-NoAlts",{"$f":"_IonWaveImport[[#This Row],[Column4]]","v":0},{"$f":"_IonWaveImport[[#This Row],[Column5]]","v":0},{"$f":"_IonWaveImport[[#This Row],[Column2]]&\" - \"&_IonWaveImport[[#This Row],[Column3]]","v":" - "}]
[null,null,null,null,null,"LINE",158,"UnitPrice-NoAlts",{"$f":"_IonWaveImport[[#This Row],[Column4]]","v":0},{"$f":"_IonWaveImport[[#This Row],[Column5]]","v":0},{"$f":"_IonWaveImport[[#This Row],[Column2]]&\" - \"&_IonWaveImport[[#This Row],[Column3]]","v":" - "}]
[null,null,null,null,null,"LINE",159,"UnitPrice-NoAlts",{"$f":"_IonWaveImport[[#This Row],[Column4]]","v":0},{"$f":"_IonWaveImport[[#This Row],[Column5]]","v":0},{"$f":"_IonWaveImport[[#This Row],[Column2]]&\" - \"&_IonWaveImport[[#This Row],[Column3]]","v":" - "}]
[null,null,null,null,null,"LINE",160,"UnitPrice-NoAlts",{"$f":"_IonWaveImport[[#This Row],[Column4]]","v":0},{"$f":"_IonWaveImport[[#This Row],[Column5]]","v":0},{"$f":"_IonWaveImport[[#This Row],[Column2]]&\" - \"&_IonWaveImport[[#This Row],[Column3]]","v":" - "}]
[null,null,null,null,null,"LINE",161,"UnitPrice-NoAlts",{"$f":"_IonWaveImport[[#This Row],[Column4]]","v":0},{"$f":"_IonWaveImport[[#This Row],[Column5]]","v":0},{"$f":"_IonWaveImport[[#This Row],[Column2]]&\" - \"&_IonWaveImport[[#This Row],[Column3]]","v":" - "}]
[null,null,null,null,null,"LINE",162,"UnitPrice-NoAlts",{"$f":"_IonWaveImport[[#This Row],[Column4]]","v":0},{"$f":"_IonWaveImport[[#This Row],[Column5]]","v":0},{"$f":"_IonWaveImport[[#This Row],[Column2]]&\" - \"&_IonWaveImport[[#This Row],[Column3]]","v":" - "}]
[null,null,null,null,null,"LINE",163,"UnitPrice-NoAlts",{"$f":"_IonWaveImport[[#This Row],[Column4]]","v":0},{"$f":"_IonWaveImport[[#This Row],[Column5]]","v":0},{"$f":"_IonWaveImport[[#This Row],[Column2]]&\" - \"&_IonWaveImport[[#This Row],[Column3]]","v":" - "}]
[null,null,null,null,null,"LINE",164,"UnitPrice-NoAlts",{"$f":"_IonWaveImport[[#This Row],[Column4]]","v":0},{"$f":"_IonWaveImport[[#This Row],[Column5]]","v":0},{"$f":"_IonWaveImport[[#This Row],[Column2]]&\" - \"&_IonWaveImport[[#This Row],[Column3]]","v":" - "}]
[null,null,null,null,null,"LINE",165,"UnitPrice-NoAlts",{"$f":"_IonWaveImport[[#This Row],[Column4]]","v":0},{"$f":"_IonWaveImport[[#This Row],[Column5]]","v":0},{"$f":"_IonWaveImport[[#This Row],[Column2]]&\" - \"&_IonWaveImport[[#This Row],[Column3]]","v":" - "}]
[null,null,null,null,null,"LINE",166,"UnitPrice-NoAlts",{"$f":"_IonWaveImport[[#This Row],[Column4]]","v":0},{"$f":"_IonWaveImport[[#This Row],[Column5]]","v":0},{"$f":"_IonWaveImport[[#This Row],[Column2]]&\" - \"&_IonWaveImport[[#This Row],[Column3]]","v":" - "}]
[null,null,null,null,null,"LINE",167,"UnitPrice-NoAlts",{"$f":"_IonWaveImport[[#This Row],[Column4]]","v":0},{"$f":"_IonWaveImport[[#This Row],[Column5]]","v":0},{"$f":"_IonWaveImport[[#This Row],[Column2]]&\" - \"&_IonWaveImport[[#This Row],[Column3]]","v":" - "}]
[null,null,null,null,null,"LINE",168,"UnitPrice-NoAlts",{"$f":"_IonWaveImport[[#This Row],[Column4]]","v":0},{"$f":"_IonWaveImport[[#This Row],[Column5]]","v":0},{"$f":"_IonWaveImport[[#This Row],[Column2]]&\" - \"&_IonWaveImport[[#This Row],[Column3]]","v":" - "}]
[null,null,null,null,null,"LINE",169,"UnitPrice-NoAlts",{"$f":"_IonWaveImport[[#This Row],[Column4]]","v":0},{"$f":"_IonWaveImport[[#This Row],[Column5]]","v":0},{"$f":"_IonWaveImport[[#This Row],[Column2]]&\" - \"&_IonWaveImport[[#This Row],[Column3]]","v":" - "}]
[null,null,null,null,null,"LINE",170,"UnitPrice-NoAlts",{"$f":"_IonWaveImport[[#This Row],[Column4]]","v":0},{"$f":"_IonWaveImport[[#This Row],[Column5]]","v":0},{"$f":"_IonWaveImport[[#This Row],[Column2]]&\" - \"&_IonWaveImport[[#This Row],[Column3]]","v":" - "}]
[null,null,null,null,null,"LINE",171,"UnitPrice-NoAlts",{"$f":"_IonWaveImport[[#This Row],[Column4]]","v":0},{"$f":"_IonWaveImport[[#This Row],[Column5]]","v":0},{"$f":"_IonWaveImport[[#This Row],[Column2]]&\" - \"&_IonWaveImport[[#This Row],[Column3]]","v":" - "}]
[null,null,null,null,null,"LINE",172,"UnitPrice-NoAlts",{"$f":"_IonWaveImport[[#This Row],[Column4]]","v":0},{"$f":"_IonWaveImport[[#This Row],[Column5]]","v":0},{"$f":"_IonWaveImport[[#This Row],[Column2]]&\" - \"&_IonWaveImport[[#This Row],[Column3]]","v":" - "}]
[null,null,null,null,null,"LINE",173,"UnitPrice-NoAlts",{"$f":"_IonWaveImport[[#This Row],[Column4]]","v":0},{"$f":"_IonWaveImport[[#This Row],[Column5]]","v":0},{"$f":"_IonWaveImport[[#This Row],[Column2]]&\" - \"&_IonWaveImport[[#This Row],[Column3]]","v":" - "}]
[null,null,null,null,null,"LINE",174,"UnitPrice-NoAlts",{"$f":"_IonWaveImport[[#This Row],[Column4]]","v":0},{"$f":"_IonWaveImport[[#This Row],[Column5]]","v":0},{"$f":"_IonWaveImport[[#This Row],[Column2]]&\" - \"&_IonWaveImport[[#This Row],[Column3]]","v":" - "}]
[null,null,null,null,null,"LINE",175,"UnitPrice-NoAlts",{"$f":"_IonWaveImport[[#This Row],[Column4]]","v":0},{"$f":"_IonWaveImport[[#This Row],[Column5]]","v":0},{"$f":"_IonWaveImport[[#This Row],[Column2]]&\" - \"&_IonWaveImport[[#This Row],[Column3]]","v":" - "}]
[null,null,null,null,null,"LINE",176,"UnitPrice-NoAlts",{"$f":"_IonWaveImport[[#This Row],[Column4]]","v":0},{"$f":"_IonWaveImport[[#This Row],[Column5]]","v":0},{"$f":"_IonWaveImport[[#This Row],[Column2]]&\" - \"&_IonWaveImport[[#This Row],[Column3]]","v":" - "}]
[null,null,null,null,null,"LINE",177,"UnitPrice-NoAlts",{"$f":"_IonWaveImport[[#This Row],[Column4]]","v":0},{"$f":"_IonWaveImport[[#This Row],[Column5]]","v":0},{"$f":"_IonWaveImport[[#This Row],[Column2]]&\" - \"&_IonWaveImport[[#This Row],[Column3]]","v":" - "}]
[null,null,null,null,null,"LINE",178,"UnitPrice-NoAlts",{"$f":"_IonWaveImport[[#This Row],[Column4]]","v":0},{"$f":"_IonWaveImport[[#This Row],[Column5]]","v":0},{"$f":"_IonWaveImport[[#This Row],[Column2]]&\" - \"&_IonWaveImport[[#This Row],[Column3]]","v":" - "}]
[null,null,null,null,null,"LINE",179,"UnitPrice-NoAlts",{"$f":"_IonWaveImport[[#This Row],[Column4]]","v":0},{"$f":"_IonWaveImport[[#This Row],[Column5]]","v":0},{"$f":"_IonWaveImport[[#This Row],[Column2]]&\" - \"&_IonWaveImport[[#This Row],[Column3]]","v":" - "}]
[null,null,null,null,null,"LINE",180,"UnitPrice-NoAlts",{"$f":"_IonWaveImport[[#This Row],[Column4]]","v":0},{"$f":"_IonWaveImport[[#This Row],[Column5]]","v":0},{"$f":"_IonWaveImport[[#This Row],[Column2]]&\" - \"&_IonWaveImport[[#This Row],[Column3]]","v":" - "}]
[null,null,null,null,null,"LINE",181,"UnitPrice-NoAlts",{"$f":"_IonWaveImport[[#This Row],[Column4]]","v":0},{"$f":"_IonWaveImport[[#This Row],[Column5]]","v":0},{"$f":"_IonWaveImport[[#This Row],[Column2]]&\" - \"&_IonWaveImport[[#This Row],[Column3]]","v":" - "}]
[null,null,null,null,null,"LINE",182,"UnitPrice-NoAlts",{"$f":"_IonWaveImport[[#This Row],[Column4]]","v":0},{"$f":"_IonWaveImport[[#This Row],[Column5]]","v":0},{"$f":"_IonWaveImport[[#This Row],[Column2]]&\" - \"&_IonWaveImport[[#This Row],[Column3]]","v":" - "}]
[null,null,null,null,null,"LINE",183,"UnitPrice-NoAlts",{"$f":"_IonWaveImport[[#This Row],[Column4]]","v":0},{"$f":"_IonWaveImport[[#This Row],[Column5]]","v":0},{"$f":"_IonWaveImport[[#This Row],[Column2]]&\" - \"&_IonWaveImport[[#This Row],[Column3]]","v":" - "}]
[null,null,null,null,null,"LINE",184,"UnitPrice-NoAlts",{"$f":"_IonWaveImport[[#This Row],[Column4]]","v":0},{"$f":"_IonWaveImport[[#This Row],[Column5]]","v":0},{"$f":"_IonWaveImport[[#This Row],[Column2]]&\" - \"&_IonWaveImport[[#This Row],[Column3]]","v":" - "}]
[null,null,null,null,null,"LINE",185,"UnitPrice-NoAlts",{"$f":"_IonWaveImport[[#This Row],[Column4]]","v":0},{"$f":"_IonWaveImport[[#This Row],[Column5]]","v":0},{"$f":"_IonWaveImport[[#This Row],[Column2]]&\" - \"&_IonWaveImport[[#This Row],[Column3]]","v":" - "}]
[null,null,null,null,null,"LINE",186,"UnitPrice-NoAlts",{"$f":"_IonWaveImport[[#This Row],[Column4]]","v":0},{"$f":"_IonWaveImport[[#This Row],[Column5]]","v":0},{"$f":"_IonWaveImport[[#This Row],[Column2]]&\" - \"&_IonWaveImport[[#This Row],[Column3]]","v":" - "}]
[null,null,null,null,null,"LINE",187,"UnitPrice-NoAlts",{"$f":"_IonWaveImport[[#This Row],[Column4]]","v":0},{"$f":"_IonWaveImport[[#This Row],[Column5]]","v":0},{"$f":"_IonWaveImport[[#This Row],[Column2]]&\" - \"&_IonWaveImport[[#This Row],[Column3]]","v":" - "}]
[null,null,null,null,null,"LINE",188,"UnitPrice-NoAlts",{"$f":"_IonWaveImport[[#This Row],[Column4]]","v":0},{"$f":"_IonWaveImport[[#This Row],[Column5]]","v":0},{"$f":"_IonWaveImport[[#This Row],[Column2]]&\" - \"&_IonWaveImport[[#This Row],[Column3]]","v":" - "}]
[null,null,null,null,null,"LINE",189,"UnitPrice-NoAlts",{"$f":"_IonWaveImport[[#This Row],[Column4]]","v":0},{"$f":"_IonWaveImport[[#This Row],[Column5]]","v":0},{"$f":"_IonWaveImport[[#This Row],[Column2]]&\" - \"&_IonWaveImport[[#This Row],[Column3]]","v":" - "}]
[null,null,null,null,null,"LINE",190,"UnitPrice-NoAlts",{"$f":"_IonWaveImport[[#This Row],[Column4]]","v":0},{"$f":"_IonWaveImport[[#This Row],[Column5]]","v":0},{"$f":"_IonWaveImport[[#This Row],[Column2]]&\" - \"&_IonWaveImport[[#This Row],[Column3]]","v":" - "}]
[null,null,null,null,null,"LINE",191,"UnitPrice-NoAlts",{"$f":"_IonWaveImport[[#This Row],[Column4]]","v":0},{"$f":"_IonWaveImport[[#This Row],[Column5]]","v":0},{"$f":"_IonWaveImport[[#This Row],[Column2]]&\" - \"&_IonWaveImport[[#This Row],[Column3]]","v":" - "}]
[null,null,null,null,null,"LINE",192,"UnitPrice-NoAlts",{"$f":"_IonWaveImport[[#This Row],[Column4]]","v":0},{"$f":"_IonWaveImport[[#This Row],[Column5]]","v":0},{"$f":"_IonWaveImport[[#This Row],[Column2]]&\" - \"&_IonWaveImport[[#This Row],[Column3]]","v":" - "}]
[null,null,null,null,null,"LINE",193,"UnitPrice-NoAlts",{"$f":"_IonWaveImport[[#This Row],[Column4]]","v":0},{"$f":"_IonWaveImport[[#This Row],[Column5]]","v":0},{"$f":"_IonWaveImport[[#This Row],[Column2]]&\" - \"&_IonWaveImport[[#This Row],[Column3]]","v":" - "}]
[null,null,null,null,null,"LINE",194,"UnitPrice-NoAlts",{"$f":"_IonWaveImport[[#This Row],[Column4]]","v":0},{"$f":"_IonWaveImport[[#This Row],[Column5]]","v":0},{"$f":"_IonWaveImport[[#This Row],[Column2]]&\" - \"&_IonWaveImport[[#This Row],[Column3]]","v":" - "}]
[null,null,null,null,null,"LINE",195,"UnitPrice-NoAlts",{"$f":"_IonWaveImport[[#This Row],[Column4]]","v":0},{"$f":"_IonWaveImport[[#This Row],[Column5]]","v":0},{"$f":"_IonWaveImport[[#This Row],[Column2]]&\" - \"&_IonWaveImport[[#This Row],[Column3]]","v":" - "}]
[null,null,null,null,null,"LINE",196,"UnitPrice-NoAlts",{"$f":"_IonWaveImport[[#This Row],[Column4]]","v":0},{"$f":"_IonWaveImport[[#This Row],[Column5]]","v":0},{"$f":"_IonWaveImport[[#This Row],[Column2]]&\" - \"&_IonWaveImport[[#This Row],[Column3]]","v":" - "}]
[null,null,null,null,null,"LINE",197,"UnitPrice-NoAlts",{"$f":"_IonWaveImport[[#This Row],[Column4]]","v":0},{"$f":"_IonWaveImport[[#This Row],[Column5]]","v":0},{"$f":"_IonWaveImport[[#This Row],[Column2]]&\" - \"&_IonWaveImport[[#This Row],[Column3]]","v":" - "}]
[null,null,null,null,null,"LINE",198,"UnitPrice-NoAlts",{"$f":"_IonWaveImport[[#This Row],[Column4]]","v":0},{"$f":"_IonWaveImport[[#This Row],[Column5]]","v":0},{"$f":"_IonWaveImport[[#This Row],[Column2]]&\" - \"&_IonWaveImport[[#This Row],[Column3]]","v":" - "}]
[null,null,null,null,null,"LINE",199,"UnitPrice-NoAlts",{"$f":"_IonWaveImport[[#This Row],[Column4]]","v":0},{"$f":"_IonWaveImport[[#This Row],[Column5]]","v":0},{"$f":"_IonWaveImport[[#This Row],[Column2]]&\" - \"&_IonWaveImport[[#This Row],[Column3]]","v":" - "}]
[null,null,null,null,null,"LINE",200,"UnitPrice-NoAlts",{"$f":"_IonWaveImport[[#This Row],[Column4]]","v":0},{"$f":"_IonWaveImport[[#This Row],[Column5]]","v":0},{"$f":"_IonWaveImport[[#This Row],[Column2]]&\" - \"&_IonWaveImport[[#This Row],[Column3]]","v":" - "}]
[null,null,null,null,null,"LINE",201,"UnitPrice-NoAlts",{"$f":"_IonWaveImport[[#This Row],[Column4]]","v":0},{"$f":"_IonWaveImport[[#This Row],[Column5]]","v":0},{"$f":"_IonWaveImport[[#This Row],[Column2]]&\" - \"&_IonWaveImport[[#This Row],[Column3]]","v":" - "}]
[null,null,null,null,null,"LINE",202,"UnitPrice-NoAlts",{"$f":"_IonWaveImport[[#This Row],[Column4]]","v":0},{"$f":"_IonWaveImport[[#This Row],[Column5]]","v":0},{"$f":"_IonWaveImport[[#This Row],[Column2]]&\" - \"&_IonWaveImport[[#This Row],[Column3]]","v":" - "}]
[null,null,null,null,null,"LINE",203,"UnitPrice-NoAlts",{"$f":"_IonWaveImport[[#This Row],[Column4]]","v":0},{"$f":"_IonWaveImport[[#This Row],[Column5]]","v":0},{"$f":"_IonWaveImport[[#This Row],[Column2]]&\" - \"&_IonWaveImport[[#This Row],[Column3]]","v":" - "}]
[null,null,null,null,null,"LINE",204,"UnitPrice-NoAlts",{"$f":"_IonWaveImport[[#This Row],[Column4]]","v":0},{"$f":"_IonWaveImport[[#This Row],[Column5]]","v":0},{"$f":"_IonWaveImport[[#This Row],[Column2]]&\" - \"&_IonWaveImport[[#This Row],[Column3]]","v":" - "}]
[null,null,null,null,null,"LINE",205,"UnitPrice-NoAlts",{"$f":"_IonWaveImport[[#This Row],[Column4]]","v":0},{"$f":"_IonWaveImport[[#This Row],[Column5]]","v":0},{"$f":"_IonWaveImport[[#This Row],[Column2]]&\" - \"&_IonWaveImport[[#This Row],[Column3]]","v":" - "}]
[null,null,null,null,null,"LINE",206,"UnitPrice-NoAlts",{"$f":"_IonWaveImport[[#This Row],[Column4]]","v":0},{"$f":"_IonWaveImport[[#This Row],[Column5]]","v":0},{"$f":"_IonWaveImport[[#This Row],[Column2]]&\" - \"&_IonWaveImport[[#This Row],[Column3]]","v":" - "}]
[null,null,null,null,null,"LINE",207,"UnitPrice-NoAlts",{"$f":"_IonWaveImport[[#This Row],[Column4]]","v":0},{"$f":"_IonWaveImport[[#This Row],[Column5]]","v":0},{"$f":"_IonWaveImport[[#This Row],[Column2]]&\" - \"&_IonWaveImport[[#This Row],[Column3]]","v":" - "}]
[null,null,null,null,null,"LINE",208,"UnitPrice-NoAlts",{"$f":"_IonWaveImport[[#This Row],[Column4]]","v":0},{"$f":"_IonWaveImport[[#This Row],[Column5]]","v":0},{"$f":"_IonWaveImport[[#This Row],[Column2]]&\" - \"&_IonWaveImport[[#This Row],[Column3]]","v":" - "}]
[null,null,null,null,null,"LINE",209,"UnitPrice-NoAlts",{"$f":"_IonWaveImport[[#This Row],[Column4]]","v":0},{"$f":"_IonWaveImport[[#This Row],[Column5]]","v":0},{"$f":"_IonWaveImport[[#This Row],[Column2]]&\" - \"&_IonWaveImport[[#This Row],[Column3]]","v":" - "}]
[null,null,null,null,null,"LINE",210,"UnitPrice-NoAlts",{"$f":"_IonWaveImport[[#This Row],[Column4]]","v":0},{"$f":"_IonWaveImport[[#This Row],[Column5]]","v":0},{"$f":"_IonWaveImport[[#This Row],[Column2]]&\" - \"&_IonWaveImport[[#This Row],[Column3]]","v":" - "}]
[null,null,null,null,null,"LINE",211,"UnitPrice-NoAlts",{"$f":"_IonWaveImport[[#This Row],[Column4]]","v":0},{"$f":"_IonWaveImport[[#This Row],[Column5]]","v":0},{"$f":"_IonWaveImport[[#This Row],[Column2]]&\" - \"&_IonWaveImport[[#This Row],[Column3]]","v":" - "}]
[null,null,null,null,null,"LINE",212,"UnitPrice-NoAlts",{"$f":"_IonWaveImport[[#This Row],[Column4]]","v":0},{"$f":"_IonWaveImport[[#This Row],[Column5]]","v":0},{"$f":"_IonWaveImport[[#This Row],[Column2]]&\" - \"&_IonWaveImport[[#This Row],[Column3]]","v":" - "}]
[null,null,null,null,null,"LINE",213,"UnitPrice-NoAlts",{"$f":"_IonWaveImport[[#This Row],[Column4]]","v":0},{"$f":"_IonWaveImport[[#This Row],[Column5]]","v":0},{"$f":"_IonWaveImport[[#This Row],[Column2]]&\" - \"&_IonWaveImport[[#This Row],[Column3]]","v":" - "}]
[null,null,null,null,null,"LINE",214,"UnitPrice-NoAlts",{"$f":"_IonWaveImport[[#This Row],[Column4]]","v":0},{"$f":"_IonWaveImport[[#This Row],[Column5]]","v":0},{"$f":"_IonWaveImport[[#This Row],[Column2]]&\" - \"&_IonWaveImport[[#This Row],[Column3]]","v":" - "}]
[null,null,null,null,null,"LINE",215,"UnitPrice-NoAlts",{"$f":"_IonWaveImport[[#This Row],[Column4]]","v":0},{"$f":"_IonWaveImport[[#This Row],[Column5]]","v":0},{"$f":"_IonWaveImport[[#This Row],[Column2]]&\" - \"&_IonWaveImport[[#This Row],[Column3]]","v":" - "}]
[null,null,null,null,null,"LINE",216,"UnitPrice-NoAlts",{"$f":"_IonWaveImport[[#This Row],[Column4]]","v":0},{"$f":"_IonWaveImport[[#This Row],[Column5]]","v":0},{"$f":"_IonWaveImport[[#This Row],[Column2]]&\" - \"&_IonWaveImport[[#This Row],[Column3]]","v":" - "}]
[null,null,null,null,null,"LINE",217,"UnitPrice-NoAlts",{"$f":"_IonWaveImport[[#This Row],[Column4]]","v":0},{"$f":"_IonWaveImport[[#This Row],[Column5]]","v":0},{"$f":"_IonWaveImport[[#This Row],[Column2]]&\" - \"&_IonWaveImport[[#This Row],[Column3]]","v":" - "}]
[null,null,null,null,null,"LINE",218,"UnitPrice-NoAlts",{"$f":"_IonWaveImport[[#This Row],[Column4]]","v":0},{"$f":"_IonWaveImport[[#This Row],[Column5]]","v":0},{"$f":"_IonWaveImport[[#This Row],[Column2]]&\" - \"&_IonWaveImport[[#This Row],[Column3]]","v":" - "}]
[null,null,null,null,null,"LINE",219,"UnitPrice-NoAlts",{"$f":"_IonWaveImport[[#This Row],[Column4]]","v":0},{"$f":"_IonWaveImport[[#This Row],[Column5]]","v":0},{"$f":"_IonWaveImport[[#This Row],[Column2]]&\" - \"&_IonWaveImport[[#This Row],[Column3]]","v":" - "}]
[null,null,null,null,null,"LINE",220,"UnitPrice-NoAlts",{"$f":"_IonWaveImport[[#This Row],[Column4]]","v":0},{"$f":"_IonWaveImport[[#This Row],[Column5]]","v":0},{"$f":"_IonWaveImport[[#This Row],[Column2]]&\" - \"&_IonWaveImport[[#This Row],[Column3]]","v":" - "}]
[null,null,null,null,null,"LINE",221,"UnitPrice-NoAlts",{"$f":"_IonWaveImport[[#This Row],[Column4]]","v":0},{"$f":"_IonWaveImport[[#This Row],[Column5]]","v":0},{"$f":"_IonWaveImport[[#This Row],[Column2]]&\" - \"&_IonWaveImport[[#This Row],[Column3]]","v":" - "}]
[null,null,null,null,null,"LINE",222,"UnitPrice-NoAlts",{"$f":"_IonWaveImport[[#This Row],[Column4]]","v":0},{"$f":"_IonWaveImport[[#This Row],[Column5]]","v":0},{"$f":"_IonWaveImport[[#This Row],[Column2]]&\" - \"&_IonWaveImport[[#This Row],[Column3]]","v":" - "}]
[null,null,null,null,null,"LINE",223,"UnitPrice-NoAlts",{"$f":"_IonWaveImport[[#This Row],[Column4]]","v":0},{"$f":"_IonWaveImport[[#This Row],[Column5]]","v":0},{"$f":"_IonWaveImport[[#This Row],[Column2]]&\" - \"&_IonWaveImport[[#This Row],[Column3]]","v":" - "}]
[null,null,null,null,null,"LINE",224,"UnitPrice-NoAlts",{"$f":"_IonWaveImport[[#This Row],[Column4]]","v":0},{"$f":"_IonWaveImport[[#This Row],[Column5]]","v":0},{"$f":"_IonWaveImport[[#This Row],[Column2]]&\" - \"&_IonWaveImport[[#This Row],[Column3]]","v":" - "}]
[null,null,null,null,null,"LINE",225,"UnitPrice-NoAlts",{"$f":"_IonWaveImport[[#This Row],[Column4]]","v":0},{"$f":"_IonWaveImport[[#This Row],[Column5]]","v":0},{"$f":"_IonWaveImport[[#This Row],[Column2]]&\" - \"&_IonWaveImport[[#This Row],[Column3]]","v":" - "}]
[null,null,null,null,null,"LINE",226,"UnitPrice-NoAlts",{"$f":"_IonWaveImport[[#This Row],[Column4]]","v":0},{"$f":"_IonWaveImport[[#This Row],[Column5]]","v":0},{"$f":"_IonWaveImport[[#This Row],[Column2]]&\" - \"&_IonWaveImport[[#This Row],[Column3]]","v":" - "}]
[null,null,null,null,null,"LINE",227,"UnitPrice-NoAlts",{"$f":"_IonWaveImport[[#This Row],[Column4]]","v":0},{"$f":"_IonWaveImport[[#This Row],[Column5]]","v":0},{"$f":"_IonWaveImport[[#This Row],[Column2]]&\" - \"&_IonWaveImport[[#This Row],[Column3]]","v":" - "}]
[null,null,null,null,null,"LINE",228,"UnitPrice-NoAlts",{"$f":"_IonWaveImport[[#This Row],[Column4]]","v":0},{"$f":"_IonWaveImport[[#This Row],[Column5]]","v":0},{"$f":"_IonWaveImport[[#This Row],[Column2]]&\" - \"&_IonWaveImport[[#This Row],[Column3]]","v":" - "}]
[null,null,null,null,null,"LINE",229,"UnitPrice-NoAlts",{"$f":"_IonWaveImport[[#This Row],[Column4]]","v":0},{"$f":"_IonWaveImport[[#This Row],[Column5]]","v":0},{"$f":"_IonWaveImport[[#This Row],[Column2]]&\" - \"&_IonWaveImport[[#This Row],[Column3]]","v":" - "}]
[null,null,null,null,null,"LINE",230,"UnitPrice-NoAlts",{"$f":"_IonWaveImport[[#This Row],[Column4]]","v":0},{"$f":"_IonWaveImport[[#This Row],[Column5]]","v":0},{"$f":"_IonWaveImport[[#This Row],[Column2]]&\" - \"&_IonWaveImport[[#This Row],[Column3]]","v":" - "}]
[null,null,null,null,null,"LINE",231,"UnitPrice-NoAlts",{"$f":"_IonWaveImport[[#This Row],[Column4]]","v":0},{"$f":"_IonWaveImport[[#This Row],[Column5]]","v":0},{"$f":"_IonWaveImport[[#This Row],[Column2]]&\" - \"&_IonWaveImport[[#This Row],[Column3]]","v":" - "}]
[null,null,null,null,null,"LINE",232,"UnitPrice-NoAlts",{"$f":"_IonWaveImport[[#This Row],[Column4]]","v":0},{"$f":"_IonWaveImport[[#This Row],[Column5]]","v":0},{"$f":"_IonWaveImport[[#This Row],[Column2]]&\" - \"&_IonWaveImport[[#This Row],[Column3]]","v":" - "}]
[null,null,null,null,null,"LINE",233,"UnitPrice-NoAlts",{"$f":"_IonWaveImport[[#This Row],[Column4]]","v":0},{"$f":"_IonWaveImport[[#This Row],[Column5]]","v":0},{"$f":"_IonWaveImport[[#This Row],[Column2]]&\" - \"&_IonWaveImport[[#This Row],[Column3]]","v":" - "}]
[null,null,null,null,null,"LINE",234,"UnitPrice-NoAlts",{"$f":"_IonWaveImport[[#This Row],[Column4]]","v":0},{"$f":"_IonWaveImport[[#This Row],[Column5]]","v":0},{"$f":"_IonWaveImport[[#This Row],[Column2]]&\" - \"&_IonWaveImport[[#This Row],[Column3]]","v":" - "}]
[null,null,null,null,null,"LINE",235,"UnitPrice-NoAlts",{"$f":"_IonWaveImport[[#This Row],[Column4]]","v":0},{"$f":"_IonWaveImport[[#This Row],[Column5]]","v":0},{"$f":"_IonWaveImport[[#This Row],[Column2]]&\" - \"&_IonWaveImport[[#This Row],[Column3]]","v":" - "}]
[null,null,null,null,null,"LINE",236,"UnitPrice-NoAlts",{"$f":"_IonWaveImport[[#This Row],[Column4]]","v":0},{"$f":"_IonWaveImport[[#This Row],[Column5]]","v":0},{"$f":"_IonWaveImport[[#This Row],[Column2]]&\" - \"&_IonWaveImport[[#This Row],[Column3]]","v":" - "}]
[null,null,null,null,null,"LINE",237,"UnitPrice-NoAlts",{"$f":"_IonWaveImport[[#This Row],[Column4]]","v":0},{"$f":"_IonWaveImport[[#This Row],[Column5]]","v":0},{"$f":"_IonWaveImport[[#This Row],[Column2]]&\" - \"&_IonWaveImport[[#This Row],[Column3]]","v":" - "}]
[null,null,null,null,null,"LINE",238,"UnitPrice-NoAlts",{"$f":"_IonWaveImport[[#This Row],[Column4]]","v":0},{"$f":"_IonWaveImport[[#This Row],[Column5]]","v":0},{"$f":"_IonWaveImport[[#This Row],[Column2]]&\" - \"&_IonWaveImport[[#This Row],[Column3]]","v":" - "}]
[null,null,null,null,null,"LINE",239,"UnitPrice-NoAlts",{"$f":"_IonWaveImport[[#This Row],[Column4]]","v":0},{"$f":"_IonWaveImport[[#This Row],[Column5]]","v":0},{"$f":"_IonWaveImport[[#This Row],[Column2]]&\" - \"&_IonWaveImport[[#This Row],[Column3]]","v":" - "}]
[null,null,null,null,null,"LINE",240,"UnitPrice-NoAlts",{"$f":"_IonWaveImport[[#This Row],[Column4]]","v":0},{"$f":"_IonWaveImport[[#This Row],[Column5]]","v":0},{"$f":"_IonWaveImport[[#This Row],[Column2]]&\" - \"&_IonWaveImport[[#This Row],[Column3]]","v":" - "}]
[null,null,null,null,null,"LINE",241,"UnitPrice-NoAlts",{"$f":"_IonWaveImport[[#This Row],[Column4]]","v":0},{"$f":"_IonWaveImport[[#This Row],[Column5]]","v":0},{"$f":"_IonWaveImport[[#This Row],[Column2]]&\" - \"&_IonWaveImport[[#This Row],[Column3]]","v":" - "}]
[null,null,null,null,null,"LINE",242,"UnitPrice-NoAlts",{"$f":"_IonWaveImport[[#This Row],[Column4]]","v":0},{"$f":"_IonWaveImport[[#This Row],[Column5]]","v":0},{"$f":"_IonWaveImport[[#This Row],[Column2]]&\" - \"&_IonWaveImport[[#This Row],[Column3]]","v":" - "}]
[null,null,null,null,null,"LINE",243,"UnitPrice-NoAlts",{"$f":"_IonWaveImport[[#This Row],[Column4]]","v":0},{"$f":"_IonWaveImport[[#This Row],[Column5]]","v":0},{"$f":"_IonWaveImport[[#This Row],[Column2]]&\" - \"&_IonWaveImport[[#This Row],[Column3]]","v":" - "}]
[null,null,null,null,null,"LINE",244,"UnitPrice-NoAlts",{"$f":"_IonWaveImport[[#This Row],[Column4]]","v":0},{"$f":"_IonWaveImport[[#This Row],[Column5]]","v":0},{"$f":"_IonWaveImport[[#This Row],[Column2]]&\" - \"&_IonWaveImport[[#This Row],[Column3]]","v":" - "}]
[null,null,null,null,null,"LINE",245,"UnitPrice-NoAlts",{"$f":"_IonWaveImport[[#This Row],[Column4]]","v":0},{"$f":"_IonWaveImport[[#This Row],[Column5]]","v":0},{"$f":"_IonWaveImport[[#This Row],[Column2]]&\" - \"&_IonWaveImport[[#This Row],[Column3]]","v":" - "}]
[null,null,null,null,null,"LINE",246,"UnitPrice-NoAlts",{"$f":"_IonWaveImport[[#This Row],[Column4]]","v":0},{"$f":"_IonWaveImport[[#This Row],[Column5]]","v":0},{"$f":"_IonWaveImport[[#This Row],[Column2]]&\" - \"&_IonWaveImport[[#This Row],[Column3]]","v":" - "}]
[null,null,null,null,null,"LINE",247,"UnitPrice-NoAlts",{"$f":"_IonWaveImport[[#This Row],[Column4]]","v":0},{"$f":"_IonWaveImport[[#This Row],[Column5]]","v":0},{"$f":"_IonWaveImport[[#This Row],[Column2]]&\" - \"&_IonWaveImport[[#This Row],[Column3]]","v":" - "}]
[null,null,null,null,null,"LINE",248,"UnitPrice-NoAlts",{"$f":"_IonWaveImport[[#This Row],[Column4]]","v":0},{"$f":"_IonWaveImport[[#This Row],[Column5]]","v":0},{"$f":"_IonWaveImport[[#This Row],[Column2]]&\" - \"&_IonWaveImport[[#This Row],[Column3]]","v":" - "}]
[null,null,null,null,null,"LINE",249,"UnitPrice-NoAlts",{"$f":"_IonWaveImport[[#This Row],[Column4]]","v":0},{"$f":"_IonWaveImport[[#This Row],[Column5]]","v":0},{"$f":"_IonWaveImport[[#This Row],[Column2]]&\" - \"&_IonWaveImport[[#This Row],[Column3]]","v":" - "}]
[null,null,null,null,null,"LINE",250,"UnitPrice-NoAlts",{"$f":"_IonWaveImport[[#This Row],[Column4]]","v":0},{"$f":"_IonWaveImport[[#This Row],[Column5]]","v":0},{"$f":"_IonWaveImport[[#This Row],[Column2]]&\" - \"&_IonWaveImport[[#This Row],[Column3]]","v":" - "}]
[null,null,null,null,null,"LINE",251,"UnitPrice-NoAlts",{"$f":"_IonWaveImport[[#This Row],[Column4]]","v":0},{"$f":"_IonWaveImport[[#This Row],[Column5]]","v":0},{"$f":"_IonWaveImport[[#This Row],[Column2]]&\" - \"&_IonWaveImport[[#This Row],[Column3]]","v":" - "}]
[null,null,null,null,null,"LINE",252,"UnitPrice-NoAlts",{"$f":"_IonWaveImport[[#This Row],[Column4]]","v":0},{"$f":"_IonWaveImport[[#This Row],[Column5]]","v":0},{"$f":"_IonWaveImport[[#This Row],[Column2]]&\" - \"&_IonWaveImport[[#This Row],[Column3]]","v":" - "}]
[null,null,null,null,null,"LINE",253,"UnitPrice-NoAlts",{"$f":"_IonWaveImport[[#This Row],[Column4]]","v":0},{"$f":"_IonWaveImport[[#This Row],[Column5]]","v":0},{"$f":"_IonWaveImport[[#This Row],[Column2]]&\" - \"&_IonWaveImport[[#This Row],[Column3]]","v":" - "}]
[null,null,null,null,null,"LINE",254,"UnitPrice-NoAlts",{"$f":"_IonWaveImport[[#This Row],[Column4]]","v":0},{"$f":"_IonWaveImport[[#This Row],[Column5]]","v":0},{"$f":"_IonWaveImport[[#This Row],[Column2]]&\" - \"&_IonWaveImport[[#This Row],[Column3]]","v":" - "}]
[null,null,null,null,null,"LINE",255,"UnitPrice-NoAlts",{"$f":"_IonWaveImport[[#This Row],[Column4]]","v":0},{"$f":"_IonWaveImport[[#This Row],[Column5]]","v":0},{"$f":"_IonWaveImport[[#This Row],[Column2]]&\" - \"&_IonWaveImport[[#This Row],[Column3]]","v":" - "}]
[null,null,null,null,null,"LINE",256,"UnitPrice-NoAlts",{"$f":"_IonWaveImport[[#This Row],[Column4]]","v":0},{"$f":"_IonWaveImport[[#This Row],[Column5]]","v":0},{"$f":"_IonWaveImport[[#This Row],[Column2]]&\" - \"&_IonWaveImport[[#This Row],[Column3]]","v":" - "}]
[null,null,null,null,null,"LINE",257,"UnitPrice-NoAlts",{"$f":"_IonWaveImport[[#This Row],[Column4]]","v":0},{"$f":"_IonWaveImport[[#This Row],[Column5]]","v":0},{"$f":"_IonWaveImport[[#This Row],[Column2]]&\" - \"&_IonWaveImport[[#This Row],[Column3]]","v":" - "}]
[null,null,null,null,null,"LINE",258,"UnitPrice-NoAlts",{"$f":"_IonWaveImport[[#This Row],[Column4]]","v":0},{"$f":"_IonWaveImport[[#This Row],[Column5]]","v":0},{"$f":"_IonWaveImport[[#This Row],[Column2]]&\" - \"&_IonWaveImport[[#This Row],[Column3]]","v":" - "}]
[null,null,null,null,null,"LINE",259,"UnitPrice-NoAlts",{"$f":"_IonWaveImport[[#This Row],[Column4]]","v":0},{"$f":"_IonWaveImport[[#This Row],[Column5]]","v":0},{"$f":"_IonWaveImport[[#This Row],[Column2]]&\" - \"&_IonWaveImport[[#This Row],[Column3]]","v":" - "}]
[null,null,null,null,null,"LINE",260,"UnitPrice-NoAlts",{"$f":"_IonWaveImport[[#This Row],[Column4]]","v":0},{"$f":"_IonWaveImport[[#This Row],[Column5]]","v":0},{"$f":"_IonWaveImport[[#This Row],[Column2]]&\" - \"&_IonWaveImport[[#This Row],[Column3]]","v":" - "}]
[null,null,null,null,null,"LINE",261,"UnitPrice-NoAlts",{"$f":"_IonWaveImport[[#This Row],[Column4]]","v":0},{"$f":"_IonWaveImport[[#This Row],[Column5]]","v":0},{"$f":"_IonWaveImport[[#This Row],[Column2]]&\" - \"&_IonWaveImport[[#This Row],[Column3]]","v":" - "}]
[null,null,null,null,null,"LINE",262,"UnitPrice-NoAlts",{"$f":"_IonWaveImport[[#This Row],[Column4]]","v":0},{"$f":"_IonWaveImport[[#This Row],[Column5]]","v":0},{"$f":"_IonWaveImport[[#This Row],[Column2]]&\" - \"&_IonWaveImport[[#This Row],[Column3]]","v":" - "}]
[null,null,null,null,null,"LINE",263,"UnitPrice-NoAlts",{"$f":"_IonWaveImport[[#This Row],[Column4]]","v":0},{"$f":"_IonWaveImport[[#This Row],[Column5]]","v":0},{"$f":"_IonWaveImport[[#This Row],[Column2]]&\" - \"&_IonWaveImport[[#This Row],[Column3]]","v":" - "}]
[null,null,null,null,null,"LINE",264,"UnitPrice-NoAlts",{"$f":"_IonWaveImport[[#This Row],[Column4]]","v":0},{"$f":"_IonWaveImport[[#This Row],[Column5]]","v":0},{"$f":"_IonWaveImport[[#This Row],[Column2]]&\" - \"&_IonWaveImport[[#This Row],[Column3]]","v":" - "}]
[null,null,null,null,null,"LINE",265,"UnitPrice-NoAlts",{"$f":"_IonWaveImport[[#This Row],[Column4]]","v":0},{"$f":"_IonWaveImport[[#This Row],[Column5]]","v":0},{"$f":"_IonWaveImport[[#This Row],[Column2]]&\" - \"&_IonWaveImport[[#This Row],[Column3]]","v":" - "}]
[null,null,null,null,null,"LINE",266,"UnitPrice-NoAlts",{"$f":"_IonWaveImport[[#This Row],[Column4]]","v":0},{"$f":"_IonWaveImport[[#This Row],[Column5]]","v":0},{"$f":"_IonWaveImport[[#This Row],[Column2]]&\" - \"&_IonWaveImport[[#This Row],[Column3]]","v":" - "}]
[null,null,null,null,null,"LINE",267,"UnitPrice-NoAlts",{"$f":"_IonWaveImport[[#This Row],[Column4]]","v":0},{"$f":"_IonWaveImport[[#This Row],[Column5]]","v":0},{"$f":"_IonWaveImport[[#This Row],[Column2]]&\" - \"&_IonWaveImport[[#This Row],[Column3]]","v":" - "}]
[null,null,null,null,null,"LINE",268,"UnitPrice-NoAlts",{"$f":"_IonWaveImport[[#This Row],[Column4]]","v":0},{"$f":"_IonWaveImport[[#This Row],[Column5]]","v":0},{"$f":"_IonWaveImport[[#This Row],[Column2]]&\" - \"&_IonWaveImport[[#This Row],[Column3]]","v":" - "}]
[null,null,null,null,null,"LINE",269,"UnitPrice-NoAlts",{"$f":"_IonWaveImport[[#This Row],[Column4]]","v":0},{"$f":"_IonWaveImport[[#This Row],[Column5]]","v":0},{"$f":"_IonWaveImport[[#This Row],[Column2]]&\" - \"&_IonWaveImport[[#This Row],[Column3]]","v":" - "}]
[null,null,null,null,null,"LINE",270,"UnitPrice-NoAlts",{"$f":"_IonWaveImport[[#This Row],[Column4]]","v":0},{"$f":"_IonWaveImport[[#This Row],[Column5]]","v":0},{"$f":"_IonWaveImport[[#This Row],[Column2]]&\" - \"&_IonWaveImport[[#This Row],[Column3]]","v":" - "}]
[null,null,null,null,null,"LINE",271,"UnitPrice-NoAlts",{"$f":"_IonWaveImport[[#This Row],[Column4]]","v":0},{"$f":"_IonWaveImport[[#This Row],[Column5]]","v":0},{"$f":"_IonWaveImport[[#This Row],[Column2]]&\" - \"&_IonWaveImport[[#This Row],[Column3]]","v":" - "}]
[null,null,null,null,null,"LINE",272,"UnitPrice-NoAlts",{"$f":"_IonWaveImport[[#This Row],[Column4]]","v":0},{"$f":"_IonWaveImport[[#This Row],[Column5]]","v":0},{"$f":"_IonWaveImport[[#This Row],[Column2]]&\" - \"&_IonWaveImport[[#This Row],[Column3]]","v":" - "}]
[null,null,null,null,null,"LINE",273,"UnitPrice-NoAlts",{"$f":"_IonWaveImport[[#This Row],[Column4]]","v":0},{"$f":"_IonWaveImport[[#This Row],[Column5]]","v":0},{"$f":"_IonWaveImport[[#This Row],[Column2]]&\" - \"&_IonWaveImport[[#This Row],[Column3]]","v":" - "}]
[null,null,null,null,null,"LINE",274,"UnitPrice-NoAlts",{"$f":"_IonWaveImport[[#This Row],[Column4]]","v":0},{"$f":"_IonWaveImport[[#This Row],[Column5]]","v":0},{"$f":"_IonWaveImport[[#This Row],[Column2]]&\" - \"&_IonWaveImport[[#This Row],[Column3]]","v":" - "}]
[null,null,null,null,null,"LINE",275,"UnitPrice-NoAlts",{"$f":"_IonWaveImport[[#This Row],[Column4]]","v":0},{"$f":"_IonWaveImport[[#This Row],[Column5]]","v":0},{"$f":"_IonWaveImport[[#This Row],[Column2]]&\" - \"&_IonWaveImport[[#This Row],[Column3]]","v":" - "}]
[null,null,null,null,null,"LINE",276,"UnitPrice-NoAlts",{"$f":"_IonWaveImport[[#This Row],[Column4]]","v":0},{"$f":"_IonWaveImport[[#This Row],[Column5]]","v":0},{"$f":"_IonWaveImport[[#This Row],[Column2]]&\" - \"&_IonWaveImport[[#This Row],[Column3]]","v":" - "}]
[null,null,null,null,null,"LINE",277,"UnitPrice-NoAlts",{"$f":"_IonWaveImport[[#This Row],[Column4]]","v":0},{"$f":"_IonWaveImport[[#This Row],[Column5]]","v":0},{"$f":"_IonWaveImport[[#This Row],[Column2]]&\" - \"&_IonWaveImport[[#This Row],[Column3]]","v":" - "}]
[null,null,null,null,null,"LINE",278,"UnitPrice-NoAlts",{"$f":"_IonWaveImport[[#This Row],[Column4]]","v":0},{"$f":"_IonWaveImport[[#This Row],[Column5]]","v":0},{"$f":"_IonWaveImport[[#This Row],[Column2]]&\" - \"&_IonWaveImport[[#This Row],[Column3]]","v":" - "}]
[null,null,null,null,null,"LINE",279,"UnitPrice-NoAlts",{"$f":"_IonWaveImport[[#This Row],[Column4]]","v":0},{"$f":"_IonWaveImport[[#This Row],[Column5]]","v":0},{"$f":"_IonWaveImport[[#This Row],[Column2]]&\" - \"&_IonWaveImport[[#This Row],[Column3]]","v":" - "}]
[null,null,null,null,null,"LINE",280,"UnitPrice-NoAlts",{"$f":"_IonWaveImport[[#This Row],[Column4]]","v":0},{"$f":"_IonWaveImport[[#This Row],[Column5]]","v":0},{"$f":"_IonWaveImport[[#This Row],[Column2]]&\" - \"&_IonWaveImport[[#This Row],[Column3]]","v":" - "}]
[null,null,null,null,null,"LINE",281,"UnitPrice-NoAlts",{"$f":"_IonWaveImport[[#This Row],[Column4]]","v":0},{"$f":"_IonWaveImport[[#This Row],[Column5]]","v":0},{"$f":"_IonWaveImport[[#This Row],[Column2]]&\" - \"&_IonWaveImport[[#This Row],[Column3]]","v":" - "}]
[null,null,null,null,null,"LINE",282,"UnitPrice-NoAlts",{"$f":"_IonWaveImport[[#This Row],[Column4]]","v":0},{"$f":"_IonWaveImport[[#This Row],[Column5]]","v":0},{"$f":"_IonWaveImport[[#This Row],[Column2]]&\" - \"&_IonWaveImport[[#This Row],[Column3]]","v":" - "}]
[null,null,null,null,null,"LINE",283,"UnitPrice-NoAlts",{"$f":"_IonWaveImport[[#This Row],[Column4]]","v":0},{"$f":"_IonWaveImport[[#This Row],[Column5]]","v":0},{"$f":"_IonWaveImport[[#This Row],[Column2]]&\" - \"&_IonWaveImport[[#This Row],[Column3]]","v":" - "}]
[null,null,null,null,null,"LINE",284,"UnitPrice-NoAlts",{"$f":"_IonWaveImport[[#This Row],[Column4]]","v":0},{"$f":"_IonWaveImport[[#This Row],[Column5]]","v":0},{"$f":"_IonWaveImport[[#This Row],[Column2]]&\" - \"&_IonWaveImport[[#This Row],[Column3]]","v":" - "}]
[null,null,null,null,null,"LINE",285,"UnitPrice-NoAlts",{"$f":"_IonWaveImport[[#This Row],[Column4]]","v":0},{"$f":"_IonWaveImport[[#This Row],[Column5]]","v":0},{"$f":"_IonWaveImport[[#This Row],[Column2]]&\" - \"&_IonWaveImport[[#This Row],[Column3]]","v":" - "}]
[null,null,null,null,null,"LINE",286,"UnitPrice-NoAlts",{"$f":"_IonWaveImport[[#This Row],[Column4]]","v":0},{"$f":"_IonWaveImport[[#This Row],[Column5]]","v":0},{"$f":"_IonWaveImport[[#This Row],[Column2]]&\" - \"&_IonWaveImport[[#This Row],[Column3]]","v":" - "}]
[null,null,null,null,null,"LINE",287,"UnitPrice-NoAlts",{"$f":"_IonWaveImport[[#This Row],[Column4]]","v":0},{"$f":"_IonWaveImport[[#This Row],[Column5]]","v":0},{"$f":"_IonWaveImport[[#This Row],[Column2]]&\" - \"&_IonWaveImport[[#This Row],[Column3]]","v":" - "}]
[null,null,null,null,null,"LINE",288,"UnitPrice-NoAlts",{"$f":"_IonWaveImport[[#This Row],[Column4]]","v":0},{"$f":"_IonWaveImport[[#This Row],[Column5]]","v":0},{"$f":"_IonWaveImport[[#This Row],[Column2]]&\" - \"&_IonWaveImport[[#This Row],[Column3]]","v":" - "}]
[null,null,null,null,null,"LINE",289,"UnitPrice-NoAlts",{"$f":"_IonWaveImport[[#This Row],[Column4]]","v":0},{"$f":"_IonWaveImport[[#This Row],[Column5]]","v":0},{"$f":"_IonWaveImport[[#This Row],[Column2]]&\" - \"&_IonWaveImport[[#This Row],[Column3]]","v":" - "}]
[null,null,null,null,null,"LINE",290,"UnitPrice-NoAlts",{"$f":"_IonWaveImport[[#This Row],[Column4]]","v":0},{"$f":"_IonWaveImport[[#This Row],[Column5]]","v":0},{"$f":"_IonWaveImport[[#This Row],[Column2]]&\" - \"&_IonWaveImport[[#This Row],[Column3]]","v":" - "}]
[null,null,null,null,null,"LINE",291,"UnitPrice-NoAlts",{"$f":"_IonWaveImport[[#This Row],[Column4]]","v":0},{"$f":"_IonWaveImport[[#This Row],[Column5]]","v":0},{"$f":"_IonWaveImport[[#This Row],[Column2]]&\" - \"&_IonWaveImport[[#This Row],[Column3]]","v":" - "}]
[null,null,null,null,null,"LINE",292,"UnitPrice-NoAlts",{"$f":"_IonWaveImport[[#This Row],[Column4]]","v":0},{"$f":"_IonWaveImport[[#This Row],[Column5]]","v":0},{"$f":"_IonWaveImport[[#This Row],[Column2]]&\" - \"&_IonWaveImport[[#This Row],[Column3]]","v":" - "}]
[null,null,null,null,null,"LINE",293,"UnitPrice-NoAlts",{"$f":"_IonWaveImport[[#This Row],[Column4]]","v":0},{"$f":"_IonWaveImport[[#This Row],[Column5]]","v":0},{"$f":"_IonWaveImport[[#This Row],[Column2]]&\" - \"&_IonWaveImport[[#This Row],[Column3]]","v":" - "}]
[null,null,null,null,null,"LINE",294,"UnitPrice-NoAlts",{"$f":"_IonWaveImport[[#This Row],[Column4]]","v":0},{"$f":"_IonWaveImport[[#This Row],[Column5]]","v":0},{"$f":"_IonWaveImport[[#This Row],[Column2]]&\" - \"&_IonWaveImport[[#This Row],[Column3]]","v":" - "}]
[null,null,null,null,null,"LINE",295,"UnitPrice-NoAlts",{"$f":"_IonWaveImport[[#This Row],[Column4]]","v":0},{"$f":"_IonWaveImport[[#This Row],[Column5]]","v":0},{"$f":"_IonWaveImport[[#This Row],[Column2]]&\" - \"&_IonWaveImport[[#This Row],[Column3]]","v":" - "}]
[null,null,null,null,null,"LINE",296,"UnitPrice-NoAlts",{"$f":"_IonWaveImport[[#This Row],[Column4]]","v":0},{"$f":"_IonWaveImport[[#This Row],[Column5]]","v":0},{"$f":"_IonWaveImport[[#This Row],[Column2]]&\" - \"&_IonWaveImport[[#This Row],[Column3]]","v":" - "}]
[null,null,null,null,null,"LINE",297,"UnitPrice-NoAlts",{"$f":"_IonWaveImport[[#This Row],[Column4]]","v":0},{"$f":"_IonWaveImport[[#This Row],[Column5]]","v":0},{"$f":"_IonWaveImport[[#This Row],[Column2]]&\" - \"&_IonWaveImport[[#This Row],[Column3]]","v":" - "}]
[null,null,null,null,null,"LINE",298,"UnitPrice-NoAlts",{"$f":"_IonWaveImport[[#This Row],[Column4]]","v":0},{"$f":"_IonWaveImport[[#This Row],[Column5]]","v":0},{"$f":"_IonWaveImport[[#This Row],[Column2]]&\" - \"&_IonWaveImport[[#This Row],[Column3]]","v":" - "}]
[null,null,null,null,null,"LINE",299,"UnitPrice-NoAlts",{"$f":"_IonWaveImport[[#This Row],[Column4]]","v":0},{"$f":"_IonWaveImport[[#This Row],[Column5]]","v":0},{"$f":"_IonWaveImport[[#This Row],[Column2]]&\" - \"&_IonWaveImport[[#This Row],[Column3]]","v":" - "}]
[null,null,null,null,null,"LINE",300,"UnitPrice-NoAlts",{"$f":"_IonWaveImport[[#This Row],[Column4]]","v":0},{"$f":"_IonWaveImport[[#This Row],[Column5]]","v":0},{"$f":"_IonWaveImport[[#This Row],[Column2]]&\" - \"&_IonWaveImport[[#This Row],[Column3]]","v":" - "}]

{"sheet":"Bid Docs Checklist","index":15,"n_rows":35,"n_cols":14,"rows_kept":35,"cut":false,"hidden":false,"merged":[[0,0,0,7],[15,3,15,7],[16,3,16,7],[4,1,4,7],[7,3,7,7],[8,3,8,7],[9,3,9,7],[10,3,10,7],[13,3,13,7],[14,3,14,7]]}
["BID DOCS CHECKLIST"]
[]
[]
["Quality Assurance Check"]
[null,"The finished, mail-merged Project Manual should be reviewed for accuracy, and formatting errors corrected. Both the Project Manual's preparer and a second checker should perform a quality check. Please acknowledge these checks have been performed below."]
[]
[null,"Project Manual Preparer"]
[null,null,"Name:"]
[null,null,"Email Address:"]
[null,null,"Review Date:"]
[null,null,"Review Confirmation:","Choose One"]
[]
[null,"Quality Control Checker"]
[null,null,"Name:"]
[null,null,"Email Address:"]
[null,null,"Review Date:"]
[null,null,"Review Confirmation:","Choose One"]
[]
["Bid Docs Submission"]
["When ready, upload the following bid documents to your firm's folder on the FTP site:",null,null,null,null,null,null,null,null,null,null,null,null,"https://ftp.cedar-rapids.org/login.html?lang=english"]
[null,"Final Project Development Guide containing completed:"]
[null,null,"Recommendation to File"]
[null,null,"Project Manual Form"]
[null,null,"Project Manual Form Sign-Off Sheet"]
[null,null,"300-A Reference"]
[null,null,"IonWave Importer"]
[null,"Final Draft Project Manual Entitled \"Project Manual Final for Printing\""]
[null,null,"PDF format (sealed, not signed)"]
[null,null,"Word format"]
[null,"Print Plans Entitled \"Plans Final for Printing\""]
[null,null,"PDF format (sealed, not signed)"]
[null,null,"CAD files used to generate plans, including base, surface and proposed files "]
[null,"Electronically-sealed and signed:"]
[null,null,"Plans Cover Sheet (separate from Plans Final for Printing)"]
[null,null,"Project Manual Section 00005 (separate from Project Manual Final for Printing)"]

{"sheet":"300-A Funding","index":16,"n_rows":320,"n_cols":39,"rows_kept":320,"cut":false,"hidden":false,"merged":[[0,0,0,14],[9,3,9,5],[10,3,10,5],[11,3,11,5],[12,3,12,5],[13,3,13,5],[15,3,15,5],[3,3,3,5],[4,3,4,5],[5,3,5,5],[6,3,6,5],[7,3,7,5],[8,3,8,5]]}
[{"$f":"CONCATENATE(\"UNIT PRICE BID - \",'Project Manual Form'!E7,\" - \",CONCATENATE(\"CONTRACT NO. \",'Project Manual Form'!E6))","v":"UNIT PRICE BID - 0 - CONTRACT NO. "}]
[]
[null,null,null,null,null,null,null,"Directions"]
["Division","CIP #","Description","Division Cost",null,null,null,"● Make sure EOPC includes any item or quantity changes caused by"]
["Division 1",{"$f":"EOPC!G3","v":0},{"$f":"EOPC!F3","v":"e.g. Roadway"},{"$f":"SUM(_300A_FUNDING[DIV 1 COST])","v":0},null,null,null,"Addenda."]
["Division 2",{"$f":"EOPC!G4","v":0},{"$f":"EOPC!F4","v":0},{"$f":"SUM(_300A_FUNDING[DIV 2 COST])","v":0},null,null,null,"● Import items and quantities by going to Data > Show Queries, and"]
["Division 3",{"$f":"EOPC!G5","v":0},{"$f":"EOPC!F5","v":0},{"$f":"SUM(_300A_FUNDING[DIV 3 COST])","v":0},null,null,null,"refresh the Workbook Query for 300A_Funding."]
["Division 4",{"$f":"EOPC!G6","v":0},{"$f":"EOPC!F6","v":0},{"$f":"SUM(_300A_FUNDING[DIV 4 COST])","v":0},null,null,null,"● Enter the unit prices received from the low bidder into the so-named"]
["Division 5",{"$f":"EOPC!G7","v":0},{"$f":"EOPC!F7","v":0},{"$f":"SUM(_300A_FUNDING[DIV 5 COST])","v":0},null,null,null,"column, colored below in green."]
["Division 6",{"$f":"EOPC!G8","v":0},{"$f":"EOPC!F8","v":0},{"$f":"SUM(_300A_FUNDING[DIV 6 COST])","v":0},null,null,null,"● The Division Cost shown here will be brought into the Rec to Award"]
["Division 7",{"$f":"EOPC!G9","v":0},{"$f":"EOPC!F9","v":0},{"$f":"SUM(_300A_FUNDING[DIV 7 COST])","v":0}]
["Division 8",{"$f":"EOPC!G10","v":0},{"$f":"EOPC!F10","v":0},{"$f":"SUM(_300A_FUNDING[DIV 8 COST])","v":0}]
["Division 9",{"$f":"EOPC!G11","v":0},{"$f":"EOPC!F11","v":0},{"$f":"SUM(_300A_FUNDING[DIV 9 COST])","v":0}]
["Division 10",{"$f":"EOPC!G12","v":0},{"$f":"EOPC!F12","v":0},{"$f":"SUM(_300A_FUNDING[DIV 10 COST])","v":0}]
[]
[null,null,"Contract Value, w/o Incentives",{"$f":"SUM(D5:F14)","v":0}]
[]
["Reminder: Items and quantities for this table come from EOPC. Edit the Low Bidder's Unit Price column only.",null,null,null,null,null,null,null,null,null,null,null,null,null,null,null,null,{"$f":"$B$5","v":0},{"$f":"$B$6","v":0},{"$f":"$B$7","v":0},{"$f":"$B$8","v":0},{"$f":"$B$9","v":0},{"$f":"$B$10","v":0},{"$f":"$B$11","v":0},{"$f":"$B$12","v":0},{"$f":"$B$13","v":0},{"$f":"$B$14","v":0}]
[null,null,null,null,null,null,null,null,null,null,null,null,null,null,null,null,null,{"$f":"C5","v":"e.g. Roadway"},{"$f":"C6","v":0},{"$f":"C7","v":0},{"$f":"C8","v":0},{"$f":"C9","v":0},{"$f":"C10","v":0},{"$f":"C11","v":0},{"$f":"C12","v":0},{"$f":"C13","v":0},{"$f":"C14","v":0}]
["Column1","Column2","Column3","Column4","Column5","Column6","Column7","Column8","Column9","Column10","Column11","Column12","Column13","Column14","Column15","|","LOW BIDDER'S UNIT PRICE","DIV 1 COST","DIV 2 COST","DIV 3 COST","DIV 4 COST","DIV 5 COST","DIV 6 COST","DIV 7 COST","DIV 8 COST","DIV 9 COST","DIV 10 COST",null,null,null,null,null,null,null,null,null,null,null,"DIV 10 PRICE"]
[null,null,null,null,null,null,null,null,null,null,null,null,null,null,null,null,0,{"$f":"_300A_FUNDING[[#This Row],[Column5]]*_300A_FUNDING[[#This Row],[LOW BIDDER''S UNIT PRICE]]","v":0},{"$f":"_300A_FUNDING[[#This Row],[Column6]]*_300A_FUNDING[[#This Row],[LOW BIDDER''S UNIT PRICE]]","v":0},{"$f":"_300A_FUNDING[[#This Row],[Column7]]*_300A_FUNDING[[#This Row],[LOW BIDDER''S UNIT PRICE]]","v":0},{"$f":"_300A_FUNDING[[#This Row],[Column8]]*_300A_FUNDING[[#This Row],[LOW BIDDER''S UNIT PRICE]]","v":0},{"$f":"_300A_FUNDING[[#This Row],[Column9]]*_300A_FUNDING[[#This Row],[LOW BIDDER''S UNIT PRICE]]","v":0},{"$f":"_300A_FUNDING[[#This Row],[Column10]]*_300A_FUNDING[[#This Row],[LOW BIDDER''S UNIT PRICE]]","v":0},{"$f":"_300A_FUNDING[[#This Row],[Column11]]*_300A_FUNDING[[#This Row],[LOW BIDDER''S UNIT PRICE]]","v":0},{"$f":"_300A_FUNDING[[#This Row],[Column12]]*_300A_FUNDING[[#This Row],[LOW BIDDER''S UNIT PRICE]]","v":0},{"$f":"_300A_FUNDING[[#This Row],[Column13]]*_300A_FUNDING[[#This Row],[LOW BIDDER''S UNIT PRICE]]","v":0},{"$f":"_300A_FUNDING[[#This Row],[Column14]]*_300A_FUNDING[[#This Row],[LOW BIDDER''S UNIT PRICE]]","v":0}]
[null,null,null,null,null,null,null,null,null,null,null,null,null,null,null,null,0,{"$f":"_300A_FUNDING[[#This Row],[Column5]]*_300A_FUNDING[[#This Row],[LOW BIDDER''S UNIT PRICE]]","v":0},{"$f":"_300A_FUNDING[[#This Row],[Column6]]*_300A_FUNDING[[#This Row],[LOW BIDDER''S UNIT PRICE]]","v":0},{"$f":"_300A_FUNDING[[#This Row],[Column7]]*_300A_FUNDING[[#This Row],[LOW BIDDER''S UNIT PRICE]]","v":0},{"$f":"_300A_FUNDING[[#This Row],[Column8]]*_300A_FUNDING[[#This Row],[LOW BIDDER''S UNIT PRICE]]","v":0},{"$f":"_300A_FUNDING[[#This Row],[Column9]]*_300A_FUNDING[[#This Row],[LOW BIDDER''S UNIT PRICE]]","v":0},{"$f":"_300A_FUNDING[[#This Row],[Column10]]*_300A_FUNDING[[#This Row],[LOW BIDDER''S UNIT PRICE]]","v":0},{"$f":"_300A_FUNDING[[#This Row],[Column11]]*_300A_FUNDING[[#This Row],[LOW BIDDER''S UNIT PRICE]]","v":0},{"$f":"_300A_FUNDING[[#This Row],[Column12]]*_300A_FUNDING[[#This Row],[LOW BIDDER''S UNIT PRICE]]","v":0},{"$f":"_300A_FUNDING[[#This Row],[Column13]]*_300A_FUNDING[[#This Row],[LOW BIDDER''S UNIT PRICE]]","v":0},{"$f":"_300A_FUNDING[[#This Row],[Column14]]*_300A_FUNDING[[#This Row],[LOW BIDDER''S UNIT PRICE]]","v":0}]
[null,null,null,null,null,null,null,null,null,null,null,null,null,null,null,null,0,{"$f":"_300A_FUNDING[[#This Row],[Column5]]*_300A_FUNDING[[#This Row],[LOW BIDDER''S UNIT PRICE]]","v":0},{"$f":"_300A_FUNDING[[#This Row],[Column6]]*_300A_FUNDING[[#This Row],[LOW BIDDER''S UNIT PRICE]]","v":0},{"$f":"_300A_FUNDING[[#This Row],[Column7]]*_300A_FUNDING[[#This Row],[LOW BIDDER''S UNIT PRICE]]","v":0},{"$f":"_300A_FUNDING[[#This Row],[Column8]]*_300A_FUNDING[[#This Row],[LOW BIDDER''S UNIT PRICE]]","v":0},{"$f":"_300A_FUNDING[[#This Row],[Column9]]*_300A_FUNDING[[#This Row],[LOW BIDDER''S UNIT PRICE]]","v":0},{"$f":"_300A_FUNDING[[#This Row],[Column10]]*_300A_FUNDING[[#This Row],[LOW BIDDER''S UNIT PRICE]]","v":0},{"$f":"_300A_FUNDING[[#This Row],[Column11]]*_300A_FUNDING[[#This Row],[LOW BIDDER''S UNIT PRICE]]","v":0},{"$f":"_300A_FUNDING[[#This Row],[Column12]]*_300A_FUNDING[[#This Row],[LOW BIDDER''S UNIT PRICE]]","v":0},{"$f":"_300A_FUNDING[[#This Row],[Column13]]*_300A_FUNDING[[#This Row],[LOW BIDDER''S UNIT PRICE]]","v":0},{"$f":"_300A_FUNDING[[#This Row],[Column14]]*_300A_FUNDING[[#This Row],[LOW BIDDER''S UNIT PRICE]]","v":0}]
[null,null,null,null,null,null,null,null,null,null,null,null,null,null,null,null,0,{"$f":"_300A_FUNDING[[#This Row],[Column5]]*_300A_FUNDING[[#This Row],[LOW BIDDER''S UNIT PRICE]]","v":0},{"$f":"_300A_FUNDING[[#This Row],[Column6]]*_300A_FUNDING[[#This Row],[LOW BIDDER''S UNIT PRICE]]","v":0},{"$f":"_300A_FUNDING[[#This Row],[Column7]]*_300A_FUNDING[[#This Row],[LOW BIDDER''S UNIT PRICE]]","v":0},{"$f":"_300A_FUNDING[[#This Row],[Column8]]*_300A_FUNDING[[#This Row],[LOW BIDDER''S UNIT PRICE]]","v":0},{"$f":"_300A_FUNDING[[#This Row],[Column9]]*_300A_FUNDING[[#This Row],[LOW BIDDER''S UNIT PRICE]]","v":0},{"$f":"_300A_FUNDING[[#This Row],[Column10]]*_300A_FUNDING[[#This Row],[LOW BIDDER''S UNIT PRICE]]","v":0},{"$f":"_300A_FUNDING[[#This Row],[Column11]]*_300A_FUNDING[[#This Row],[LOW BIDDER''S UNIT PRICE]]","v":0},{"$f":"_300A_FUNDING[[#This Row],[Column12]]*_300A_FUNDING[[#This Row],[LOW BIDDER''S UNIT PRICE]]","v":0},{"$f":"_300A_FUNDING[[#This Row],[Column13]]*_300A_FUNDING[[#This Row],[LOW BIDDER''S UNIT PRICE]]","v":0},{"$f":"_300A_FUNDING[[#This Row],[Column14]]*_300A_FUNDING[[#This Row],[LOW BIDDER''S UNIT PRICE]]","v":0}]
[null,null,null,null,null,null,null,null,null,null,null,null,null,null,null,null,0,{"$f":"_300A_FUNDING[[#This Row],[Column5]]*_300A_FUNDING[[#This Row],[LOW BIDDER''S UNIT PRICE]]","v":0},{"$f":"_300A_FUNDING[[#This Row],[Column6]]*_300A_FUNDING[[#This Row],[LOW BIDDER''S UNIT PRICE]]","v":0},{"$f":"_300A_FUNDING[[#This Row],[Column7]]*_300A_FUNDING[[#This Row],[LOW BIDDER''S UNIT PRICE]]","v":0},{"$f":"_300A_FUNDING[[#This Row],[Column8]]*_300A_FUNDING[[#This Row],[LOW BIDDER''S UNIT PRICE]]","v":0},{"$f":"_300A_FUNDING[[#This Row],[Column9]]*_300A_FUNDING[[#This Row],[LOW BIDDER''S UNIT PRICE]]","v":0},{"$f":"_300A_FUNDING[[#This Row],[Column10]]*_300A_FUNDING[[#This Row],[LOW BIDDER''S UNIT PRICE]]","v":0},{"$f":"_300A_FUNDING[[#This Row],[Column11]]*_300A_FUNDING[[#This Row],[LOW BIDDER''S UNIT PRICE]]","v":0},{"$f":"_300A_FUNDING[[#This Row],[Column12]]*_300A_FUNDING[[#This Row],[LOW BIDDER''S UNIT PRICE]]","v":0},{"$f":"_300A_FUNDING[[#This Row],[Column13]]*_300A_FUNDING[[#This Row],[LOW BIDDER''S UNIT PRICE]]","v":0},{"$f":"_300A_FUNDING[[#This Row],[Column14]]*_300A_FUNDING[[#This Row],[LOW BIDDER''S UNIT PRICE]]","v":0}]
[null,null,null,null,null,null,null,null,null,null,null,null,null,null,null,null,0,{"$f":"_300A_FUNDING[[#This Row],[Column5]]*_300A_FUNDING[[#This Row],[LOW BIDDER''S UNIT PRICE]]","v":0},{"$f":"_300A_FUNDING[[#This Row],[Column6]]*_300A_FUNDING[[#This Row],[LOW BIDDER''S UNIT PRICE]]","v":0},{"$f":"_300A_FUNDING[[#This Row],[Column7]]*_300A_FUNDING[[#This Row],[LOW BIDDER''S UNIT PRICE]]","v":0},{"$f":"_300A_FUNDING[[#This Row],[Column8]]*_300A_FUNDING[[#This Row],[LOW BIDDER''S UNIT PRICE]]","v":0},{"$f":"_300A_FUNDING[[#This Row],[Column9]]*_300A_FUNDING[[#This Row],[LOW BIDDER''S UNIT PRICE]]","v":0},{"$f":"_300A_FUNDING[[#This Row],[Column10]]*_300A_FUNDING[[#This Row],[LOW BIDDER''S UNIT PRICE]]","v":0},{"$f":"_300A_FUNDING[[#This Row],[Column11]]*_300A_FUNDING[[#This Row],[LOW BIDDER''S UNIT PRICE]]","v":0},{"$f":"_300A_FUNDING[[#This Row],[Column12]]*_300A_FUNDING[[#This Row],[LOW BIDDER''S UNIT PRICE]]","v":0},{"$f":"_300A_FUNDING[[#This Row],[Column13]]*_300A_FUNDING[[#This Row],[LOW BIDDER''S UNIT PRICE]]","v":0},{"$f":"_300A_FUNDING[[#This Row],[Column14]]*_300A_FUNDING[[#This Row],[LOW BIDDER''S UNIT PRICE]]","v":0}]
[null,null,null,null,null,null,null,null,null,null,null,null,null,null,null,null,0,{"$f":"_300A_FUNDING[[#This Row],[Column5]]*_300A_FUNDING[[#This Row],[LOW BIDDER''S UNIT PRICE]]","v":0},{"$f":"_300A_FUNDING[[#This Row],[Column6]]*_300A_FUNDING[[#This Row],[LOW BIDDER''S UNIT PRICE]]","v":0},{"$f":"_300A_FUNDING[[#This Row],[Column7]]*_300A_FUNDING[[#This Row],[LOW BIDDER''S UNIT PRICE]]","v":0},{"$f":"_300A_FUNDING[[#This Row],[Column8]]*_300A_FUNDING[[#This Row],[LOW BIDDER''S UNIT PRICE]]","v":0},{"$f":"_300A_FUNDING[[#This Row],[Column9]]*_300A_FUNDING[[#This Row],[LOW BIDDER''S UNIT PRICE]]","v":0},{"$f":"_300A_FUNDING[[#This Row],[Column10]]*_300A_FUNDING[[#This Row],[LOW BIDDER''S UNIT PRICE]]","v":0},{"$f":"_300A_FUNDING[[#This Row],[Column11]]*_300A_FUNDING[[#This Row],[LOW BIDDER''S UNIT PRICE]]","v":0},{"$f":"_300A_FUNDING[[#This Row],[Column12]]*_300A_FUNDING[[#This Row],[LOW BIDDER''S UNIT PRICE]]","v":0},{"$f":"_300A_FUNDING[[#This Row],[Column13]]*_300A_FUNDING[[#This Row],[LOW BIDDER''S UNIT PRICE]]","v":0},{"$f":"_300A_FUNDING[[#This Row],[Column14]]*_300A_FUNDING[[#This Row],[LOW BIDDER''S UNIT PRICE]]","v":0}]
[null,null,null,null,null,null,null,null,null,null,null,null,null,null,null,null,0,{"$f":"_300A_FUNDING[[#This Row],[Column5]]*_300A_FUNDING[[#This Row],[LOW BIDDER''S UNIT PRICE]]","v":0},{"$f":"_300A_FUNDING[[#This Row],[Column6]]*_300A_FUNDING[[#This Row],[LOW BIDDER''S UNIT PRICE]]","v":0},{"$f":"_300A_FUNDING[[#This Row],[Column7]]*_300A_FUNDING[[#This Row],[LOW BIDDER''S UNIT PRICE]]","v":0},{"$f":"_300A_FUNDING[[#This Row],[Column8]]*_300A_FUNDING[[#This Row],[LOW BIDDER''S UNIT PRICE]]","v":0},{"$f":"_300A_FUNDING[[#This Row],[Column9]]*_300A_FUNDING[[#This Row],[LOW BIDDER''S UNIT PRICE]]","v":0},{"$f":"_300A_FUNDING[[#This Row],[Column10]]*_300A_FUNDING[[#This Row],[LOW BIDDER''S UNIT PRICE]]","v":0},{"$f":"_300A_FUNDING[[#This Row],[Column11]]*_300A_FUNDING[[#This Row],[LOW BIDDER''S UNIT PRICE]]","v":0},{"$f":"_300A_FUNDING[[#This Row],[Column12]]*_300A_FUNDING[[#This Row],[LOW BIDDER''S UNIT PRICE]]","v":0},{"$f":"_300A_FUNDING[[#This Row],[Column13]]*_300A_FUNDING[[#This Row],[LOW BIDDER''S UNIT PRICE]]","v":0},{"$f":"_300A_FUNDING[[#This Row],[Column14]]*_300A_FUNDING[[#This Row],[LOW BIDDER''S UNIT PRICE]]","v":0}]
[null,null,null,null,null,null,null,null,null,null,null,null,null,null,null,null,0,{"$f":"_300A_FUNDING[[#This Row],[Column5]]*_300A_FUNDING[[#This Row],[LOW BIDDER''S UNIT PRICE]]","v":0},{"$f":"_300A_FUNDING[[#This Row],[Column6]]*_300A_FUNDING[[#This Row],[LOW BIDDER''S UNIT PRICE]]","v":0},{"$f":"_300A_FUNDING[[#This Row],[Column7]]*_300A_FUNDING[[#This Row],[LOW BIDDER''S UNIT PRICE]]","v":0},{"$f":"_300A_FUNDING[[#This Row],[Column8]]*_300A_FUNDING[[#This Row],[LOW BIDDER''S UNIT PRICE]]","v":0},{"$f":"_300A_FUNDING[[#This Row],[Column9]]*_300A_FUNDING[[#This Row],[LOW BIDDER''S UNIT PRICE]]","v":0},{"$f":"_300A_FUNDING[[#This Row],[Column10]]*_300A_FUNDING[[#This Row],[LOW BIDDER''S UNIT PRICE]]","v":0},{"$f":"_300A_FUNDING[[#This Row],[Column11]]*_300A_FUNDING[[#This Row],[LOW BIDDER''S UNIT PRICE]]","v":0},{"$f":"_300A_FUNDING[[#This Row],[Column12]]*_300A_FUNDING[[#This Row],[LOW BIDDER''S UNIT PRICE]]","v":0},{"$f":"_300A_FUNDING[[#This Row],[Column13]]*_300A_FUNDING[[#This Row],[LOW BIDDER''S UNIT PRICE]]","v":0},{"$f":"_300A_FUNDING[[#This Row],[Column14]]*_300A_FUNDING[[#This Row],[LOW BIDDER''S UNIT PRICE]]","v":0}]
[null,null,null,null,null,null,null,null,null,null,null,null,null,null,null,null,0,{"$f":"_300A_FUNDING[[#This Row],[Column5]]*_300A_FUNDING[[#This Row],[LOW BIDDER''S UNIT PRICE]]","v":0},{"$f":"_300A_FUNDING[[#This Row],[Column6]]*_300A_FUNDING[[#This Row],[LOW BIDDER''S UNIT PRICE]]","v":0},{"$f":"_300A_FUNDING[[#This Row],[Column7]]*_300A_FUNDING[[#This Row],[LOW BIDDER''S UNIT PRICE]]","v":0},{"$f":"_300A_FUNDING[[#This Row],[Column8]]*_300A_FUNDING[[#This Row],[LOW BIDDER''S UNIT PRICE]]","v":0},{"$f":"_300A_FUNDING[[#This Row],[Column9]]*_300A_FUNDING[[#This Row],[LOW BIDDER''S UNIT PRICE]]","v":0},{"$f":"_300A_FUNDING[[#This Row],[Column10]]*_300A_FUNDING[[#This Row],[LOW BIDDER''S UNIT PRICE]]","v":0},{"$f":"_300A_FUNDING[[#This Row],[Column11]]*_300A_FUNDING[[#This Row],[LOW BIDDER''S UNIT PRICE]]","v":0},{"$f":"_300A_FUNDING[[#This Row],[Column12]]*_300A_FUNDING[[#This Row],[LOW BIDDER''S UNIT PRICE]]","v":0},{"$f":"_300A_FUNDING[[#This Row],[Column13]]*_300A_FUNDING[[#This Row],[LOW BIDDER''S UNIT PRICE]]","v":0},{"$f":"_300A_FUNDING[[#This Row],[Column14]]*_300A_FUNDING[[#This Row],[LOW BIDDER''S UNIT PRICE]]","v":0}]
[null,null,null,null,null,null,null,null,null,null,null,null,null,null,null,null,0,{"$f":"_300A_FUNDING[[#This Row],[Column5]]*_300A_FUNDING[[#This Row],[LOW BIDDER''S UNIT PRICE]]","v":0},{"$f":"_300A_FUNDING[[#This Row],[Column6]]*_300A_FUNDING[[#This Row],[LOW BIDDER''S UNIT PRICE]]","v":0},{"$f":"_300A_FUNDING[[#This Row],[Column7]]*_300A_FUNDING[[#This Row],[LOW BIDDER''S UNIT PRICE]]","v":0},{"$f":"_300A_FUNDING[[#This Row],[Column8]]*_300A_FUNDING[[#This Row],[LOW BIDDER''S UNIT PRICE]]","v":0},{"$f":"_300A_FUNDING[[#This Row],[Column9]]*_300A_FUNDING[[#This Row],[LOW BIDDER''S UNIT PRICE]]","v":0},{"$f":"_300A_FUNDING[[#This Row],[Column10]]*_300A_FUNDING[[#This Row],[LOW BIDDER''S UNIT PRICE]]","v":0},{"$f":"_300A_FUNDING[[#This Row],[Column11]]*_300A_FUNDING[[#This Row],[LOW BIDDER''S UNIT PRICE]]","v":0},{"$f":"_300A_FUNDING[[#This Row],[Column12]]*_300A_FUNDING[[#This Row],[LOW BIDDER''S UNIT PRICE]]","v":0},{"$f":"_300A_FUNDING[[#This Row],[Column13]]*_300A_FUNDING[[#This Row],[LOW BIDDER''S UNIT PRICE]]","v":0},{"$f":"_300A_FUNDING[[#This Row],[Column14]]*_300A_FUNDING[[#This Row],[LOW BIDDER''S UNIT PRICE]]","v":0}]
[null,null,null,null,null,null,null,null,null,null,null,null,null,null,null,null,0,{"$f":"_300A_FUNDING[[#This Row],[Column5]]*_300A_FUNDING[[#This Row],[LOW BIDDER''S UNIT PRICE]]","v":0},{"$f":"_300A_FUNDING[[#This Row],[Column6]]*_300A_FUNDING[[#This Row],[LOW BIDDER''S UNIT PRICE]]","v":0},{"$f":"_300A_FUNDING[[#This Row],[Column7]]*_300A_FUNDING[[#This Row],[LOW BIDDER''S UNIT PRICE]]","v":0},{"$f":"_300A_FUNDING[[#This Row],[Column8]]*_300A_FUNDING[[#This Row],[LOW BIDDER''S UNIT PRICE]]","v":0},{"$f":"_300A_FUNDING[[#This Row],[Column9]]*_300A_FUNDING[[#This Row],[LOW BIDDER''S UNIT PRICE]]","v":0},{"$f":"_300A_FUNDING[[#This Row],[Column10]]*_300A_FUNDING[[#This Row],[LOW BIDDER''S UNIT PRICE]]","v":0},{"$f":"_300A_FUNDING[[#This Row],[Column11]]*_300A_FUNDING[[#This Row],[LOW BIDDER''S UNIT PRICE]]","v":0},{"$f":"_300A_FUNDING[[#This Row],[Column12]]*_300A_FUNDING[[#This Row],[LOW BIDDER''S UNIT PRICE]]","v":0},{"$f":"_300A_FUNDING[[#This Row],[Column13]]*_300A_FUNDING[[#This Row],[LOW BIDDER''S UNIT PRICE]]","v":0},{"$f":"_300A_FUNDING[[#This Row],[Column14]]*_300A_FUNDING[[#This Row],[LOW BIDDER''S UNIT PRICE]]","v":0}]
[null,null,null,null,null,null,null,null,null,null,null,null,null,null,null,null,0,{"$f":"_300A_FUNDING[[#This Row],[Column5]]*_300A_FUNDING[[#This Row],[LOW BIDDER''S UNIT PRICE]]","v":0},{"$f":"_300A_FUNDING[[#This Row],[Column6]]*_300A_FUNDING[[#This Row],[LOW BIDDER''S UNIT PRICE]]","v":0},{"$f":"_300A_FUNDING[[#This Row],[Column7]]*_300A_FUNDING[[#This Row],[LOW BIDDER''S UNIT PRICE]]","v":0},{"$f":"_300A_FUNDING[[#This Row],[Column8]]*_300A_FUNDING[[#This Row],[LOW BIDDER''S UNIT PRICE]]","v":0},{"$f":"_300A_FUNDING[[#This Row],[Column9]]*_300A_FUNDING[[#This Row],[LOW BIDDER''S UNIT PRICE]]","v":0},{"$f":"_300A_FUNDING[[#This Row],[Column10]]*_300A_FUNDING[[#This Row],[LOW BIDDER''S UNIT PRICE]]","v":0},{"$f":"_300A_FUNDING[[#This Row],[Column11]]*_300A_FUNDING[[#This Row],[LOW BIDDER''S UNIT PRICE]]","v":0},{"$f":"_300A_FUNDING[[#This Row],[Column12]]*_300A_FUNDING[[#This Row],[LOW BIDDER''S UNIT PRICE]]","v":0},{"$f":"_300A_FUNDING[[#This Row],[Column13]]*_300A_FUNDING[[#This Row],[LOW BIDDER''S UNIT PRICE]]","v":0},{"$f":"_300A_FUNDING[[#This Row],[Column14]]*_300A_FUNDING[[#This Row],[LOW BIDDER''S UNIT PRICE]]","v":0}]
[null,null,null,null,null,null,null,null,null,null,null,null,null,null,null,null,0,{"$f":"_300A_FUNDING[[#This Row],[Column5]]*_300A_FUNDING[[#This Row],[LOW BIDDER''S UNIT PRICE]]","v":0},{"$f":"_300A_FUNDING[[#This Row],[Column6]]*_300A_FUNDING[[#This Row],[LOW BIDDER''S UNIT PRICE]]","v":0},{"$f":"_300A_FUNDING[[#This Row],[Column7]]*_300A_FUNDING[[#This Row],[LOW BIDDER''S UNIT PRICE]]","v":0},{"$f":"_300A_FUNDING[[#This Row],[Column8]]*_300A_FUNDING[[#This Row],[LOW BIDDER''S UNIT PRICE]]","v":0},{"$f":"_300A_FUNDING[[#This Row],[Column9]]*_300A_FUNDING[[#This Row],[LOW BIDDER''S UNIT PRICE]]","v":0},{"$f":"_300A_FUNDING[[#This Row],[Column10]]*_300A_FUNDING[[#This Row],[LOW BIDDER''S UNIT PRICE]]","v":0},{"$f":"_300A_FUNDING[[#This Row],[Column11]]*_300A_FUNDING[[#This Row],[LOW BIDDER''S UNIT PRICE]]","v":0},{"$f":"_300A_FUNDING[[#This Row],[Column12]]*_300A_FUNDING[[#This Row],[LOW BIDDER''S UNIT PRICE]]","v":0},{"$f":"_300A_FUNDING[[#This Row],[Column13]]*_300A_FUNDING[[#This Row],[LOW BIDDER''S UNIT PRICE]]","v":0},{"$f":"_300A_FUNDING[[#This Row],[Column14]]*_300A_FUNDING[[#This Row],[LOW BIDDER''S UNIT PRICE]]","v":0}]
[null,null,null,null,null,null,null,null,null,null,null,null,null,null,null,null,0,{"$f":"_300A_FUNDING[[#This Row],[Column5]]*_300A_FUNDING[[#This Row],[LOW BIDDER''S UNIT PRICE]]","v":0},{"$f":"_300A_FUNDING[[#This Row],[Column6]]*_300A_FUNDING[[#This Row],[LOW BIDDER''S UNIT PRICE]]","v":0},{"$f":"_300A_FUNDING[[#This Row],[Column7]]*_300A_FUNDING[[#This Row],[LOW BIDDER''S UNIT PRICE]]","v":0},{"$f":"_300A_FUNDING[[#This Row],[Column8]]*_300A_FUNDING[[#This Row],[LOW BIDDER''S UNIT PRICE]]","v":0},{"$f":"_300A_FUNDING[[#This Row],[Column9]]*_300A_FUNDING[[#This Row],[LOW BIDDER''S UNIT PRICE]]","v":0},{"$f":"_300A_FUNDING[[#This Row],[Column10]]*_300A_FUNDING[[#This Row],[LOW BIDDER''S UNIT PRICE]]","v":0},{"$f":"_300A_FUNDING[[#This Row],[Column11]]*_300A_FUNDING[[#This Row],[LOW BIDDER''S UNIT PRICE]]","v":0},{"$f":"_300A_FUNDING[[#This Row],[Column12]]*_300A_FUNDING[[#This Row],[LOW BIDDER''S UNIT PRICE]]","v":0},{"$f":"_300A_FUNDING[[#This Row],[Column13]]*_300A_FUNDING[[#This Row],[LOW BIDDER''S UNIT PRICE]]","v":0},{"$f":"_300A_FUNDING[[#This Row],[Column14]]*_300A_FUNDING[[#This Row],[LOW BIDDER''S UNIT PRICE]]","v":0}]
[null,null,null,null,null,null,null,null,null,null,null,null,null,null,null,null,0,{"$f":"_300A_FUNDING[[#This Row],[Column5]]*_300A_FUNDING[[#This Row],[LOW BIDDER''S UNIT PRICE]]","v":0},{"$f":"_300A_FUNDING[[#This Row],[Column6]]*_300A_FUNDING[[#This Row],[LOW BIDDER''S UNIT PRICE]]","v":0},{"$f":"_300A_FUNDING[[#This Row],[Column7]]*_300A_FUNDING[[#This Row],[LOW BIDDER''S UNIT PRICE]]","v":0},{"$f":"_300A_FUNDING[[#This Row],[Column8]]*_300A_FUNDING[[#This Row],[LOW BIDDER''S UNIT PRICE]]","v":0},{"$f":"_300A_FUNDING[[#This Row],[Column9]]*_300A_FUNDING[[#This Row],[LOW BIDDER''S UNIT PRICE]]","v":0},{"$f":"_300A_FUNDING[[#This Row],[Column10]]*_300A_FUNDING[[#This Row],[LOW BIDDER''S UNIT PRICE]]","v":0},{"$f":"_300A_FUNDING[[#This Row],[Column11]]*_300A_FUNDING[[#This Row],[LOW BIDDER''S UNIT PRICE]]","v":0},{"$f":"_300A_FUNDING[[#This Row],[Column12]]*_300A_FUNDING[[#This Row],[LOW BIDDER''S UNIT PRICE]]","v":0},{"$f":"_300A_FUNDING[[#This Row],[Column13]]*_300A_FUNDING[[#This Row],[LOW BIDDER''S UNIT PRICE]]","v":0},{"$f":"_300A_FUNDING[[#This Row],[Column14]]*_300A_FUNDING[[#This Row],[LOW BIDDER''S UNIT PRICE]]","v":0}]
[null,null,null,null,null,null,null,null,null,null,null,null,null,null,null,null,0,{"$f":"_300A_FUNDING[[#This Row],[Column5]]*_300A_FUNDING[[#This Row],[LOW BIDDER''S UNIT PRICE]]","v":0},{"$f":"_300A_FUNDING[[#This Row],[Column6]]*_300A_FUNDING[[#This Row],[LOW BIDDER''S UNIT PRICE]]","v":0},{"$f":"_300A_FUNDING[[#This Row],[Column7]]*_300A_FUNDING[[#This Row],[LOW BIDDER''S UNIT PRICE]]","v":0},{"$f":"_300A_FUNDING[[#This Row],[Column8]]*_300A_FUNDING[[#This Row],[LOW BIDDER''S UNIT PRICE]]","v":0},{"$f":"_300A_FUNDING[[#This Row],[Column9]]*_300A_FUNDING[[#This Row],[LOW BIDDER''S UNIT PRICE]]","v":0},{"$f":"_300A_FUNDING[[#This Row],[Column10]]*_300A_FUNDING[[#This Row],[LOW BIDDER''S UNIT PRICE]]","v":0},{"$f":"_300A_FUNDING[[#This Row],[Column11]]*_300A_FUNDING[[#This Row],[LOW BIDDER''S UNIT PRICE]]","v":0},{"$f":"_300A_FUNDING[[#This Row],[Column12]]*_300A_FUNDING[[#This Row],[LOW BIDDER''S UNIT PRICE]]","v":0},{"$f":"_300A_FUNDING[[#This Row],[Column13]]*_300A_FUNDING[[#This Row],[LOW BIDDER''S UNIT PRICE]]","v":0},{"$f":"_300A_FUNDING[[#This Row],[Column14]]*_300A_FUNDING[[#This Row],[LOW BIDDER''S UNIT PRICE]]","v":0}]
[null,null,null,null,null,null,null,null,null,null,null,null,null,null,null,null,0,{"$f":"_300A_FUNDING[[#This Row],[Column5]]*_300A_FUNDING[[#This Row],[LOW BIDDER''S UNIT PRICE]]","v":0},{"$f":"_300A_FUNDING[[#This Row],[Column6]]*_300A_FUNDING[[#This Row],[LOW BIDDER''S UNIT PRICE]]","v":0},{"$f":"_300A_FUNDING[[#This Row],[Column7]]*_300A_FUNDING[[#This Row],[LOW BIDDER''S UNIT PRICE]]","v":0},{"$f":"_300A_FUNDING[[#This Row],[Column8]]*_300A_FUNDING[[#This Row],[LOW BIDDER''S UNIT PRICE]]","v":0},{"$f":"_300A_FUNDING[[#This Row],[Column9]]*_300A_FUNDING[[#This Row],[LOW BIDDER''S UNIT PRICE]]","v":0},{"$f":"_300A_FUNDING[[#This Row],[Column10]]*_300A_FUNDING[[#This Row],[LOW BIDDER''S UNIT PRICE]]","v":0},{"$f":"_300A_FUNDING[[#This Row],[Column11]]*_300A_FUNDING[[#This Row],[LOW BIDDER''S UNIT PRICE]]","v":0},{"$f":"_300A_FUNDING[[#This Row],[Column12]]*_300A_FUNDING[[#This Row],[LOW BIDDER''S UNIT PRICE]]","v":0},{"$f":"_300A_FUNDING[[#This Row],[Column13]]*_300A_FUNDING[[#This Row],[LOW BIDDER''S UNIT PRICE]]","v":0},{"$f":"_300A_FUNDING[[#This Row],[Column14]]*_300A_FUNDING[[#This Row],[LOW BIDDER''S UNIT PRICE]]","v":0}]
[null,null,null,null,null,null,null,null,null,null,null,null,null,null,null,null,0,{"$f":"_300A_FUNDING[[#This Row],[Column5]]*_300A_FUNDING[[#This Row],[LOW BIDDER''S UNIT PRICE]]","v":0},{"$f":"_300A_FUNDING[[#This Row],[Column6]]*_300A_FUNDING[[#This Row],[LOW BIDDER''S UNIT PRICE]]","v":0},{"$f":"_300A_FUNDING[[#This Row],[Column7]]*_300A_FUNDING[[#This Row],[LOW BIDDER''S UNIT PRICE]]","v":0},{"$f":"_300A_FUNDING[[#This Row],[Column8]]*_300A_FUNDING[[#This Row],[LOW BIDDER''S UNIT PRICE]]","v":0},{"$f":"_300A_FUNDING[[#This Row],[Column9]]*_300A_FUNDING[[#This Row],[LOW BIDDER''S UNIT PRICE]]","v":0},{"$f":"_300A_FUNDING[[#This Row],[Column10]]*_300A_FUNDING[[#This Row],[LOW BIDDER''S UNIT PRICE]]","v":0},{"$f":"_300A_FUNDING[[#This Row],[Column11]]*_300A_FUNDING[[#This Row],[LOW BIDDER''S UNIT PRICE]]","v":0},{"$f":"_300A_FUNDING[[#This Row],[Column12]]*_300A_FUNDING[[#This Row],[LOW BIDDER''S UNIT PRICE]]","v":0},{"$f":"_300A_FUNDING[[#This Row],[Column13]]*_300A_FUNDING[[#This Row],[LOW BIDDER''S UNIT PRICE]]","v":0},{"$f":"_300A_FUNDING[[#This Row],[Column14]]*_300A_FUNDING[[#This Row],[LOW BIDDER''S UNIT PRICE]]","v":0}]
[null,null,null,null,null,null,null,null,null,null,null,null,null,null,null,null,0,{"$f":"_300A_FUNDING[[#This Row],[Column5]]*_300A_FUNDING[[#This Row],[LOW BIDDER''S UNIT PRICE]]","v":0},{"$f":"_300A_FUNDING[[#This Row],[Column6]]*_300A_FUNDING[[#This Row],[LOW BIDDER''S UNIT PRICE]]","v":0},{"$f":"_300A_FUNDING[[#This Row],[Column7]]*_300A_FUNDING[[#This Row],[LOW BIDDER''S UNIT PRICE]]","v":0},{"$f":"_300A_FUNDING[[#This Row],[Column8]]*_300A_FUNDING[[#This Row],[LOW BIDDER''S UNIT PRICE]]","v":0},{"$f":"_300A_FUNDING[[#This Row],[Column9]]*_300A_FUNDING[[#This Row],[LOW BIDDER''S UNIT PRICE]]","v":0},{"$f":"_300A_FUNDING[[#This Row],[Column10]]*_300A_FUNDING[[#This Row],[LOW BIDDER''S UNIT PRICE]]","v":0},{"$f":"_300A_FUNDING[[#This Row],[Column11]]*_300A_FUNDING[[#This Row],[LOW BIDDER''S UNIT PRICE]]","v":0},{"$f":"_300A_FUNDING[[#This Row],[Column12]]*_300A_FUNDING[[#This Row],[LOW BIDDER''S UNIT PRICE]]","v":0},{"$f":"_300A_FUNDING[[#This Row],[Column13]]*_300A_FUNDING[[#This Row],[LOW BIDDER''S UNIT PRICE]]","v":0},{"$f":"_300A_FUNDING[[#This Row],[Column14]]*_300A_FUNDING[[#This Row],[LOW BIDDER''S UNIT PRICE]]","v":0}]
[null,null,null,null,null,null,null,null,null,null,null,null,null,null,null,null,0,{"$f":"_300A_FUNDING[[#This Row],[Column5]]*_300A_FUNDING[[#This Row],[LOW BIDDER''S UNIT PRICE]]","v":0},{"$f":"_300A_FUNDING[[#This Row],[Column6]]*_300A_FUNDING[[#This Row],[LOW BIDDER''S UNIT PRICE]]","v":0},{"$f":"_300A_FUNDING[[#This Row],[Column7]]*_300A_FUNDING[[#This Row],[LOW BIDDER''S UNIT PRICE]]","v":0},{"$f":"_300A_FUNDING[[#This Row],[Column8]]*_300A_FUNDING[[#This Row],[LOW BIDDER''S UNIT PRICE]]","v":0},{"$f":"_300A_FUNDING[[#This Row],[Column9]]*_300A_FUNDING[[#This Row],[LOW BIDDER''S UNIT PRICE]]","v":0},{"$f":"_300A_FUNDING[[#This Row],[Column10]]*_300A_FUNDING[[#This Row],[LOW BIDDER''S UNIT PRICE]]","v":0},{"$f":"_300A_FUNDING[[#This Row],[Column11]]*_300A_FUNDING[[#This Row],[LOW BIDDER''S UNIT PRICE]]","v":0},{"$f":"_300A_FUNDING[[#This Row],[Column12]]*_300A_FUNDING[[#This Row],[LOW BIDDER''S UNIT PRICE]]","v":0},{"$f":"_300A_FUNDING[[#This Row],[Column13]]*_300A_FUNDING[[#This Row],[LOW BIDDER''S UNIT PRICE]]","v":0},{"$f":"_300A_FUNDING[[#This Row],[Column14]]*_300A_FUNDING[[#This Row],[LOW BIDDER''S UNIT PRICE]]","v":0}]
[null,null,null,null,null,null,null,null,null,null,null,null,null,null,null,null,0,{"$f":"_300A_FUNDING[[#This Row],[Column5]]*_300A_FUNDING[[#This Row],[LOW BIDDER''S UNIT PRICE]]","v":0},{"$f":"_300A_FUNDING[[#This Row],[Column6]]*_300A_FUNDING[[#This Row],[LOW BIDDER''S UNIT PRICE]]","v":0},{"$f":"_300A_FUNDING[[#This Row],[Column7]]*_300A_FUNDING[[#This Row],[LOW BIDDER''S UNIT PRICE]]","v":0},{"$f":"_300A_FUNDING[[#This Row],[Column8]]*_300A_FUNDING[[#This Row],[LOW BIDDER''S UNIT PRICE]]","v":0},{"$f":"_300A_FUNDING[[#This Row],[Column9]]*_300A_FUNDING[[#This Row],[LOW BIDDER''S UNIT PRICE]]","v":0},{"$f":"_300A_FUNDING[[#This Row],[Column10]]*_300A_FUNDING[[#This Row],[LOW BIDDER''S UNIT PRICE]]","v":0},{"$f":"_300A_FUNDING[[#This Row],[Column11]]*_300A_FUNDING[[#This Row],[LOW BIDDER''S UNIT PRICE]]","v":0},{"$f":"_300A_FUNDING[[#This Row],[Column12]]*_300A_FUNDING[[#This Row],[LOW BIDDER''S UNIT PRICE]]","v":0},{"$f":"_300A_FUNDING[[#This Row],[Column13]]*_300A_FUNDING[[#This Row],[LOW BIDDER''S UNIT PRICE]]","v":0},{"$f":"_300A_FUNDING[[#This Row],[Column14]]*_300A_FUNDING[[#This Row],[LOW BIDDER''S UNIT PRICE]]","v":0}]
[null,null,null,null,null,null,null,null,null,null,null,null,null,null,null,null,0,{"$f":"_300A_FUNDING[[#This Row],[Column5]]*_300A_FUNDING[[#This Row],[LOW BIDDER''S UNIT PRICE]]","v":0},{"$f":"_300A_FUNDING[[#This Row],[Column6]]*_300A_FUNDING[[#This Row],[LOW BIDDER''S UNIT PRICE]]","v":0},{"$f":"_300A_FUNDING[[#This Row],[Column7]]*_300A_FUNDING[[#This Row],[LOW BIDDER''S UNIT PRICE]]","v":0},{"$f":"_300A_FUNDING[[#This Row],[Column8]]*_300A_FUNDING[[#This Row],[LOW BIDDER''S UNIT PRICE]]","v":0},{"$f":"_300A_FUNDING[[#This Row],[Column9]]*_300A_FUNDING[[#This Row],[LOW BIDDER''S UNIT PRICE]]","v":0},{"$f":"_300A_FUNDING[[#This Row],[Column10]]*_300A_FUNDING[[#This Row],[LOW BIDDER''S UNIT PRICE]]","v":0},{"$f":"_300A_FUNDING[[#This Row],[Column11]]*_300A_FUNDING[[#This Row],[LOW BIDDER''S UNIT PRICE]]","v":0},{"$f":"_300A_FUNDING[[#This Row],[Column12]]*_300A_FUNDING[[#This Row],[LOW BIDDER''S UNIT PRICE]]","v":0},{"$f":"_300A_FUNDING[[#This Row],[Column13]]*_300A_FUNDING[[#This Row],[LOW BIDDER''S UNIT PRICE]]","v":0},{"$f":"_300A_FUNDING[[#This Row],[Column14]]*_300A_FUNDING[[#This Row],[LOW BIDDER''S UNIT PRICE]]","v":0}]
[null,null,null,null,null,null,null,null,null,null,null,null,null,null,null,null,0,{"$f":"_300A_FUNDING[[#This Row],[Column5]]*_300A_FUNDING[[#This Row],[LOW BIDDER''S UNIT PRICE]]","v":0},{"$f":"_300A_FUNDING[[#This Row],[Column6]]*_300A_FUNDING[[#This Row],[LOW BIDDER''S UNIT PRICE]]","v":0},{"$f":"_300A_FUNDING[[#This Row],[Column7]]*_300A_FUNDING[[#This Row],[LOW BIDDER''S UNIT PRICE]]","v":0},{"$f":"_300A_FUNDING[[#This Row],[Column8]]*_300A_FUNDING[[#This Row],[LOW BIDDER''S UNIT PRICE]]","v":0},{"$f":"_300A_FUNDING[[#This Row],[Column9]]*_300A_FUNDING[[#This Row],[LOW BIDDER''S UNIT PRICE]]","v":0},{"$f":"_300A_FUNDING[[#This Row],[Column10]]*_300A_FUNDING[[#This Row],[LOW BIDDER''S UNIT PRICE]]","v":0},{"$f":"_300A_FUNDING[[#This Row],[Column11]]*_300A_FUNDING[[#This Row],[LOW BIDDER''S UNIT PRICE]]","v":0},{"$f":"_300A_FUNDING[[#This Row],[Column12]]*_300A_FUNDING[[#This Row],[LOW BIDDER''S UNIT PRICE]]","v":0},{"$f":"_300A_FUNDING[[#This Row],[Column13]]*_300A_FUNDING[[#This Row],[LOW BIDDER''S UNIT PRICE]]","v":0},{"$f":"_300A_FUNDING[[#This Row],[Column14]]*_300A_FUNDING[[#This Row],[LOW BIDDER''S UNIT PRICE]]","v":0}]
[null,null,null,null,null,null,null,null,null,null,null,null,null,null,null,null,0,{"$f":"_300A_FUNDING[[#This Row],[Column5]]*_300A_FUNDING[[#This Row],[LOW BIDDER''S UNIT PRICE]]","v":0},{"$f":"_300A_FUNDING[[#This Row],[Column6]]*_300A_FUNDING[[#This Row],[LOW BIDDER''S UNIT PRICE]]","v":0},{"$f":"_300A_FUNDING[[#This Row],[Column7]]*_300A_FUNDING[[#This Row],[LOW BIDDER''S UNIT PRICE]]","v":0},{"$f":"_300A_FUNDING[[#This Row],[Column8]]*_300A_FUNDING[[#This Row],[LOW BIDDER''S UNIT PRICE]]","v":0},{"$f":"_300A_FUNDING[[#This Row],[Column9]]*_300A_FUNDING[[#This Row],[LOW BIDDER''S UNIT PRICE]]","v":0},{"$f":"_300A_FUNDING[[#This Row],[Column10]]*_300A_FUNDING[[#This Row],[LOW BIDDER''S UNIT PRICE]]","v":0},{"$f":"_300A_FUNDING[[#This Row],[Column11]]*_300A_FUNDING[[#This Row],[LOW BIDDER''S UNIT PRICE]]","v":0},{"$f":"_300A_FUNDING[[#This Row],[Column12]]*_300A_FUNDING[[#This Row],[LOW BIDDER''S UNIT PRICE]]","v":0},{"$f":"_300A_FUNDING[[#This Row],[Column13]]*_300A_FUNDING[[#This Row],[LOW BIDDER''S UNIT PRICE]]","v":0},{"$f":"_300A_FUNDING[[#This Row],[Column14]]*_300A_FUNDING[[#This Row],[LOW BIDDER''S UNIT PRICE]]","v":0}]
[null,null,null,null,null,null,null,null,null,null,null,null,null,null,null,null,0,{"$f":"_300A_FUNDING[[#This Row],[Column5]]*_300A_FUNDING[[#This Row],[LOW BIDDER''S UNIT PRICE]]","v":0},{"$f":"_300A_FUNDING[[#This Row],[Column6]]*_300A_FUNDING[[#This Row],[LOW BIDDER''S UNIT PRICE]]","v":0},{"$f":"_300A_FUNDING[[#This Row],[Column7]]*_300A_FUNDING[[#This Row],[LOW BIDDER''S UNIT PRICE]]","v":0},{"$f":"_300A_FUNDING[[#This Row],[Column8]]*_300A_FUNDING[[#This Row],[LOW BIDDER''S UNIT PRICE]]","v":0},{"$f":"_300A_FUNDING[[#This Row],[Column9]]*_300A_FUNDING[[#This Row],[LOW BIDDER''S UNIT PRICE]]","v":0},{"$f":"_300A_FUNDING[[#This Row],[Column10]]*_300A_FUNDING[[#This Row],[LOW BIDDER''S UNIT PRICE]]","v":0},{"$f":"_300A_FUNDING[[#This Row],[Column11]]*_300A_FUNDING[[#This Row],[LOW BIDDER''S UNIT PRICE]]","v":0},{"$f":"_300A_FUNDING[[#This Row],[Column12]]*_300A_FUNDING[[#This Row],[LOW BIDDER''S UNIT PRICE]]","v":0},{"$f":"_300A_FUNDING[[#This Row],[Column13]]*_300A_FUNDING[[#This Row],[LOW BIDDER''S UNIT PRICE]]","v":0},{"$f":"_300A_FUNDING[[#This Row],[Column14]]*_300A_FUNDING[[#This Row],[LOW BIDDER''S UNIT PRICE]]","v":0}]
[null,null,null,null,null,null,null,null,null,null,null,null,null,null,null,null,0,{"$f":"_300A_FUNDING[[#This Row],[Column5]]*_300A_FUNDING[[#This Row],[LOW BIDDER''S UNIT PRICE]]","v":0},{"$f":"_300A_FUNDING[[#This Row],[Column6]]*_300A_FUNDING[[#This Row],[LOW BIDDER''S UNIT PRICE]]","v":0},{"$f":"_300A_FUNDING[[#This Row],[Column7]]*_300A_FUNDING[[#This Row],[LOW BIDDER''S UNIT PRICE]]","v":0},{"$f":"_300A_FUNDING[[#This Row],[Column8]]*_300A_FUNDING[[#This Row],[LOW BIDDER''S UNIT PRICE]]","v":0},{"$f":"_300A_FUNDING[[#This Row],[Column9]]*_300A_FUNDING[[#This Row],[LOW BIDDER''S UNIT PRICE]]","v":0},{"$f":"_300A_FUNDING[[#This Row],[Column10]]*_300A_FUNDING[[#This Row],[LOW BIDDER''S UNIT PRICE]]","v":0},{"$f":"_300A_FUNDING[[#This Row],[Column11]]*_300A_FUNDING[[#This Row],[LOW BIDDER''S UNIT PRICE]]","v":0},{"$f":"_300A_FUNDING[[#This Row],[Column12]]*_300A_FUNDING[[#This Row],[LOW BIDDER''S UNIT PRICE]]","v":0},{"$f":"_300A_FUNDING[[#This Row],[Column13]]*_300A_FUNDING[[#This Row],[LOW BIDDER''S UNIT PRICE]]","v":0},{"$f":"_300A_FUNDING[[#This Row],[Column14]]*_300A_FUNDING[[#This Row],[LOW BIDDER''S UNIT PRICE]]","v":0}]
[null,null,null,null,null,null,null,null,null,null,null,null,null,null,null,null,0,{"$f":"_300A_FUNDING[[#This Row],[Column5]]*_300A_FUNDING[[#This Row],[LOW BIDDER''S UNIT PRICE]]","v":0},{"$f":"_300A_FUNDING[[#This Row],[Column6]]*_300A_FUNDING[[#This Row],[LOW BIDDER''S UNIT PRICE]]","v":0},{"$f":"_300A_FUNDING[[#This Row],[Column7]]*_300A_FUNDING[[#This Row],[LOW BIDDER''S UNIT PRICE]]","v":0},{"$f":"_300A_FUNDING[[#This Row],[Column8]]*_300A_FUNDING[[#This Row],[LOW BIDDER''S UNIT PRICE]]","v":0},{"$f":"_300A_FUNDING[[#This Row],[Column9]]*_300A_FUNDING[[#This Row],[LOW BIDDER''S UNIT PRICE]]","v":0},{"$f":"_300A_FUNDING[[#This Row],[Column10]]*_300A_FUNDING[[#This Row],[LOW BIDDER''S UNIT PRICE]]","v":0},{"$f":"_300A_FUNDING[[#This Row],[Column11]]*_300A_FUNDING[[#This Row],[LOW BIDDER''S UNIT PRICE]]","v":0},{"$f":"_300A_FUNDING[[#This Row],[Column12]]*_300A_FUNDING[[#This Row],[LOW BIDDER''S UNIT PRICE]]","v":0},{"$f":"_300A_FUNDING[[#This Row],[Column13]]*_300A_FUNDING[[#This Row],[LOW BIDDER''S UNIT PRICE]]","v":0},{"$f":"_300A_FUNDING[[#This Row],[Column14]]*_300A_FUNDING[[#This Row],[LOW BIDDER''S UNIT PRICE]]","v":0}]
[null,null,null,null,null,null,null,null,null,null,null,null,null,null,null,null,0,{"$f":"_300A_FUNDING[[#This Row],[Column5]]*_300A_FUNDING[[#This Row],[LOW BIDDER''S UNIT PRICE]]","v":0},{"$f":"_300A_FUNDING[[#This Row],[Column6]]*_300A_FUNDING[[#This Row],[LOW BIDDER''S UNIT PRICE]]","v":0},{"$f":"_300A_FUNDING[[#This Row],[Column7]]*_300A_FUNDING[[#This Row],[LOW BIDDER''S UNIT PRICE]]","v":0},{"$f":"_300A_FUNDING[[#This Row],[Column8]]*_300A_FUNDING[[#This Row],[LOW BIDDER''S UNIT PRICE]]","v":0},{"$f":"_300A_FUNDING[[#This Row],[Column9]]*_300A_FUNDING[[#This Row],[LOW BIDDER''S UNIT PRICE]]","v":0},{"$f":"_300A_FUNDING[[#This Row],[Column10]]*_300A_FUNDING[[#This Row],[LOW BIDDER''S UNIT PRICE]]","v":0},{"$f":"_300A_FUNDING[[#This Row],[Column11]]*_300A_FUNDING[[#This Row],[LOW BIDDER''S UNIT PRICE]]","v":0},{"$f":"_300A_FUNDING[[#This Row],[Column12]]*_300A_FUNDING[[#This Row],[LOW BIDDER''S UNIT PRICE]]","v":0},{"$f":"_300A_FUNDING[[#This Row],[Column13]]*_300A_FUNDING[[#This Row],[LOW BIDDER''S UNIT PRICE]]","v":0},{"$f":"_300A_FUNDING[[#This Row],[Column14]]*_300A_FUNDING[[#This Row],[LOW BIDDER''S UNIT PRICE]]","v":0}]
[null,null,null,null,null,null,null,null,null,null,null,null,null,null,null,null,0,{"$f":"_300A_FUNDING[[#This Row],[Column5]]*_300A_FUNDING[[#This Row],[LOW BIDDER''S UNIT PRICE]]","v":0},{"$f":"_300A_FUNDING[[#This Row],[Column6]]*_300A_FUNDING[[#This Row],[LOW BIDDER''S UNIT PRICE]]","v":0},{"$f":"_300A_FUNDING[[#This Row],[Column7]]*_300A_FUNDING[[#This Row],[LOW BIDDER''S UNIT PRICE]]","v":0},{"$f":"_300A_FUNDING[[#This Row],[Column8]]*_300A_FUNDING[[#This Row],[LOW BIDDER''S UNIT PRICE]]","v":0},{"$f":"_300A_FUNDING[[#This Row],[Column9]]*_300A_FUNDING[[#This Row],[LOW BIDDER''S UNIT PRICE]]","v":0},{"$f":"_300A_FUNDING[[#This Row],[Column10]]*_300A_FUNDING[[#This Row],[LOW BIDDER''S UNIT PRICE]]","v":0},{"$f":"_300A_FUNDING[[#This Row],[Column11]]*_300A_FUNDING[[#This Row],[LOW BIDDER''S UNIT PRICE]]","v":0},{"$f":"_300A_FUNDING[[#This Row],[Column12]]*_300A_FUNDING[[#This Row],[LOW BIDDER''S UNIT PRICE]]","v":0},{"$f":"_300A_FUNDING[[#This Row],[Column13]]*_300A_FUNDING[[#This Row],[LOW BIDDER''S UNIT PRICE]]","v":0},{"$f":"_300A_FUNDING[[#This Row],[Column14]]*_300A_FUNDING[[#This Row],[LOW BIDDER''S UNIT PRICE]]","v":0}]
[null,null,null,null,null,null,null,null,null,null,null,null,null,null,null,null,0,{"$f":"_300A_FUNDING[[#This Row],[Column5]]*_300A_FUNDING[[#This Row],[LOW BIDDER''S UNIT PRICE]]","v":0},{"$f":"_300A_FUNDING[[#This Row],[Column6]]*_300A_FUNDING[[#This Row],[LOW BIDDER''S UNIT PRICE]]","v":0},{"$f":"_300A_FUNDING[[#This Row],[Column7]]*_300A_FUNDING[[#This Row],[LOW BIDDER''S UNIT PRICE]]","v":0},{"$f":"_300A_FUNDING[[#This Row],[Column8]]*_300A_FUNDING[[#This Row],[LOW BIDDER''S UNIT PRICE]]","v":0},{"$f":"_300A_FUNDING[[#This Row],[Column9]]*_300A_FUNDING[[#This Row],[LOW BIDDER''S UNIT PRICE]]","v":0},{"$f":"_300A_FUNDING[[#This Row],[Column10]]*_300A_FUNDING[[#This Row],[LOW BIDDER''S UNIT PRICE]]","v":0},{"$f":"_300A_FUNDING[[#This Row],[Column11]]*_300A_FUNDING[[#This Row],[LOW BIDDER''S UNIT PRICE]]","v":0},{"$f":"_300A_FUNDING[[#This Row],[Column12]]*_300A_FUNDING[[#This Row],[LOW BIDDER''S UNIT PRICE]]","v":0},{"$f":"_300A_FUNDING[[#This Row],[Column13]]*_300A_FUNDING[[#This Row],[LOW BIDDER''S UNIT PRICE]]","v":0},{"$f":"_300A_FUNDING[[#This Row],[Column14]]*_300A_FUNDING[[#This Row],[LOW BIDDER''S UNIT PRICE]]","v":0}]
[null,null,null,null,null,null,null,null,null,null,null,null,null,null,null,null,0,{"$f":"_300A_FUNDING[[#This Row],[Column5]]*_300A_FUNDING[[#This Row],[LOW BIDDER''S UNIT PRICE]]","v":0},{"$f":"_300A_FUNDING[[#This Row],[Column6]]*_300A_FUNDING[[#This Row],[LOW BIDDER''S UNIT PRICE]]","v":0},{"$f":"_300A_FUNDING[[#This Row],[Column7]]*_300A_FUNDING[[#This Row],[LOW BIDDER''S UNIT PRICE]]","v":0},{"$f":"_300A_FUNDING[[#This Row],[Column8]]*_300A_FUNDING[[#This Row],[LOW BIDDER''S UNIT PRICE]]","v":0},{"$f":"_300A_FUNDING[[#This Row],[Column9]]*_300A_FUNDING[[#This Row],[LOW BIDDER''S UNIT PRICE]]","v":0},{"$f":"_300A_FUNDING[[#This Row],[Column10]]*_300A_FUNDING[[#This Row],[LOW BIDDER''S UNIT PRICE]]","v":0},{"$f":"_300A_FUNDING[[#This Row],[Column11]]*_300A_FUNDING[[#This Row],[LOW BIDDER''S UNIT PRICE]]","v":0},{"$f":"_300A_FUNDING[[#This Row],[Column12]]*_300A_FUNDING[[#This Row],[LOW BIDDER''S UNIT PRICE]]","v":0},{"$f":"_300A_FUNDING[[#This Row],[Column13]]*_300A_FUNDING[[#This Row],[LOW BIDDER''S UNIT PRICE]]","v":0},{"$f":"_300A_FUNDING[[#This Row],[Column14]]*_300A_FUNDING[[#This Row],[LOW BIDDER''S UNIT PRICE]]","v":0}]
[null,null,null,null,null,null,null,null,null,null,null,null,null,null,null,null,0,{"$f":"_300A_FUNDING[[#This Row],[Column5]]*_300A_FUNDING[[#This Row],[LOW BIDDER''S UNIT PRICE]]","v":0},{"$f":"_300A_FUNDING[[#This Row],[Column6]]*_300A_FUNDING[[#This Row],[LOW BIDDER''S UNIT PRICE]]","v":0},{"$f":"_300A_FUNDING[[#This Row],[Column7]]*_300A_FUNDING[[#This Row],[LOW BIDDER''S UNIT PRICE]]","v":0},{"$f":"_300A_FUNDING[[#This Row],[Column8]]*_300A_FUNDING[[#This Row],[LOW BIDDER''S UNIT PRICE]]","v":0},{"$f":"_300A_FUNDING[[#This Row],[Column9]]*_300A_FUNDING[[#This Row],[LOW BIDDER''S UNIT PRICE]]","v":0},{"$f":"_300A_FUNDING[[#This Row],[Column10]]*_300A_FUNDING[[#This Row],[LOW BIDDER''S UNIT PRICE]]","v":0},{"$f":"_300A_FUNDING[[#This Row],[Column11]]*_300A_FUNDING[[#This Row],[LOW BIDDER''S UNIT PRICE]]","v":0},{"$f":"_300A_FUNDING[[#This Row],[Column12]]*_300A_FUNDING[[#This Row],[LOW BIDDER''S UNIT PRICE]]","v":0},{"$f":"_300A_FUNDING[[#This Row],[Column13]]*_300A_FUNDING[[#This Row],[LOW BIDDER''S UNIT PRICE]]","v":0},{"$f":"_300A_FUNDING[[#This Row],[Column14]]*_300A_FUNDING[[#This Row],[LOW BIDDER''S UNIT PRICE]]","v":0}]
[null,null,null,null,null,null,null,null,null,null,null,null,null,null,null,null,0,{"$f":"_300A_FUNDING[[#This Row],[Column5]]*_300A_FUNDING[[#This Row],[LOW BIDDER''S UNIT PRICE]]","v":0},{"$f":"_300A_FUNDING[[#This Row],[Column6]]*_300A_FUNDING[[#This Row],[LOW BIDDER''S UNIT PRICE]]","v":0},{"$f":"_300A_FUNDING[[#This Row],[Column7]]*_300A_FUNDING[[#This Row],[LOW BIDDER''S UNIT PRICE]]","v":0},{"$f":"_300A_FUNDING[[#This Row],[Column8]]*_300A_FUNDING[[#This Row],[LOW BIDDER''S UNIT PRICE]]","v":0},{"$f":"_300A_FUNDING[[#This Row],[Column9]]*_300A_FUNDING[[#This Row],[LOW BIDDER''S UNIT PRICE]]","v":0},{"$f":"_300A_FUNDING[[#This Row],[Column10]]*_300A_FUNDING[[#This Row],[LOW BIDDER''S UNIT PRICE]]","v":0},{"$f":"_300A_FUNDING[[#This Row],[Column11]]*_300A_FUNDING[[#This Row],[LOW BIDDER''S UNIT PRICE]]","v":0},{"$f":"_300A_FUNDING[[#This Row],[Column12]]*_300A_FUNDING[[#This Row],[LOW BIDDER''S UNIT PRICE]]","v":0},{"$f":"_300A_FUNDING[[#This Row],[Column13]]*_300A_FUNDING[[#This Row],[LOW BIDDER''S UNIT PRICE]]","v":0},{"$f":"_300A_FUNDING[[#This Row],[Column14]]*_300A_FUNDING[[#This Row],[LOW BIDDER''S UNIT PRICE]]","v":0}]
[null,null,null,null,null,null,null,null,null,null,null,null,null,null,null,null,0,{"$f":"_300A_FUNDING[[#This Row],[Column5]]*_300A_FUNDING[[#This Row],[LOW BIDDER''S UNIT PRICE]]","v":0},{"$f":"_300A_FUNDING[[#This Row],[Column6]]*_300A_FUNDING[[#This Row],[LOW BIDDER''S UNIT PRICE]]","v":0},{"$f":"_300A_FUNDING[[#This Row],[Column7]]*_300A_FUNDING[[#This Row],[LOW BIDDER''S UNIT PRICE]]","v":0},{"$f":"_300A_FUNDING[[#This Row],[Column8]]*_300A_FUNDING[[#This Row],[LOW BIDDER''S UNIT PRICE]]","v":0},{"$f":"_300A_FUNDING[[#This Row],[Column9]]*_300A_FUNDING[[#This Row],[LOW BIDDER''S UNIT PRICE]]","v":0},{"$f":"_300A_FUNDING[[#This Row],[Column10]]*_300A_FUNDING[[#This Row],[LOW BIDDER''S UNIT PRICE]]","v":0},{"$f":"_300A_FUNDING[[#This Row],[Column11]]*_300A_FUNDING[[#This Row],[LOW BIDDER''S UNIT PRICE]]","v":0},{"$f":"_300A_FUNDING[[#This Row],[Column12]]*_300A_FUNDING[[#This Row],[LOW BIDDER''S UNIT PRICE]]","v":0},{"$f":"_300A_FUNDING[[#This Row],[Column13]]*_300A_FUNDING[[#This Row],[LOW BIDDER''S UNIT PRICE]]","v":0},{"$f":"_300A_FUNDING[[#This Row],[Column14]]*_300A_FUNDING[[#This Row],[LOW BIDDER''S UNIT PRICE]]","v":0}]
[null,null,null,null,null,null,null,null,null,null,null,null,null,null,null,null,0,{"$f":"_300A_FUNDING[[#This Row],[Column5]]*_300A_FUNDING[[#This Row],[LOW BIDDER''S UNIT PRICE]]","v":0},{"$f":"_300A_FUNDING[[#This Row],[Column6]]*_300A_FUNDING[[#This Row],[LOW BIDDER''S UNIT PRICE]]","v":0},{"$f":"_300A_FUNDING[[#This Row],[Column7]]*_300A_FUNDING[[#This Row],[LOW BIDDER''S UNIT PRICE]]","v":0},{"$f":"_300A_FUNDING[[#This Row],[Column8]]*_300A_FUNDING[[#This Row],[LOW BIDDER''S UNIT PRICE]]","v":0},{"$f":"_300A_FUNDING[[#This Row],[Column9]]*_300A_FUNDING[[#This Row],[LOW BIDDER''S UNIT PRICE]]","v":0},{"$f":"_300A_FUNDING[[#This Row],[Column10]]*_300A_FUNDING[[#This Row],[LOW BIDDER''S UNIT PRICE]]","v":0},{"$f":"_300A_FUNDING[[#This Row],[Column11]]*_300A_FUNDING[[#This Row],[LOW BIDDER''S UNIT PRICE]]","v":0},{"$f":"_300A_FUNDING[[#This Row],[Column12]]*_300A_FUNDING[[#This Row],[LOW BIDDER''S UNIT PRICE]]","v":0},{"$f":"_300A_FUNDING[[#This Row],[Column13]]*_300A_FUNDING[[#This Row],[LOW BIDDER''S UNIT PRICE]]","v":0},{"$f":"_300A_FUNDING[[#This Row],[Column14]]*_300A_FUNDING[[#This Row],[LOW BIDDER''S UNIT PRICE]]","v":0}]
[null,null,null,null,null,null,null,null,null,null,null,null,null,null,null,null,0,{"$f":"_300A_FUNDING[[#This Row],[Column5]]*_300A_FUNDING[[#This Row],[LOW BIDDER''S UNIT PRICE]]","v":0},{"$f":"_300A_FUNDING[[#This Row],[Column6]]*_300A_FUNDING[[#This Row],[LOW BIDDER''S UNIT PRICE]]","v":0},{"$f":"_300A_FUNDING[[#This Row],[Column7]]*_300A_FUNDING[[#This Row],[LOW BIDDER''S UNIT PRICE]]","v":0},{"$f":"_300A_FUNDING[[#This Row],[Column8]]*_300A_FUNDING[[#This Row],[LOW BIDDER''S UNIT PRICE]]","v":0},{"$f":"_300A_FUNDING[[#This Row],[Column9]]*_300A_FUNDING[[#This Row],[LOW BIDDER''S UNIT PRICE]]","v":0},{"$f":"_300A_FUNDING[[#This Row],[Column10]]*_300A_FUNDING[[#This Row],[LOW BIDDER''S UNIT PRICE]]","v":0},{"$f":"_300A_FUNDING[[#This Row],[Column11]]*_300A_FUNDING[[#This Row],[LOW BIDDER''S UNIT PRICE]]","v":0},{"$f":"_300A_FUNDING[[#This Row],[Column12]]*_300A_FUNDING[[#This Row],[LOW BIDDER''S UNIT PRICE]]","v":0},{"$f":"_300A_FUNDING[[#This Row],[Column13]]*_300A_FUNDING[[#This Row],[LOW BIDDER''S UNIT PRICE]]","v":0},{"$f":"_300A_FUNDING[[#This Row],[Column14]]*_300A_FUNDING[[#This Row],[LOW BIDDER''S UNIT PRICE]]","v":0}]
[null,null,null,null,null,null,null,null,null,null,null,null,null,null,null,null,0,{"$f":"_300A_FUNDING[[#This Row],[Column5]]*_300A_FUNDING[[#This Row],[LOW BIDDER''S UNIT PRICE]]","v":0},{"$f":"_300A_FUNDING[[#This Row],[Column6]]*_300A_FUNDING[[#This Row],[LOW BIDDER''S UNIT PRICE]]","v":0},{"$f":"_300A_FUNDING[[#This Row],[Column7]]*_300A_FUNDING[[#This Row],[LOW BIDDER''S UNIT PRICE]]","v":0},{"$f":"_300A_FUNDING[[#This Row],[Column8]]*_300A_FUNDING[[#This Row],[LOW BIDDER''S UNIT PRICE]]","v":0},{"$f":"_300A_FUNDING[[#This Row],[Column9]]*_300A_FUNDING[[#This Row],[LOW BIDDER''S UNIT PRICE]]","v":0},{"$f":"_300A_FUNDING[[#This Row],[Column10]]*_300A_FUNDING[[#This Row],[LOW BIDDER''S UNIT PRICE]]","v":0},{"$f":"_300A_FUNDING[[#This Row],[Column11]]*_300A_FUNDING[[#This Row],[LOW BIDDER''S UNIT PRICE]]","v":0},{"$f":"_300A_FUNDING[[#This Row],[Column12]]*_300A_FUNDING[[#This Row],[LOW BIDDER''S UNIT PRICE]]","v":0},{"$f":"_300A_FUNDING[[#This Row],[Column13]]*_300A_FUNDING[[#This Row],[LOW BIDDER''S UNIT PRICE]]","v":0},{"$f":"_300A_FUNDING[[#This Row],[Column14]]*_300A_FUNDING[[#This Row],[LOW BIDDER''S UNIT PRICE]]","v":0}]
[null,null,null,null,null,null,null,null,null,null,null,null,null,null,null,null,0,{"$f":"_300A_FUNDING[[#This Row],[Column5]]*_300A_FUNDING[[#This Row],[LOW BIDDER''S UNIT PRICE]]","v":0},{"$f":"_300A_FUNDING[[#This Row],[Column6]]*_300A_FUNDING[[#This Row],[LOW BIDDER''S UNIT PRICE]]","v":0},{"$f":"_300A_FUNDING[[#This Row],[Column7]]*_300A_FUNDING[[#This Row],[LOW BIDDER''S UNIT PRICE]]","v":0},{"$f":"_300A_FUNDING[[#This Row],[Column8]]*_300A_FUNDING[[#This Row],[LOW BIDDER''S UNIT PRICE]]","v":0},{"$f":"_300A_FUNDING[[#This Row],[Column9]]*_300A_FUNDING[[#This Row],[LOW BIDDER''S UNIT PRICE]]","v":0},{"$f":"_300A_FUNDING[[#This Row],[Column10]]*_300A_FUNDING[[#This Row],[LOW BIDDER''S UNIT PRICE]]","v":0},{"$f":"_300A_FUNDING[[#This Row],[Column11]]*_300A_FUNDING[[#This Row],[LOW BIDDER''S UNIT PRICE]]","v":0},{"$f":"_300A_FUNDING[[#This Row],[Column12]]*_300A_FUNDING[[#This Row],[LOW BIDDER''S UNIT PRICE]]","v":0},{"$f":"_300A_FUNDING[[#This Row],[Column13]]*_300A_FUNDING[[#This Row],[LOW BIDDER''S UNIT PRICE]]","v":0},{"$f":"_300A_FUNDING[[#This Row],[Column14]]*_300A_FUNDING[[#This Row],[LOW BIDDER''S UNIT PRICE]]","v":0}]
[null,null,null,null,null,null,null,null,null,null,null,null,null,null,null,null,0,{"$f":"_300A_FUNDING[[#This Row],[Column5]]*_300A_FUNDING[[#This Row],[LOW BIDDER''S UNIT PRICE]]","v":0},{"$f":"_300A_FUNDING[[#This Row],[Column6]]*_300A_FUNDING[[#This Row],[LOW BIDDER''S UNIT PRICE]]","v":0},{"$f":"_300A_FUNDING[[#This Row],[Column7]]*_300A_FUNDING[[#This Row],[LOW BIDDER''S UNIT PRICE]]","v":0},{"$f":"_300A_FUNDING[[#This Row],[Column8]]*_300A_FUNDING[[#This Row],[LOW BIDDER''S UNIT PRICE]]","v":0},{"$f":"_300A_FUNDING[[#This Row],[Column9]]*_300A_FUNDING[[#This Row],[LOW BIDDER''S UNIT PRICE]]","v":0},{"$f":"_300A_FUNDING[[#This Row],[Column10]]*_300A_FUNDING[[#This Row],[LOW BIDDER''S UNIT PRICE]]","v":0},{"$f":"_300A_FUNDING[[#This Row],[Column11]]*_300A_FUNDING[[#This Row],[LOW BIDDER''S UNIT PRICE]]","v":0},{"$f":"_300A_FUNDING[[#This Row],[Column12]]*_300A_FUNDING[[#This Row],[LOW BIDDER''S UNIT PRICE]]","v":0},{"$f":"_300A_FUNDING[[#This Row],[Column13]]*_300A_FUNDING[[#This Row],[LOW BIDDER''S UNIT PRICE]]","v":0},{"$f":"_300A_FUNDING[[#This Row],[Column14]]*_300A_FUNDING[[#This Row],[LOW BIDDER''S UNIT PRICE]]","v":0}]
[null,null,null,null,null,null,null,null,null,null,null,null,null,null,null,null,0,{"$f":"_300A_FUNDING[[#This Row],[Column5]]*_300A_FUNDING[[#This Row],[LOW BIDDER''S UNIT PRICE]]","v":0},{"$f":"_300A_FUNDING[[#This Row],[Column6]]*_300A_FUNDING[[#This Row],[LOW BIDDER''S UNIT PRICE]]","v":0},{"$f":"_300A_FUNDING[[#This Row],[Column7]]*_300A_FUNDING[[#This Row],[LOW BIDDER''S UNIT PRICE]]","v":0},{"$f":"_300A_FUNDING[[#This Row],[Column8]]*_300A_FUNDING[[#This Row],[LOW BIDDER''S UNIT PRICE]]","v":0},{"$f":"_300A_FUNDING[[#This Row],[Column9]]*_300A_FUNDING[[#This Row],[LOW BIDDER''S UNIT PRICE]]","v":0},{"$f":"_300A_FUNDING[[#This Row],[Column10]]*_300A_FUNDING[[#This Row],[LOW BIDDER''S UNIT PRICE]]","v":0},{"$f":"_300A_FUNDING[[#This Row],[Column11]]*_300A_FUNDING[[#This Row],[LOW BIDDER''S UNIT PRICE]]","v":0},{"$f":"_300A_FUNDING[[#This Row],[Column12]]*_300A_FUNDING[[#This Row],[LOW BIDDER''S UNIT PRICE]]","v":0},{"$f":"_300A_FUNDING[[#This Row],[Column13]]*_300A_FUNDING[[#This Row],[LOW BIDDER''S UNIT PRICE]]","v":0},{"$f":"_300A_FUNDING[[#This Row],[Column14]]*_300A_FUNDING[[#This Row],[LOW BIDDER''S UNIT PRICE]]","v":0}]
[null,null,null,null,null,null,null,null,null,null,null,null,null,null,null,null,0,{"$f":"_300A_FUNDING[[#This Row],[Column5]]*_300A_FUNDING[[#This Row],[LOW BIDDER''S UNIT PRICE]]","v":0},{"$f":"_300A_FUNDING[[#This Row],[Column6]]*_300A_FUNDING[[#This Row],[LOW BIDDER''S UNIT PRICE]]","v":0},{"$f":"_300A_FUNDING[[#This Row],[Column7]]*_300A_FUNDING[[#This Row],[LOW BIDDER''S UNIT PRICE]]","v":0},{"$f":"_300A_FUNDING[[#This Row],[Column8]]*_300A_FUNDING[[#This Row],[LOW BIDDER''S UNIT PRICE]]","v":0},{"$f":"_300A_FUNDING[[#This Row],[Column9]]*_300A_FUNDING[[#This Row],[LOW BIDDER''S UNIT PRICE]]","v":0},{"$f":"_300A_FUNDING[[#This Row],[Column10]]*_300A_FUNDING[[#This Row],[LOW BIDDER''S UNIT PRICE]]","v":0},{"$f":"_300A_FUNDING[[#This Row],[Column11]]*_300A_FUNDING[[#This Row],[LOW BIDDER''S UNIT PRICE]]","v":0},{"$f":"_300A_FUNDING[[#This Row],[Column12]]*_300A_FUNDING[[#This Row],[LOW BIDDER''S UNIT PRICE]]","v":0},{"$f":"_300A_FUNDING[[#This Row],[Column13]]*_300A_FUNDING[[#This Row],[LOW BIDDER''S UNIT PRICE]]","v":0},{"$f":"_300A_FUNDING[[#This Row],[Column14]]*_300A_FUNDING[[#This Row],[LOW BIDDER''S UNIT PRICE]]","v":0}]
[null,null,null,null,null,null,null,null,null,null,null,null,null,null,null,null,0,{"$f":"_300A_FUNDING[[#This Row],[Column5]]*_300A_FUNDING[[#This Row],[LOW BIDDER''S UNIT PRICE]]","v":0},{"$f":"_300A_FUNDING[[#This Row],[Column6]]*_300A_FUNDING[[#This Row],[LOW BIDDER''S UNIT PRICE]]","v":0},{"$f":"_300A_FUNDING[[#This Row],[Column7]]*_300A_FUNDING[[#This Row],[LOW BIDDER''S UNIT PRICE]]","v":0},{"$f":"_300A_FUNDING[[#This Row],[Column8]]*_300A_FUNDING[[#This Row],[LOW BIDDER''S UNIT PRICE]]","v":0},{"$f":"_300A_FUNDING[[#This Row],[Column9]]*_300A_FUNDING[[#This Row],[LOW BIDDER''S UNIT PRICE]]","v":0},{"$f":"_300A_FUNDING[[#This Row],[Column10]]*_300A_FUNDING[[#This Row],[LOW BIDDER''S UNIT PRICE]]","v":0},{"$f":"_300A_FUNDING[[#This Row],[Column11]]*_300A_FUNDING[[#This Row],[LOW BIDDER''S UNIT PRICE]]","v":0},{"$f":"_300A_FUNDING[[#This Row],[Column12]]*_300A_FUNDING[[#This Row],[LOW BIDDER''S UNIT PRICE]]","v":0},{"$f":"_300A_FUNDING[[#This Row],[Column13]]*_300A_FUNDING[[#This Row],[LOW BIDDER''S UNIT PRICE]]","v":0},{"$f":"_300A_FUNDING[[#This Row],[Column14]]*_300A_FUNDING[[#This Row],[LOW BIDDER''S UNIT PRICE]]","v":0}]
[null,null,null,null,null,null,null,null,null,null,null,null,null,null,null,null,0,{"$f":"_300A_FUNDING[[#This Row],[Column5]]*_300A_FUNDING[[#This Row],[LOW BIDDER''S UNIT PRICE]]","v":0},{"$f":"_300A_FUNDING[[#This Row],[Column6]]*_300A_FUNDING[[#This Row],[LOW BIDDER''S UNIT PRICE]]","v":0},{"$f":"_300A_FUNDING[[#This Row],[Column7]]*_300A_FUNDING[[#This Row],[LOW BIDDER''S UNIT PRICE]]","v":0},{"$f":"_300A_FUNDING[[#This Row],[Column8]]*_300A_FUNDING[[#This Row],[LOW BIDDER''S UNIT PRICE]]","v":0},{"$f":"_300A_FUNDING[[#This Row],[Column9]]*_300A_FUNDING[[#This Row],[LOW BIDDER''S UNIT PRICE]]","v":0},{"$f":"_300A_FUNDING[[#This Row],[Column10]]*_300A_FUNDING[[#This Row],[LOW BIDDER''S UNIT PRICE]]","v":0},{"$f":"_300A_FUNDING[[#This Row],[Column11]]*_300A_FUNDING[[#This Row],[LOW BIDDER''S UNIT PRICE]]","v":0},{"$f":"_300A_FUNDING[[#This Row],[Column12]]*_300A_FUNDING[[#This Row],[LOW BIDDER''S UNIT PRICE]]","v":0},{"$f":"_300A_FUNDING[[#This Row],[Column13]]*_300A_FUNDING[[#This Row],[LOW BIDDER''S UNIT PRICE]]","v":0},{"$f":"_300A_FUNDING[[#This Row],[Column14]]*_300A_FUNDING[[#This Row],[LOW BIDDER''S UNIT PRICE]]","v":0}]
[null,null,null,null,null,null,null,null,null,null,null,null,null,null,null,null,0,{"$f":"_300A_FUNDING[[#This Row],[Column5]]*_300A_FUNDING[[#This Row],[LOW BIDDER''S UNIT PRICE]]","v":0},{"$f":"_300A_FUNDING[[#This Row],[Column6]]*_300A_FUNDING[[#This Row],[LOW BIDDER''S UNIT PRICE]]","v":0},{"$f":"_300A_FUNDING[[#This Row],[Column7]]*_300A_FUNDING[[#This Row],[LOW BIDDER''S UNIT PRICE]]","v":0},{"$f":"_300A_FUNDING[[#This Row],[Column8]]*_300A_FUNDING[[#This Row],[LOW BIDDER''S UNIT PRICE]]","v":0},{"$f":"_300A_FUNDING[[#This Row],[Column9]]*_300A_FUNDING[[#This Row],[LOW BIDDER''S UNIT PRICE]]","v":0},{"$f":"_300A_FUNDING[[#This Row],[Column10]]*_300A_FUNDING[[#This Row],[LOW BIDDER''S UNIT PRICE]]","v":0},{"$f":"_300A_FUNDING[[#This Row],[Column11]]*_300A_FUNDING[[#This Row],[LOW BIDDER''S UNIT PRICE]]","v":0},{"$f":"_300A_FUNDING[[#This Row],[Column12]]*_300A_FUNDING[[#This Row],[LOW BIDDER''S UNIT PRICE]]","v":0},{"$f":"_300A_FUNDING[[#This Row],[Column13]]*_300A_FUNDING[[#This Row],[LOW BIDDER''S UNIT PRICE]]","v":0},{"$f":"_300A_FUNDING[[#This Row],[Column14]]*_300A_FUNDING[[#This Row],[LOW BIDDER''S UNIT PRICE]]","v":0}]
[null,null,null,null,null,null,null,null,null,null,null,null,null,null,null,null,0,{"$f":"_300A_FUNDING[[#This Row],[Column5]]*_300A_FUNDING[[#This Row],[LOW BIDDER''S UNIT PRICE]]","v":0},{"$f":"_300A_FUNDING[[#This Row],[Column6]]*_300A_FUNDING[[#This Row],[LOW BIDDER''S UNIT PRICE]]","v":0},{"$f":"_300A_FUNDING[[#This Row],[Column7]]*_300A_FUNDING[[#This Row],[LOW BIDDER''S UNIT PRICE]]","v":0},{"$f":"_300A_FUNDING[[#This Row],[Column8]]*_300A_FUNDING[[#This Row],[LOW BIDDER''S UNIT PRICE]]","v":0},{"$f":"_300A_FUNDING[[#This Row],[Column9]]*_300A_FUNDING[[#This Row],[LOW BIDDER''S UNIT PRICE]]","v":0},{"$f":"_300A_FUNDING[[#This Row],[Column10]]*_300A_FUNDING[[#This Row],[LOW BIDDER''S UNIT PRICE]]","v":0},{"$f":"_300A_FUNDING[[#This Row],[Column11]]*_300A_FUNDING[[#This Row],[LOW BIDDER''S UNIT PRICE]]","v":0},{"$f":"_300A_FUNDING[[#This Row],[Column12]]*_300A_FUNDING[[#This Row],[LOW BIDDER''S UNIT PRICE]]","v":0},{"$f":"_300A_FUNDING[[#This Row],[Column13]]*_300A_FUNDING[[#This Row],[LOW BIDDER''S UNIT PRICE]]","v":0},{"$f":"_300A_FUNDING[[#This Row],[Column14]]*_300A_FUNDING[[#This Row],[LOW BIDDER''S UNIT PRICE]]","v":0}]
[null,null,null,null,null,null,null,null,null,null,null,null,null,null,null,null,0,{"$f":"_300A_FUNDING[[#This Row],[Column5]]*_300A_FUNDING[[#This Row],[LOW BIDDER''S UNIT PRICE]]","v":0},{"$f":"_300A_FUNDING[[#This Row],[Column6]]*_300A_FUNDING[[#This Row],[LOW BIDDER''S UNIT PRICE]]","v":0},{"$f":"_300A_FUNDING[[#This Row],[Column7]]*_300A_FUNDING[[#This Row],[LOW BIDDER''S UNIT PRICE]]","v":0},{"$f":"_300A_FUNDING[[#This Row],[Column8]]*_300A_FUNDING[[#This Row],[LOW BIDDER''S UNIT PRICE]]","v":0},{"$f":"_300A_FUNDING[[#This Row],[Column9]]*_300A_FUNDING[[#This Row],[LOW BIDDER''S UNIT PRICE]]","v":0},{"$f":"_300A_FUNDING[[#This Row],[Column10]]*_300A_FUNDING[[#This Row],[LOW BIDDER''S UNIT PRICE]]","v":0},{"$f":"_300A_FUNDING[[#This Row],[Column11]]*_300A_FUNDING[[#This Row],[LOW BIDDER''S UNIT PRICE]]","v":0},{"$f":"_300A_FUNDING[[#This Row],[Column12]]*_300A_FUNDING[[#This Row],[LOW BIDDER''S UNIT PRICE]]","v":0},{"$f":"_300A_FUNDING[[#This Row],[Column13]]*_300A_FUNDING[[#This Row],[LOW BIDDER''S UNIT PRICE]]","v":0},{"$f":"_300A_FUNDING[[#This Row],[Column14]]*_300A_FUNDING[[#This Row],[LOW BIDDER''S UNIT PRICE]]","v":0}]
[null,null,null,null,null,null,null,null,null,null,null,null,null,null,null,null,0,{"$f":"_300A_FUNDING[[#This Row],[Column5]]*_300A_FUNDING[[#This Row],[LOW BIDDER''S UNIT PRICE]]","v":0},{"$f":"_300A_FUNDING[[#This Row],[Column6]]*_300A_FUNDING[[#This Row],[LOW BIDDER''S UNIT PRICE]]","v":0},{"$f":"_300A_FUNDING[[#This Row],[Column7]]*_300A_FUNDING[[#This Row],[LOW BIDDER''S UNIT PRICE]]","v":0},{"$f":"_300A_FUNDING[[#This Row],[Column8]]*_300A_FUNDING[[#This Row],[LOW BIDDER''S UNIT PRICE]]","v":0},{"$f":"_300A_FUNDING[[#This Row],[Column9]]*_300A_FUNDING[[#This Row],[LOW BIDDER''S UNIT PRICE]]","v":0},{"$f":"_300A_FUNDING[[#This Row],[Column10]]*_300A_FUNDING[[#This Row],[LOW BIDDER''S UNIT PRICE]]","v":0},{"$f":"_300A_FUNDING[[#This Row],[Column11]]*_300A_FUNDING[[#This Row],[LOW BIDDER''S UNIT PRICE]]","v":0},{"$f":"_300A_FUNDING[[#This Row],[Column12]]*_300A_FUNDING[[#This Row],[LOW BIDDER''S UNIT PRICE]]","v":0},{"$f":"_300A_FUNDING[[#This Row],[Column13]]*_300A_FUNDING[[#This Row],[LOW BIDDER''S UNIT PRICE]]","v":0},{"$f":"_300A_FUNDING[[#This Row],[Column14]]*_300A_FUNDING[[#This Row],[LOW BIDDER''S UNIT PRICE]]","v":0}]
[null,null,null,null,null,null,null,null,null,null,null,null,null,null,null,null,0,{"$f":"_300A_FUNDING[[#This Row],[Column5]]*_300A_FUNDING[[#This Row],[LOW BIDDER''S UNIT PRICE]]","v":0},{"$f":"_300A_FUNDING[[#This Row],[Column6]]*_300A_FUNDING[[#This Row],[LOW BIDDER''S UNIT PRICE]]","v":0},{"$f":"_300A_FUNDING[[#This Row],[Column7]]*_300A_FUNDING[[#This Row],[LOW BIDDER''S UNIT PRICE]]","v":0},{"$f":"_300A_FUNDING[[#This Row],[Column8]]*_300A_FUNDING[[#This Row],[LOW BIDDER''S UNIT PRICE]]","v":0},{"$f":"_300A_FUNDING[[#This Row],[Column9]]*_300A_FUNDING[[#This Row],[LOW BIDDER''S UNIT PRICE]]","v":0},{"$f":"_300A_FUNDING[[#This Row],[Column10]]*_300A_FUNDING[[#This Row],[LOW BIDDER''S UNIT PRICE]]","v":0},{"$f":"_300A_FUNDING[[#This Row],[Column11]]*_300A_FUNDING[[#This Row],[LOW BIDDER''S UNIT PRICE]]","v":0},{"$f":"_300A_FUNDING[[#This Row],[Column12]]*_300A_FUNDING[[#This Row],[LOW BIDDER''S UNIT PRICE]]","v":0},{"$f":"_300A_FUNDING[[#This Row],[Column13]]*_300A_FUNDING[[#This Row],[LOW BIDDER''S UNIT PRICE]]","v":0},{"$f":"_300A_FUNDING[[#This Row],[Column14]]*_300A_FUNDING[[#This Row],[LOW BIDDER''S UNIT PRICE]]","v":0}]
[null,null,null,null,null,null,null,null,null,null,null,null,null,null,null,null,0,{"$f":"_300A_FUNDING[[#This Row],[Column5]]*_300A_FUNDING[[#This Row],[LOW BIDDER''S UNIT PRICE]]","v":0},{"$f":"_300A_FUNDING[[#This Row],[Column6]]*_300A_FUNDING[[#This Row],[LOW BIDDER''S UNIT PRICE]]","v":0},{"$f":"_300A_FUNDING[[#This Row],[Column7]]*_300A_FUNDING[[#This Row],[LOW BIDDER''S UNIT PRICE]]","v":0},{"$f":"_300A_FUNDING[[#This Row],[Column8]]*_300A_FUNDING[[#This Row],[LOW BIDDER''S UNIT PRICE]]","v":0},{"$f":"_300A_FUNDING[[#This Row],[Column9]]*_300A_FUNDING[[#This Row],[LOW BIDDER''S UNIT PRICE]]","v":0},{"$f":"_300A_FUNDING[[#This Row],[Column10]]*_300A_FUNDING[[#This Row],[LOW BIDDER''S UNIT PRICE]]","v":0},{"$f":"_300A_FUNDING[[#This Row],[Column11]]*_300A_FUNDING[[#This Row],[LOW BIDDER''S UNIT PRICE]]","v":0},{"$f":"_300A_FUNDING[[#This Row],[Column12]]*_300A_FUNDING[[#This Row],[LOW BIDDER''S UNIT PRICE]]","v":0},{"$f":"_300A_FUNDING[[#This Row],[Column13]]*_300A_FUNDING[[#This Row],[LOW BIDDER''S UNIT PRICE]]","v":0},{"$f":"_300A_FUNDING[[#This Row],[Column14]]*_300A_FUNDING[[#This Row],[LOW BIDDER''S UNIT PRICE]]","v":0}]
[null,null,null,null,null,null,null,null,null,null,null,null,null,null,null,null,0,{"$f":"_300A_FUNDING[[#This Row],[Column5]]*_300A_FUNDING[[#This Row],[LOW BIDDER''S UNIT PRICE]]","v":0},{"$f":"_300A_FUNDING[[#This Row],[Column6]]*_300A_FUNDING[[#This Row],[LOW BIDDER''S UNIT PRICE]]","v":0},{"$f":"_300A_FUNDING[[#This Row],[Column7]]*_300A_FUNDING[[#This Row],[LOW BIDDER''S UNIT PRICE]]","v":0},{"$f":"_300A_FUNDING[[#This Row],[Column8]]*_300A_FUNDING[[#This Row],[LOW BIDDER''S UNIT PRICE]]","v":0},{"$f":"_300A_FUNDING[[#This Row],[Column9]]*_300A_FUNDING[[#This Row],[LOW BIDDER''S UNIT PRICE]]","v":0},{"$f":"_300A_FUNDING[[#This Row],[Column10]]*_300A_FUNDING[[#This Row],[LOW BIDDER''S UNIT PRICE]]","v":0},{"$f":"_300A_FUNDING[[#This Row],[Column11]]*_300A_FUNDING[[#This Row],[LOW BIDDER''S UNIT PRICE]]","v":0},{"$f":"_300A_FUNDING[[#This Row],[Column12]]*_300A_FUNDING[[#This Row],[LOW BIDDER''S UNIT PRICE]]","v":0},{"$f":"_300A_FUNDING[[#This Row],[Column13]]*_300A_FUNDING[[#This Row],[LOW BIDDER''S UNIT PRICE]]","v":0},{"$f":"_300A_FUNDING[[#This Row],[Column14]]*_300A_FUNDING[[#This Row],[LOW BIDDER''S UNIT PRICE]]","v":0}]
[null,null,null,null,null,null,null,null,null,null,null,null,null,null,null,null,0,{"$f":"_300A_FUNDING[[#This Row],[Column5]]*_300A_FUNDING[[#This Row],[LOW BIDDER''S UNIT PRICE]]","v":0},{"$f":"_300A_FUNDING[[#This Row],[Column6]]*_300A_FUNDING[[#This Row],[LOW BIDDER''S UNIT PRICE]]","v":0},{"$f":"_300A_FUNDING[[#This Row],[Column7]]*_300A_FUNDING[[#This Row],[LOW BIDDER''S UNIT PRICE]]","v":0},{"$f":"_300A_FUNDING[[#This Row],[Column8]]*_300A_FUNDING[[#This Row],[LOW BIDDER''S UNIT PRICE]]","v":0},{"$f":"_300A_FUNDING[[#This Row],[Column9]]*_300A_FUNDING[[#This Row],[LOW BIDDER''S UNIT PRICE]]","v":0},{"$f":"_300A_FUNDING[[#This Row],[Column10]]*_300A_FUNDING[[#This Row],[LOW BIDDER''S UNIT PRICE]]","v":0},{"$f":"_300A_FUNDING[[#This Row],[Column11]]*_300A_FUNDING[[#This Row],[LOW BIDDER''S UNIT PRICE]]","v":0},{"$f":"_300A_FUNDING[[#This Row],[Column12]]*_300A_FUNDING[[#This Row],[LOW BIDDER''S UNIT PRICE]]","v":0},{"$f":"_300A_FUNDING[[#This Row],[Column13]]*_300A_FUNDING[[#This Row],[LOW BIDDER''S UNIT PRICE]]","v":0},{"$f":"_300A_FUNDING[[#This Row],[Column14]]*_300A_FUNDING[[#This Row],[LOW BIDDER''S UNIT PRICE]]","v":0}]
[null,null,null,null,null,null,null,null,null,null,null,null,null,null,null,null,0,{"$f":"_300A_FUNDING[[#This Row],[Column5]]*_300A_FUNDING[[#This Row],[LOW BIDDER''S UNIT PRICE]]","v":0},{"$f":"_300A_FUNDING[[#This Row],[Column6]]*_300A_FUNDING[[#This Row],[LOW BIDDER''S UNIT PRICE]]","v":0},{"$f":"_300A_FUNDING[[#This Row],[Column7]]*_300A_FUNDING[[#This Row],[LOW BIDDER''S UNIT PRICE]]","v":0},{"$f":"_300A_FUNDING[[#This Row],[Column8]]*_300A_FUNDING[[#This Row],[LOW BIDDER''S UNIT PRICE]]","v":0},{"$f":"_300A_FUNDING[[#This Row],[Column9]]*_300A_FUNDING[[#This Row],[LOW BIDDER''S UNIT PRICE]]","v":0},{"$f":"_300A_FUNDING[[#This Row],[Column10]]*_300A_FUNDING[[#This Row],[LOW BIDDER''S UNIT PRICE]]","v":0},{"$f":"_300A_FUNDING[[#This Row],[Column11]]*_300A_FUNDING[[#This Row],[LOW BIDDER''S UNIT PRICE]]","v":0},{"$f":"_300A_FUNDING[[#This Row],[Column12]]*_300A_FUNDING[[#This Row],[LOW BIDDER''S UNIT PRICE]]","v":0},{"$f":"_300A_FUNDING[[#This Row],[Column13]]*_300A_FUNDING[[#This Row],[LOW BIDDER''S UNIT PRICE]]","v":0},{"$f":"_300A_FUNDING[[#This Row],[Column14]]*_300A_FUNDING[[#This Row],[LOW BIDDER''S UNIT PRICE]]","v":0}]
[null,null,null,null,null,null,null,null,null,null,null,null,null,null,null,null,0,{"$f":"_300A_FUNDING[[#This Row],[Column5]]*_300A_FUNDING[[#This Row],[LOW BIDDER''S UNIT PRICE]]","v":0},{"$f":"_300A_FUNDING[[#This Row],[Column6]]*_300A_FUNDING[[#This Row],[LOW BIDDER''S UNIT PRICE]]","v":0},{"$f":"_300A_FUNDING[[#This Row],[Column7]]*_300A_FUNDING[[#This Row],[LOW BIDDER''S UNIT PRICE]]","v":0},{"$f":"_300A_FUNDING[[#This Row],[Column8]]*_300A_FUNDING[[#This Row],[LOW BIDDER''S UNIT PRICE]]","v":0},{"$f":"_300A_FUNDING[[#This Row],[Column9]]*_300A_FUNDING[[#This Row],[LOW BIDDER''S UNIT PRICE]]","v":0},{"$f":"_300A_FUNDING[[#This Row],[Column10]]*_300A_FUNDING[[#This Row],[LOW BIDDER''S UNIT PRICE]]","v":0},{"$f":"_300A_FUNDING[[#This Row],[Column11]]*_300A_FUNDING[[#This Row],[LOW BIDDER''S UNIT PRICE]]","v":0},{"$f":"_300A_FUNDING[[#This Row],[Column12]]*_300A_FUNDING[[#This Row],[LOW BIDDER''S UNIT PRICE]]","v":0},{"$f":"_300A_FUNDING[[#This Row],[Column13]]*_300A_FUNDING[[#This Row],[LOW BIDDER''S UNIT PRICE]]","v":0},{"$f":"_300A_FUNDING[[#This Row],[Column14]]*_300A_FUNDING[[#This Row],[LOW BIDDER''S UNIT PRICE]]","v":0}]
[null,null,null,null,null,null,null,null,null,null,null,null,null,null,null,null,0,{"$f":"_300A_FUNDING[[#This Row],[Column5]]*_300A_FUNDING[[#This Row],[LOW BIDDER''S UNIT PRICE]]","v":0},{"$f":"_300A_FUNDING[[#This Row],[Column6]]*_300A_FUNDING[[#This Row],[LOW BIDDER''S UNIT PRICE]]","v":0},{"$f":"_300A_FUNDING[[#This Row],[Column7]]*_300A_FUNDING[[#This Row],[LOW BIDDER''S UNIT PRICE]]","v":0},{"$f":"_300A_FUNDING[[#This Row],[Column8]]*_300A_FUNDING[[#This Row],[LOW BIDDER''S UNIT PRICE]]","v":0},{"$f":"_300A_FUNDING[[#This Row],[Column9]]*_300A_FUNDING[[#This Row],[LOW BIDDER''S UNIT PRICE]]","v":0},{"$f":"_300A_FUNDING[[#This Row],[Column10]]*_300A_FUNDING[[#This Row],[LOW BIDDER''S UNIT PRICE]]","v":0},{"$f":"_300A_FUNDING[[#This Row],[Column11]]*_300A_FUNDING[[#This Row],[LOW BIDDER''S UNIT PRICE]]","v":0},{"$f":"_300A_FUNDING[[#This Row],[Column12]]*_300A_FUNDING[[#This Row],[LOW BIDDER''S UNIT PRICE]]","v":0},{"$f":"_300A_FUNDING[[#This Row],[Column13]]*_300A_FUNDING[[#This Row],[LOW BIDDER''S UNIT PRICE]]","v":0},{"$f":"_300A_FUNDING[[#This Row],[Column14]]*_300A_FUNDING[[#This Row],[LOW BIDDER''S UNIT PRICE]]","v":0}]
[null,null,null,null,null,null,null,null,null,null,null,null,null,null,null,null,0,{"$f":"_300A_FUNDING[[#This Row],[Column5]]*_300A_FUNDING[[#This Row],[LOW BIDDER''S UNIT PRICE]]","v":0},{"$f":"_300A_FUNDING[[#This Row],[Column6]]*_300A_FUNDING[[#This Row],[LOW BIDDER''S UNIT PRICE]]","v":0},{"$f":"_300A_FUNDING[[#This Row],[Column7]]*_300A_FUNDING[[#This Row],[LOW BIDDER''S UNIT PRICE]]","v":0},{"$f":"_300A_FUNDING[[#This Row],[Column8]]*_300A_FUNDING[[#This Row],[LOW BIDDER''S UNIT PRICE]]","v":0},{"$f":"_300A_FUNDING[[#This Row],[Column9]]*_300A_FUNDING[[#This Row],[LOW BIDDER''S UNIT PRICE]]","v":0},{"$f":"_300A_FUNDING[[#This Row],[Column10]]*_300A_FUNDING[[#This Row],[LOW BIDDER''S UNIT PRICE]]","v":0},{"$f":"_300A_FUNDING[[#This Row],[Column11]]*_300A_FUNDING[[#This Row],[LOW BIDDER''S UNIT PRICE]]","v":0},{"$f":"_300A_FUNDING[[#This Row],[Column12]]*_300A_FUNDING[[#This Row],[LOW BIDDER''S UNIT PRICE]]","v":0},{"$f":"_300A_FUNDING[[#This Row],[Column13]]*_300A_FUNDING[[#This Row],[LOW BIDDER''S UNIT PRICE]]","v":0},{"$f":"_300A_FUNDING[[#This Row],[Column14]]*_300A_FUNDING[[#This Row],[LOW BIDDER''S UNIT PRICE]]","v":0}]
[null,null,null,null,null,null,null,null,null,null,null,null,null,null,null,null,0,{"$f":"_300A_FUNDING[[#This Row],[Column5]]*_300A_FUNDING[[#This Row],[LOW BIDDER''S UNIT PRICE]]","v":0},{"$f":"_300A_FUNDING[[#This Row],[Column6]]*_300A_FUNDING[[#This Row],[LOW BIDDER''S UNIT PRICE]]","v":0},{"$f":"_300A_FUNDING[[#This Row],[Column7]]*_300A_FUNDING[[#This Row],[LOW BIDDER''S UNIT PRICE]]","v":0},{"$f":"_300A_FUNDING[[#This Row],[Column8]]*_300A_FUNDING[[#This Row],[LOW BIDDER''S UNIT PRICE]]","v":0},{"$f":"_300A_FUNDING[[#This Row],[Column9]]*_300A_FUNDING[[#This Row],[LOW BIDDER''S UNIT PRICE]]","v":0},{"$f":"_300A_FUNDING[[#This Row],[Column10]]*_300A_FUNDING[[#This Row],[LOW BIDDER''S UNIT PRICE]]","v":0},{"$f":"_300A_FUNDING[[#This Row],[Column11]]*_300A_FUNDING[[#This Row],[LOW BIDDER''S UNIT PRICE]]","v":0},{"$f":"_300A_FUNDING[[#This Row],[Column12]]*_300A_FUNDING[[#This Row],[LOW BIDDER''S UNIT PRICE]]","v":0},{"$f":"_300A_FUNDING[[#This Row],[Column13]]*_300A_FUNDING[[#This Row],[LOW BIDDER''S UNIT PRICE]]","v":0},{"$f":"_300A_FUNDING[[#This Row],[Column14]]*_300A_FUNDING[[#This Row],[LOW BIDDER''S UNIT PRICE]]","v":0}]
[null,null,null,null,null,null,null,null,null,null,null,null,null,null,null,null,0,{"$f":"_300A_FUNDING[[#This Row],[Column5]]*_300A_FUNDING[[#This Row],[LOW BIDDER''S UNIT PRICE]]","v":0},{"$f":"_300A_FUNDING[[#This Row],[Column6]]*_300A_FUNDING[[#This Row],[LOW BIDDER''S UNIT PRICE]]","v":0},{"$f":"_300A_FUNDING[[#This Row],[Column7]]*_300A_FUNDING[[#This Row],[LOW BIDDER''S UNIT PRICE]]","v":0},{"$f":"_300A_FUNDING[[#This Row],[Column8]]*_300A_FUNDING[[#This Row],[LOW BIDDER''S UNIT PRICE]]","v":0},{"$f":"_300A_FUNDING[[#This Row],[Column9]]*_300A_FUNDING[[#This Row],[LOW BIDDER''S UNIT PRICE]]","v":0},{"$f":"_300A_FUNDING[[#This Row],[Column10]]*_300A_FUNDING[[#This Row],[LOW BIDDER''S UNIT PRICE]]","v":0},{"$f":"_300A_FUNDING[[#This Row],[Column11]]*_300A_FUNDING[[#This Row],[LOW BIDDER''S UNIT PRICE]]","v":0},{"$f":"_300A_FUNDING[[#This Row],[Column12]]*_300A_FUNDING[[#This Row],[LOW BIDDER''S UNIT PRICE]]","v":0},{"$f":"_300A_FUNDING[[#This Row],[Column13]]*_300A_FUNDING[[#This Row],[LOW BIDDER''S UNIT PRICE]]","v":0},{"$f":"_300A_FUNDING[[#This Row],[Column14]]*_300A_FUNDING[[#This Row],[LOW BIDDER''S UNIT PRICE]]","v":0}]
[null,null,null,null,null,null,null,null,null,null,null,null,null,null,null,null,0,{"$f":"_300A_FUNDING[[#This Row],[Column5]]*_300A_FUNDING[[#This Row],[LOW BIDDER''S UNIT PRICE]]","v":0},{"$f":"_300A_FUNDING[[#This Row],[Column6]]*_300A_FUNDING[[#This Row],[LOW BIDDER''S UNIT PRICE]]","v":0},{"$f":"_300A_FUNDING[[#This Row],[Column7]]*_300A_FUNDING[[#This Row],[LOW BIDDER''S UNIT PRICE]]","v":0},{"$f":"_300A_FUNDING[[#This Row],[Column8]]*_300A_FUNDING[[#This Row],[LOW BIDDER''S UNIT PRICE]]","v":0},{"$f":"_300A_FUNDING[[#This Row],[Column9]]*_300A_FUNDING[[#This Row],[LOW BIDDER''S UNIT PRICE]]","v":0},{"$f":"_300A_FUNDING[[#This Row],[Column10]]*_300A_FUNDING[[#This Row],[LOW BIDDER''S UNIT PRICE]]","v":0},{"$f":"_300A_FUNDING[[#This Row],[Column11]]*_300A_FUNDING[[#This Row],[LOW BIDDER''S UNIT PRICE]]","v":0},{"$f":"_300A_FUNDING[[#This Row],[Column12]]*_300A_FUNDING[[#This Row],[LOW BIDDER''S UNIT PRICE]]","v":0},{"$f":"_300A_FUNDING[[#This Row],[Column13]]*_300A_FUNDING[[#This Row],[LOW BIDDER''S UNIT PRICE]]","v":0},{"$f":"_300A_FUNDING[[#This Row],[Column14]]*_300A_FUNDING[[#This Row],[LOW BIDDER''S UNIT PRICE]]","v":0}]
[null,null,null,null,null,null,null,null,null,null,null,null,null,null,null,null,0,{"$f":"_300A_FUNDING[[#This Row],[Column5]]*_300A_FUNDING[[#This Row],[LOW BIDDER''S UNIT PRICE]]","v":0},{"$f":"_300A_FUNDING[[#This Row],[Column6]]*_300A_FUNDING[[#This Row],[LOW BIDDER''S UNIT PRICE]]","v":0},{"$f":"_300A_FUNDING[[#This Row],[Column7]]*_300A_FUNDING[[#This Row],[LOW BIDDER''S UNIT PRICE]]","v":0},{"$f":"_300A_FUNDING[[#This Row],[Column8]]*_300A_FUNDING[[#This Row],[LOW BIDDER''S UNIT PRICE]]","v":0},{"$f":"_300A_FUNDING[[#This Row],[Column9]]*_300A_FUNDING[[#This Row],[LOW BIDDER''S UNIT PRICE]]","v":0},{"$f":"_300A_FUNDING[[#This Row],[Column10]]*_300A_FUNDING[[#This Row],[LOW BIDDER''S UNIT PRICE]]","v":0},{"$f":"_300A_FUNDING[[#This Row],[Column11]]*_300A_FUNDING[[#This Row],[LOW BIDDER''S UNIT PRICE]]","v":0},{"$f":"_300A_FUNDING[[#This Row],[Column12]]*_300A_FUNDING[[#This Row],[LOW BIDDER''S UNIT PRICE]]","v":0},{"$f":"_300A_FUNDING[[#This Row],[Column13]]*_300A_FUNDING[[#This Row],[LOW BIDDER''S UNIT PRICE]]","v":0},{"$f":"_300A_FUNDING[[#This Row],[Column14]]*_300A_FUNDING[[#This Row],[LOW BIDDER''S UNIT PRICE]]","v":0}]
[null,null,null,null,null,null,null,null,null,null,null,null,null,null,null,null,0,{"$f":"_300A_FUNDING[[#This Row],[Column5]]*_300A_FUNDING[[#This Row],[LOW BIDDER''S UNIT PRICE]]","v":0},{"$f":"_300A_FUNDING[[#This Row],[Column6]]*_300A_FUNDING[[#This Row],[LOW BIDDER''S UNIT PRICE]]","v":0},{"$f":"_300A_FUNDING[[#This Row],[Column7]]*_300A_FUNDING[[#This Row],[LOW BIDDER''S UNIT PRICE]]","v":0},{"$f":"_300A_FUNDING[[#This Row],[Column8]]*_300A_FUNDING[[#This Row],[LOW BIDDER''S UNIT PRICE]]","v":0},{"$f":"_300A_FUNDING[[#This Row],[Column9]]*_300A_FUNDING[[#This Row],[LOW BIDDER''S UNIT PRICE]]","v":0},{"$f":"_300A_FUNDING[[#This Row],[Column10]]*_300A_FUNDING[[#This Row],[LOW BIDDER''S UNIT PRICE]]","v":0},{"$f":"_300A_FUNDING[[#This Row],[Column11]]*_300A_FUNDING[[#This Row],[LOW BIDDER''S UNIT PRICE]]","v":0},{"$f":"_300A_FUNDING[[#This Row],[Column12]]*_300A_FUNDING[[#This Row],[LOW BIDDER''S UNIT PRICE]]","v":0},{"$f":"_300A_FUNDING[[#This Row],[Column13]]*_300A_FUNDING[[#This Row],[LOW BIDDER''S UNIT PRICE]]","v":0},{"$f":"_300A_FUNDING[[#This Row],[Column14]]*_300A_FUNDING[[#This Row],[LOW BIDDER''S UNIT PRICE]]","v":0}]
[null,null,null,null,null,null,null,null,null,null,null,null,null,null,null,null,0,{"$f":"_300A_FUNDING[[#This Row],[Column5]]*_300A_FUNDING[[#This Row],[LOW BIDDER''S UNIT PRICE]]","v":0},{"$f":"_300A_FUNDING[[#This Row],[Column6]]*_300A_FUNDING[[#This Row],[LOW BIDDER''S UNIT PRICE]]","v":0},{"$f":"_300A_FUNDING[[#This Row],[Column7]]*_300A_FUNDING[[#This Row],[LOW BIDDER''S UNIT PRICE]]","v":0},{"$f":"_300A_FUNDING[[#This Row],[Column8]]*_300A_FUNDING[[#This Row],[LOW BIDDER''S UNIT PRICE]]","v":0},{"$f":"_300A_FUNDING[[#This Row],[Column9]]*_300A_FUNDING[[#This Row],[LOW BIDDER''S UNIT PRICE]]","v":0},{"$f":"_300A_FUNDING[[#This Row],[Column10]]*_300A_FUNDING[[#This Row],[LOW BIDDER''S UNIT PRICE]]","v":0},{"$f":"_300A_FUNDING[[#This Row],[Column11]]*_300A_FUNDING[[#This Row],[LOW BIDDER''S UNIT PRICE]]","v":0},{"$f":"_300A_FUNDING[[#This Row],[Column12]]*_300A_FUNDING[[#This Row],[LOW BIDDER''S UNIT PRICE]]","v":0},{"$f":"_300A_FUNDING[[#This Row],[Column13]]*_300A_FUNDING[[#This Row],[LOW BIDDER''S UNIT PRICE]]","v":0},{"$f":"_300A_FUNDING[[#This Row],[Column14]]*_300A_FUNDING[[#This Row],[LOW BIDDER''S UNIT PRICE]]","v":0}]
[null,null,null,null,null,null,null,null,null,null,null,null,null,null,null,null,0,{"$f":"_300A_FUNDING[[#This Row],[Column5]]*_300A_FUNDING[[#This Row],[LOW BIDDER''S UNIT PRICE]]","v":0},{"$f":"_300A_FUNDING[[#This Row],[Column6]]*_300A_FUNDING[[#This Row],[LOW BIDDER''S UNIT PRICE]]","v":0},{"$f":"_300A_FUNDING[[#This Row],[Column7]]*_300A_FUNDING[[#This Row],[LOW BIDDER''S UNIT PRICE]]","v":0},{"$f":"_300A_FUNDING[[#This Row],[Column8]]*_300A_FUNDING[[#This Row],[LOW BIDDER''S UNIT PRICE]]","v":0},{"$f":"_300A_FUNDING[[#This Row],[Column9]]*_300A_FUNDING[[#This Row],[LOW BIDDER''S UNIT PRICE]]","v":0},{"$f":"_300A_FUNDING[[#This Row],[Column10]]*_300A_FUNDING[[#This Row],[LOW BIDDER''S UNIT PRICE]]","v":0},{"$f":"_300A_FUNDING[[#This Row],[Column11]]*_300A_FUNDING[[#This Row],[LOW BIDDER''S UNIT PRICE]]","v":0},{"$f":"_300A_FUNDING[[#This Row],[Column12]]*_300A_FUNDING[[#This Row],[LOW BIDDER''S UNIT PRICE]]","v":0},{"$f":"_300A_FUNDING[[#This Row],[Column13]]*_300A_FUNDING[[#This Row],[LOW BIDDER''S UNIT PRICE]]","v":0},{"$f":"_300A_FUNDING[[#This Row],[Column14]]*_300A_FUNDING[[#This Row],[LOW BIDDER''S UNIT PRICE]]","v":0}]
[null,null,null,null,null,null,null,null,null,null,null,null,null,null,null,null,0,{"$f":"_300A_FUNDING[[#This Row],[Column5]]*_300A_FUNDING[[#This Row],[LOW BIDDER''S UNIT PRICE]]","v":0},{"$f":"_300A_FUNDING[[#This Row],[Column6]]*_300A_FUNDING[[#This Row],[LOW BIDDER''S UNIT PRICE]]","v":0},{"$f":"_300A_FUNDING[[#This Row],[Column7]]*_300A_FUNDING[[#This Row],[LOW BIDDER''S UNIT PRICE]]","v":0},{"$f":"_300A_FUNDING[[#This Row],[Column8]]*_300A_FUNDING[[#This Row],[LOW BIDDER''S UNIT PRICE]]","v":0},{"$f":"_300A_FUNDING[[#This Row],[Column9]]*_300A_FUNDING[[#This Row],[LOW BIDDER''S UNIT PRICE]]","v":0},{"$f":"_300A_FUNDING[[#This Row],[Column10]]*_300A_FUNDING[[#This Row],[LOW BIDDER''S UNIT PRICE]]","v":0},{"$f":"_300A_FUNDING[[#This Row],[Column11]]*_300A_FUNDING[[#This Row],[LOW BIDDER''S UNIT PRICE]]","v":0},{"$f":"_300A_FUNDING[[#This Row],[Column12]]*_300A_FUNDING[[#This Row],[LOW BIDDER''S UNIT PRICE]]","v":0},{"$f":"_300A_FUNDING[[#This Row],[Column13]]*_300A_FUNDING[[#This Row],[LOW BIDDER''S UNIT PRICE]]","v":0},{"$f":"_300A_FUNDING[[#This Row],[Column14]]*_300A_FUNDING[[#This Row],[LOW BIDDER''S UNIT PRICE]]","v":0}]
[null,null,null,null,null,null,null,null,null,null,null,null,null,null,null,null,0,{"$f":"_300A_FUNDING[[#This Row],[Column5]]*_300A_FUNDING[[#This Row],[LOW BIDDER''S UNIT PRICE]]","v":0},{"$f":"_300A_FUNDING[[#This Row],[Column6]]*_300A_FUNDING[[#This Row],[LOW BIDDER''S UNIT PRICE]]","v":0},{"$f":"_300A_FUNDING[[#This Row],[Column7]]*_300A_FUNDING[[#This Row],[LOW BIDDER''S UNIT PRICE]]","v":0},{"$f":"_300A_FUNDING[[#This Row],[Column8]]*_300A_FUNDING[[#This Row],[LOW BIDDER''S UNIT PRICE]]","v":0},{"$f":"_300A_FUNDING[[#This Row],[Column9]]*_300A_FUNDING[[#This Row],[LOW BIDDER''S UNIT PRICE]]","v":0},{"$f":"_300A_FUNDING[[#This Row],[Column10]]*_300A_FUNDING[[#This Row],[LOW BIDDER''S UNIT PRICE]]","v":0},{"$f":"_300A_FUNDING[[#This Row],[Column11]]*_300A_FUNDING[[#This Row],[LOW BIDDER''S UNIT PRICE]]","v":0},{"$f":"_300A_FUNDING[[#This Row],[Column12]]*_300A_FUNDING[[#This Row],[LOW BIDDER''S UNIT PRICE]]","v":0},{"$f":"_300A_FUNDING[[#This Row],[Column13]]*_300A_FUNDING[[#This Row],[LOW BIDDER''S UNIT PRICE]]","v":0},{"$f":"_300A_FUNDING[[#This Row],[Column14]]*_300A_FUNDING[[#This Row],[LOW BIDDER''S UNIT PRICE]]","v":0}]
[null,null,null,null,null,null,null,null,null,null,null,null,null,null,null,null,0,{"$f":"_300A_FUNDING[[#This Row],[Column5]]*_300A_FUNDING[[#This Row],[LOW BIDDER''S UNIT PRICE]]","v":0},{"$f":"_300A_FUNDING[[#This Row],[Column6]]*_300A_FUNDING[[#This Row],[LOW BIDDER''S UNIT PRICE]]","v":0},{"$f":"_300A_FUNDING[[#This Row],[Column7]]*_300A_FUNDING[[#This Row],[LOW BIDDER''S UNIT PRICE]]","v":0},{"$f":"_300A_FUNDING[[#This Row],[Column8]]*_300A_FUNDING[[#This Row],[LOW BIDDER''S UNIT PRICE]]","v":0},{"$f":"_300A_FUNDING[[#This Row],[Column9]]*_300A_FUNDING[[#This Row],[LOW BIDDER''S UNIT PRICE]]","v":0},{"$f":"_300A_FUNDING[[#This Row],[Column10]]*_300A_FUNDING[[#This Row],[LOW BIDDER''S UNIT PRICE]]","v":0},{"$f":"_300A_FUNDING[[#This Row],[Column11]]*_300A_FUNDING[[#This Row],[LOW BIDDER''S UNIT PRICE]]","v":0},{"$f":"_300A_FUNDING[[#This Row],[Column12]]*_300A_FUNDING[[#This Row],[LOW BIDDER''S UNIT PRICE]]","v":0},{"$f":"_300A_FUNDING[[#This Row],[Column13]]*_300A_FUNDING[[#This Row],[LOW BIDDER''S UNIT PRICE]]","v":0},{"$f":"_300A_FUNDING[[#This Row],[Column14]]*_300A_FUNDING[[#This Row],[LOW BIDDER''S UNIT PRICE]]","v":0}]
[null,null,null,null,null,null,null,null,null,null,null,null,null,null,null,null,0,{"$f":"_300A_FUNDING[[#This Row],[Column5]]*_300A_FUNDING[[#This Row],[LOW BIDDER''S UNIT PRICE]]","v":0},{"$f":"_300A_FUNDING[[#This Row],[Column6]]*_300A_FUNDING[[#This Row],[LOW BIDDER''S UNIT PRICE]]","v":0},{"$f":"_300A_FUNDING[[#This Row],[Column7]]*_300A_FUNDING[[#This Row],[LOW BIDDER''S UNIT PRICE]]","v":0},{"$f":"_300A_FUNDING[[#This Row],[Column8]]*_300A_FUNDING[[#This Row],[LOW BIDDER''S UNIT PRICE]]","v":0},{"$f":"_300A_FUNDING[[#This Row],[Column9]]*_300A_FUNDING[[#This Row],[LOW BIDDER''S UNIT PRICE]]","v":0},{"$f":"_300A_FUNDING[[#This Row],[Column10]]*_300A_FUNDING[[#This Row],[LOW BIDDER''S UNIT PRICE]]","v":0},{"$f":"_300A_FUNDING[[#This Row],[Column11]]*_300A_FUNDING[[#This Row],[LOW BIDDER''S UNIT PRICE]]","v":0},{"$f":"_300A_FUNDING[[#This Row],[Column12]]*_300A_FUNDING[[#This Row],[LOW BIDDER''S UNIT PRICE]]","v":0},{"$f":"_300A_FUNDING[[#This Row],[Column13]]*_300A_FUNDING[[#This Row],[LOW BIDDER''S UNIT PRICE]]","v":0},{"$f":"_300A_FUNDING[[#This Row],[Column14]]*_300A_FUNDING[[#This Row],[LOW BIDDER''S UNIT PRICE]]","v":0}]
[null,null,null,null,null,null,null,null,null,null,null,null,null,null,null,null,0,{"$f":"_300A_FUNDING[[#This Row],[Column5]]*_300A_FUNDING[[#This Row],[LOW BIDDER''S UNIT PRICE]]","v":0},{"$f":"_300A_FUNDING[[#This Row],[Column6]]*_300A_FUNDING[[#This Row],[LOW BIDDER''S UNIT PRICE]]","v":0},{"$f":"_300A_FUNDING[[#This Row],[Column7]]*_300A_FUNDING[[#This Row],[LOW BIDDER''S UNIT PRICE]]","v":0},{"$f":"_300A_FUNDING[[#This Row],[Column8]]*_300A_FUNDING[[#This Row],[LOW BIDDER''S UNIT PRICE]]","v":0},{"$f":"_300A_FUNDING[[#This Row],[Column9]]*_300A_FUNDING[[#This Row],[LOW BIDDER''S UNIT PRICE]]","v":0},{"$f":"_300A_FUNDING[[#This Row],[Column10]]*_300A_FUNDING[[#This Row],[LOW BIDDER''S UNIT PRICE]]","v":0},{"$f":"_300A_FUNDING[[#This Row],[Column11]]*_300A_FUNDING[[#This Row],[LOW BIDDER''S UNIT PRICE]]","v":0},{"$f":"_300A_FUNDING[[#This Row],[Column12]]*_300A_FUNDING[[#This Row],[LOW BIDDER''S UNIT PRICE]]","v":0},{"$f":"_300A_FUNDING[[#This Row],[Column13]]*_300A_FUNDING[[#This Row],[LOW BIDDER''S UNIT PRICE]]","v":0},{"$f":"_300A_FUNDING[[#This Row],[Column14]]*_300A_FUNDING[[#This Row],[LOW BIDDER''S UNIT PRICE]]","v":0}]
[null,null,null,null,null,null,null,null,null,null,null,null,null,null,null,null,0,{"$f":"_300A_FUNDING[[#This Row],[Column5]]*_300A_FUNDING[[#This Row],[LOW BIDDER''S UNIT PRICE]]","v":0},{"$f":"_300A_FUNDING[[#This Row],[Column6]]*_300A_FUNDING[[#This Row],[LOW BIDDER''S UNIT PRICE]]","v":0},{"$f":"_300A_FUNDING[[#This Row],[Column7]]*_300A_FUNDING[[#This Row],[LOW BIDDER''S UNIT PRICE]]","v":0},{"$f":"_300A_FUNDING[[#This Row],[Column8]]*_300A_FUNDING[[#This Row],[LOW BIDDER''S UNIT PRICE]]","v":0},{"$f":"_300A_FUNDING[[#This Row],[Column9]]*_300A_FUNDING[[#This Row],[LOW BIDDER''S UNIT PRICE]]","v":0},{"$f":"_300A_FUNDING[[#This Row],[Column10]]*_300A_FUNDING[[#This Row],[LOW BIDDER''S UNIT PRICE]]","v":0},{"$f":"_300A_FUNDING[[#This Row],[Column11]]*_300A_FUNDING[[#This Row],[LOW BIDDER''S UNIT PRICE]]","v":0},{"$f":"_300A_FUNDING[[#This Row],[Column12]]*_300A_FUNDING[[#This Row],[LOW BIDDER''S UNIT PRICE]]","v":0},{"$f":"_300A_FUNDING[[#This Row],[Column13]]*_300A_FUNDING[[#This Row],[LOW BIDDER''S UNIT PRICE]]","v":0},{"$f":"_300A_FUNDING[[#This Row],[Column14]]*_300A_FUNDING[[#This Row],[LOW BIDDER''S UNIT PRICE]]","v":0}]
[null,null,null,null,null,null,null,null,null,null,null,null,null,null,null,null,0,{"$f":"_300A_FUNDING[[#This Row],[Column5]]*_300A_FUNDING[[#This Row],[LOW BIDDER''S UNIT PRICE]]","v":0},{"$f":"_300A_FUNDING[[#This Row],[Column6]]*_300A_FUNDING[[#This Row],[LOW BIDDER''S UNIT PRICE]]","v":0},{"$f":"_300A_FUNDING[[#This Row],[Column7]]*_300A_FUNDING[[#This Row],[LOW BIDDER''S UNIT PRICE]]","v":0},{"$f":"_300A_FUNDING[[#This Row],[Column8]]*_300A_FUNDING[[#This Row],[LOW BIDDER''S UNIT PRICE]]","v":0},{"$f":"_300A_FUNDING[[#This Row],[Column9]]*_300A_FUNDING[[#This Row],[LOW BIDDER''S UNIT PRICE]]","v":0},{"$f":"_300A_FUNDING[[#This Row],[Column10]]*_300A_FUNDING[[#This Row],[LOW BIDDER''S UNIT PRICE]]","v":0},{"$f":"_300A_FUNDING[[#This Row],[Column11]]*_300A_FUNDING[[#This Row],[LOW BIDDER''S UNIT PRICE]]","v":0},{"$f":"_300A_FUNDING[[#This Row],[Column12]]*_300A_FUNDING[[#This Row],[LOW BIDDER''S UNIT PRICE]]","v":0},{"$f":"_300A_FUNDING[[#This Row],[Column13]]*_300A_FUNDING[[#This Row],[LOW BIDDER''S UNIT PRICE]]","v":0},{"$f":"_300A_FUNDING[[#This Row],[Column14]]*_300A_FUNDING[[#This Row],[LOW BIDDER''S UNIT PRICE]]","v":0}]
[null,null,null,null,null,null,null,null,null,null,null,null,null,null,null,null,0,{"$f":"_300A_FUNDING[[#This Row],[Column5]]*_300A_FUNDING[[#This Row],[LOW BIDDER''S UNIT PRICE]]","v":0},{"$f":"_300A_FUNDING[[#This Row],[Column6]]*_300A_FUNDING[[#This Row],[LOW BIDDER''S UNIT PRICE]]","v":0},{"$f":"_300A_FUNDING[[#This Row],[Column7]]*_300A_FUNDING[[#This Row],[LOW BIDDER''S UNIT PRICE]]","v":0},{"$f":"_300A_FUNDING[[#This Row],[Column8]]*_300A_FUNDING[[#This Row],[LOW BIDDER''S UNIT PRICE]]","v":0},{"$f":"_300A_FUNDING[[#This Row],[Column9]]*_300A_FUNDING[[#This Row],[LOW BIDDER''S UNIT PRICE]]","v":0},{"$f":"_300A_FUNDING[[#This Row],[Column10]]*_300A_FUNDING[[#This Row],[LOW BIDDER''S UNIT PRICE]]","v":0},{"$f":"_300A_FUNDING[[#This Row],[Column11]]*_300A_FUNDING[[#This Row],[LOW BIDDER''S UNIT PRICE]]","v":0},{"$f":"_300A_FUNDING[[#This Row],[Column12]]*_300A_FUNDING[[#This Row],[LOW BIDDER''S UNIT PRICE]]","v":0},{"$f":"_300A_FUNDING[[#This Row],[Column13]]*_300A_FUNDING[[#This Row],[LOW BIDDER''S UNIT PRICE]]","v":0},{"$f":"_300A_FUNDING[[#This Row],[Column14]]*_300A_FUNDING[[#This Row],[LOW BIDDER''S UNIT PRICE]]","v":0}]
[null,null,null,null,null,null,null,null,null,null,null,null,null,null,null,null,0,{"$f":"_300A_FUNDING[[#This Row],[Column5]]*_300A_FUNDING[[#This Row],[LOW BIDDER''S UNIT PRICE]]","v":0},{"$f":"_300A_FUNDING[[#This Row],[Column6]]*_300A_FUNDING[[#This Row],[LOW BIDDER''S UNIT PRICE]]","v":0},{"$f":"_300A_FUNDING[[#This Row],[Column7]]*_300A_FUNDING[[#This Row],[LOW BIDDER''S UNIT PRICE]]","v":0},{"$f":"_300A_FUNDING[[#This Row],[Column8]]*_300A_FUNDING[[#This Row],[LOW BIDDER''S UNIT PRICE]]","v":0},{"$f":"_300A_FUNDING[[#This Row],[Column9]]*_300A_FUNDING[[#This Row],[LOW BIDDER''S UNIT PRICE]]","v":0},{"$f":"_300A_FUNDING[[#This Row],[Column10]]*_300A_FUNDING[[#This Row],[LOW BIDDER''S UNIT PRICE]]","v":0},{"$f":"_300A_FUNDING[[#This Row],[Column11]]*_300A_FUNDING[[#This Row],[LOW BIDDER''S UNIT PRICE]]","v":0},{"$f":"_300A_FUNDING[[#This Row],[Column12]]*_300A_FUNDING[[#This Row],[LOW BIDDER''S UNIT PRICE]]","v":0},{"$f":"_300A_FUNDING[[#This Row],[Column13]]*_300A_FUNDING[[#This Row],[LOW BIDDER''S UNIT PRICE]]","v":0},{"$f":"_300A_FUNDING[[#This Row],[Column14]]*_300A_FUNDING[[#This Row],[LOW BIDDER''S UNIT PRICE]]","v":0}]
[null,null,null,null,null,null,null,null,null,null,null,null,null,null,null,null,0,{"$f":"_300A_FUNDING[[#This Row],[Column5]]*_300A_FUNDING[[#This Row],[LOW BIDDER''S UNIT PRICE]]","v":0},{"$f":"_300A_FUNDING[[#This Row],[Column6]]*_300A_FUNDING[[#This Row],[LOW BIDDER''S UNIT PRICE]]","v":0},{"$f":"_300A_FUNDING[[#This Row],[Column7]]*_300A_FUNDING[[#This Row],[LOW BIDDER''S UNIT PRICE]]","v":0},{"$f":"_300A_FUNDING[[#This Row],[Column8]]*_300A_FUNDING[[#This Row],[LOW BIDDER''S UNIT PRICE]]","v":0},{"$f":"_300A_FUNDING[[#This Row],[Column9]]*_300A_FUNDING[[#This Row],[LOW BIDDER''S UNIT PRICE]]","v":0},{"$f":"_300A_FUNDING[[#This Row],[Column10]]*_300A_FUNDING[[#This Row],[LOW BIDDER''S UNIT PRICE]]","v":0},{"$f":"_300A_FUNDING[[#This Row],[Column11]]*_300A_FUNDING[[#This Row],[LOW BIDDER''S UNIT PRICE]]","v":0},{"$f":"_300A_FUNDING[[#This Row],[Column12]]*_300A_FUNDING[[#This Row],[LOW BIDDER''S UNIT PRICE]]","v":0},{"$f":"_300A_FUNDING[[#This Row],[Column13]]*_300A_FUNDING[[#This Row],[LOW BIDDER''S UNIT PRICE]]","v":0},{"$f":"_300A_FUNDING[[#This Row],[Column14]]*_300A_FUNDING[[#This Row],[LOW BIDDER''S UNIT PRICE]]","v":0}]
[null,null,null,null,null,null,null,null,null,null,null,null,null,null,null,null,0,{"$f":"_300A_FUNDING[[#This Row],[Column5]]*_300A_FUNDING[[#This Row],[LOW BIDDER''S UNIT PRICE]]","v":0},{"$f":"_300A_FUNDING[[#This Row],[Column6]]*_300A_FUNDING[[#This Row],[LOW BIDDER''S UNIT PRICE]]","v":0},{"$f":"_300A_FUNDING[[#This Row],[Column7]]*_300A_FUNDING[[#This Row],[LOW BIDDER''S UNIT PRICE]]","v":0},{"$f":"_300A_FUNDING[[#This Row],[Column8]]*_300A_FUNDING[[#This Row],[LOW BIDDER''S UNIT PRICE]]","v":0},{"$f":"_300A_FUNDING[[#This Row],[Column9]]*_300A_FUNDING[[#This Row],[LOW BIDDER''S UNIT PRICE]]","v":0},{"$f":"_300A_FUNDING[[#This Row],[Column10]]*_300A_FUNDING[[#This Row],[LOW BIDDER''S UNIT PRICE]]","v":0},{"$f":"_300A_FUNDING[[#This Row],[Column11]]*_300A_FUNDING[[#This Row],[LOW BIDDER''S UNIT PRICE]]","v":0},{"$f":"_300A_FUNDING[[#This Row],[Column12]]*_300A_FUNDING[[#This Row],[LOW BIDDER''S UNIT PRICE]]","v":0},{"$f":"_300A_FUNDING[[#This Row],[Column13]]*_300A_FUNDING[[#This Row],[LOW BIDDER''S UNIT PRICE]]","v":0},{"$f":"_300A_FUNDING[[#This Row],[Column14]]*_300A_FUNDING[[#This Row],[LOW BIDDER''S UNIT PRICE]]","v":0}]
[null,null,null,null,null,null,null,null,null,null,null,null,null,null,null,null,0,{"$f":"_300A_FUNDING[[#This Row],[Column5]]*_300A_FUNDING[[#This Row],[LOW BIDDER''S UNIT PRICE]]","v":0},{"$f":"_300A_FUNDING[[#This Row],[Column6]]*_300A_FUNDING[[#This Row],[LOW BIDDER''S UNIT PRICE]]","v":0},{"$f":"_300A_FUNDING[[#This Row],[Column7]]*_300A_FUNDING[[#This Row],[LOW BIDDER''S UNIT PRICE]]","v":0},{"$f":"_300A_FUNDING[[#This Row],[Column8]]*_300A_FUNDING[[#This Row],[LOW BIDDER''S UNIT PRICE]]","v":0},{"$f":"_300A_FUNDING[[#This Row],[Column9]]*_300A_FUNDING[[#This Row],[LOW BIDDER''S UNIT PRICE]]","v":0},{"$f":"_300A_FUNDING[[#This Row],[Column10]]*_300A_FUNDING[[#This Row],[LOW BIDDER''S UNIT PRICE]]","v":0},{"$f":"_300A_FUNDING[[#This Row],[Column11]]*_300A_FUNDING[[#This Row],[LOW BIDDER''S UNIT PRICE]]","v":0},{"$f":"_300A_FUNDING[[#This Row],[Column12]]*_300A_FUNDING[[#This Row],[LOW BIDDER''S UNIT PRICE]]","v":0},{"$f":"_300A_FUNDING[[#This Row],[Column13]]*_300A_FUNDING[[#This Row],[LOW BIDDER''S UNIT PRICE]]","v":0},{"$f":"_300A_FUNDING[[#This Row],[Column14]]*_300A_FUNDING[[#This Row],[LOW BIDDER''S UNIT PRICE]]","v":0}]
[null,null,null,null,null,null,null,null,null,null,null,null,null,null,null,null,0,{"$f":"_300A_FUNDING[[#This Row],[Column5]]*_300A_FUNDING[[#This Row],[LOW BIDDER''S UNIT PRICE]]","v":0},{"$f":"_300A_FUNDING[[#This Row],[Column6]]*_300A_FUNDING[[#This Row],[LOW BIDDER''S UNIT PRICE]]","v":0},{"$f":"_300A_FUNDING[[#This Row],[Column7]]*_300A_FUNDING[[#This Row],[LOW BIDDER''S UNIT PRICE]]","v":0},{"$f":"_300A_FUNDING[[#This Row],[Column8]]*_300A_FUNDING[[#This Row],[LOW BIDDER''S UNIT PRICE]]","v":0},{"$f":"_300A_FUNDING[[#This Row],[Column9]]*_300A_FUNDING[[#This Row],[LOW BIDDER''S UNIT PRICE]]","v":0},{"$f":"_300A_FUNDING[[#This Row],[Column10]]*_300A_FUNDING[[#This Row],[LOW BIDDER''S UNIT PRICE]]","v":0},{"$f":"_300A_FUNDING[[#This Row],[Column11]]*_300A_FUNDING[[#This Row],[LOW BIDDER''S UNIT PRICE]]","v":0},{"$f":"_300A_FUNDING[[#This Row],[Column12]]*_300A_FUNDING[[#This Row],[LOW BIDDER''S UNIT PRICE]]","v":0},{"$f":"_300A_FUNDING[[#This Row],[Column13]]*_300A_FUNDING[[#This Row],[LOW BIDDER''S UNIT PRICE]]","v":0},{"$f":"_300A_FUNDING[[#This Row],[Column14]]*_300A_FUNDING[[#This Row],[LOW BIDDER''S UNIT PRICE]]","v":0}]
[null,null,null,null,null,null,null,null,null,null,null,null,null,null,null,null,0,{"$f":"_300A_FUNDING[[#This Row],[Column5]]*_300A_FUNDING[[#This Row],[LOW BIDDER''S UNIT PRICE]]","v":0},{"$f":"_300A_FUNDING[[#This Row],[Column6]]*_300A_FUNDING[[#This Row],[LOW BIDDER''S UNIT PRICE]]","v":0},{"$f":"_300A_FUNDING[[#This Row],[Column7]]*_300A_FUNDING[[#This Row],[LOW BIDDER''S UNIT PRICE]]","v":0},{"$f":"_300A_FUNDING[[#This Row],[Column8]]*_300A_FUNDING[[#This Row],[LOW BIDDER''S UNIT PRICE]]","v":0},{"$f":"_300A_FUNDING[[#This Row],[Column9]]*_300A_FUNDING[[#This Row],[LOW BIDDER''S UNIT PRICE]]","v":0},{"$f":"_300A_FUNDING[[#This Row],[Column10]]*_300A_FUNDING[[#This Row],[LOW BIDDER''S UNIT PRICE]]","v":0},{"$f":"_300A_FUNDING[[#This Row],[Column11]]*_300A_FUNDING[[#This Row],[LOW BIDDER''S UNIT PRICE]]","v":0},{"$f":"_300A_FUNDING[[#This Row],[Column12]]*_300A_FUNDING[[#This Row],[LOW BIDDER''S UNIT PRICE]]","v":0},{"$f":"_300A_FUNDING[[#This Row],[Column13]]*_300A_FUNDING[[#This Row],[LOW BIDDER''S UNIT PRICE]]","v":0},{"$f":"_300A_FUNDING[[#This Row],[Column14]]*_300A_FUNDING[[#This Row],[LOW BIDDER''S UNIT PRICE]]","v":0}]
[null,null,null,null,null,null,null,null,null,null,null,null,null,null,null,null,0,{"$f":"_300A_FUNDING[[#This Row],[Column5]]*_300A_FUNDING[[#This Row],[LOW BIDDER''S UNIT PRICE]]","v":0},{"$f":"_300A_FUNDING[[#This Row],[Column6]]*_300A_FUNDING[[#This Row],[LOW BIDDER''S UNIT PRICE]]","v":0},{"$f":"_300A_FUNDING[[#This Row],[Column7]]*_300A_FUNDING[[#This Row],[LOW BIDDER''S UNIT PRICE]]","v":0},{"$f":"_300A_FUNDING[[#This Row],[Column8]]*_300A_FUNDING[[#This Row],[LOW BIDDER''S UNIT PRICE]]","v":0},{"$f":"_300A_FUNDING[[#This Row],[Column9]]*_300A_FUNDING[[#This Row],[LOW BIDDER''S UNIT PRICE]]","v":0},{"$f":"_300A_FUNDING[[#This Row],[Column10]]*_300A_FUNDING[[#This Row],[LOW BIDDER''S UNIT PRICE]]","v":0},{"$f":"_300A_FUNDING[[#This Row],[Column11]]*_300A_FUNDING[[#This Row],[LOW BIDDER''S UNIT PRICE]]","v":0},{"$f":"_300A_FUNDING[[#This Row],[Column12]]*_300A_FUNDING[[#This Row],[LOW BIDDER''S UNIT PRICE]]","v":0},{"$f":"_300A_FUNDING[[#This Row],[Column13]]*_300A_FUNDING[[#This Row],[LOW BIDDER''S UNIT PRICE]]","v":0},{"$f":"_300A_FUNDING[[#This Row],[Column14]]*_300A_FUNDING[[#This Row],[LOW BIDDER''S UNIT PRICE]]","v":0}]
[null,null,null,null,null,null,null,null,null,null,null,null,null,null,null,null,0,{"$f":"_300A_FUNDING[[#This Row],[Column5]]*_300A_FUNDING[[#This Row],[LOW BIDDER''S UNIT PRICE]]","v":0},{"$f":"_300A_FUNDING[[#This Row],[Column6]]*_300A_FUNDING[[#This Row],[LOW BIDDER''S UNIT PRICE]]","v":0},{"$f":"_300A_FUNDING[[#This Row],[Column7]]*_300A_FUNDING[[#This Row],[LOW BIDDER''S UNIT PRICE]]","v":0},{"$f":"_300A_FUNDING[[#This Row],[Column8]]*_300A_FUNDING[[#This Row],[LOW BIDDER''S UNIT PRICE]]","v":0},{"$f":"_300A_FUNDING[[#This Row],[Column9]]*_300A_FUNDING[[#This Row],[LOW BIDDER''S UNIT PRICE]]","v":0},{"$f":"_300A_FUNDING[[#This Row],[Column10]]*_300A_FUNDING[[#This Row],[LOW BIDDER''S UNIT PRICE]]","v":0},{"$f":"_300A_FUNDING[[#This Row],[Column11]]*_300A_FUNDING[[#This Row],[LOW BIDDER''S UNIT PRICE]]","v":0},{"$f":"_300A_FUNDING[[#This Row],[Column12]]*_300A_FUNDING[[#This Row],[LOW BIDDER''S UNIT PRICE]]","v":0},{"$f":"_300A_FUNDING[[#This Row],[Column13]]*_300A_FUNDING[[#This Row],[LOW BIDDER''S UNIT PRICE]]","v":0},{"$f":"_300A_FUNDING[[#This Row],[Column14]]*_300A_FUNDING[[#This Row],[LOW BIDDER''S UNIT PRICE]]","v":0}]
[null,null,null,null,null,null,null,null,null,null,null,null,null,null,null,null,0,{"$f":"_300A_FUNDING[[#This Row],[Column5]]*_300A_FUNDING[[#This Row],[LOW BIDDER''S UNIT PRICE]]","v":0},{"$f":"_300A_FUNDING[[#This Row],[Column6]]*_300A_FUNDING[[#This Row],[LOW BIDDER''S UNIT PRICE]]","v":0},{"$f":"_300A_FUNDING[[#This Row],[Column7]]*_300A_FUNDING[[#This Row],[LOW BIDDER''S UNIT PRICE]]","v":0},{"$f":"_300A_FUNDING[[#This Row],[Column8]]*_300A_FUNDING[[#This Row],[LOW BIDDER''S UNIT PRICE]]","v":0},{"$f":"_300A_FUNDING[[#This Row],[Column9]]*_300A_FUNDING[[#This Row],[LOW BIDDER''S UNIT PRICE]]","v":0},{"$f":"_300A_FUNDING[[#This Row],[Column10]]*_300A_FUNDING[[#This Row],[LOW BIDDER''S UNIT PRICE]]","v":0},{"$f":"_300A_FUNDING[[#This Row],[Column11]]*_300A_FUNDING[[#This Row],[LOW BIDDER''S UNIT PRICE]]","v":0},{"$f":"_300A_FUNDING[[#This Row],[Column12]]*_300A_FUNDING[[#This Row],[LOW BIDDER''S UNIT PRICE]]","v":0},{"$f":"_300A_FUNDING[[#This Row],[Column13]]*_300A_FUNDING[[#This Row],[LOW BIDDER''S UNIT PRICE]]","v":0},{"$f":"_300A_FUNDING[[#This Row],[Column14]]*_300A_FUNDING[[#This Row],[LOW BIDDER''S UNIT PRICE]]","v":0}]
[null,null,null,null,null,null,null,null,null,null,null,null,null,null,null,null,0,{"$f":"_300A_FUNDING[[#This Row],[Column5]]*_300A_FUNDING[[#This Row],[LOW BIDDER''S UNIT PRICE]]","v":0},{"$f":"_300A_FUNDING[[#This Row],[Column6]]*_300A_FUNDING[[#This Row],[LOW BIDDER''S UNIT PRICE]]","v":0},{"$f":"_300A_FUNDING[[#This Row],[Column7]]*_300A_FUNDING[[#This Row],[LOW BIDDER''S UNIT PRICE]]","v":0},{"$f":"_300A_FUNDING[[#This Row],[Column8]]*_300A_FUNDING[[#This Row],[LOW BIDDER''S UNIT PRICE]]","v":0},{"$f":"_300A_FUNDING[[#This Row],[Column9]]*_300A_FUNDING[[#This Row],[LOW BIDDER''S UNIT PRICE]]","v":0},{"$f":"_300A_FUNDING[[#This Row],[Column10]]*_300A_FUNDING[[#This Row],[LOW BIDDER''S UNIT PRICE]]","v":0},{"$f":"_300A_FUNDING[[#This Row],[Column11]]*_300A_FUNDING[[#This Row],[LOW BIDDER''S UNIT PRICE]]","v":0},{"$f":"_300A_FUNDING[[#This Row],[Column12]]*_300A_FUNDING[[#This Row],[LOW BIDDER''S UNIT PRICE]]","v":0},{"$f":"_300A_FUNDING[[#This Row],[Column13]]*_300A_FUNDING[[#This Row],[LOW BIDDER''S UNIT PRICE]]","v":0},{"$f":"_300A_FUNDING[[#This Row],[Column14]]*_300A_FUNDING[[#This Row],[LOW BIDDER''S UNIT PRICE]]","v":0}]
[null,null,null,null,null,null,null,null,null,null,null,null,null,null,null,null,0,{"$f":"_300A_FUNDING[[#This Row],[Column5]]*_300A_FUNDING[[#This Row],[LOW BIDDER''S UNIT PRICE]]","v":0},{"$f":"_300A_FUNDING[[#This Row],[Column6]]*_300A_FUNDING[[#This Row],[LOW BIDDER''S UNIT PRICE]]","v":0},{"$f":"_300A_FUNDING[[#This Row],[Column7]]*_300A_FUNDING[[#This Row],[LOW BIDDER''S UNIT PRICE]]","v":0},{"$f":"_300A_FUNDING[[#This Row],[Column8]]*_300A_FUNDING[[#This Row],[LOW BIDDER''S UNIT PRICE]]","v":0},{"$f":"_300A_FUNDING[[#This Row],[Column9]]*_300A_FUNDING[[#This Row],[LOW BIDDER''S UNIT PRICE]]","v":0},{"$f":"_300A_FUNDING[[#This Row],[Column10]]*_300A_FUNDING[[#This Row],[LOW BIDDER''S UNIT PRICE]]","v":0},{"$f":"_300A_FUNDING[[#This Row],[Column11]]*_300A_FUNDING[[#This Row],[LOW BIDDER''S UNIT PRICE]]","v":0},{"$f":"_300A_FUNDING[[#This Row],[Column12]]*_300A_FUNDING[[#This Row],[LOW BIDDER''S UNIT PRICE]]","v":0},{"$f":"_300A_FUNDING[[#This Row],[Column13]]*_300A_FUNDING[[#This Row],[LOW BIDDER''S UNIT PRICE]]","v":0},{"$f":"_300A_FUNDING[[#This Row],[Column14]]*_300A_FUNDING[[#This Row],[LOW BIDDER''S UNIT PRICE]]","v":0}]
[null,null,null,null,null,null,null,null,null,null,null,null,null,null,null,null,0,{"$f":"_300A_FUNDING[[#This Row],[Column5]]*_300A_FUNDING[[#This Row],[LOW BIDDER''S UNIT PRICE]]","v":0},{"$f":"_300A_FUNDING[[#This Row],[Column6]]*_300A_FUNDING[[#This Row],[LOW BIDDER''S UNIT PRICE]]","v":0},{"$f":"_300A_FUNDING[[#This Row],[Column7]]*_300A_FUNDING[[#This Row],[LOW BIDDER''S UNIT PRICE]]","v":0},{"$f":"_300A_FUNDING[[#This Row],[Column8]]*_300A_FUNDING[[#This Row],[LOW BIDDER''S UNIT PRICE]]","v":0},{"$f":"_300A_FUNDING[[#This Row],[Column9]]*_300A_FUNDING[[#This Row],[LOW BIDDER''S UNIT PRICE]]","v":0},{"$f":"_300A_FUNDING[[#This Row],[Column10]]*_300A_FUNDING[[#This Row],[LOW BIDDER''S UNIT PRICE]]","v":0},{"$f":"_300A_FUNDING[[#This Row],[Column11]]*_300A_FUNDING[[#This Row],[LOW BIDDER''S UNIT PRICE]]","v":0},{"$f":"_300A_FUNDING[[#This Row],[Column12]]*_300A_FUNDING[[#This Row],[LOW BIDDER''S UNIT PRICE]]","v":0},{"$f":"_300A_FUNDING[[#This Row],[Column13]]*_300A_FUNDING[[#This Row],[LOW BIDDER''S UNIT PRICE]]","v":0},{"$f":"_300A_FUNDING[[#This Row],[Column14]]*_300A_FUNDING[[#This Row],[LOW BIDDER''S UNIT PRICE]]","v":0}]
[null,null,null,null,null,null,null,null,null,null,null,null,null,null,null,null,0,{"$f":"_300A_FUNDING[[#This Row],[Column5]]*_300A_FUNDING[[#This Row],[LOW BIDDER''S UNIT PRICE]]","v":0},{"$f":"_300A_FUNDING[[#This Row],[Column6]]*_300A_FUNDING[[#This Row],[LOW BIDDER''S UNIT PRICE]]","v":0},{"$f":"_300A_FUNDING[[#This Row],[Column7]]*_300A_FUNDING[[#This Row],[LOW BIDDER''S UNIT PRICE]]","v":0},{"$f":"_300A_FUNDING[[#This Row],[Column8]]*_300A_FUNDING[[#This Row],[LOW BIDDER''S UNIT PRICE]]","v":0},{"$f":"_300A_FUNDING[[#This Row],[Column9]]*_300A_FUNDING[[#This Row],[LOW BIDDER''S UNIT PRICE]]","v":0},{"$f":"_300A_FUNDING[[#This Row],[Column10]]*_300A_FUNDING[[#This Row],[LOW BIDDER''S UNIT PRICE]]","v":0},{"$f":"_300A_FUNDING[[#This Row],[Column11]]*_300A_FUNDING[[#This Row],[LOW BIDDER''S UNIT PRICE]]","v":0},{"$f":"_300A_FUNDING[[#This Row],[Column12]]*_300A_FUNDING[[#This Row],[LOW BIDDER''S UNIT PRICE]]","v":0},{"$f":"_300A_FUNDING[[#This Row],[Column13]]*_300A_FUNDING[[#This Row],[LOW BIDDER''S UNIT PRICE]]","v":0},{"$f":"_300A_FUNDING[[#This Row],[Column14]]*_300A_FUNDING[[#This Row],[LOW BIDDER''S UNIT PRICE]]","v":0}]
[null,null,null,null,null,null,null,null,null,null,null,null,null,null,null,null,0,{"$f":"_300A_FUNDING[[#This Row],[Column5]]*_300A_FUNDING[[#This Row],[LOW BIDDER''S UNIT PRICE]]","v":0},{"$f":"_300A_FUNDING[[#This Row],[Column6]]*_300A_FUNDING[[#This Row],[LOW BIDDER''S UNIT PRICE]]","v":0},{"$f":"_300A_FUNDING[[#This Row],[Column7]]*_300A_FUNDING[[#This Row],[LOW BIDDER''S UNIT PRICE]]","v":0},{"$f":"_300A_FUNDING[[#This Row],[Column8]]*_300A_FUNDING[[#This Row],[LOW BIDDER''S UNIT PRICE]]","v":0},{"$f":"_300A_FUNDING[[#This Row],[Column9]]*_300A_FUNDING[[#This Row],[LOW BIDDER''S UNIT PRICE]]","v":0},{"$f":"_300A_FUNDING[[#This Row],[Column10]]*_300A_FUNDING[[#This Row],[LOW BIDDER''S UNIT PRICE]]","v":0},{"$f":"_300A_FUNDING[[#This Row],[Column11]]*_300A_FUNDING[[#This Row],[LOW BIDDER''S UNIT PRICE]]","v":0},{"$f":"_300A_FUNDING[[#This Row],[Column12]]*_300A_FUNDING[[#This Row],[LOW BIDDER''S UNIT PRICE]]","v":0},{"$f":"_300A_FUNDING[[#This Row],[Column13]]*_300A_FUNDING[[#This Row],[LOW BIDDER''S UNIT PRICE]]","v":0},{"$f":"_300A_FUNDING[[#This Row],[Column14]]*_300A_FUNDING[[#This Row],[LOW BIDDER''S UNIT PRICE]]","v":0}]
[null,null,null,null,null,null,null,null,null,null,null,null,null,null,null,null,0,{"$f":"_300A_FUNDING[[#This Row],[Column5]]*_300A_FUNDING[[#This Row],[LOW BIDDER''S UNIT PRICE]]","v":0},{"$f":"_300A_FUNDING[[#This Row],[Column6]]*_300A_FUNDING[[#This Row],[LOW BIDDER''S UNIT PRICE]]","v":0},{"$f":"_300A_FUNDING[[#This Row],[Column7]]*_300A_FUNDING[[#This Row],[LOW BIDDER''S UNIT PRICE]]","v":0},{"$f":"_300A_FUNDING[[#This Row],[Column8]]*_300A_FUNDING[[#This Row],[LOW BIDDER''S UNIT PRICE]]","v":0},{"$f":"_300A_FUNDING[[#This Row],[Column9]]*_300A_FUNDING[[#This Row],[LOW BIDDER''S UNIT PRICE]]","v":0},{"$f":"_300A_FUNDING[[#This Row],[Column10]]*_300A_FUNDING[[#This Row],[LOW BIDDER''S UNIT PRICE]]","v":0},{"$f":"_300A_FUNDING[[#This Row],[Column11]]*_300A_FUNDING[[#This Row],[LOW BIDDER''S UNIT PRICE]]","v":0},{"$f":"_300A_FUNDING[[#This Row],[Column12]]*_300A_FUNDING[[#This Row],[LOW BIDDER''S UNIT PRICE]]","v":0},{"$f":"_300A_FUNDING[[#This Row],[Column13]]*_300A_FUNDING[[#This Row],[LOW BIDDER''S UNIT PRICE]]","v":0},{"$f":"_300A_FUNDING[[#This Row],[Column14]]*_300A_FUNDING[[#This Row],[LOW BIDDER''S UNIT PRICE]]","v":0}]
[null,null,null,null,null,null,null,null,null,null,null,null,null,null,null,null,0,{"$f":"_300A_FUNDING[[#This Row],[Column5]]*_300A_FUNDING[[#This Row],[LOW BIDDER''S UNIT PRICE]]","v":0},{"$f":"_300A_FUNDING[[#This Row],[Column6]]*_300A_FUNDING[[#This Row],[LOW BIDDER''S UNIT PRICE]]","v":0},{"$f":"_300A_FUNDING[[#This Row],[Column7]]*_300A_FUNDING[[#This Row],[LOW BIDDER''S UNIT PRICE]]","v":0},{"$f":"_300A_FUNDING[[#This Row],[Column8]]*_300A_FUNDING[[#This Row],[LOW BIDDER''S UNIT PRICE]]","v":0},{"$f":"_300A_FUNDING[[#This Row],[Column9]]*_300A_FUNDING[[#This Row],[LOW BIDDER''S UNIT PRICE]]","v":0},{"$f":"_300A_FUNDING[[#This Row],[Column10]]*_300A_FUNDING[[#This Row],[LOW BIDDER''S UNIT PRICE]]","v":0},{"$f":"_300A_FUNDING[[#This Row],[Column11]]*_300A_FUNDING[[#This Row],[LOW BIDDER''S UNIT PRICE]]","v":0},{"$f":"_300A_FUNDING[[#This Row],[Column12]]*_300A_FUNDING[[#This Row],[LOW BIDDER''S UNIT PRICE]]","v":0},{"$f":"_300A_FUNDING[[#This Row],[Column13]]*_300A_FUNDING[[#This Row],[LOW BIDDER''S UNIT PRICE]]","v":0},{"$f":"_300A_FUNDING[[#This Row],[Column14]]*_300A_FUNDING[[#This Row],[LOW BIDDER''S UNIT PRICE]]","v":0}]
[null,null,null,null,null,null,null,null,null,null,null,null,null,null,null,null,0,{"$f":"_300A_FUNDING[[#This Row],[Column5]]*_300A_FUNDING[[#This Row],[LOW BIDDER''S UNIT PRICE]]","v":0},{"$f":"_300A_FUNDING[[#This Row],[Column6]]*_300A_FUNDING[[#This Row],[LOW BIDDER''S UNIT PRICE]]","v":0},{"$f":"_300A_FUNDING[[#This Row],[Column7]]*_300A_FUNDING[[#This Row],[LOW BIDDER''S UNIT PRICE]]","v":0},{"$f":"_300A_FUNDING[[#This Row],[Column8]]*_300A_FUNDING[[#This Row],[LOW BIDDER''S UNIT PRICE]]","v":0},{"$f":"_300A_FUNDING[[#This Row],[Column9]]*_300A_FUNDING[[#This Row],[LOW BIDDER''S UNIT PRICE]]","v":0},{"$f":"_300A_FUNDING[[#This Row],[Column10]]*_300A_FUNDING[[#This Row],[LOW BIDDER''S UNIT PRICE]]","v":0},{"$f":"_300A_FUNDING[[#This Row],[Column11]]*_300A_FUNDING[[#This Row],[LOW BIDDER''S UNIT PRICE]]","v":0},{"$f":"_300A_FUNDING[[#This Row],[Column12]]*_300A_FUNDING[[#This Row],[LOW BIDDER''S UNIT PRICE]]","v":0},{"$f":"_300A_FUNDING[[#This Row],[Column13]]*_300A_FUNDING[[#This Row],[LOW BIDDER''S UNIT PRICE]]","v":0},{"$f":"_300A_FUNDING[[#This Row],[Column14]]*_300A_FUNDING[[#This Row],[LOW BIDDER''S UNIT PRICE]]","v":0}]
[null,null,null,null,null,null,null,null,null,null,null,null,null,null,null,null,0,{"$f":"_300A_FUNDING[[#This Row],[Column5]]*_300A_FUNDING[[#This Row],[LOW BIDDER''S UNIT PRICE]]","v":0},{"$f":"_300A_FUNDING[[#This Row],[Column6]]*_300A_FUNDING[[#This Row],[LOW BIDDER''S UNIT PRICE]]","v":0},{"$f":"_300A_FUNDING[[#This Row],[Column7]]*_300A_FUNDING[[#This Row],[LOW BIDDER''S UNIT PRICE]]","v":0},{"$f":"_300A_FUNDING[[#This Row],[Column8]]*_300A_FUNDING[[#This Row],[LOW BIDDER''S UNIT PRICE]]","v":0},{"$f":"_300A_FUNDING[[#This Row],[Column9]]*_300A_FUNDING[[#This Row],[LOW BIDDER''S UNIT PRICE]]","v":0},{"$f":"_300A_FUNDING[[#This Row],[Column10]]*_300A_FUNDING[[#This Row],[LOW BIDDER''S UNIT PRICE]]","v":0},{"$f":"_300A_FUNDING[[#This Row],[Column11]]*_300A_FUNDING[[#This Row],[LOW BIDDER''S UNIT PRICE]]","v":0},{"$f":"_300A_FUNDING[[#This Row],[Column12]]*_300A_FUNDING[[#This Row],[LOW BIDDER''S UNIT PRICE]]","v":0},{"$f":"_300A_FUNDING[[#This Row],[Column13]]*_300A_FUNDING[[#This Row],[LOW BIDDER''S UNIT PRICE]]","v":0},{"$f":"_300A_FUNDING[[#This Row],[Column14]]*_300A_FUNDING[[#This Row],[LOW BIDDER''S UNIT PRICE]]","v":0}]
[null,null,null,null,null,null,null,null,null,null,null,null,null,null,null,null,0,{"$f":"_300A_FUNDING[[#This Row],[Column5]]*_300A_FUNDING[[#This Row],[LOW BIDDER''S UNIT PRICE]]","v":0},{"$f":"_300A_FUNDING[[#This Row],[Column6]]*_300A_FUNDING[[#This Row],[LOW BIDDER''S UNIT PRICE]]","v":0},{"$f":"_300A_FUNDING[[#This Row],[Column7]]*_300A_FUNDING[[#This Row],[LOW BIDDER''S UNIT PRICE]]","v":0},{"$f":"_300A_FUNDING[[#This Row],[Column8]]*_300A_FUNDING[[#This Row],[LOW BIDDER''S UNIT PRICE]]","v":0},{"$f":"_300A_FUNDING[[#This Row],[Column9]]*_300A_FUNDING[[#This Row],[LOW BIDDER''S UNIT PRICE]]","v":0},{"$f":"_300A_FUNDING[[#This Row],[Column10]]*_300A_FUNDING[[#This Row],[LOW BIDDER''S UNIT PRICE]]","v":0},{"$f":"_300A_FUNDING[[#This Row],[Column11]]*_300A_FUNDING[[#This Row],[LOW BIDDER''S UNIT PRICE]]","v":0},{"$f":"_300A_FUNDING[[#This Row],[Column12]]*_300A_FUNDING[[#This Row],[LOW BIDDER''S UNIT PRICE]]","v":0},{"$f":"_300A_FUNDING[[#This Row],[Column13]]*_300A_FUNDING[[#This Row],[LOW BIDDER''S UNIT PRICE]]","v":0},{"$f":"_300A_FUNDING[[#This Row],[Column14]]*_300A_FUNDING[[#This Row],[LOW BIDDER''S UNIT PRICE]]","v":0}]
[null,null,null,null,null,null,null,null,null,null,null,null,null,null,null,null,0,{"$f":"_300A_FUNDING[[#This Row],[Column5]]*_300A_FUNDING[[#This Row],[LOW BIDDER''S UNIT PRICE]]","v":0},{"$f":"_300A_FUNDING[[#This Row],[Column6]]*_300A_FUNDING[[#This Row],[LOW BIDDER''S UNIT PRICE]]","v":0},{"$f":"_300A_FUNDING[[#This Row],[Column7]]*_300A_FUNDING[[#This Row],[LOW BIDDER''S UNIT PRICE]]","v":0},{"$f":"_300A_FUNDING[[#This Row],[Column8]]*_300A_FUNDING[[#This Row],[LOW BIDDER''S UNIT PRICE]]","v":0},{"$f":"_300A_FUNDING[[#This Row],[Column9]]*_300A_FUNDING[[#This Row],[LOW BIDDER''S UNIT PRICE]]","v":0},{"$f":"_300A_FUNDING[[#This Row],[Column10]]*_300A_FUNDING[[#This Row],[LOW BIDDER''S UNIT PRICE]]","v":0},{"$f":"_300A_FUNDING[[#This Row],[Column11]]*_300A_FUNDING[[#This Row],[LOW BIDDER''S UNIT PRICE]]","v":0},{"$f":"_300A_FUNDING[[#This Row],[Column12]]*_300A_FUNDING[[#This Row],[LOW BIDDER''S UNIT PRICE]]","v":0},{"$f":"_300A_FUNDING[[#This Row],[Column13]]*_300A_FUNDING[[#This Row],[LOW BIDDER''S UNIT PRICE]]","v":0},{"$f":"_300A_FUNDING[[#This Row],[Column14]]*_300A_FUNDING[[#This Row],[LOW BIDDER''S UNIT PRICE]]","v":0}]
[null,null,null,null,null,null,null,null,null,null,null,null,null,null,null,null,0,{"$f":"_300A_FUNDING[[#This Row],[Column5]]*_300A_FUNDING[[#This Row],[LOW BIDDER''S UNIT PRICE]]","v":0},{"$f":"_300A_FUNDING[[#This Row],[Column6]]*_300A_FUNDING[[#This Row],[LOW BIDDER''S UNIT PRICE]]","v":0},{"$f":"_300A_FUNDING[[#This Row],[Column7]]*_300A_FUNDING[[#This Row],[LOW BIDDER''S UNIT PRICE]]","v":0},{"$f":"_300A_FUNDING[[#This Row],[Column8]]*_300A_FUNDING[[#This Row],[LOW BIDDER''S UNIT PRICE]]","v":0},{"$f":"_300A_FUNDING[[#This Row],[Column9]]*_300A_FUNDING[[#This Row],[LOW BIDDER''S UNIT PRICE]]","v":0},{"$f":"_300A_FUNDING[[#This Row],[Column10]]*_300A_FUNDING[[#This Row],[LOW BIDDER''S UNIT PRICE]]","v":0},{"$f":"_300A_FUNDING[[#This Row],[Column11]]*_300A_FUNDING[[#This Row],[LOW BIDDER''S UNIT PRICE]]","v":0},{"$f":"_300A_FUNDING[[#This Row],[Column12]]*_300A_FUNDING[[#This Row],[LOW BIDDER''S UNIT PRICE]]","v":0},{"$f":"_300A_FUNDING[[#This Row],[Column13]]*_300A_FUNDING[[#This Row],[LOW BIDDER''S UNIT PRICE]]","v":0},{"$f":"_300A_FUNDING[[#This Row],[Column14]]*_300A_FUNDING[[#This Row],[LOW BIDDER''S UNIT PRICE]]","v":0}]
[null,null,null,null,null,null,null,null,null,null,null,null,null,null,null,null,0,{"$f":"_300A_FUNDING[[#This Row],[Column5]]*_300A_FUNDING[[#This Row],[LOW BIDDER''S UNIT PRICE]]","v":0},{"$f":"_300A_FUNDING[[#This Row],[Column6]]*_300A_FUNDING[[#This Row],[LOW BIDDER''S UNIT PRICE]]","v":0},{"$f":"_300A_FUNDING[[#This Row],[Column7]]*_300A_FUNDING[[#This Row],[LOW BIDDER''S UNIT PRICE]]","v":0},{"$f":"_300A_FUNDING[[#This Row],[Column8]]*_300A_FUNDING[[#This Row],[LOW BIDDER''S UNIT PRICE]]","v":0},{"$f":"_300A_FUNDING[[#This Row],[Column9]]*_300A_FUNDING[[#This Row],[LOW BIDDER''S UNIT PRICE]]","v":0},{"$f":"_300A_FUNDING[[#This Row],[Column10]]*_300A_FUNDING[[#This Row],[LOW BIDDER''S UNIT PRICE]]","v":0},{"$f":"_300A_FUNDING[[#This Row],[Column11]]*_300A_FUNDING[[#This Row],[LOW BIDDER''S UNIT PRICE]]","v":0},{"$f":"_300A_FUNDING[[#This Row],[Column12]]*_300A_FUNDING[[#This Row],[LOW BIDDER''S UNIT PRICE]]","v":0},{"$f":"_300A_FUNDING[[#This Row],[Column13]]*_300A_FUNDING[[#This Row],[LOW BIDDER''S UNIT PRICE]]","v":0},{"$f":"_300A_FUNDING[[#This Row],[Column14]]*_300A_FUNDING[[#This Row],[LOW BIDDER''S UNIT PRICE]]","v":0}]
[null,null,null,null,null,null,null,null,null,null,null,null,null,null,null,null,0,{"$f":"_300A_FUNDING[[#This Row],[Column5]]*_300A_FUNDING[[#This Row],[LOW BIDDER''S UNIT PRICE]]","v":0},{"$f":"_300A_FUNDING[[#This Row],[Column6]]*_300A_FUNDING[[#This Row],[LOW BIDDER''S UNIT PRICE]]","v":0},{"$f":"_300A_FUNDING[[#This Row],[Column7]]*_300A_FUNDING[[#This Row],[LOW BIDDER''S UNIT PRICE]]","v":0},{"$f":"_300A_FUNDING[[#This Row],[Column8]]*_300A_FUNDING[[#This Row],[LOW BIDDER''S UNIT PRICE]]","v":0},{"$f":"_300A_FUNDING[[#This Row],[Column9]]*_300A_FUNDING[[#This Row],[LOW BIDDER''S UNIT PRICE]]","v":0},{"$f":"_300A_FUNDING[[#This Row],[Column10]]*_300A_FUNDING[[#This Row],[LOW BIDDER''S UNIT PRICE]]","v":0},{"$f":"_300A_FUNDING[[#This Row],[Column11]]*_300A_FUNDING[[#This Row],[LOW BIDDER''S UNIT PRICE]]","v":0},{"$f":"_300A_FUNDING[[#This Row],[Column12]]*_300A_FUNDING[[#This Row],[LOW BIDDER''S UNIT PRICE]]","v":0},{"$f":"_300A_FUNDING[[#This Row],[Column13]]*_300A_FUNDING[[#This Row],[LOW BIDDER''S UNIT PRICE]]","v":0},{"$f":"_300A_FUNDING[[#This Row],[Column14]]*_300A_FUNDING[[#This Row],[LOW BIDDER''S UNIT PRICE]]","v":0}]
[null,null,null,null,null,null,null,null,null,null,null,null,null,null,null,null,0,{"$f":"_300A_FUNDING[[#This Row],[Column5]]*_300A_FUNDING[[#This Row],[LOW BIDDER''S UNIT PRICE]]","v":0},{"$f":"_300A_FUNDING[[#This Row],[Column6]]*_300A_FUNDING[[#This Row],[LOW BIDDER''S UNIT PRICE]]","v":0},{"$f":"_300A_FUNDING[[#This Row],[Column7]]*_300A_FUNDING[[#This Row],[LOW BIDDER''S UNIT PRICE]]","v":0},{"$f":"_300A_FUNDING[[#This Row],[Column8]]*_300A_FUNDING[[#This Row],[LOW BIDDER''S UNIT PRICE]]","v":0},{"$f":"_300A_FUNDING[[#This Row],[Column9]]*_300A_FUNDING[[#This Row],[LOW BIDDER''S UNIT PRICE]]","v":0},{"$f":"_300A_FUNDING[[#This Row],[Column10]]*_300A_FUNDING[[#This Row],[LOW BIDDER''S UNIT PRICE]]","v":0},{"$f":"_300A_FUNDING[[#This Row],[Column11]]*_300A_FUNDING[[#This Row],[LOW BIDDER''S UNIT PRICE]]","v":0},{"$f":"_300A_FUNDING[[#This Row],[Column12]]*_300A_FUNDING[[#This Row],[LOW BIDDER''S UNIT PRICE]]","v":0},{"$f":"_300A_FUNDING[[#This Row],[Column13]]*_300A_FUNDING[[#This Row],[LOW BIDDER''S UNIT PRICE]]","v":0},{"$f":"_300A_FUNDING[[#This Row],[Column14]]*_300A_FUNDING[[#This Row],[LOW BIDDER''S UNIT PRICE]]","v":0}]
[null,null,null,null,null,null,null,null,null,null,null,null,null,null,null,null,0,{"$f":"_300A_FUNDING[[#This Row],[Column5]]*_300A_FUNDING[[#This Row],[LOW BIDDER''S UNIT PRICE]]","v":0},{"$f":"_300A_FUNDING[[#This Row],[Column6]]*_300A_FUNDING[[#This Row],[LOW BIDDER''S UNIT PRICE]]","v":0},{"$f":"_300A_FUNDING[[#This Row],[Column7]]*_300A_FUNDING[[#This Row],[LOW BIDDER''S UNIT PRICE]]","v":0},{"$f":"_300A_FUNDING[[#This Row],[Column8]]*_300A_FUNDING[[#This Row],[LOW BIDDER''S UNIT PRICE]]","v":0},{"$f":"_300A_FUNDING[[#This Row],[Column9]]*_300A_FUNDING[[#This Row],[LOW BIDDER''S UNIT PRICE]]","v":0},{"$f":"_300A_FUNDING[[#This Row],[Column10]]*_300A_FUNDING[[#This Row],[LOW BIDDER''S UNIT PRICE]]","v":0},{"$f":"_300A_FUNDING[[#This Row],[Column11]]*_300A_FUNDING[[#This Row],[LOW BIDDER''S UNIT PRICE]]","v":0},{"$f":"_300A_FUNDING[[#This Row],[Column12]]*_300A_FUNDING[[#This Row],[LOW BIDDER''S UNIT PRICE]]","v":0},{"$f":"_300A_FUNDING[[#This Row],[Column13]]*_300A_FUNDING[[#This Row],[LOW BIDDER''S UNIT PRICE]]","v":0},{"$f":"_300A_FUNDING[[#This Row],[Column14]]*_300A_FUNDING[[#This Row],[LOW BIDDER''S UNIT PRICE]]","v":0}]
[null,null,null,null,null,null,null,null,null,null,null,null,null,null,null,null,0,{"$f":"_300A_FUNDING[[#This Row],[Column5]]*_300A_FUNDING[[#This Row],[LOW BIDDER''S UNIT PRICE]]","v":0},{"$f":"_300A_FUNDING[[#This Row],[Column6]]*_300A_FUNDING[[#This Row],[LOW BIDDER''S UNIT PRICE]]","v":0},{"$f":"_300A_FUNDING[[#This Row],[Column7]]*_300A_FUNDING[[#This Row],[LOW BIDDER''S UNIT PRICE]]","v":0},{"$f":"_300A_FUNDING[[#This Row],[Column8]]*_300A_FUNDING[[#This Row],[LOW BIDDER''S UNIT PRICE]]","v":0},{"$f":"_300A_FUNDING[[#This Row],[Column9]]*_300A_FUNDING[[#This Row],[LOW BIDDER''S UNIT PRICE]]","v":0},{"$f":"_300A_FUNDING[[#This Row],[Column10]]*_300A_FUNDING[[#This Row],[LOW BIDDER''S UNIT PRICE]]","v":0},{"$f":"_300A_FUNDING[[#This Row],[Column11]]*_300A_FUNDING[[#This Row],[LOW BIDDER''S UNIT PRICE]]","v":0},{"$f":"_300A_FUNDING[[#This Row],[Column12]]*_300A_FUNDING[[#This Row],[LOW BIDDER''S UNIT PRICE]]","v":0},{"$f":"_300A_FUNDING[[#This Row],[Column13]]*_300A_FUNDING[[#This Row],[LOW BIDDER''S UNIT PRICE]]","v":0},{"$f":"_300A_FUNDING[[#This Row],[Column14]]*_300A_FUNDING[[#This Row],[LOW BIDDER''S UNIT PRICE]]","v":0}]
[null,null,null,null,null,null,null,null,null,null,null,null,null,null,null,null,0,{"$f":"_300A_FUNDING[[#This Row],[Column5]]*_300A_FUNDING[[#This Row],[LOW BIDDER''S UNIT PRICE]]","v":0},{"$f":"_300A_FUNDING[[#This Row],[Column6]]*_300A_FUNDING[[#This Row],[LOW BIDDER''S UNIT PRICE]]","v":0},{"$f":"_300A_FUNDING[[#This Row],[Column7]]*_300A_FUNDING[[#This Row],[LOW BIDDER''S UNIT PRICE]]","v":0},{"$f":"_300A_FUNDING[[#This Row],[Column8]]*_300A_FUNDING[[#This Row],[LOW BIDDER''S UNIT PRICE]]","v":0},{"$f":"_300A_FUNDING[[#This Row],[Column9]]*_300A_FUNDING[[#This Row],[LOW BIDDER''S UNIT PRICE]]","v":0},{"$f":"_300A_FUNDING[[#This Row],[Column10]]*_300A_FUNDING[[#This Row],[LOW BIDDER''S UNIT PRICE]]","v":0},{"$f":"_300A_FUNDING[[#This Row],[Column11]]*_300A_FUNDING[[#This Row],[LOW BIDDER''S UNIT PRICE]]","v":0},{"$f":"_300A_FUNDING[[#This Row],[Column12]]*_300A_FUNDING[[#This Row],[LOW BIDDER''S UNIT PRICE]]","v":0},{"$f":"_300A_FUNDING[[#This Row],[Column13]]*_300A_FUNDING[[#This Row],[LOW BIDDER''S UNIT PRICE]]","v":0},{"$f":"_300A_FUNDING[[#This Row],[Column14]]*_300A_FUNDING[[#This Row],[LOW BIDDER''S UNIT PRICE]]","v":0}]
[null,null,null,null,null,null,null,null,null,null,null,null,null,null,null,null,0,{"$f":"_300A_FUNDING[[#This Row],[Column5]]*_300A_FUNDING[[#This Row],[LOW BIDDER''S UNIT PRICE]]","v":0},{"$f":"_300A_FUNDING[[#This Row],[Column6]]*_300A_FUNDING[[#This Row],[LOW BIDDER''S UNIT PRICE]]","v":0},{"$f":"_300A_FUNDING[[#This Row],[Column7]]*_300A_FUNDING[[#This Row],[LOW BIDDER''S UNIT PRICE]]","v":0},{"$f":"_300A_FUNDING[[#This Row],[Column8]]*_300A_FUNDING[[#This Row],[LOW BIDDER''S UNIT PRICE]]","v":0},{"$f":"_300A_FUNDING[[#This Row],[Column9]]*_300A_FUNDING[[#This Row],[LOW BIDDER''S UNIT PRICE]]","v":0},{"$f":"_300A_FUNDING[[#This Row],[Column10]]*_300A_FUNDING[[#This Row],[LOW BIDDER''S UNIT PRICE]]","v":0},{"$f":"_300A_FUNDING[[#This Row],[Column11]]*_300A_FUNDING[[#This Row],[LOW BIDDER''S UNIT PRICE]]","v":0},{"$f":"_300A_FUNDING[[#This Row],[Column12]]*_300A_FUNDING[[#This Row],[LOW BIDDER''S UNIT PRICE]]","v":0},{"$f":"_300A_FUNDING[[#This Row],[Column13]]*_300A_FUNDING[[#This Row],[LOW BIDDER''S UNIT PRICE]]","v":0},{"$f":"_300A_FUNDING[[#This Row],[Column14]]*_300A_FUNDING[[#This Row],[LOW BIDDER''S UNIT PRICE]]","v":0}]
[null,null,null,null,null,null,null,null,null,null,null,null,null,null,null,null,0,{"$f":"_300A_FUNDING[[#This Row],[Column5]]*_300A_FUNDING[[#This Row],[LOW BIDDER''S UNIT PRICE]]","v":0},{"$f":"_300A_FUNDING[[#This Row],[Column6]]*_300A_FUNDING[[#This Row],[LOW BIDDER''S UNIT PRICE]]","v":0},{"$f":"_300A_FUNDING[[#This Row],[Column7]]*_300A_FUNDING[[#This Row],[LOW BIDDER''S UNIT PRICE]]","v":0},{"$f":"_300A_FUNDING[[#This Row],[Column8]]*_300A_FUNDING[[#This Row],[LOW BIDDER''S UNIT PRICE]]","v":0},{"$f":"_300A_FUNDING[[#This Row],[Column9]]*_300A_FUNDING[[#This Row],[LOW BIDDER''S UNIT PRICE]]","v":0},{"$f":"_300A_FUNDING[[#This Row],[Column10]]*_300A_FUNDING[[#This Row],[LOW BIDDER''S UNIT PRICE]]","v":0},{"$f":"_300A_FUNDING[[#This Row],[Column11]]*_300A_FUNDING[[#This Row],[LOW BIDDER''S UNIT PRICE]]","v":0},{"$f":"_300A_FUNDING[[#This Row],[Column12]]*_300A_FUNDING[[#This Row],[LOW BIDDER''S UNIT PRICE]]","v":0},{"$f":"_300A_FUNDING[[#This Row],[Column13]]*_300A_FUNDING[[#This Row],[LOW BIDDER''S UNIT PRICE]]","v":0},{"$f":"_300A_FUNDING[[#This Row],[Column14]]*_300A_FUNDING[[#This Row],[LOW BIDDER''S UNIT PRICE]]","v":0}]
[null,null,null,null,null,null,null,null,null,null,null,null,null,null,null,null,0,{"$f":"_300A_FUNDING[[#This Row],[Column5]]*_300A_FUNDING[[#This Row],[LOW BIDDER''S UNIT PRICE]]","v":0},{"$f":"_300A_FUNDING[[#This Row],[Column6]]*_300A_FUNDING[[#This Row],[LOW BIDDER''S UNIT PRICE]]","v":0},{"$f":"_300A_FUNDING[[#This Row],[Column7]]*_300A_FUNDING[[#This Row],[LOW BIDDER''S UNIT PRICE]]","v":0},{"$f":"_300A_FUNDING[[#This Row],[Column8]]*_300A_FUNDING[[#This Row],[LOW BIDDER''S UNIT PRICE]]","v":0},{"$f":"_300A_FUNDING[[#This Row],[Column9]]*_300A_FUNDING[[#This Row],[LOW BIDDER''S UNIT PRICE]]","v":0},{"$f":"_300A_FUNDING[[#This Row],[Column10]]*_300A_FUNDING[[#This Row],[LOW BIDDER''S UNIT PRICE]]","v":0},{"$f":"_300A_FUNDING[[#This Row],[Column11]]*_300A_FUNDING[[#This Row],[LOW BIDDER''S UNIT PRICE]]","v":0},{"$f":"_300A_FUNDING[[#This Row],[Column12]]*_300A_FUNDING[[#This Row],[LOW BIDDER''S UNIT PRICE]]","v":0},{"$f":"_300A_FUNDING[[#This Row],[Column13]]*_300A_FUNDING[[#This Row],[LOW BIDDER''S UNIT PRICE]]","v":0},{"$f":"_300A_FUNDING[[#This Row],[Column14]]*_300A_FUNDING[[#This Row],[LOW BIDDER''S UNIT PRICE]]","v":0}]
[null,null,null,null,null,null,null,null,null,null,null,null,null,null,null,null,0,{"$f":"_300A_FUNDING[[#This Row],[Column5]]*_300A_FUNDING[[#This Row],[LOW BIDDER''S UNIT PRICE]]","v":0},{"$f":"_300A_FUNDING[[#This Row],[Column6]]*_300A_FUNDING[[#This Row],[LOW BIDDER''S UNIT PRICE]]","v":0},{"$f":"_300A_FUNDING[[#This Row],[Column7]]*_300A_FUNDING[[#This Row],[LOW BIDDER''S UNIT PRICE]]","v":0},{"$f":"_300A_FUNDING[[#This Row],[Column8]]*_300A_FUNDING[[#This Row],[LOW BIDDER''S UNIT PRICE]]","v":0},{"$f":"_300A_FUNDING[[#This Row],[Column9]]*_300A_FUNDING[[#This Row],[LOW BIDDER''S UNIT PRICE]]","v":0},{"$f":"_300A_FUNDING[[#This Row],[Column10]]*_300A_FUNDING[[#This Row],[LOW BIDDER''S UNIT PRICE]]","v":0},{"$f":"_300A_FUNDING[[#This Row],[Column11]]*_300A_FUNDING[[#This Row],[LOW BIDDER''S UNIT PRICE]]","v":0},{"$f":"_300A_FUNDING[[#This Row],[Column12]]*_300A_FUNDING[[#This Row],[LOW BIDDER''S UNIT PRICE]]","v":0},{"$f":"_300A_FUNDING[[#This Row],[Column13]]*_300A_FUNDING[[#This Row],[LOW BIDDER''S UNIT PRICE]]","v":0},{"$f":"_300A_FUNDING[[#This Row],[Column14]]*_300A_FUNDING[[#This Row],[LOW BIDDER''S UNIT PRICE]]","v":0}]
[null,null,null,null,null,null,null,null,null,null,null,null,null,null,null,null,0,{"$f":"_300A_FUNDING[[#This Row],[Column5]]*_300A_FUNDING[[#This Row],[LOW BIDDER''S UNIT PRICE]]","v":0},{"$f":"_300A_FUNDING[[#This Row],[Column6]]*_300A_FUNDING[[#This Row],[LOW BIDDER''S UNIT PRICE]]","v":0},{"$f":"_300A_FUNDING[[#This Row],[Column7]]*_300A_FUNDING[[#This Row],[LOW BIDDER''S UNIT PRICE]]","v":0},{"$f":"_300A_FUNDING[[#This Row],[Column8]]*_300A_FUNDING[[#This Row],[LOW BIDDER''S UNIT PRICE]]","v":0},{"$f":"_300A_FUNDING[[#This Row],[Column9]]*_300A_FUNDING[[#This Row],[LOW BIDDER''S UNIT PRICE]]","v":0},{"$f":"_300A_FUNDING[[#This Row],[Column10]]*_300A_FUNDING[[#This Row],[LOW BIDDER''S UNIT PRICE]]","v":0},{"$f":"_300A_FUNDING[[#This Row],[Column11]]*_300A_FUNDING[[#This Row],[LOW BIDDER''S UNIT PRICE]]","v":0},{"$f":"_300A_FUNDING[[#This Row],[Column12]]*_300A_FUNDING[[#This Row],[LOW BIDDER''S UNIT PRICE]]","v":0},{"$f":"_300A_FUNDING[[#This Row],[Column13]]*_300A_FUNDING[[#This Row],[LOW BIDDER''S UNIT PRICE]]","v":0},{"$f":"_300A_FUNDING[[#This Row],[Column14]]*_300A_FUNDING[[#This Row],[LOW BIDDER''S UNIT PRICE]]","v":0}]
[null,null,null,null,null,null,null,null,null,null,null,null,null,null,null,null,0,{"$f":"_300A_FUNDING[[#This Row],[Column5]]*_300A_FUNDING[[#This Row],[LOW BIDDER''S UNIT PRICE]]","v":0},{"$f":"_300A_FUNDING[[#This Row],[Column6]]*_300A_FUNDING[[#This Row],[LOW BIDDER''S UNIT PRICE]]","v":0},{"$f":"_300A_FUNDING[[#This Row],[Column7]]*_300A_FUNDING[[#This Row],[LOW BIDDER''S UNIT PRICE]]","v":0},{"$f":"_300A_FUNDING[[#This Row],[Column8]]*_300A_FUNDING[[#This Row],[LOW BIDDER''S UNIT PRICE]]","v":0},{"$f":"_300A_FUNDING[[#This Row],[Column9]]*_300A_FUNDING[[#This Row],[LOW BIDDER''S UNIT PRICE]]","v":0},{"$f":"_300A_FUNDING[[#This Row],[Column10]]*_300A_FUNDING[[#This Row],[LOW BIDDER''S UNIT PRICE]]","v":0},{"$f":"_300A_FUNDING[[#This Row],[Column11]]*_300A_FUNDING[[#This Row],[LOW BIDDER''S UNIT PRICE]]","v":0},{"$f":"_300A_FUNDING[[#This Row],[Column12]]*_300A_FUNDING[[#This Row],[LOW BIDDER''S UNIT PRICE]]","v":0},{"$f":"_300A_FUNDING[[#This Row],[Column13]]*_300A_FUNDING[[#This Row],[LOW BIDDER''S UNIT PRICE]]","v":0},{"$f":"_300A_FUNDING[[#This Row],[Column14]]*_300A_FUNDING[[#This Row],[LOW BIDDER''S UNIT PRICE]]","v":0}]
[null,null,null,null,null,null,null,null,null,null,null,null,null,null,null,null,0,{"$f":"_300A_FUNDING[[#This Row],[Column5]]*_300A_FUNDING[[#This Row],[LOW BIDDER''S UNIT PRICE]]","v":0},{"$f":"_300A_FUNDING[[#This Row],[Column6]]*_300A_FUNDING[[#This Row],[LOW BIDDER''S UNIT PRICE]]","v":0},{"$f":"_300A_FUNDING[[#This Row],[Column7]]*_300A_FUNDING[[#This Row],[LOW BIDDER''S UNIT PRICE]]","v":0},{"$f":"_300A_FUNDING[[#This Row],[Column8]]*_300A_FUNDING[[#This Row],[LOW BIDDER''S UNIT PRICE]]","v":0},{"$f":"_300A_FUNDING[[#This Row],[Column9]]*_300A_FUNDING[[#This Row],[LOW BIDDER''S UNIT PRICE]]","v":0},{"$f":"_300A_FUNDING[[#This Row],[Column10]]*_300A_FUNDING[[#This Row],[LOW BIDDER''S UNIT PRICE]]","v":0},{"$f":"_300A_FUNDING[[#This Row],[Column11]]*_300A_FUNDING[[#This Row],[LOW BIDDER''S UNIT PRICE]]","v":0},{"$f":"_300A_FUNDING[[#This Row],[Column12]]*_300A_FUNDING[[#This Row],[LOW BIDDER''S UNIT PRICE]]","v":0},{"$f":"_300A_FUNDING[[#This Row],[Column13]]*_300A_FUNDING[[#This Row],[LOW BIDDER''S UNIT PRICE]]","v":0},{"$f":"_300A_FUNDING[[#This Row],[Column14]]*_300A_FUNDING[[#This Row],[LOW BIDDER''S UNIT PRICE]]","v":0}]
[null,null,null,null,null,null,null,null,null,null,null,null,null,null,null,null,0,{"$f":"_300A_FUNDING[[#This Row],[Column5]]*_300A_FUNDING[[#This Row],[LOW BIDDER''S UNIT PRICE]]","v":0},{"$f":"_300A_FUNDING[[#This Row],[Column6]]*_300A_FUNDING[[#This Row],[LOW BIDDER''S UNIT PRICE]]","v":0},{"$f":"_300A_FUNDING[[#This Row],[Column7]]*_300A_FUNDING[[#This Row],[LOW BIDDER''S UNIT PRICE]]","v":0},{"$f":"_300A_FUNDING[[#This Row],[Column8]]*_300A_FUNDING[[#This Row],[LOW BIDDER''S UNIT PRICE]]","v":0},{"$f":"_300A_FUNDING[[#This Row],[Column9]]*_300A_FUNDING[[#This Row],[LOW BIDDER''S UNIT PRICE]]","v":0},{"$f":"_300A_FUNDING[[#This Row],[Column10]]*_300A_FUNDING[[#This Row],[LOW BIDDER''S UNIT PRICE]]","v":0},{"$f":"_300A_FUNDING[[#This Row],[Column11]]*_300A_FUNDING[[#This Row],[LOW BIDDER''S UNIT PRICE]]","v":0},{"$f":"_300A_FUNDING[[#This Row],[Column12]]*_300A_FUNDING[[#This Row],[LOW BIDDER''S UNIT PRICE]]","v":0},{"$f":"_300A_FUNDING[[#This Row],[Column13]]*_300A_FUNDING[[#This Row],[LOW BIDDER''S UNIT PRICE]]","v":0},{"$f":"_300A_FUNDING[[#This Row],[Column14]]*_300A_FUNDING[[#This Row],[LOW BIDDER''S UNIT PRICE]]","v":0}]
[null,null,null,null,null,null,null,null,null,null,null,null,null,null,null,null,0,{"$f":"_300A_FUNDING[[#This Row],[Column5]]*_300A_FUNDING[[#This Row],[LOW BIDDER''S UNIT PRICE]]","v":0},{"$f":"_300A_FUNDING[[#This Row],[Column6]]*_300A_FUNDING[[#This Row],[LOW BIDDER''S UNIT PRICE]]","v":0},{"$f":"_300A_FUNDING[[#This Row],[Column7]]*_300A_FUNDING[[#This Row],[LOW BIDDER''S UNIT PRICE]]","v":0},{"$f":"_300A_FUNDING[[#This Row],[Column8]]*_300A_FUNDING[[#This Row],[LOW BIDDER''S UNIT PRICE]]","v":0},{"$f":"_300A_FUNDING[[#This Row],[Column9]]*_300A_FUNDING[[#This Row],[LOW BIDDER''S UNIT PRICE]]","v":0},{"$f":"_300A_FUNDING[[#This Row],[Column10]]*_300A_FUNDING[[#This Row],[LOW BIDDER''S UNIT PRICE]]","v":0},{"$f":"_300A_FUNDING[[#This Row],[Column11]]*_300A_FUNDING[[#This Row],[LOW BIDDER''S UNIT PRICE]]","v":0},{"$f":"_300A_FUNDING[[#This Row],[Column12]]*_300A_FUNDING[[#This Row],[LOW BIDDER''S UNIT PRICE]]","v":0},{"$f":"_300A_FUNDING[[#This Row],[Column13]]*_300A_FUNDING[[#This Row],[LOW BIDDER''S UNIT PRICE]]","v":0},{"$f":"_300A_FUNDING[[#This Row],[Column14]]*_300A_FUNDING[[#This Row],[LOW BIDDER''S UNIT PRICE]]","v":0}]
[null,null,null,null,null,null,null,null,null,null,null,null,null,null,null,null,0,{"$f":"_300A_FUNDING[[#This Row],[Column5]]*_300A_FUNDING[[#This Row],[LOW BIDDER''S UNIT PRICE]]","v":0},{"$f":"_300A_FUNDING[[#This Row],[Column6]]*_300A_FUNDING[[#This Row],[LOW BIDDER''S UNIT PRICE]]","v":0},{"$f":"_300A_FUNDING[[#This Row],[Column7]]*_300A_FUNDING[[#This Row],[LOW BIDDER''S UNIT PRICE]]","v":0},{"$f":"_300A_FUNDING[[#This Row],[Column8]]*_300A_FUNDING[[#This Row],[LOW BIDDER''S UNIT PRICE]]","v":0},{"$f":"_300A_FUNDING[[#This Row],[Column9]]*_300A_FUNDING[[#This Row],[LOW BIDDER''S UNIT PRICE]]","v":0},{"$f":"_300A_FUNDING[[#This Row],[Column10]]*_300A_FUNDING[[#This Row],[LOW BIDDER''S UNIT PRICE]]","v":0},{"$f":"_300A_FUNDING[[#This Row],[Column11]]*_300A_FUNDING[[#This Row],[LOW BIDDER''S UNIT PRICE]]","v":0},{"$f":"_300A_FUNDING[[#This Row],[Column12]]*_300A_FUNDING[[#This Row],[LOW BIDDER''S UNIT PRICE]]","v":0},{"$f":"_300A_FUNDING[[#This Row],[Column13]]*_300A_FUNDING[[#This Row],[LOW BIDDER''S UNIT PRICE]]","v":0},{"$f":"_300A_FUNDING[[#This Row],[Column14]]*_300A_FUNDING[[#This Row],[LOW BIDDER''S UNIT PRICE]]","v":0}]
[null,null,null,null,null,null,null,null,null,null,null,null,null,null,null,null,0,{"$f":"_300A_FUNDING[[#This Row],[Column5]]*_300A_FUNDING[[#This Row],[LOW BIDDER''S UNIT PRICE]]","v":0},{"$f":"_300A_FUNDING[[#This Row],[Column6]]*_300A_FUNDING[[#This Row],[LOW BIDDER''S UNIT PRICE]]","v":0},{"$f":"_300A_FUNDING[[#This Row],[Column7]]*_300A_FUNDING[[#This Row],[LOW BIDDER''S UNIT PRICE]]","v":0},{"$f":"_300A_FUNDING[[#This Row],[Column8]]*_300A_FUNDING[[#This Row],[LOW BIDDER''S UNIT PRICE]]","v":0},{"$f":"_300A_FUNDING[[#This Row],[Column9]]*_300A_FUNDING[[#This Row],[LOW BIDDER''S UNIT PRICE]]","v":0},{"$f":"_300A_FUNDING[[#This Row],[Column10]]*_300A_FUNDING[[#This Row],[LOW BIDDER''S UNIT PRICE]]","v":0},{"$f":"_300A_FUNDING[[#This Row],[Column11]]*_300A_FUNDING[[#This Row],[LOW BIDDER''S UNIT PRICE]]","v":0},{"$f":"_300A_FUNDING[[#This Row],[Column12]]*_300A_FUNDING[[#This Row],[LOW BIDDER''S UNIT PRICE]]","v":0},{"$f":"_300A_FUNDING[[#This Row],[Column13]]*_300A_FUNDING[[#This Row],[LOW BIDDER''S UNIT PRICE]]","v":0},{"$f":"_300A_FUNDING[[#This Row],[Column14]]*_300A_FUNDING[[#This Row],[LOW BIDDER''S UNIT PRICE]]","v":0}]
[null,null,null,null,null,null,null,null,null,null,null,null,null,null,null,null,0,{"$f":"_300A_FUNDING[[#This Row],[Column5]]*_300A_FUNDING[[#This Row],[LOW BIDDER''S UNIT PRICE]]","v":0},{"$f":"_300A_FUNDING[[#This Row],[Column6]]*_300A_FUNDING[[#This Row],[LOW BIDDER''S UNIT PRICE]]","v":0},{"$f":"_300A_FUNDING[[#This Row],[Column7]]*_300A_FUNDING[[#This Row],[LOW BIDDER''S UNIT PRICE]]","v":0},{"$f":"_300A_FUNDING[[#This Row],[Column8]]*_300A_FUNDING[[#This Row],[LOW BIDDER''S UNIT PRICE]]","v":0},{"$f":"_300A_FUNDING[[#This Row],[Column9]]*_300A_FUNDING[[#This Row],[LOW BIDDER''S UNIT PRICE]]","v":0},{"$f":"_300A_FUNDING[[#This Row],[Column10]]*_300A_FUNDING[[#This Row],[LOW BIDDER''S UNIT PRICE]]","v":0},{"$f":"_300A_FUNDING[[#This Row],[Column11]]*_300A_FUNDING[[#This Row],[LOW BIDDER''S UNIT PRICE]]","v":0},{"$f":"_300A_FUNDING[[#This Row],[Column12]]*_300A_FUNDING[[#This Row],[LOW BIDDER''S UNIT PRICE]]","v":0},{"$f":"_300A_FUNDING[[#This Row],[Column13]]*_300A_FUNDING[[#This Row],[LOW BIDDER''S UNIT PRICE]]","v":0},{"$f":"_300A_FUNDING[[#This Row],[Column14]]*_300A_FUNDING[[#This Row],[LOW BIDDER''S UNIT PRICE]]","v":0}]
[null,null,null,null,null,null,null,null,null,null,null,null,null,null,null,null,0,{"$f":"_300A_FUNDING[[#This Row],[Column5]]*_300A_FUNDING[[#This Row],[LOW BIDDER''S UNIT PRICE]]","v":0},{"$f":"_300A_FUNDING[[#This Row],[Column6]]*_300A_FUNDING[[#This Row],[LOW BIDDER''S UNIT PRICE]]","v":0},{"$f":"_300A_FUNDING[[#This Row],[Column7]]*_300A_FUNDING[[#This Row],[LOW BIDDER''S UNIT PRICE]]","v":0},{"$f":"_300A_FUNDING[[#This Row],[Column8]]*_300A_FUNDING[[#This Row],[LOW BIDDER''S UNIT PRICE]]","v":0},{"$f":"_300A_FUNDING[[#This Row],[Column9]]*_300A_FUNDING[[#This Row],[LOW BIDDER''S UNIT PRICE]]","v":0},{"$f":"_300A_FUNDING[[#This Row],[Column10]]*_300A_FUNDING[[#This Row],[LOW BIDDER''S UNIT PRICE]]","v":0},{"$f":"_300A_FUNDING[[#This Row],[Column11]]*_300A_FUNDING[[#This Row],[LOW BIDDER''S UNIT PRICE]]","v":0},{"$f":"_300A_FUNDING[[#This Row],[Column12]]*_300A_FUNDING[[#This Row],[LOW BIDDER''S UNIT PRICE]]","v":0},{"$f":"_300A_FUNDING[[#This Row],[Column13]]*_300A_FUNDING[[#This Row],[LOW BIDDER''S UNIT PRICE]]","v":0},{"$f":"_300A_FUNDING[[#This Row],[Column14]]*_300A_FUNDING[[#This Row],[LOW BIDDER''S UNIT PRICE]]","v":0}]
[null,null,null,null,null,null,null,null,null,null,null,null,null,null,null,null,0,{"$f":"_300A_FUNDING[[#This Row],[Column5]]*_300A_FUNDING[[#This Row],[LOW BIDDER''S UNIT PRICE]]","v":0},{"$f":"_300A_FUNDING[[#This Row],[Column6]]*_300A_FUNDING[[#This Row],[LOW BIDDER''S UNIT PRICE]]","v":0},{"$f":"_300A_FUNDING[[#This Row],[Column7]]*_300A_FUNDING[[#This Row],[LOW BIDDER''S UNIT PRICE]]","v":0},{"$f":"_300A_FUNDING[[#This Row],[Column8]]*_300A_FUNDING[[#This Row],[LOW BIDDER''S UNIT PRICE]]","v":0},{"$f":"_300A_FUNDING[[#This Row],[Column9]]*_300A_FUNDING[[#This Row],[LOW BIDDER''S UNIT PRICE]]","v":0},{"$f":"_300A_FUNDING[[#This Row],[Column10]]*_300A_FUNDING[[#This Row],[LOW BIDDER''S UNIT PRICE]]","v":0},{"$f":"_300A_FUNDING[[#This Row],[Column11]]*_300A_FUNDING[[#This Row],[LOW BIDDER''S UNIT PRICE]]","v":0},{"$f":"_300A_FUNDING[[#This Row],[Column12]]*_300A_FUNDING[[#This Row],[LOW BIDDER''S UNIT PRICE]]","v":0},{"$f":"_300A_FUNDING[[#This Row],[Column13]]*_300A_FUNDING[[#This Row],[LOW BIDDER''S UNIT PRICE]]","v":0},{"$f":"_300A_FUNDING[[#This Row],[Column14]]*_300A_FUNDING[[#This Row],[LOW BIDDER''S UNIT PRICE]]","v":0}]
[null,null,null,null,null,null,null,null,null,null,null,null,null,null,null,null,0,{"$f":"_300A_FUNDING[[#This Row],[Column5]]*_300A_FUNDING[[#This Row],[LOW BIDDER''S UNIT PRICE]]","v":0},{"$f":"_300A_FUNDING[[#This Row],[Column6]]*_300A_FUNDING[[#This Row],[LOW BIDDER''S UNIT PRICE]]","v":0},{"$f":"_300A_FUNDING[[#This Row],[Column7]]*_300A_FUNDING[[#This Row],[LOW BIDDER''S UNIT PRICE]]","v":0},{"$f":"_300A_FUNDING[[#This Row],[Column8]]*_300A_FUNDING[[#This Row],[LOW BIDDER''S UNIT PRICE]]","v":0},{"$f":"_300A_FUNDING[[#This Row],[Column9]]*_300A_FUNDING[[#This Row],[LOW BIDDER''S UNIT PRICE]]","v":0},{"$f":"_300A_FUNDING[[#This Row],[Column10]]*_300A_FUNDING[[#This Row],[LOW BIDDER''S UNIT PRICE]]","v":0},{"$f":"_300A_FUNDING[[#This Row],[Column11]]*_300A_FUNDING[[#This Row],[LOW BIDDER''S UNIT PRICE]]","v":0},{"$f":"_300A_FUNDING[[#This Row],[Column12]]*_300A_FUNDING[[#This Row],[LOW BIDDER''S UNIT PRICE]]","v":0},{"$f":"_300A_FUNDING[[#This Row],[Column13]]*_300A_FUNDING[[#This Row],[LOW BIDDER''S UNIT PRICE]]","v":0},{"$f":"_300A_FUNDING[[#This Row],[Column14]]*_300A_FUNDING[[#This Row],[LOW BIDDER''S UNIT PRICE]]","v":0}]
[null,null,null,null,null,null,null,null,null,null,null,null,null,null,null,null,0,{"$f":"_300A_FUNDING[[#This Row],[Column5]]*_300A_FUNDING[[#This Row],[LOW BIDDER''S UNIT PRICE]]","v":0},{"$f":"_300A_FUNDING[[#This Row],[Column6]]*_300A_FUNDING[[#This Row],[LOW BIDDER''S UNIT PRICE]]","v":0},{"$f":"_300A_FUNDING[[#This Row],[Column7]]*_300A_FUNDING[[#This Row],[LOW BIDDER''S UNIT PRICE]]","v":0},{"$f":"_300A_FUNDING[[#This Row],[Column8]]*_300A_FUNDING[[#This Row],[LOW BIDDER''S UNIT PRICE]]","v":0},{"$f":"_300A_FUNDING[[#This Row],[Column9]]*_300A_FUNDING[[#This Row],[LOW BIDDER''S UNIT PRICE]]","v":0},{"$f":"_300A_FUNDING[[#This Row],[Column10]]*_300A_FUNDING[[#This Row],[LOW BIDDER''S UNIT PRICE]]","v":0},{"$f":"_300A_FUNDING[[#This Row],[Column11]]*_300A_FUNDING[[#This Row],[LOW BIDDER''S UNIT PRICE]]","v":0},{"$f":"_300A_FUNDING[[#This Row],[Column12]]*_300A_FUNDING[[#This Row],[LOW BIDDER''S UNIT PRICE]]","v":0},{"$f":"_300A_FUNDING[[#This Row],[Column13]]*_300A_FUNDING[[#This Row],[LOW BIDDER''S UNIT PRICE]]","v":0},{"$f":"_300A_FUNDING[[#This Row],[Column14]]*_300A_FUNDING[[#This Row],[LOW BIDDER''S UNIT PRICE]]","v":0}]
[null,null,null,null,null,null,null,null,null,null,null,null,null,null,null,null,0,{"$f":"_300A_FUNDING[[#This Row],[Column5]]*_300A_FUNDING[[#This Row],[LOW BIDDER''S UNIT PRICE]]","v":0},{"$f":"_300A_FUNDING[[#This Row],[Column6]]*_300A_FUNDING[[#This Row],[LOW BIDDER''S UNIT PRICE]]","v":0},{"$f":"_300A_FUNDING[[#This Row],[Column7]]*_300A_FUNDING[[#This Row],[LOW BIDDER''S UNIT PRICE]]","v":0},{"$f":"_300A_FUNDING[[#This Row],[Column8]]*_300A_FUNDING[[#This Row],[LOW BIDDER''S UNIT PRICE]]","v":0},{"$f":"_300A_FUNDING[[#This Row],[Column9]]*_300A_FUNDING[[#This Row],[LOW BIDDER''S UNIT PRICE]]","v":0},{"$f":"_300A_FUNDING[[#This Row],[Column10]]*_300A_FUNDING[[#This Row],[LOW BIDDER''S UNIT PRICE]]","v":0},{"$f":"_300A_FUNDING[[#This Row],[Column11]]*_300A_FUNDING[[#This Row],[LOW BIDDER''S UNIT PRICE]]","v":0},{"$f":"_300A_FUNDING[[#This Row],[Column12]]*_300A_FUNDING[[#This Row],[LOW BIDDER''S UNIT PRICE]]","v":0},{"$f":"_300A_FUNDING[[#This Row],[Column13]]*_300A_FUNDING[[#This Row],[LOW BIDDER''S UNIT PRICE]]","v":0},{"$f":"_300A_FUNDING[[#This Row],[Column14]]*_300A_FUNDING[[#This Row],[LOW BIDDER''S UNIT PRICE]]","v":0}]
[null,null,null,null,null,null,null,null,null,null,null,null,null,null,null,null,0,{"$f":"_300A_FUNDING[[#This Row],[Column5]]*_300A_FUNDING[[#This Row],[LOW BIDDER''S UNIT PRICE]]","v":0},{"$f":"_300A_FUNDING[[#This Row],[Column6]]*_300A_FUNDING[[#This Row],[LOW BIDDER''S UNIT PRICE]]","v":0},{"$f":"_300A_FUNDING[[#This Row],[Column7]]*_300A_FUNDING[[#This Row],[LOW BIDDER''S UNIT PRICE]]","v":0},{"$f":"_300A_FUNDING[[#This Row],[Column8]]*_300A_FUNDING[[#This Row],[LOW BIDDER''S UNIT PRICE]]","v":0},{"$f":"_300A_FUNDING[[#This Row],[Column9]]*_300A_FUNDING[[#This Row],[LOW BIDDER''S UNIT PRICE]]","v":0},{"$f":"_300A_FUNDING[[#This Row],[Column10]]*_300A_FUNDING[[#This Row],[LOW BIDDER''S UNIT PRICE]]","v":0},{"$f":"_300A_FUNDING[[#This Row],[Column11]]*_300A_FUNDING[[#This Row],[LOW BIDDER''S UNIT PRICE]]","v":0},{"$f":"_300A_FUNDING[[#This Row],[Column12]]*_300A_FUNDING[[#This Row],[LOW BIDDER''S UNIT PRICE]]","v":0},{"$f":"_300A_FUNDING[[#This Row],[Column13]]*_300A_FUNDING[[#This Row],[LOW BIDDER''S UNIT PRICE]]","v":0},{"$f":"_300A_FUNDING[[#This Row],[Column14]]*_300A_FUNDING[[#This Row],[LOW BIDDER''S UNIT PRICE]]","v":0}]
[null,null,null,null,null,null,null,null,null,null,null,null,null,null,null,null,0,{"$f":"_300A_FUNDING[[#This Row],[Column5]]*_300A_FUNDING[[#This Row],[LOW BIDDER''S UNIT PRICE]]","v":0},{"$f":"_300A_FUNDING[[#This Row],[Column6]]*_300A_FUNDING[[#This Row],[LOW BIDDER''S UNIT PRICE]]","v":0},{"$f":"_300A_FUNDING[[#This Row],[Column7]]*_300A_FUNDING[[#This Row],[LOW BIDDER''S UNIT PRICE]]","v":0},{"$f":"_300A_FUNDING[[#This Row],[Column8]]*_300A_FUNDING[[#This Row],[LOW BIDDER''S UNIT PRICE]]","v":0},{"$f":"_300A_FUNDING[[#This Row],[Column9]]*_300A_FUNDING[[#This Row],[LOW BIDDER''S UNIT PRICE]]","v":0},{"$f":"_300A_FUNDING[[#This Row],[Column10]]*_300A_FUNDING[[#This Row],[LOW BIDDER''S UNIT PRICE]]","v":0},{"$f":"_300A_FUNDING[[#This Row],[Column11]]*_300A_FUNDING[[#This Row],[LOW BIDDER''S UNIT PRICE]]","v":0},{"$f":"_300A_FUNDING[[#This Row],[Column12]]*_300A_FUNDING[[#This Row],[LOW BIDDER''S UNIT PRICE]]","v":0},{"$f":"_300A_FUNDING[[#This Row],[Column13]]*_300A_FUNDING[[#This Row],[LOW BIDDER''S UNIT PRICE]]","v":0},{"$f":"_300A_FUNDING[[#This Row],[Column14]]*_300A_FUNDING[[#This Row],[LOW BIDDER''S UNIT PRICE]]","v":0}]
[null,null,null,null,null,null,null,null,null,null,null,null,null,null,null,null,0,{"$f":"_300A_FUNDING[[#This Row],[Column5]]*_300A_FUNDING[[#This Row],[LOW BIDDER''S UNIT PRICE]]","v":0},{"$f":"_300A_FUNDING[[#This Row],[Column6]]*_300A_FUNDING[[#This Row],[LOW BIDDER''S UNIT PRICE]]","v":0},{"$f":"_300A_FUNDING[[#This Row],[Column7]]*_300A_FUNDING[[#This Row],[LOW BIDDER''S UNIT PRICE]]","v":0},{"$f":"_300A_FUNDING[[#This Row],[Column8]]*_300A_FUNDING[[#This Row],[LOW BIDDER''S UNIT PRICE]]","v":0},{"$f":"_300A_FUNDING[[#This Row],[Column9]]*_300A_FUNDING[[#This Row],[LOW BIDDER''S UNIT PRICE]]","v":0},{"$f":"_300A_FUNDING[[#This Row],[Column10]]*_300A_FUNDING[[#This Row],[LOW BIDDER''S UNIT PRICE]]","v":0},{"$f":"_300A_FUNDING[[#This Row],[Column11]]*_300A_FUNDING[[#This Row],[LOW BIDDER''S UNIT PRICE]]","v":0},{"$f":"_300A_FUNDING[[#This Row],[Column12]]*_300A_FUNDING[[#This Row],[LOW BIDDER''S UNIT PRICE]]","v":0},{"$f":"_300A_FUNDING[[#This Row],[Column13]]*_300A_FUNDING[[#This Row],[LOW BIDDER''S UNIT PRICE]]","v":0},{"$f":"_300A_FUNDING[[#This Row],[Column14]]*_300A_FUNDING[[#This Row],[LOW BIDDER''S UNIT PRICE]]","v":0}]
[null,null,null,null,null,null,null,null,null,null,null,null,null,null,null,null,0,{"$f":"_300A_FUNDING[[#This Row],[Column5]]*_300A_FUNDING[[#This Row],[LOW BIDDER''S UNIT PRICE]]","v":0},{"$f":"_300A_FUNDING[[#This Row],[Column6]]*_300A_FUNDING[[#This Row],[LOW BIDDER''S UNIT PRICE]]","v":0},{"$f":"_300A_FUNDING[[#This Row],[Column7]]*_300A_FUNDING[[#This Row],[LOW BIDDER''S UNIT PRICE]]","v":0},{"$f":"_300A_FUNDING[[#This Row],[Column8]]*_300A_FUNDING[[#This Row],[LOW BIDDER''S UNIT PRICE]]","v":0},{"$f":"_300A_FUNDING[[#This Row],[Column9]]*_300A_FUNDING[[#This Row],[LOW BIDDER''S UNIT PRICE]]","v":0},{"$f":"_300A_FUNDING[[#This Row],[Column10]]*_300A_FUNDING[[#This Row],[LOW BIDDER''S UNIT PRICE]]","v":0},{"$f":"_300A_FUNDING[[#This Row],[Column11]]*_300A_FUNDING[[#This Row],[LOW BIDDER''S UNIT PRICE]]","v":0},{"$f":"_300A_FUNDING[[#This Row],[Column12]]*_300A_FUNDING[[#This Row],[LOW BIDDER''S UNIT PRICE]]","v":0},{"$f":"_300A_FUNDING[[#This Row],[Column13]]*_300A_FUNDING[[#This Row],[LOW BIDDER''S UNIT PRICE]]","v":0},{"$f":"_300A_FUNDING[[#This Row],[Column14]]*_300A_FUNDING[[#This Row],[LOW BIDDER''S UNIT PRICE]]","v":0}]
[null,null,null,null,null,null,null,null,null,null,null,null,null,null,null,null,0,{"$f":"_300A_FUNDING[[#This Row],[Column5]]*_300A_FUNDING[[#This Row],[LOW BIDDER''S UNIT PRICE]]","v":0},{"$f":"_300A_FUNDING[[#This Row],[Column6]]*_300A_FUNDING[[#This Row],[LOW BIDDER''S UNIT PRICE]]","v":0},{"$f":"_300A_FUNDING[[#This Row],[Column7]]*_300A_FUNDING[[#This Row],[LOW BIDDER''S UNIT PRICE]]","v":0},{"$f":"_300A_FUNDING[[#This Row],[Column8]]*_300A_FUNDING[[#This Row],[LOW BIDDER''S UNIT PRICE]]","v":0},{"$f":"_300A_FUNDING[[#This Row],[Column9]]*_300A_FUNDING[[#This Row],[LOW BIDDER''S UNIT PRICE]]","v":0},{"$f":"_300A_FUNDING[[#This Row],[Column10]]*_300A_FUNDING[[#This Row],[LOW BIDDER''S UNIT PRICE]]","v":0},{"$f":"_300A_FUNDING[[#This Row],[Column11]]*_300A_FUNDING[[#This Row],[LOW BIDDER''S UNIT PRICE]]","v":0},{"$f":"_300A_FUNDING[[#This Row],[Column12]]*_300A_FUNDING[[#This Row],[LOW BIDDER''S UNIT PRICE]]","v":0},{"$f":"_300A_FUNDING[[#This Row],[Column13]]*_300A_FUNDING[[#This Row],[LOW BIDDER''S UNIT PRICE]]","v":0},{"$f":"_300A_FUNDING[[#This Row],[Column14]]*_300A_FUNDING[[#This Row],[LOW BIDDER''S UNIT PRICE]]","v":0}]
[null,null,null,null,null,null,null,null,null,null,null,null,null,null,null,null,0,{"$f":"_300A_FUNDING[[#This Row],[Column5]]*_300A_FUNDING[[#This Row],[LOW BIDDER''S UNIT PRICE]]","v":0},{"$f":"_300A_FUNDING[[#This Row],[Column6]]*_300A_FUNDING[[#This Row],[LOW BIDDER''S UNIT PRICE]]","v":0},{"$f":"_300A_FUNDING[[#This Row],[Column7]]*_300A_FUNDING[[#This Row],[LOW BIDDER''S UNIT PRICE]]","v":0},{"$f":"_300A_FUNDING[[#This Row],[Column8]]*_300A_FUNDING[[#This Row],[LOW BIDDER''S UNIT PRICE]]","v":0},{"$f":"_300A_FUNDING[[#This Row],[Column9]]*_300A_FUNDING[[#This Row],[LOW BIDDER''S UNIT PRICE]]","v":0},{"$f":"_300A_FUNDING[[#This Row],[Column10]]*_300A_FUNDING[[#This Row],[LOW BIDDER''S UNIT PRICE]]","v":0},{"$f":"_300A_FUNDING[[#This Row],[Column11]]*_300A_FUNDING[[#This Row],[LOW BIDDER''S UNIT PRICE]]","v":0},{"$f":"_300A_FUNDING[[#This Row],[Column12]]*_300A_FUNDING[[#This Row],[LOW BIDDER''S UNIT PRICE]]","v":0},{"$f":"_300A_FUNDING[[#This Row],[Column13]]*_300A_FUNDING[[#This Row],[LOW BIDDER''S UNIT PRICE]]","v":0},{"$f":"_300A_FUNDING[[#This Row],[Column14]]*_300A_FUNDING[[#This Row],[LOW BIDDER''S UNIT PRICE]]","v":0}]
[null,null,null,null,null,null,null,null,null,null,null,null,null,null,null,null,0,{"$f":"_300A_FUNDING[[#This Row],[Column5]]*_300A_FUNDING[[#This Row],[LOW BIDDER''S UNIT PRICE]]","v":0},{"$f":"_300A_FUNDING[[#This Row],[Column6]]*_300A_FUNDING[[#This Row],[LOW BIDDER''S UNIT PRICE]]","v":0},{"$f":"_300A_FUNDING[[#This Row],[Column7]]*_300A_FUNDING[[#This Row],[LOW BIDDER''S UNIT PRICE]]","v":0},{"$f":"_300A_FUNDING[[#This Row],[Column8]]*_300A_FUNDING[[#This Row],[LOW BIDDER''S UNIT PRICE]]","v":0},{"$f":"_300A_FUNDING[[#This Row],[Column9]]*_300A_FUNDING[[#This Row],[LOW BIDDER''S UNIT PRICE]]","v":0},{"$f":"_300A_FUNDING[[#This Row],[Column10]]*_300A_FUNDING[[#This Row],[LOW BIDDER''S UNIT PRICE]]","v":0},{"$f":"_300A_FUNDING[[#This Row],[Column11]]*_300A_FUNDING[[#This Row],[LOW BIDDER''S UNIT PRICE]]","v":0},{"$f":"_300A_FUNDING[[#This Row],[Column12]]*_300A_FUNDING[[#This Row],[LOW BIDDER''S UNIT PRICE]]","v":0},{"$f":"_300A_FUNDING[[#This Row],[Column13]]*_300A_FUNDING[[#This Row],[LOW BIDDER''S UNIT PRICE]]","v":0},{"$f":"_300A_FUNDING[[#This Row],[Column14]]*_300A_FUNDING[[#This Row],[LOW BIDDER''S UNIT PRICE]]","v":0}]
[null,null,null,null,null,null,null,null,null,null,null,null,null,null,null,null,0,{"$f":"_300A_FUNDING[[#This Row],[Column5]]*_300A_FUNDING[[#This Row],[LOW BIDDER''S UNIT PRICE]]","v":0},{"$f":"_300A_FUNDING[[#This Row],[Column6]]*_300A_FUNDING[[#This Row],[LOW BIDDER''S UNIT PRICE]]","v":0},{"$f":"_300A_FUNDING[[#This Row],[Column7]]*_300A_FUNDING[[#This Row],[LOW BIDDER''S UNIT PRICE]]","v":0},{"$f":"_300A_FUNDING[[#This Row],[Column8]]*_300A_FUNDING[[#This Row],[LOW BIDDER''S UNIT PRICE]]","v":0},{"$f":"_300A_FUNDING[[#This Row],[Column9]]*_300A_FUNDING[[#This Row],[LOW BIDDER''S UNIT PRICE]]","v":0},{"$f":"_300A_FUNDING[[#This Row],[Column10]]*_300A_FUNDING[[#This Row],[LOW BIDDER''S UNIT PRICE]]","v":0},{"$f":"_300A_FUNDING[[#This Row],[Column11]]*_300A_FUNDING[[#This Row],[LOW BIDDER''S UNIT PRICE]]","v":0},{"$f":"_300A_FUNDING[[#This Row],[Column12]]*_300A_FUNDING[[#This Row],[LOW BIDDER''S UNIT PRICE]]","v":0},{"$f":"_300A_FUNDING[[#This Row],[Column13]]*_300A_FUNDING[[#This Row],[LOW BIDDER''S UNIT PRICE]]","v":0},{"$f":"_300A_FUNDING[[#This Row],[Column14]]*_300A_FUNDING[[#This Row],[LOW BIDDER''S UNIT PRICE]]","v":0}]
[null,null,null,null,null,null,null,null,null,null,null,null,null,null,null,null,0,{"$f":"_300A_FUNDING[[#This Row],[Column5]]*_300A_FUNDING[[#This Row],[LOW BIDDER''S UNIT PRICE]]","v":0},{"$f":"_300A_FUNDING[[#This Row],[Column6]]*_300A_FUNDING[[#This Row],[LOW BIDDER''S UNIT PRICE]]","v":0},{"$f":"_300A_FUNDING[[#This Row],[Column7]]*_300A_FUNDING[[#This Row],[LOW BIDDER''S UNIT PRICE]]","v":0},{"$f":"_300A_FUNDING[[#This Row],[Column8]]*_300A_FUNDING[[#This Row],[LOW BIDDER''S UNIT PRICE]]","v":0},{"$f":"_300A_FUNDING[[#This Row],[Column9]]*_300A_FUNDING[[#This Row],[LOW BIDDER''S UNIT PRICE]]","v":0},{"$f":"_300A_FUNDING[[#This Row],[Column10]]*_300A_FUNDING[[#This Row],[LOW BIDDER''S UNIT PRICE]]","v":0},{"$f":"_300A_FUNDING[[#This Row],[Column11]]*_300A_FUNDING[[#This Row],[LOW BIDDER''S UNIT PRICE]]","v":0},{"$f":"_300A_FUNDING[[#This Row],[Column12]]*_300A_FUNDING[[#This Row],[LOW BIDDER''S UNIT PRICE]]","v":0},{"$f":"_300A_FUNDING[[#This Row],[Column13]]*_300A_FUNDING[[#This Row],[LOW BIDDER''S UNIT PRICE]]","v":0},{"$f":"_300A_FUNDING[[#This Row],[Column14]]*_300A_FUNDING[[#This Row],[LOW BIDDER''S UNIT PRICE]]","v":0}]
[null,null,null,null,null,null,null,null,null,null,null,null,null,null,null,null,0,{"$f":"_300A_FUNDING[[#This Row],[Column5]]*_300A_FUNDING[[#This Row],[LOW BIDDER''S UNIT PRICE]]","v":0},{"$f":"_300A_FUNDING[[#This Row],[Column6]]*_300A_FUNDING[[#This Row],[LOW BIDDER''S UNIT PRICE]]","v":0},{"$f":"_300A_FUNDING[[#This Row],[Column7]]*_300A_FUNDING[[#This Row],[LOW BIDDER''S UNIT PRICE]]","v":0},{"$f":"_300A_FUNDING[[#This Row],[Column8]]*_300A_FUNDING[[#This Row],[LOW BIDDER''S UNIT PRICE]]","v":0},{"$f":"_300A_FUNDING[[#This Row],[Column9]]*_300A_FUNDING[[#This Row],[LOW BIDDER''S UNIT PRICE]]","v":0},{"$f":"_300A_FUNDING[[#This Row],[Column10]]*_300A_FUNDING[[#This Row],[LOW BIDDER''S UNIT PRICE]]","v":0},{"$f":"_300A_FUNDING[[#This Row],[Column11]]*_300A_FUNDING[[#This Row],[LOW BIDDER''S UNIT PRICE]]","v":0},{"$f":"_300A_FUNDING[[#This Row],[Column12]]*_300A_FUNDING[[#This Row],[LOW BIDDER''S UNIT PRICE]]","v":0},{"$f":"_300A_FUNDING[[#This Row],[Column13]]*_300A_FUNDING[[#This Row],[LOW BIDDER''S UNIT PRICE]]","v":0},{"$f":"_300A_FUNDING[[#This Row],[Column14]]*_300A_FUNDING[[#This Row],[LOW BIDDER''S UNIT PRICE]]","v":0}]
[null,null,null,null,null,null,null,null,null,null,null,null,null,null,null,null,0,{"$f":"_300A_FUNDING[[#This Row],[Column5]]*_300A_FUNDING[[#This Row],[LOW BIDDER''S UNIT PRICE]]","v":0},{"$f":"_300A_FUNDING[[#This Row],[Column6]]*_300A_FUNDING[[#This Row],[LOW BIDDER''S UNIT PRICE]]","v":0},{"$f":"_300A_FUNDING[[#This Row],[Column7]]*_300A_FUNDING[[#This Row],[LOW BIDDER''S UNIT PRICE]]","v":0},{"$f":"_300A_FUNDING[[#This Row],[Column8]]*_300A_FUNDING[[#This Row],[LOW BIDDER''S UNIT PRICE]]","v":0},{"$f":"_300A_FUNDING[[#This Row],[Column9]]*_300A_FUNDING[[#This Row],[LOW BIDDER''S UNIT PRICE]]","v":0},{"$f":"_300A_FUNDING[[#This Row],[Column10]]*_300A_FUNDING[[#This Row],[LOW BIDDER''S UNIT PRICE]]","v":0},{"$f":"_300A_FUNDING[[#This Row],[Column11]]*_300A_FUNDING[[#This Row],[LOW BIDDER''S UNIT PRICE]]","v":0},{"$f":"_300A_FUNDING[[#This Row],[Column12]]*_300A_FUNDING[[#This Row],[LOW BIDDER''S UNIT PRICE]]","v":0},{"$f":"_300A_FUNDING[[#This Row],[Column13]]*_300A_FUNDING[[#This Row],[LOW BIDDER''S UNIT PRICE]]","v":0},{"$f":"_300A_FUNDING[[#This Row],[Column14]]*_300A_FUNDING[[#This Row],[LOW BIDDER''S UNIT PRICE]]","v":0}]
[null,null,null,null,null,null,null,null,null,null,null,null,null,null,null,null,0,{"$f":"_300A_FUNDING[[#This Row],[Column5]]*_300A_FUNDING[[#This Row],[LOW BIDDER''S UNIT PRICE]]","v":0},{"$f":"_300A_FUNDING[[#This Row],[Column6]]*_300A_FUNDING[[#This Row],[LOW BIDDER''S UNIT PRICE]]","v":0},{"$f":"_300A_FUNDING[[#This Row],[Column7]]*_300A_FUNDING[[#This Row],[LOW BIDDER''S UNIT PRICE]]","v":0},{"$f":"_300A_FUNDING[[#This Row],[Column8]]*_300A_FUNDING[[#This Row],[LOW BIDDER''S UNIT PRICE]]","v":0},{"$f":"_300A_FUNDING[[#This Row],[Column9]]*_300A_FUNDING[[#This Row],[LOW BIDDER''S UNIT PRICE]]","v":0},{"$f":"_300A_FUNDING[[#This Row],[Column10]]*_300A_FUNDING[[#This Row],[LOW BIDDER''S UNIT PRICE]]","v":0},{"$f":"_300A_FUNDING[[#This Row],[Column11]]*_300A_FUNDING[[#This Row],[LOW BIDDER''S UNIT PRICE]]","v":0},{"$f":"_300A_FUNDING[[#This Row],[Column12]]*_300A_FUNDING[[#This Row],[LOW BIDDER''S UNIT PRICE]]","v":0},{"$f":"_300A_FUNDING[[#This Row],[Column13]]*_300A_FUNDING[[#This Row],[LOW BIDDER''S UNIT PRICE]]","v":0},{"$f":"_300A_FUNDING[[#This Row],[Column14]]*_300A_FUNDING[[#This Row],[LOW BIDDER''S UNIT PRICE]]","v":0}]
[null,null,null,null,null,null,null,null,null,null,null,null,null,null,null,null,0,{"$f":"_300A_FUNDING[[#This Row],[Column5]]*_300A_FUNDING[[#This Row],[LOW BIDDER''S UNIT PRICE]]","v":0},{"$f":"_300A_FUNDING[[#This Row],[Column6]]*_300A_FUNDING[[#This Row],[LOW BIDDER''S UNIT PRICE]]","v":0},{"$f":"_300A_FUNDING[[#This Row],[Column7]]*_300A_FUNDING[[#This Row],[LOW BIDDER''S UNIT PRICE]]","v":0},{"$f":"_300A_FUNDING[[#This Row],[Column8]]*_300A_FUNDING[[#This Row],[LOW BIDDER''S UNIT PRICE]]","v":0},{"$f":"_300A_FUNDING[[#This Row],[Column9]]*_300A_FUNDING[[#This Row],[LOW BIDDER''S UNIT PRICE]]","v":0},{"$f":"_300A_FUNDING[[#This Row],[Column10]]*_300A_FUNDING[[#This Row],[LOW BIDDER''S UNIT PRICE]]","v":0},{"$f":"_300A_FUNDING[[#This Row],[Column11]]*_300A_FUNDING[[#This Row],[LOW BIDDER''S UNIT PRICE]]","v":0},{"$f":"_300A_FUNDING[[#This Row],[Column12]]*_300A_FUNDING[[#This Row],[LOW BIDDER''S UNIT PRICE]]","v":0},{"$f":"_300A_FUNDING[[#This Row],[Column13]]*_300A_FUNDING[[#This Row],[LOW BIDDER''S UNIT PRICE]]","v":0},{"$f":"_300A_FUNDING[[#This Row],[Column14]]*_300A_FUNDING[[#This Row],[LOW BIDDER''S UNIT PRICE]]","v":0}]
[null,null,null,null,null,null,null,null,null,null,null,null,null,null,null,null,0,{"$f":"_300A_FUNDING[[#This Row],[Column5]]*_300A_FUNDING[[#This Row],[LOW BIDDER''S UNIT PRICE]]","v":0},{"$f":"_300A_FUNDING[[#This Row],[Column6]]*_300A_FUNDING[[#This Row],[LOW BIDDER''S UNIT PRICE]]","v":0},{"$f":"_300A_FUNDING[[#This Row],[Column7]]*_300A_FUNDING[[#This Row],[LOW BIDDER''S UNIT PRICE]]","v":0},{"$f":"_300A_FUNDING[[#This Row],[Column8]]*_300A_FUNDING[[#This Row],[LOW BIDDER''S UNIT PRICE]]","v":0},{"$f":"_300A_FUNDING[[#This Row],[Column9]]*_300A_FUNDING[[#This Row],[LOW BIDDER''S UNIT PRICE]]","v":0},{"$f":"_300A_FUNDING[[#This Row],[Column10]]*_300A_FUNDING[[#This Row],[LOW BIDDER''S UNIT PRICE]]","v":0},{"$f":"_300A_FUNDING[[#This Row],[Column11]]*_300A_FUNDING[[#This Row],[LOW BIDDER''S UNIT PRICE]]","v":0},{"$f":"_300A_FUNDING[[#This Row],[Column12]]*_300A_FUNDING[[#This Row],[LOW BIDDER''S UNIT PRICE]]","v":0},{"$f":"_300A_FUNDING[[#This Row],[Column13]]*_300A_FUNDING[[#This Row],[LOW BIDDER''S UNIT PRICE]]","v":0},{"$f":"_300A_FUNDING[[#This Row],[Column14]]*_300A_FUNDING[[#This Row],[LOW BIDDER''S UNIT PRICE]]","v":0}]
[null,null,null,null,null,null,null,null,null,null,null,null,null,null,null,null,0,{"$f":"_300A_FUNDING[[#This Row],[Column5]]*_300A_FUNDING[[#This Row],[LOW BIDDER''S UNIT PRICE]]","v":0},{"$f":"_300A_FUNDING[[#This Row],[Column6]]*_300A_FUNDING[[#This Row],[LOW BIDDER''S UNIT PRICE]]","v":0},{"$f":"_300A_FUNDING[[#This Row],[Column7]]*_300A_FUNDING[[#This Row],[LOW BIDDER''S UNIT PRICE]]","v":0},{"$f":"_300A_FUNDING[[#This Row],[Column8]]*_300A_FUNDING[[#This Row],[LOW BIDDER''S UNIT PRICE]]","v":0},{"$f":"_300A_FUNDING[[#This Row],[Column9]]*_300A_FUNDING[[#This Row],[LOW BIDDER''S UNIT PRICE]]","v":0},{"$f":"_300A_FUNDING[[#This Row],[Column10]]*_300A_FUNDING[[#This Row],[LOW BIDDER''S UNIT PRICE]]","v":0},{"$f":"_300A_FUNDING[[#This Row],[Column11]]*_300A_FUNDING[[#This Row],[LOW BIDDER''S UNIT PRICE]]","v":0},{"$f":"_300A_FUNDING[[#This Row],[Column12]]*_300A_FUNDING[[#This Row],[LOW BIDDER''S UNIT PRICE]]","v":0},{"$f":"_300A_FUNDING[[#This Row],[Column13]]*_300A_FUNDING[[#This Row],[LOW BIDDER''S UNIT PRICE]]","v":0},{"$f":"_300A_FUNDING[[#This Row],[Column14]]*_300A_FUNDING[[#This Row],[LOW BIDDER''S UNIT PRICE]]","v":0}]
[null,null,null,null,null,null,null,null,null,null,null,null,null,null,null,null,0,{"$f":"_300A_FUNDING[[#This Row],[Column5]]*_300A_FUNDING[[#This Row],[LOW BIDDER''S UNIT PRICE]]","v":0},{"$f":"_300A_FUNDING[[#This Row],[Column6]]*_300A_FUNDING[[#This Row],[LOW BIDDER''S UNIT PRICE]]","v":0},{"$f":"_300A_FUNDING[[#This Row],[Column7]]*_300A_FUNDING[[#This Row],[LOW BIDDER''S UNIT PRICE]]","v":0},{"$f":"_300A_FUNDING[[#This Row],[Column8]]*_300A_FUNDING[[#This Row],[LOW BIDDER''S UNIT PRICE]]","v":0},{"$f":"_300A_FUNDING[[#This Row],[Column9]]*_300A_FUNDING[[#This Row],[LOW BIDDER''S UNIT PRICE]]","v":0},{"$f":"_300A_FUNDING[[#This Row],[Column10]]*_300A_FUNDING[[#This Row],[LOW BIDDER''S UNIT PRICE]]","v":0},{"$f":"_300A_FUNDING[[#This Row],[Column11]]*_300A_FUNDING[[#This Row],[LOW BIDDER''S UNIT PRICE]]","v":0},{"$f":"_300A_FUNDING[[#This Row],[Column12]]*_300A_FUNDING[[#This Row],[LOW BIDDER''S UNIT PRICE]]","v":0},{"$f":"_300A_FUNDING[[#This Row],[Column13]]*_300A_FUNDING[[#This Row],[LOW BIDDER''S UNIT PRICE]]","v":0},{"$f":"_300A_FUNDING[[#This Row],[Column14]]*_300A_FUNDING[[#This Row],[LOW BIDDER''S UNIT PRICE]]","v":0}]
[null,null,null,null,null,null,null,null,null,null,null,null,null,null,null,null,0,{"$f":"_300A_FUNDING[[#This Row],[Column5]]*_300A_FUNDING[[#This Row],[LOW BIDDER''S UNIT PRICE]]","v":0},{"$f":"_300A_FUNDING[[#This Row],[Column6]]*_300A_FUNDING[[#This Row],[LOW BIDDER''S UNIT PRICE]]","v":0},{"$f":"_300A_FUNDING[[#This Row],[Column7]]*_300A_FUNDING[[#This Row],[LOW BIDDER''S UNIT PRICE]]","v":0},{"$f":"_300A_FUNDING[[#This Row],[Column8]]*_300A_FUNDING[[#This Row],[LOW BIDDER''S UNIT PRICE]]","v":0},{"$f":"_300A_FUNDING[[#This Row],[Column9]]*_300A_FUNDING[[#This Row],[LOW BIDDER''S UNIT PRICE]]","v":0},{"$f":"_300A_FUNDING[[#This Row],[Column10]]*_300A_FUNDING[[#This Row],[LOW BIDDER''S UNIT PRICE]]","v":0},{"$f":"_300A_FUNDING[[#This Row],[Column11]]*_300A_FUNDING[[#This Row],[LOW BIDDER''S UNIT PRICE]]","v":0},{"$f":"_300A_FUNDING[[#This Row],[Column12]]*_300A_FUNDING[[#This Row],[LOW BIDDER''S UNIT PRICE]]","v":0},{"$f":"_300A_FUNDING[[#This Row],[Column13]]*_300A_FUNDING[[#This Row],[LOW BIDDER''S UNIT PRICE]]","v":0},{"$f":"_300A_FUNDING[[#This Row],[Column14]]*_300A_FUNDING[[#This Row],[LOW BIDDER''S UNIT PRICE]]","v":0}]
[null,null,null,null,null,null,null,null,null,null,null,null,null,null,null,null,0,{"$f":"_300A_FUNDING[[#This Row],[Column5]]*_300A_FUNDING[[#This Row],[LOW BIDDER''S UNIT PRICE]]","v":0},{"$f":"_300A_FUNDING[[#This Row],[Column6]]*_300A_FUNDING[[#This Row],[LOW BIDDER''S UNIT PRICE]]","v":0},{"$f":"_300A_FUNDING[[#This Row],[Column7]]*_300A_FUNDING[[#This Row],[LOW BIDDER''S UNIT PRICE]]","v":0},{"$f":"_300A_FUNDING[[#This Row],[Column8]]*_300A_FUNDING[[#This Row],[LOW BIDDER''S UNIT PRICE]]","v":0},{"$f":"_300A_FUNDING[[#This Row],[Column9]]*_300A_FUNDING[[#This Row],[LOW BIDDER''S UNIT PRICE]]","v":0},{"$f":"_300A_FUNDING[[#This Row],[Column10]]*_300A_FUNDING[[#This Row],[LOW BIDDER''S UNIT PRICE]]","v":0},{"$f":"_300A_FUNDING[[#This Row],[Column11]]*_300A_FUNDING[[#This Row],[LOW BIDDER''S UNIT PRICE]]","v":0},{"$f":"_300A_FUNDING[[#This Row],[Column12]]*_300A_FUNDING[[#This Row],[LOW BIDDER''S UNIT PRICE]]","v":0},{"$f":"_300A_FUNDING[[#This Row],[Column13]]*_300A_FUNDING[[#This Row],[LOW BIDDER''S UNIT PRICE]]","v":0},{"$f":"_300A_FUNDING[[#This Row],[Column14]]*_300A_FUNDING[[#This Row],[LOW BIDDER''S UNIT PRICE]]","v":0}]
[null,null,null,null,null,null,null,null,null,null,null,null,null,null,null,null,0,{"$f":"_300A_FUNDING[[#This Row],[Column5]]*_300A_FUNDING[[#This Row],[LOW BIDDER''S UNIT PRICE]]","v":0},{"$f":"_300A_FUNDING[[#This Row],[Column6]]*_300A_FUNDING[[#This Row],[LOW BIDDER''S UNIT PRICE]]","v":0},{"$f":"_300A_FUNDING[[#This Row],[Column7]]*_300A_FUNDING[[#This Row],[LOW BIDDER''S UNIT PRICE]]","v":0},{"$f":"_300A_FUNDING[[#This Row],[Column8]]*_300A_FUNDING[[#This Row],[LOW BIDDER''S UNIT PRICE]]","v":0},{"$f":"_300A_FUNDING[[#This Row],[Column9]]*_300A_FUNDING[[#This Row],[LOW BIDDER''S UNIT PRICE]]","v":0},{"$f":"_300A_FUNDING[[#This Row],[Column10]]*_300A_FUNDING[[#This Row],[LOW BIDDER''S UNIT PRICE]]","v":0},{"$f":"_300A_FUNDING[[#This Row],[Column11]]*_300A_FUNDING[[#This Row],[LOW BIDDER''S UNIT PRICE]]","v":0},{"$f":"_300A_FUNDING[[#This Row],[Column12]]*_300A_FUNDING[[#This Row],[LOW BIDDER''S UNIT PRICE]]","v":0},{"$f":"_300A_FUNDING[[#This Row],[Column13]]*_300A_FUNDING[[#This Row],[LOW BIDDER''S UNIT PRICE]]","v":0},{"$f":"_300A_FUNDING[[#This Row],[Column14]]*_300A_FUNDING[[#This Row],[LOW BIDDER''S UNIT PRICE]]","v":0}]
[null,null,null,null,null,null,null,null,null,null,null,null,null,null,null,null,0,{"$f":"_300A_FUNDING[[#This Row],[Column5]]*_300A_FUNDING[[#This Row],[LOW BIDDER''S UNIT PRICE]]","v":0},{"$f":"_300A_FUNDING[[#This Row],[Column6]]*_300A_FUNDING[[#This Row],[LOW BIDDER''S UNIT PRICE]]","v":0},{"$f":"_300A_FUNDING[[#This Row],[Column7]]*_300A_FUNDING[[#This Row],[LOW BIDDER''S UNIT PRICE]]","v":0},{"$f":"_300A_FUNDING[[#This Row],[Column8]]*_300A_FUNDING[[#This Row],[LOW BIDDER''S UNIT PRICE]]","v":0},{"$f":"_300A_FUNDING[[#This Row],[Column9]]*_300A_FUNDING[[#This Row],[LOW BIDDER''S UNIT PRICE]]","v":0},{"$f":"_300A_FUNDING[[#This Row],[Column10]]*_300A_FUNDING[[#This Row],[LOW BIDDER''S UNIT PRICE]]","v":0},{"$f":"_300A_FUNDING[[#This Row],[Column11]]*_300A_FUNDING[[#This Row],[LOW BIDDER''S UNIT PRICE]]","v":0},{"$f":"_300A_FUNDING[[#This Row],[Column12]]*_300A_FUNDING[[#This Row],[LOW BIDDER''S UNIT PRICE]]","v":0},{"$f":"_300A_FUNDING[[#This Row],[Column13]]*_300A_FUNDING[[#This Row],[LOW BIDDER''S UNIT PRICE]]","v":0},{"$f":"_300A_FUNDING[[#This Row],[Column14]]*_300A_FUNDING[[#This Row],[LOW BIDDER''S UNIT PRICE]]","v":0}]
[null,null,null,null,null,null,null,null,null,null,null,null,null,null,null,null,0,{"$f":"_300A_FUNDING[[#This Row],[Column5]]*_300A_FUNDING[[#This Row],[LOW BIDDER''S UNIT PRICE]]","v":0},{"$f":"_300A_FUNDING[[#This Row],[Column6]]*_300A_FUNDING[[#This Row],[LOW BIDDER''S UNIT PRICE]]","v":0},{"$f":"_300A_FUNDING[[#This Row],[Column7]]*_300A_FUNDING[[#This Row],[LOW BIDDER''S UNIT PRICE]]","v":0},{"$f":"_300A_FUNDING[[#This Row],[Column8]]*_300A_FUNDING[[#This Row],[LOW BIDDER''S UNIT PRICE]]","v":0},{"$f":"_300A_FUNDING[[#This Row],[Column9]]*_300A_FUNDING[[#This Row],[LOW BIDDER''S UNIT PRICE]]","v":0},{"$f":"_300A_FUNDING[[#This Row],[Column10]]*_300A_FUNDING[[#This Row],[LOW BIDDER''S UNIT PRICE]]","v":0},{"$f":"_300A_FUNDING[[#This Row],[Column11]]*_300A_FUNDING[[#This Row],[LOW BIDDER''S UNIT PRICE]]","v":0},{"$f":"_300A_FUNDING[[#This Row],[Column12]]*_300A_FUNDING[[#This Row],[LOW BIDDER''S UNIT PRICE]]","v":0},{"$f":"_300A_FUNDING[[#This Row],[Column13]]*_300A_FUNDING[[#This Row],[LOW BIDDER''S UNIT PRICE]]","v":0},{"$f":"_300A_FUNDING[[#This Row],[Column14]]*_300A_FUNDING[[#This Row],[LOW BIDDER''S UNIT PRICE]]","v":0}]
[null,null,null,null,null,null,null,null,null,null,null,null,null,null,null,null,0,{"$f":"_300A_FUNDING[[#This Row],[Column5]]*_300A_FUNDING[[#This Row],[LOW BIDDER''S UNIT PRICE]]","v":0},{"$f":"_300A_FUNDING[[#This Row],[Column6]]*_300A_FUNDING[[#This Row],[LOW BIDDER''S UNIT PRICE]]","v":0},{"$f":"_300A_FUNDING[[#This Row],[Column7]]*_300A_FUNDING[[#This Row],[LOW BIDDER''S UNIT PRICE]]","v":0},{"$f":"_300A_FUNDING[[#This Row],[Column8]]*_300A_FUNDING[[#This Row],[LOW BIDDER''S UNIT PRICE]]","v":0},{"$f":"_300A_FUNDING[[#This Row],[Column9]]*_300A_FUNDING[[#This Row],[LOW BIDDER''S UNIT PRICE]]","v":0},{"$f":"_300A_FUNDING[[#This Row],[Column10]]*_300A_FUNDING[[#This Row],[LOW BIDDER''S UNIT PRICE]]","v":0},{"$f":"_300A_FUNDING[[#This Row],[Column11]]*_300A_FUNDING[[#This Row],[LOW BIDDER''S UNIT PRICE]]","v":0},{"$f":"_300A_FUNDING[[#This Row],[Column12]]*_300A_FUNDING[[#This Row],[LOW BIDDER''S UNIT PRICE]]","v":0},{"$f":"_300A_FUNDING[[#This Row],[Column13]]*_300A_FUNDING[[#This Row],[LOW BIDDER''S UNIT PRICE]]","v":0},{"$f":"_300A_FUNDING[[#This Row],[Column14]]*_300A_FUNDING[[#This Row],[LOW BIDDER''S UNIT PRICE]]","v":0}]
[null,null,null,null,null,null,null,null,null,null,null,null,null,null,null,null,0,{"$f":"_300A_FUNDING[[#This Row],[Column5]]*_300A_FUNDING[[#This Row],[LOW BIDDER''S UNIT PRICE]]","v":0},{"$f":"_300A_FUNDING[[#This Row],[Column6]]*_300A_FUNDING[[#This Row],[LOW BIDDER''S UNIT PRICE]]","v":0},{"$f":"_300A_FUNDING[[#This Row],[Column7]]*_300A_FUNDING[[#This Row],[LOW BIDDER''S UNIT PRICE]]","v":0},{"$f":"_300A_FUNDING[[#This Row],[Column8]]*_300A_FUNDING[[#This Row],[LOW BIDDER''S UNIT PRICE]]","v":0},{"$f":"_300A_FUNDING[[#This Row],[Column9]]*_300A_FUNDING[[#This Row],[LOW BIDDER''S UNIT PRICE]]","v":0},{"$f":"_300A_FUNDING[[#This Row],[Column10]]*_300A_FUNDING[[#This Row],[LOW BIDDER''S UNIT PRICE]]","v":0},{"$f":"_300A_FUNDING[[#This Row],[Column11]]*_300A_FUNDING[[#This Row],[LOW BIDDER''S UNIT PRICE]]","v":0},{"$f":"_300A_FUNDING[[#This Row],[Column12]]*_300A_FUNDING[[#This Row],[LOW BIDDER''S UNIT PRICE]]","v":0},{"$f":"_300A_FUNDING[[#This Row],[Column13]]*_300A_FUNDING[[#This Row],[LOW BIDDER''S UNIT PRICE]]","v":0},{"$f":"_300A_FUNDING[[#This Row],[Column14]]*_300A_FUNDING[[#This Row],[LOW BIDDER''S UNIT PRICE]]","v":0}]
[null,null,null,null,null,null,null,null,null,null,null,null,null,null,null,null,0,{"$f":"_300A_FUNDING[[#This Row],[Column5]]*_300A_FUNDING[[#This Row],[LOW BIDDER''S UNIT PRICE]]","v":0},{"$f":"_300A_FUNDING[[#This Row],[Column6]]*_300A_FUNDING[[#This Row],[LOW BIDDER''S UNIT PRICE]]","v":0},{"$f":"_300A_FUNDING[[#This Row],[Column7]]*_300A_FUNDING[[#This Row],[LOW BIDDER''S UNIT PRICE]]","v":0},{"$f":"_300A_FUNDING[[#This Row],[Column8]]*_300A_FUNDING[[#This Row],[LOW BIDDER''S UNIT PRICE]]","v":0},{"$f":"_300A_FUNDING[[#This Row],[Column9]]*_300A_FUNDING[[#This Row],[LOW BIDDER''S UNIT PRICE]]","v":0},{"$f":"_300A_FUNDING[[#This Row],[Column10]]*_300A_FUNDING[[#This Row],[LOW BIDDER''S UNIT PRICE]]","v":0},{"$f":"_300A_FUNDING[[#This Row],[Column11]]*_300A_FUNDING[[#This Row],[LOW BIDDER''S UNIT PRICE]]","v":0},{"$f":"_300A_FUNDING[[#This Row],[Column12]]*_300A_FUNDING[[#This Row],[LOW BIDDER''S UNIT PRICE]]","v":0},{"$f":"_300A_FUNDING[[#This Row],[Column13]]*_300A_FUNDING[[#This Row],[LOW BIDDER''S UNIT PRICE]]","v":0},{"$f":"_300A_FUNDING[[#This Row],[Column14]]*_300A_FUNDING[[#This Row],[LOW BIDDER''S UNIT PRICE]]","v":0}]
[null,null,null,null,null,null,null,null,null,null,null,null,null,null,null,null,0,{"$f":"_300A_FUNDING[[#This Row],[Column5]]*_300A_FUNDING[[#This Row],[LOW BIDDER''S UNIT PRICE]]","v":0},{"$f":"_300A_FUNDING[[#This Row],[Column6]]*_300A_FUNDING[[#This Row],[LOW BIDDER''S UNIT PRICE]]","v":0},{"$f":"_300A_FUNDING[[#This Row],[Column7]]*_300A_FUNDING[[#This Row],[LOW BIDDER''S UNIT PRICE]]","v":0},{"$f":"_300A_FUNDING[[#This Row],[Column8]]*_300A_FUNDING[[#This Row],[LOW BIDDER''S UNIT PRICE]]","v":0},{"$f":"_300A_FUNDING[[#This Row],[Column9]]*_300A_FUNDING[[#This Row],[LOW BIDDER''S UNIT PRICE]]","v":0},{"$f":"_300A_FUNDING[[#This Row],[Column10]]*_300A_FUNDING[[#This Row],[LOW BIDDER''S UNIT PRICE]]","v":0},{"$f":"_300A_FUNDING[[#This Row],[Column11]]*_300A_FUNDING[[#This Row],[LOW BIDDER''S UNIT PRICE]]","v":0},{"$f":"_300A_FUNDING[[#This Row],[Column12]]*_300A_FUNDING[[#This Row],[LOW BIDDER''S UNIT PRICE]]","v":0},{"$f":"_300A_FUNDING[[#This Row],[Column13]]*_300A_FUNDING[[#This Row],[LOW BIDDER''S UNIT PRICE]]","v":0},{"$f":"_300A_FUNDING[[#This Row],[Column14]]*_300A_FUNDING[[#This Row],[LOW BIDDER''S UNIT PRICE]]","v":0}]
[null,null,null,null,null,null,null,null,null,null,null,null,null,null,null,null,0,{"$f":"_300A_FUNDING[[#This Row],[Column5]]*_300A_FUNDING[[#This Row],[LOW BIDDER''S UNIT PRICE]]","v":0},{"$f":"_300A_FUNDING[[#This Row],[Column6]]*_300A_FUNDING[[#This Row],[LOW BIDDER''S UNIT PRICE]]","v":0},{"$f":"_300A_FUNDING[[#This Row],[Column7]]*_300A_FUNDING[[#This Row],[LOW BIDDER''S UNIT PRICE]]","v":0},{"$f":"_300A_FUNDING[[#This Row],[Column8]]*_300A_FUNDING[[#This Row],[LOW BIDDER''S UNIT PRICE]]","v":0},{"$f":"_300A_FUNDING[[#This Row],[Column9]]*_300A_FUNDING[[#This Row],[LOW BIDDER''S UNIT PRICE]]","v":0},{"$f":"_300A_FUNDING[[#This Row],[Column10]]*_300A_FUNDING[[#This Row],[LOW BIDDER''S UNIT PRICE]]","v":0},{"$f":"_300A_FUNDING[[#This Row],[Column11]]*_300A_FUNDING[[#This Row],[LOW BIDDER''S UNIT PRICE]]","v":0},{"$f":"_300A_FUNDING[[#This Row],[Column12]]*_300A_FUNDING[[#This Row],[LOW BIDDER''S UNIT PRICE]]","v":0},{"$f":"_300A_FUNDING[[#This Row],[Column13]]*_300A_FUNDING[[#This Row],[LOW BIDDER''S UNIT PRICE]]","v":0},{"$f":"_300A_FUNDING[[#This Row],[Column14]]*_300A_FUNDING[[#This Row],[LOW BIDDER''S UNIT PRICE]]","v":0}]
[null,null,null,null,null,null,null,null,null,null,null,null,null,null,null,null,0,{"$f":"_300A_FUNDING[[#This Row],[Column5]]*_300A_FUNDING[[#This Row],[LOW BIDDER''S UNIT PRICE]]","v":0},{"$f":"_300A_FUNDING[[#This Row],[Column6]]*_300A_FUNDING[[#This Row],[LOW BIDDER''S UNIT PRICE]]","v":0},{"$f":"_300A_FUNDING[[#This Row],[Column7]]*_300A_FUNDING[[#This Row],[LOW BIDDER''S UNIT PRICE]]","v":0},{"$f":"_300A_FUNDING[[#This Row],[Column8]]*_300A_FUNDING[[#This Row],[LOW BIDDER''S UNIT PRICE]]","v":0},{"$f":"_300A_FUNDING[[#This Row],[Column9]]*_300A_FUNDING[[#This Row],[LOW BIDDER''S UNIT PRICE]]","v":0},{"$f":"_300A_FUNDING[[#This Row],[Column10]]*_300A_FUNDING[[#This Row],[LOW BIDDER''S UNIT PRICE]]","v":0},{"$f":"_300A_FUNDING[[#This Row],[Column11]]*_300A_FUNDING[[#This Row],[LOW BIDDER''S UNIT PRICE]]","v":0},{"$f":"_300A_FUNDING[[#This Row],[Column12]]*_300A_FUNDING[[#This Row],[LOW BIDDER''S UNIT PRICE]]","v":0},{"$f":"_300A_FUNDING[[#This Row],[Column13]]*_300A_FUNDING[[#This Row],[LOW BIDDER''S UNIT PRICE]]","v":0},{"$f":"_300A_FUNDING[[#This Row],[Column14]]*_300A_FUNDING[[#This Row],[LOW BIDDER''S UNIT PRICE]]","v":0}]
[null,null,null,null,null,null,null,null,null,null,null,null,null,null,null,null,0,{"$f":"_300A_FUNDING[[#This Row],[Column5]]*_300A_FUNDING[[#This Row],[LOW BIDDER''S UNIT PRICE]]","v":0},{"$f":"_300A_FUNDING[[#This Row],[Column6]]*_300A_FUNDING[[#This Row],[LOW BIDDER''S UNIT PRICE]]","v":0},{"$f":"_300A_FUNDING[[#This Row],[Column7]]*_300A_FUNDING[[#This Row],[LOW BIDDER''S UNIT PRICE]]","v":0},{"$f":"_300A_FUNDING[[#This Row],[Column8]]*_300A_FUNDING[[#This Row],[LOW BIDDER''S UNIT PRICE]]","v":0},{"$f":"_300A_FUNDING[[#This Row],[Column9]]*_300A_FUNDING[[#This Row],[LOW BIDDER''S UNIT PRICE]]","v":0},{"$f":"_300A_FUNDING[[#This Row],[Column10]]*_300A_FUNDING[[#This Row],[LOW BIDDER''S UNIT PRICE]]","v":0},{"$f":"_300A_FUNDING[[#This Row],[Column11]]*_300A_FUNDING[[#This Row],[LOW BIDDER''S UNIT PRICE]]","v":0},{"$f":"_300A_FUNDING[[#This Row],[Column12]]*_300A_FUNDING[[#This Row],[LOW BIDDER''S UNIT PRICE]]","v":0},{"$f":"_300A_FUNDING[[#This Row],[Column13]]*_300A_FUNDING[[#This Row],[LOW BIDDER''S UNIT PRICE]]","v":0},{"$f":"_300A_FUNDING[[#This Row],[Column14]]*_300A_FUNDING[[#This Row],[LOW BIDDER''S UNIT PRICE]]","v":0}]
[null,null,null,null,null,null,null,null,null,null,null,null,null,null,null,null,0,{"$f":"_300A_FUNDING[[#This Row],[Column5]]*_300A_FUNDING[[#This Row],[LOW BIDDER''S UNIT PRICE]]","v":0},{"$f":"_300A_FUNDING[[#This Row],[Column6]]*_300A_FUNDING[[#This Row],[LOW BIDDER''S UNIT PRICE]]","v":0},{"$f":"_300A_FUNDING[[#This Row],[Column7]]*_300A_FUNDING[[#This Row],[LOW BIDDER''S UNIT PRICE]]","v":0},{"$f":"_300A_FUNDING[[#This Row],[Column8]]*_300A_FUNDING[[#This Row],[LOW BIDDER''S UNIT PRICE]]","v":0},{"$f":"_300A_FUNDING[[#This Row],[Column9]]*_300A_FUNDING[[#This Row],[LOW BIDDER''S UNIT PRICE]]","v":0},{"$f":"_300A_FUNDING[[#This Row],[Column10]]*_300A_FUNDING[[#This Row],[LOW BIDDER''S UNIT PRICE]]","v":0},{"$f":"_300A_FUNDING[[#This Row],[Column11]]*_300A_FUNDING[[#This Row],[LOW BIDDER''S UNIT PRICE]]","v":0},{"$f":"_300A_FUNDING[[#This Row],[Column12]]*_300A_FUNDING[[#This Row],[LOW BIDDER''S UNIT PRICE]]","v":0},{"$f":"_300A_FUNDING[[#This Row],[Column13]]*_300A_FUNDING[[#This Row],[LOW BIDDER''S UNIT PRICE]]","v":0},{"$f":"_300A_FUNDING[[#This Row],[Column14]]*_300A_FUNDING[[#This Row],[LOW BIDDER''S UNIT PRICE]]","v":0}]
[null,null,null,null,null,null,null,null,null,null,null,null,null,null,null,null,0,{"$f":"_300A_FUNDING[[#This Row],[Column5]]*_300A_FUNDING[[#This Row],[LOW BIDDER''S UNIT PRICE]]","v":0},{"$f":"_300A_FUNDING[[#This Row],[Column6]]*_300A_FUNDING[[#This Row],[LOW BIDDER''S UNIT PRICE]]","v":0},{"$f":"_300A_FUNDING[[#This Row],[Column7]]*_300A_FUNDING[[#This Row],[LOW BIDDER''S UNIT PRICE]]","v":0},{"$f":"_300A_FUNDING[[#This Row],[Column8]]*_300A_FUNDING[[#This Row],[LOW BIDDER''S UNIT PRICE]]","v":0},{"$f":"_300A_FUNDING[[#This Row],[Column9]]*_300A_FUNDING[[#This Row],[LOW BIDDER''S UNIT PRICE]]","v":0},{"$f":"_300A_FUNDING[[#This Row],[Column10]]*_300A_FUNDING[[#This Row],[LOW BIDDER''S UNIT PRICE]]","v":0},{"$f":"_300A_FUNDING[[#This Row],[Column11]]*_300A_FUNDING[[#This Row],[LOW BIDDER''S UNIT PRICE]]","v":0},{"$f":"_300A_FUNDING[[#This Row],[Column12]]*_300A_FUNDING[[#This Row],[LOW BIDDER''S UNIT PRICE]]","v":0},{"$f":"_300A_FUNDING[[#This Row],[Column13]]*_300A_FUNDING[[#This Row],[LOW BIDDER''S UNIT PRICE]]","v":0},{"$f":"_300A_FUNDING[[#This Row],[Column14]]*_300A_FUNDING[[#This Row],[LOW BIDDER''S UNIT PRICE]]","v":0}]
[null,null,null,null,null,null,null,null,null,null,null,null,null,null,null,null,0,{"$f":"_300A_FUNDING[[#This Row],[Column5]]*_300A_FUNDING[[#This Row],[LOW BIDDER''S UNIT PRICE]]","v":0},{"$f":"_300A_FUNDING[[#This Row],[Column6]]*_300A_FUNDING[[#This Row],[LOW BIDDER''S UNIT PRICE]]","v":0},{"$f":"_300A_FUNDING[[#This Row],[Column7]]*_300A_FUNDING[[#This Row],[LOW BIDDER''S UNIT PRICE]]","v":0},{"$f":"_300A_FUNDING[[#This Row],[Column8]]*_300A_FUNDING[[#This Row],[LOW BIDDER''S UNIT PRICE]]","v":0},{"$f":"_300A_FUNDING[[#This Row],[Column9]]*_300A_FUNDING[[#This Row],[LOW BIDDER''S UNIT PRICE]]","v":0},{"$f":"_300A_FUNDING[[#This Row],[Column10]]*_300A_FUNDING[[#This Row],[LOW BIDDER''S UNIT PRICE]]","v":0},{"$f":"_300A_FUNDING[[#This Row],[Column11]]*_300A_FUNDING[[#This Row],[LOW BIDDER''S UNIT PRICE]]","v":0},{"$f":"_300A_FUNDING[[#This Row],[Column12]]*_300A_FUNDING[[#This Row],[LOW BIDDER''S UNIT PRICE]]","v":0},{"$f":"_300A_FUNDING[[#This Row],[Column13]]*_300A_FUNDING[[#This Row],[LOW BIDDER''S UNIT PRICE]]","v":0},{"$f":"_300A_FUNDING[[#This Row],[Column14]]*_300A_FUNDING[[#This Row],[LOW BIDDER''S UNIT PRICE]]","v":0}]
[null,null,null,null,null,null,null,null,null,null,null,null,null,null,null,null,0,{"$f":"_300A_FUNDING[[#This Row],[Column5]]*_300A_FUNDING[[#This Row],[LOW BIDDER''S UNIT PRICE]]","v":0},{"$f":"_300A_FUNDING[[#This Row],[Column6]]*_300A_FUNDING[[#This Row],[LOW BIDDER''S UNIT PRICE]]","v":0},{"$f":"_300A_FUNDING[[#This Row],[Column7]]*_300A_FUNDING[[#This Row],[LOW BIDDER''S UNIT PRICE]]","v":0},{"$f":"_300A_FUNDING[[#This Row],[Column8]]*_300A_FUNDING[[#This Row],[LOW BIDDER''S UNIT PRICE]]","v":0},{"$f":"_300A_FUNDING[[#This Row],[Column9]]*_300A_FUNDING[[#This Row],[LOW BIDDER''S UNIT PRICE]]","v":0},{"$f":"_300A_FUNDING[[#This Row],[Column10]]*_300A_FUNDING[[#This Row],[LOW BIDDER''S UNIT PRICE]]","v":0},{"$f":"_300A_FUNDING[[#This Row],[Column11]]*_300A_FUNDING[[#This Row],[LOW BIDDER''S UNIT PRICE]]","v":0},{"$f":"_300A_FUNDING[[#This Row],[Column12]]*_300A_FUNDING[[#This Row],[LOW BIDDER''S UNIT PRICE]]","v":0},{"$f":"_300A_FUNDING[[#This Row],[Column13]]*_300A_FUNDING[[#This Row],[LOW BIDDER''S UNIT PRICE]]","v":0},{"$f":"_300A_FUNDING[[#This Row],[Column14]]*_300A_FUNDING[[#This Row],[LOW BIDDER''S UNIT PRICE]]","v":0}]
[null,null,null,null,null,null,null,null,null,null,null,null,null,null,null,null,0,{"$f":"_300A_FUNDING[[#This Row],[Column5]]*_300A_FUNDING[[#This Row],[LOW BIDDER''S UNIT PRICE]]","v":0},{"$f":"_300A_FUNDING[[#This Row],[Column6]]*_300A_FUNDING[[#This Row],[LOW BIDDER''S UNIT PRICE]]","v":0},{"$f":"_300A_FUNDING[[#This Row],[Column7]]*_300A_FUNDING[[#This Row],[LOW BIDDER''S UNIT PRICE]]","v":0},{"$f":"_300A_FUNDING[[#This Row],[Column8]]*_300A_FUNDING[[#This Row],[LOW BIDDER''S UNIT PRICE]]","v":0},{"$f":"_300A_FUNDING[[#This Row],[Column9]]*_300A_FUNDING[[#This Row],[LOW BIDDER''S UNIT PRICE]]","v":0},{"$f":"_300A_FUNDING[[#This Row],[Column10]]*_300A_FUNDING[[#This Row],[LOW BIDDER''S UNIT PRICE]]","v":0},{"$f":"_300A_FUNDING[[#This Row],[Column11]]*_300A_FUNDING[[#This Row],[LOW BIDDER''S UNIT PRICE]]","v":0},{"$f":"_300A_FUNDING[[#This Row],[Column12]]*_300A_FUNDING[[#This Row],[LOW BIDDER''S UNIT PRICE]]","v":0},{"$f":"_300A_FUNDING[[#This Row],[Column13]]*_300A_FUNDING[[#This Row],[LOW BIDDER''S UNIT PRICE]]","v":0},{"$f":"_300A_FUNDING[[#This Row],[Column14]]*_300A_FUNDING[[#This Row],[LOW BIDDER''S UNIT PRICE]]","v":0}]
[null,null,null,null,null,null,null,null,null,null,null,null,null,null,null,null,0,{"$f":"_300A_FUNDING[[#This Row],[Column5]]*_300A_FUNDING[[#This Row],[LOW BIDDER''S UNIT PRICE]]","v":0},{"$f":"_300A_FUNDING[[#This Row],[Column6]]*_300A_FUNDING[[#This Row],[LOW BIDDER''S UNIT PRICE]]","v":0},{"$f":"_300A_FUNDING[[#This Row],[Column7]]*_300A_FUNDING[[#This Row],[LOW BIDDER''S UNIT PRICE]]","v":0},{"$f":"_300A_FUNDING[[#This Row],[Column8]]*_300A_FUNDING[[#This Row],[LOW BIDDER''S UNIT PRICE]]","v":0},{"$f":"_300A_FUNDING[[#This Row],[Column9]]*_300A_FUNDING[[#This Row],[LOW BIDDER''S UNIT PRICE]]","v":0},{"$f":"_300A_FUNDING[[#This Row],[Column10]]*_300A_FUNDING[[#This Row],[LOW BIDDER''S UNIT PRICE]]","v":0},{"$f":"_300A_FUNDING[[#This Row],[Column11]]*_300A_FUNDING[[#This Row],[LOW BIDDER''S UNIT PRICE]]","v":0},{"$f":"_300A_FUNDING[[#This Row],[Column12]]*_300A_FUNDING[[#This Row],[LOW BIDDER''S UNIT PRICE]]","v":0},{"$f":"_300A_FUNDING[[#This Row],[Column13]]*_300A_FUNDING[[#This Row],[LOW BIDDER''S UNIT PRICE]]","v":0},{"$f":"_300A_FUNDING[[#This Row],[Column14]]*_300A_FUNDING[[#This Row],[LOW BIDDER''S UNIT PRICE]]","v":0}]
[null,null,null,null,null,null,null,null,null,null,null,null,null,null,null,null,0,{"$f":"_300A_FUNDING[[#This Row],[Column5]]*_300A_FUNDING[[#This Row],[LOW BIDDER''S UNIT PRICE]]","v":0},{"$f":"_300A_FUNDING[[#This Row],[Column6]]*_300A_FUNDING[[#This Row],[LOW BIDDER''S UNIT PRICE]]","v":0},{"$f":"_300A_FUNDING[[#This Row],[Column7]]*_300A_FUNDING[[#This Row],[LOW BIDDER''S UNIT PRICE]]","v":0},{"$f":"_300A_FUNDING[[#This Row],[Column8]]*_300A_FUNDING[[#This Row],[LOW BIDDER''S UNIT PRICE]]","v":0},{"$f":"_300A_FUNDING[[#This Row],[Column9]]*_300A_FUNDING[[#This Row],[LOW BIDDER''S UNIT PRICE]]","v":0},{"$f":"_300A_FUNDING[[#This Row],[Column10]]*_300A_FUNDING[[#This Row],[LOW BIDDER''S UNIT PRICE]]","v":0},{"$f":"_300A_FUNDING[[#This Row],[Column11]]*_300A_FUNDING[[#This Row],[LOW BIDDER''S UNIT PRICE]]","v":0},{"$f":"_300A_FUNDING[[#This Row],[Column12]]*_300A_FUNDING[[#This Row],[LOW BIDDER''S UNIT PRICE]]","v":0},{"$f":"_300A_FUNDING[[#This Row],[Column13]]*_300A_FUNDING[[#This Row],[LOW BIDDER''S UNIT PRICE]]","v":0},{"$f":"_300A_FUNDING[[#This Row],[Column14]]*_300A_FUNDING[[#This Row],[LOW BIDDER''S UNIT PRICE]]","v":0}]
[null,null,null,null,null,null,null,null,null,null,null,null,null,null,null,null,0,{"$f":"_300A_FUNDING[[#This Row],[Column5]]*_300A_FUNDING[[#This Row],[LOW BIDDER''S UNIT PRICE]]","v":0},{"$f":"_300A_FUNDING[[#This Row],[Column6]]*_300A_FUNDING[[#This Row],[LOW BIDDER''S UNIT PRICE]]","v":0},{"$f":"_300A_FUNDING[[#This Row],[Column7]]*_300A_FUNDING[[#This Row],[LOW BIDDER''S UNIT PRICE]]","v":0},{"$f":"_300A_FUNDING[[#This Row],[Column8]]*_300A_FUNDING[[#This Row],[LOW BIDDER''S UNIT PRICE]]","v":0},{"$f":"_300A_FUNDING[[#This Row],[Column9]]*_300A_FUNDING[[#This Row],[LOW BIDDER''S UNIT PRICE]]","v":0},{"$f":"_300A_FUNDING[[#This Row],[Column10]]*_300A_FUNDING[[#This Row],[LOW BIDDER''S UNIT PRICE]]","v":0},{"$f":"_300A_FUNDING[[#This Row],[Column11]]*_300A_FUNDING[[#This Row],[LOW BIDDER''S UNIT PRICE]]","v":0},{"$f":"_300A_FUNDING[[#This Row],[Column12]]*_300A_FUNDING[[#This Row],[LOW BIDDER''S UNIT PRICE]]","v":0},{"$f":"_300A_FUNDING[[#This Row],[Column13]]*_300A_FUNDING[[#This Row],[LOW BIDDER''S UNIT PRICE]]","v":0},{"$f":"_300A_FUNDING[[#This Row],[Column14]]*_300A_FUNDING[[#This Row],[LOW BIDDER''S UNIT PRICE]]","v":0}]
[null,null,null,null,null,null,null,null,null,null,null,null,null,null,null,null,0,{"$f":"_300A_FUNDING[[#This Row],[Column5]]*_300A_FUNDING[[#This Row],[LOW BIDDER''S UNIT PRICE]]","v":0},{"$f":"_300A_FUNDING[[#This Row],[Column6]]*_300A_FUNDING[[#This Row],[LOW BIDDER''S UNIT PRICE]]","v":0},{"$f":"_300A_FUNDING[[#This Row],[Column7]]*_300A_FUNDING[[#This Row],[LOW BIDDER''S UNIT PRICE]]","v":0},{"$f":"_300A_FUNDING[[#This Row],[Column8]]*_300A_FUNDING[[#This Row],[LOW BIDDER''S UNIT PRICE]]","v":0},{"$f":"_300A_FUNDING[[#This Row],[Column9]]*_300A_FUNDING[[#This Row],[LOW BIDDER''S UNIT PRICE]]","v":0},{"$f":"_300A_FUNDING[[#This Row],[Column10]]*_300A_FUNDING[[#This Row],[LOW BIDDER''S UNIT PRICE]]","v":0},{"$f":"_300A_FUNDING[[#This Row],[Column11]]*_300A_FUNDING[[#This Row],[LOW BIDDER''S UNIT PRICE]]","v":0},{"$f":"_300A_FUNDING[[#This Row],[Column12]]*_300A_FUNDING[[#This Row],[LOW BIDDER''S UNIT PRICE]]","v":0},{"$f":"_300A_FUNDING[[#This Row],[Column13]]*_300A_FUNDING[[#This Row],[LOW BIDDER''S UNIT PRICE]]","v":0},{"$f":"_300A_FUNDING[[#This Row],[Column14]]*_300A_FUNDING[[#This Row],[LOW BIDDER''S UNIT PRICE]]","v":0}]
[null,null,null,null,null,null,null,null,null,null,null,null,null,null,null,null,0,{"$f":"_300A_FUNDING[[#This Row],[Column5]]*_300A_FUNDING[[#This Row],[LOW BIDDER''S UNIT PRICE]]","v":0},{"$f":"_300A_FUNDING[[#This Row],[Column6]]*_300A_FUNDING[[#This Row],[LOW BIDDER''S UNIT PRICE]]","v":0},{"$f":"_300A_FUNDING[[#This Row],[Column7]]*_300A_FUNDING[[#This Row],[LOW BIDDER''S UNIT PRICE]]","v":0},{"$f":"_300A_FUNDING[[#This Row],[Column8]]*_300A_FUNDING[[#This Row],[LOW BIDDER''S UNIT PRICE]]","v":0},{"$f":"_300A_FUNDING[[#This Row],[Column9]]*_300A_FUNDING[[#This Row],[LOW BIDDER''S UNIT PRICE]]","v":0},{"$f":"_300A_FUNDING[[#This Row],[Column10]]*_300A_FUNDING[[#This Row],[LOW BIDDER''S UNIT PRICE]]","v":0},{"$f":"_300A_FUNDING[[#This Row],[Column11]]*_300A_FUNDING[[#This Row],[LOW BIDDER''S UNIT PRICE]]","v":0},{"$f":"_300A_FUNDING[[#This Row],[Column12]]*_300A_FUNDING[[#This Row],[LOW BIDDER''S UNIT PRICE]]","v":0},{"$f":"_300A_FUNDING[[#This Row],[Column13]]*_300A_FUNDING[[#This Row],[LOW BIDDER''S UNIT PRICE]]","v":0},{"$f":"_300A_FUNDING[[#This Row],[Column14]]*_300A_FUNDING[[#This Row],[LOW BIDDER''S UNIT PRICE]]","v":0}]
[null,null,null,null,null,null,null,null,null,null,null,null,null,null,null,null,0,{"$f":"_300A_FUNDING[[#This Row],[Column5]]*_300A_FUNDING[[#This Row],[LOW BIDDER''S UNIT PRICE]]","v":0},{"$f":"_300A_FUNDING[[#This Row],[Column6]]*_300A_FUNDING[[#This Row],[LOW BIDDER''S UNIT PRICE]]","v":0},{"$f":"_300A_FUNDING[[#This Row],[Column7]]*_300A_FUNDING[[#This Row],[LOW BIDDER''S UNIT PRICE]]","v":0},{"$f":"_300A_FUNDING[[#This Row],[Column8]]*_300A_FUNDING[[#This Row],[LOW BIDDER''S UNIT PRICE]]","v":0},{"$f":"_300A_FUNDING[[#This Row],[Column9]]*_300A_FUNDING[[#This Row],[LOW BIDDER''S UNIT PRICE]]","v":0},{"$f":"_300A_FUNDING[[#This Row],[Column10]]*_300A_FUNDING[[#This Row],[LOW BIDDER''S UNIT PRICE]]","v":0},{"$f":"_300A_FUNDING[[#This Row],[Column11]]*_300A_FUNDING[[#This Row],[LOW BIDDER''S UNIT PRICE]]","v":0},{"$f":"_300A_FUNDING[[#This Row],[Column12]]*_300A_FUNDING[[#This Row],[LOW BIDDER''S UNIT PRICE]]","v":0},{"$f":"_300A_FUNDING[[#This Row],[Column13]]*_300A_FUNDING[[#This Row],[LOW BIDDER''S UNIT PRICE]]","v":0},{"$f":"_300A_FUNDING[[#This Row],[Column14]]*_300A_FUNDING[[#This Row],[LOW BIDDER''S UNIT PRICE]]","v":0}]
[null,null,null,null,null,null,null,null,null,null,null,null,null,null,null,null,0,{"$f":"_300A_FUNDING[[#This Row],[Column5]]*_300A_FUNDING[[#This Row],[LOW BIDDER''S UNIT PRICE]]","v":0},{"$f":"_300A_FUNDING[[#This Row],[Column6]]*_300A_FUNDING[[#This Row],[LOW BIDDER''S UNIT PRICE]]","v":0},{"$f":"_300A_FUNDING[[#This Row],[Column7]]*_300A_FUNDING[[#This Row],[LOW BIDDER''S UNIT PRICE]]","v":0},{"$f":"_300A_FUNDING[[#This Row],[Column8]]*_300A_FUNDING[[#This Row],[LOW BIDDER''S UNIT PRICE]]","v":0},{"$f":"_300A_FUNDING[[#This Row],[Column9]]*_300A_FUNDING[[#This Row],[LOW BIDDER''S UNIT PRICE]]","v":0},{"$f":"_300A_FUNDING[[#This Row],[Column10]]*_300A_FUNDING[[#This Row],[LOW BIDDER''S UNIT PRICE]]","v":0},{"$f":"_300A_FUNDING[[#This Row],[Column11]]*_300A_FUNDING[[#This Row],[LOW BIDDER''S UNIT PRICE]]","v":0},{"$f":"_300A_FUNDING[[#This Row],[Column12]]*_300A_FUNDING[[#This Row],[LOW BIDDER''S UNIT PRICE]]","v":0},{"$f":"_300A_FUNDING[[#This Row],[Column13]]*_300A_FUNDING[[#This Row],[LOW BIDDER''S UNIT PRICE]]","v":0},{"$f":"_300A_FUNDING[[#This Row],[Column14]]*_300A_FUNDING[[#This Row],[LOW BIDDER''S UNIT PRICE]]","v":0}]
[null,null,null,null,null,null,null,null,null,null,null,null,null,null,null,null,0,{"$f":"_300A_FUNDING[[#This Row],[Column5]]*_300A_FUNDING[[#This Row],[LOW BIDDER''S UNIT PRICE]]","v":0},{"$f":"_300A_FUNDING[[#This Row],[Column6]]*_300A_FUNDING[[#This Row],[LOW BIDDER''S UNIT PRICE]]","v":0},{"$f":"_300A_FUNDING[[#This Row],[Column7]]*_300A_FUNDING[[#This Row],[LOW BIDDER''S UNIT PRICE]]","v":0},{"$f":"_300A_FUNDING[[#This Row],[Column8]]*_300A_FUNDING[[#This Row],[LOW BIDDER''S UNIT PRICE]]","v":0},{"$f":"_300A_FUNDING[[#This Row],[Column9]]*_300A_FUNDING[[#This Row],[LOW BIDDER''S UNIT PRICE]]","v":0},{"$f":"_300A_FUNDING[[#This Row],[Column10]]*_300A_FUNDING[[#This Row],[LOW BIDDER''S UNIT PRICE]]","v":0},{"$f":"_300A_FUNDING[[#This Row],[Column11]]*_300A_FUNDING[[#This Row],[LOW BIDDER''S UNIT PRICE]]","v":0},{"$f":"_300A_FUNDING[[#This Row],[Column12]]*_300A_FUNDING[[#This Row],[LOW BIDDER''S UNIT PRICE]]","v":0},{"$f":"_300A_FUNDING[[#This Row],[Column13]]*_300A_FUNDING[[#This Row],[LOW BIDDER''S UNIT PRICE]]","v":0},{"$f":"_300A_FUNDING[[#This Row],[Column14]]*_300A_FUNDING[[#This Row],[LOW BIDDER''S UNIT PRICE]]","v":0}]
[null,null,null,null,null,null,null,null,null,null,null,null,null,null,null,null,0,{"$f":"_300A_FUNDING[[#This Row],[Column5]]*_300A_FUNDING[[#This Row],[LOW BIDDER''S UNIT PRICE]]","v":0},{"$f":"_300A_FUNDING[[#This Row],[Column6]]*_300A_FUNDING[[#This Row],[LOW BIDDER''S UNIT PRICE]]","v":0},{"$f":"_300A_FUNDING[[#This Row],[Column7]]*_300A_FUNDING[[#This Row],[LOW BIDDER''S UNIT PRICE]]","v":0},{"$f":"_300A_FUNDING[[#This Row],[Column8]]*_300A_FUNDING[[#This Row],[LOW BIDDER''S UNIT PRICE]]","v":0},{"$f":"_300A_FUNDING[[#This Row],[Column9]]*_300A_FUNDING[[#This Row],[LOW BIDDER''S UNIT PRICE]]","v":0},{"$f":"_300A_FUNDING[[#This Row],[Column10]]*_300A_FUNDING[[#This Row],[LOW BIDDER''S UNIT PRICE]]","v":0},{"$f":"_300A_FUNDING[[#This Row],[Column11]]*_300A_FUNDING[[#This Row],[LOW BIDDER''S UNIT PRICE]]","v":0},{"$f":"_300A_FUNDING[[#This Row],[Column12]]*_300A_FUNDING[[#This Row],[LOW BIDDER''S UNIT PRICE]]","v":0},{"$f":"_300A_FUNDING[[#This Row],[Column13]]*_300A_FUNDING[[#This Row],[LOW BIDDER''S UNIT PRICE]]","v":0},{"$f":"_300A_FUNDING[[#This Row],[Column14]]*_300A_FUNDING[[#This Row],[LOW BIDDER''S UNIT PRICE]]","v":0}]
[null,null,null,null,null,null,null,null,null,null,null,null,null,null,null,null,0,{"$f":"_300A_FUNDING[[#This Row],[Column5]]*_300A_FUNDING[[#This Row],[LOW BIDDER''S UNIT PRICE]]","v":0},{"$f":"_300A_FUNDING[[#This Row],[Column6]]*_300A_FUNDING[[#This Row],[LOW BIDDER''S UNIT PRICE]]","v":0},{"$f":"_300A_FUNDING[[#This Row],[Column7]]*_300A_FUNDING[[#This Row],[LOW BIDDER''S UNIT PRICE]]","v":0},{"$f":"_300A_FUNDING[[#This Row],[Column8]]*_300A_FUNDING[[#This Row],[LOW BIDDER''S UNIT PRICE]]","v":0},{"$f":"_300A_FUNDING[[#This Row],[Column9]]*_300A_FUNDING[[#This Row],[LOW BIDDER''S UNIT PRICE]]","v":0},{"$f":"_300A_FUNDING[[#This Row],[Column10]]*_300A_FUNDING[[#This Row],[LOW BIDDER''S UNIT PRICE]]","v":0},{"$f":"_300A_FUNDING[[#This Row],[Column11]]*_300A_FUNDING[[#This Row],[LOW BIDDER''S UNIT PRICE]]","v":0},{"$f":"_300A_FUNDING[[#This Row],[Column12]]*_300A_FUNDING[[#This Row],[LOW BIDDER''S UNIT PRICE]]","v":0},{"$f":"_300A_FUNDING[[#This Row],[Column13]]*_300A_FUNDING[[#This Row],[LOW BIDDER''S UNIT PRICE]]","v":0},{"$f":"_300A_FUNDING[[#This Row],[Column14]]*_300A_FUNDING[[#This Row],[LOW BIDDER''S UNIT PRICE]]","v":0}]
[null,null,null,null,null,null,null,null,null,null,null,null,null,null,null,null,0,{"$f":"_300A_FUNDING[[#This Row],[Column5]]*_300A_FUNDING[[#This Row],[LOW BIDDER''S UNIT PRICE]]","v":0},{"$f":"_300A_FUNDING[[#This Row],[Column6]]*_300A_FUNDING[[#This Row],[LOW BIDDER''S UNIT PRICE]]","v":0},{"$f":"_300A_FUNDING[[#This Row],[Column7]]*_300A_FUNDING[[#This Row],[LOW BIDDER''S UNIT PRICE]]","v":0},{"$f":"_300A_FUNDING[[#This Row],[Column8]]*_300A_FUNDING[[#This Row],[LOW BIDDER''S UNIT PRICE]]","v":0},{"$f":"_300A_FUNDING[[#This Row],[Column9]]*_300A_FUNDING[[#This Row],[LOW BIDDER''S UNIT PRICE]]","v":0},{"$f":"_300A_FUNDING[[#This Row],[Column10]]*_300A_FUNDING[[#This Row],[LOW BIDDER''S UNIT PRICE]]","v":0},{"$f":"_300A_FUNDING[[#This Row],[Column11]]*_300A_FUNDING[[#This Row],[LOW BIDDER''S UNIT PRICE]]","v":0},{"$f":"_300A_FUNDING[[#This Row],[Column12]]*_300A_FUNDING[[#This Row],[LOW BIDDER''S UNIT PRICE]]","v":0},{"$f":"_300A_FUNDING[[#This Row],[Column13]]*_300A_FUNDING[[#This Row],[LOW BIDDER''S UNIT PRICE]]","v":0},{"$f":"_300A_FUNDING[[#This Row],[Column14]]*_300A_FUNDING[[#This Row],[LOW BIDDER''S UNIT PRICE]]","v":0}]
[null,null,null,null,null,null,null,null,null,null,null,null,null,null,null,null,0,{"$f":"_300A_FUNDING[[#This Row],[Column5]]*_300A_FUNDING[[#This Row],[LOW BIDDER''S UNIT PRICE]]","v":0},{"$f":"_300A_FUNDING[[#This Row],[Column6]]*_300A_FUNDING[[#This Row],[LOW BIDDER''S UNIT PRICE]]","v":0},{"$f":"_300A_FUNDING[[#This Row],[Column7]]*_300A_FUNDING[[#This Row],[LOW BIDDER''S UNIT PRICE]]","v":0},{"$f":"_300A_FUNDING[[#This Row],[Column8]]*_300A_FUNDING[[#This Row],[LOW BIDDER''S UNIT PRICE]]","v":0},{"$f":"_300A_FUNDING[[#This Row],[Column9]]*_300A_FUNDING[[#This Row],[LOW BIDDER''S UNIT PRICE]]","v":0},{"$f":"_300A_FUNDING[[#This Row],[Column10]]*_300A_FUNDING[[#This Row],[LOW BIDDER''S UNIT PRICE]]","v":0},{"$f":"_300A_FUNDING[[#This Row],[Column11]]*_300A_FUNDING[[#This Row],[LOW BIDDER''S UNIT PRICE]]","v":0},{"$f":"_300A_FUNDING[[#This Row],[Column12]]*_300A_FUNDING[[#This Row],[LOW BIDDER''S UNIT PRICE]]","v":0},{"$f":"_300A_FUNDING[[#This Row],[Column13]]*_300A_FUNDING[[#This Row],[LOW BIDDER''S UNIT PRICE]]","v":0},{"$f":"_300A_FUNDING[[#This Row],[Column14]]*_300A_FUNDING[[#This Row],[LOW BIDDER''S UNIT PRICE]]","v":0}]
[null,null,null,null,null,null,null,null,null,null,null,null,null,null,null,null,0,{"$f":"_300A_FUNDING[[#This Row],[Column5]]*_300A_FUNDING[[#This Row],[LOW BIDDER''S UNIT PRICE]]","v":0},{"$f":"_300A_FUNDING[[#This Row],[Column6]]*_300A_FUNDING[[#This Row],[LOW BIDDER''S UNIT PRICE]]","v":0},{"$f":"_300A_FUNDING[[#This Row],[Column7]]*_300A_FUNDING[[#This Row],[LOW BIDDER''S UNIT PRICE]]","v":0},{"$f":"_300A_FUNDING[[#This Row],[Column8]]*_300A_FUNDING[[#This Row],[LOW BIDDER''S UNIT PRICE]]","v":0},{"$f":"_300A_FUNDING[[#This Row],[Column9]]*_300A_FUNDING[[#This Row],[LOW BIDDER''S UNIT PRICE]]","v":0},{"$f":"_300A_FUNDING[[#This Row],[Column10]]*_300A_FUNDING[[#This Row],[LOW BIDDER''S UNIT PRICE]]","v":0},{"$f":"_300A_FUNDING[[#This Row],[Column11]]*_300A_FUNDING[[#This Row],[LOW BIDDER''S UNIT PRICE]]","v":0},{"$f":"_300A_FUNDING[[#This Row],[Column12]]*_300A_FUNDING[[#This Row],[LOW BIDDER''S UNIT PRICE]]","v":0},{"$f":"_300A_FUNDING[[#This Row],[Column13]]*_300A_FUNDING[[#This Row],[LOW BIDDER''S UNIT PRICE]]","v":0},{"$f":"_300A_FUNDING[[#This Row],[Column14]]*_300A_FUNDING[[#This Row],[LOW BIDDER''S UNIT PRICE]]","v":0}]
[null,null,null,null,null,null,null,null,null,null,null,null,null,null,null,null,0,{"$f":"_300A_FUNDING[[#This Row],[Column5]]*_300A_FUNDING[[#This Row],[LOW BIDDER''S UNIT PRICE]]","v":0},{"$f":"_300A_FUNDING[[#This Row],[Column6]]*_300A_FUNDING[[#This Row],[LOW BIDDER''S UNIT PRICE]]","v":0},{"$f":"_300A_FUNDING[[#This Row],[Column7]]*_300A_FUNDING[[#This Row],[LOW BIDDER''S UNIT PRICE]]","v":0},{"$f":"_300A_FUNDING[[#This Row],[Column8]]*_300A_FUNDING[[#This Row],[LOW BIDDER''S UNIT PRICE]]","v":0},{"$f":"_300A_FUNDING[[#This Row],[Column9]]*_300A_FUNDING[[#This Row],[LOW BIDDER''S UNIT PRICE]]","v":0},{"$f":"_300A_FUNDING[[#This Row],[Column10]]*_300A_FUNDING[[#This Row],[LOW BIDDER''S UNIT PRICE]]","v":0},{"$f":"_300A_FUNDING[[#This Row],[Column11]]*_300A_FUNDING[[#This Row],[LOW BIDDER''S UNIT PRICE]]","v":0},{"$f":"_300A_FUNDING[[#This Row],[Column12]]*_300A_FUNDING[[#This Row],[LOW BIDDER''S UNIT PRICE]]","v":0},{"$f":"_300A_FUNDING[[#This Row],[Column13]]*_300A_FUNDING[[#This Row],[LOW BIDDER''S UNIT PRICE]]","v":0},{"$f":"_300A_FUNDING[[#This Row],[Column14]]*_300A_FUNDING[[#This Row],[LOW BIDDER''S UNIT PRICE]]","v":0}]
[null,null,null,null,null,null,null,null,null,null,null,null,null,null,null,null,0,{"$f":"_300A_FUNDING[[#This Row],[Column5]]*_300A_FUNDING[[#This Row],[LOW BIDDER''S UNIT PRICE]]","v":0},{"$f":"_300A_FUNDING[[#This Row],[Column6]]*_300A_FUNDING[[#This Row],[LOW BIDDER''S UNIT PRICE]]","v":0},{"$f":"_300A_FUNDING[[#This Row],[Column7]]*_300A_FUNDING[[#This Row],[LOW BIDDER''S UNIT PRICE]]","v":0},{"$f":"_300A_FUNDING[[#This Row],[Column8]]*_300A_FUNDING[[#This Row],[LOW BIDDER''S UNIT PRICE]]","v":0},{"$f":"_300A_FUNDING[[#This Row],[Column9]]*_300A_FUNDING[[#This Row],[LOW BIDDER''S UNIT PRICE]]","v":0},{"$f":"_300A_FUNDING[[#This Row],[Column10]]*_300A_FUNDING[[#This Row],[LOW BIDDER''S UNIT PRICE]]","v":0},{"$f":"_300A_FUNDING[[#This Row],[Column11]]*_300A_FUNDING[[#This Row],[LOW BIDDER''S UNIT PRICE]]","v":0},{"$f":"_300A_FUNDING[[#This Row],[Column12]]*_300A_FUNDING[[#This Row],[LOW BIDDER''S UNIT PRICE]]","v":0},{"$f":"_300A_FUNDING[[#This Row],[Column13]]*_300A_FUNDING[[#This Row],[LOW BIDDER''S UNIT PRICE]]","v":0},{"$f":"_300A_FUNDING[[#This Row],[Column14]]*_300A_FUNDING[[#This Row],[LOW BIDDER''S UNIT PRICE]]","v":0}]
[null,null,null,null,null,null,null,null,null,null,null,null,null,null,null,null,0,{"$f":"_300A_FUNDING[[#This Row],[Column5]]*_300A_FUNDING[[#This Row],[LOW BIDDER''S UNIT PRICE]]","v":0},{"$f":"_300A_FUNDING[[#This Row],[Column6]]*_300A_FUNDING[[#This Row],[LOW BIDDER''S UNIT PRICE]]","v":0},{"$f":"_300A_FUNDING[[#This Row],[Column7]]*_300A_FUNDING[[#This Row],[LOW BIDDER''S UNIT PRICE]]","v":0},{"$f":"_300A_FUNDING[[#This Row],[Column8]]*_300A_FUNDING[[#This Row],[LOW BIDDER''S UNIT PRICE]]","v":0},{"$f":"_300A_FUNDING[[#This Row],[Column9]]*_300A_FUNDING[[#This Row],[LOW BIDDER''S UNIT PRICE]]","v":0},{"$f":"_300A_FUNDING[[#This Row],[Column10]]*_300A_FUNDING[[#This Row],[LOW BIDDER''S UNIT PRICE]]","v":0},{"$f":"_300A_FUNDING[[#This Row],[Column11]]*_300A_FUNDING[[#This Row],[LOW BIDDER''S UNIT PRICE]]","v":0},{"$f":"_300A_FUNDING[[#This Row],[Column12]]*_300A_FUNDING[[#This Row],[LOW BIDDER''S UNIT PRICE]]","v":0},{"$f":"_300A_FUNDING[[#This Row],[Column13]]*_300A_FUNDING[[#This Row],[LOW BIDDER''S UNIT PRICE]]","v":0},{"$f":"_300A_FUNDING[[#This Row],[Column14]]*_300A_FUNDING[[#This Row],[LOW BIDDER''S UNIT PRICE]]","v":0}]
[null,null,null,null,null,null,null,null,null,null,null,null,null,null,null,null,0,{"$f":"_300A_FUNDING[[#This Row],[Column5]]*_300A_FUNDING[[#This Row],[LOW BIDDER''S UNIT PRICE]]","v":0},{"$f":"_300A_FUNDING[[#This Row],[Column6]]*_300A_FUNDING[[#This Row],[LOW BIDDER''S UNIT PRICE]]","v":0},{"$f":"_300A_FUNDING[[#This Row],[Column7]]*_300A_FUNDING[[#This Row],[LOW BIDDER''S UNIT PRICE]]","v":0},{"$f":"_300A_FUNDING[[#This Row],[Column8]]*_300A_FUNDING[[#This Row],[LOW BIDDER''S UNIT PRICE]]","v":0},{"$f":"_300A_FUNDING[[#This Row],[Column9]]*_300A_FUNDING[[#This Row],[LOW BIDDER''S UNIT PRICE]]","v":0},{"$f":"_300A_FUNDING[[#This Row],[Column10]]*_300A_FUNDING[[#This Row],[LOW BIDDER''S UNIT PRICE]]","v":0},{"$f":"_300A_FUNDING[[#This Row],[Column11]]*_300A_FUNDING[[#This Row],[LOW BIDDER''S UNIT PRICE]]","v":0},{"$f":"_300A_FUNDING[[#This Row],[Column12]]*_300A_FUNDING[[#This Row],[LOW BIDDER''S UNIT PRICE]]","v":0},{"$f":"_300A_FUNDING[[#This Row],[Column13]]*_300A_FUNDING[[#This Row],[LOW BIDDER''S UNIT PRICE]]","v":0},{"$f":"_300A_FUNDING[[#This Row],[Column14]]*_300A_FUNDING[[#This Row],[LOW BIDDER''S UNIT PRICE]]","v":0}]
[null,null,null,null,null,null,null,null,null,null,null,null,null,null,null,null,0,{"$f":"_300A_FUNDING[[#This Row],[Column5]]*_300A_FUNDING[[#This Row],[LOW BIDDER''S UNIT PRICE]]","v":0},{"$f":"_300A_FUNDING[[#This Row],[Column6]]*_300A_FUNDING[[#This Row],[LOW BIDDER''S UNIT PRICE]]","v":0},{"$f":"_300A_FUNDING[[#This Row],[Column7]]*_300A_FUNDING[[#This Row],[LOW BIDDER''S UNIT PRICE]]","v":0},{"$f":"_300A_FUNDING[[#This Row],[Column8]]*_300A_FUNDING[[#This Row],[LOW BIDDER''S UNIT PRICE]]","v":0},{"$f":"_300A_FUNDING[[#This Row],[Column9]]*_300A_FUNDING[[#This Row],[LOW BIDDER''S UNIT PRICE]]","v":0},{"$f":"_300A_FUNDING[[#This Row],[Column10]]*_300A_FUNDING[[#This Row],[LOW BIDDER''S UNIT PRICE]]","v":0},{"$f":"_300A_FUNDING[[#This Row],[Column11]]*_300A_FUNDING[[#This Row],[LOW BIDDER''S UNIT PRICE]]","v":0},{"$f":"_300A_FUNDING[[#This Row],[Column12]]*_300A_FUNDING[[#This Row],[LOW BIDDER''S UNIT PRICE]]","v":0},{"$f":"_300A_FUNDING[[#This Row],[Column13]]*_300A_FUNDING[[#This Row],[LOW BIDDER''S UNIT PRICE]]","v":0},{"$f":"_300A_FUNDING[[#This Row],[Column14]]*_300A_FUNDING[[#This Row],[LOW BIDDER''S UNIT PRICE]]","v":0}]
[null,null,null,null,null,null,null,null,null,null,null,null,null,null,null,null,0,{"$f":"_300A_FUNDING[[#This Row],[Column5]]*_300A_FUNDING[[#This Row],[LOW BIDDER''S UNIT PRICE]]","v":0},{"$f":"_300A_FUNDING[[#This Row],[Column6]]*_300A_FUNDING[[#This Row],[LOW BIDDER''S UNIT PRICE]]","v":0},{"$f":"_300A_FUNDING[[#This Row],[Column7]]*_300A_FUNDING[[#This Row],[LOW BIDDER''S UNIT PRICE]]","v":0},{"$f":"_300A_FUNDING[[#This Row],[Column8]]*_300A_FUNDING[[#This Row],[LOW BIDDER''S UNIT PRICE]]","v":0},{"$f":"_300A_FUNDING[[#This Row],[Column9]]*_300A_FUNDING[[#This Row],[LOW BIDDER''S UNIT PRICE]]","v":0},{"$f":"_300A_FUNDING[[#This Row],[Column10]]*_300A_FUNDING[[#This Row],[LOW BIDDER''S UNIT PRICE]]","v":0},{"$f":"_300A_FUNDING[[#This Row],[Column11]]*_300A_FUNDING[[#This Row],[LOW BIDDER''S UNIT PRICE]]","v":0},{"$f":"_300A_FUNDING[[#This Row],[Column12]]*_300A_FUNDING[[#This Row],[LOW BIDDER''S UNIT PRICE]]","v":0},{"$f":"_300A_FUNDING[[#This Row],[Column13]]*_300A_FUNDING[[#This Row],[LOW BIDDER''S UNIT PRICE]]","v":0},{"$f":"_300A_FUNDING[[#This Row],[Column14]]*_300A_FUNDING[[#This Row],[LOW BIDDER''S UNIT PRICE]]","v":0}]
[null,null,null,null,null,null,null,null,null,null,null,null,null,null,null,null,0,{"$f":"_300A_FUNDING[[#This Row],[Column5]]*_300A_FUNDING[[#This Row],[LOW BIDDER''S UNIT PRICE]]","v":0},{"$f":"_300A_FUNDING[[#This Row],[Column6]]*_300A_FUNDING[[#This Row],[LOW BIDDER''S UNIT PRICE]]","v":0},{"$f":"_300A_FUNDING[[#This Row],[Column7]]*_300A_FUNDING[[#This Row],[LOW BIDDER''S UNIT PRICE]]","v":0},{"$f":"_300A_FUNDING[[#This Row],[Column8]]*_300A_FUNDING[[#This Row],[LOW BIDDER''S UNIT PRICE]]","v":0},{"$f":"_300A_FUNDING[[#This Row],[Column9]]*_300A_FUNDING[[#This Row],[LOW BIDDER''S UNIT PRICE]]","v":0},{"$f":"_300A_FUNDING[[#This Row],[Column10]]*_300A_FUNDING[[#This Row],[LOW BIDDER''S UNIT PRICE]]","v":0},{"$f":"_300A_FUNDING[[#This Row],[Column11]]*_300A_FUNDING[[#This Row],[LOW BIDDER''S UNIT PRICE]]","v":0},{"$f":"_300A_FUNDING[[#This Row],[Column12]]*_300A_FUNDING[[#This Row],[LOW BIDDER''S UNIT PRICE]]","v":0},{"$f":"_300A_FUNDING[[#This Row],[Column13]]*_300A_FUNDING[[#This Row],[LOW BIDDER''S UNIT PRICE]]","v":0},{"$f":"_300A_FUNDING[[#This Row],[Column14]]*_300A_FUNDING[[#This Row],[LOW BIDDER''S UNIT PRICE]]","v":0}]
[null,null,null,null,null,null,null,null,null,null,null,null,null,null,null,null,0,{"$f":"_300A_FUNDING[[#This Row],[Column5]]*_300A_FUNDING[[#This Row],[LOW BIDDER''S UNIT PRICE]]","v":0},{"$f":"_300A_FUNDING[[#This Row],[Column6]]*_300A_FUNDING[[#This Row],[LOW BIDDER''S UNIT PRICE]]","v":0},{"$f":"_300A_FUNDING[[#This Row],[Column7]]*_300A_FUNDING[[#This Row],[LOW BIDDER''S UNIT PRICE]]","v":0},{"$f":"_300A_FUNDING[[#This Row],[Column8]]*_300A_FUNDING[[#This Row],[LOW BIDDER''S UNIT PRICE]]","v":0},{"$f":"_300A_FUNDING[[#This Row],[Column9]]*_300A_FUNDING[[#This Row],[LOW BIDDER''S UNIT PRICE]]","v":0},{"$f":"_300A_FUNDING[[#This Row],[Column10]]*_300A_FUNDING[[#This Row],[LOW BIDDER''S UNIT PRICE]]","v":0},{"$f":"_300A_FUNDING[[#This Row],[Column11]]*_300A_FUNDING[[#This Row],[LOW BIDDER''S UNIT PRICE]]","v":0},{"$f":"_300A_FUNDING[[#This Row],[Column12]]*_300A_FUNDING[[#This Row],[LOW BIDDER''S UNIT PRICE]]","v":0},{"$f":"_300A_FUNDING[[#This Row],[Column13]]*_300A_FUNDING[[#This Row],[LOW BIDDER''S UNIT PRICE]]","v":0},{"$f":"_300A_FUNDING[[#This Row],[Column14]]*_300A_FUNDING[[#This Row],[LOW BIDDER''S UNIT PRICE]]","v":0}]
[null,null,null,null,null,null,null,null,null,null,null,null,null,null,null,null,0,{"$f":"_300A_FUNDING[[#This Row],[Column5]]*_300A_FUNDING[[#This Row],[LOW BIDDER''S UNIT PRICE]]","v":0},{"$f":"_300A_FUNDING[[#This Row],[Column6]]*_300A_FUNDING[[#This Row],[LOW BIDDER''S UNIT PRICE]]","v":0},{"$f":"_300A_FUNDING[[#This Row],[Column7]]*_300A_FUNDING[[#This Row],[LOW BIDDER''S UNIT PRICE]]","v":0},{"$f":"_300A_FUNDING[[#This Row],[Column8]]*_300A_FUNDING[[#This Row],[LOW BIDDER''S UNIT PRICE]]","v":0},{"$f":"_300A_FUNDING[[#This Row],[Column9]]*_300A_FUNDING[[#This Row],[LOW BIDDER''S UNIT PRICE]]","v":0},{"$f":"_300A_FUNDING[[#This Row],[Column10]]*_300A_FUNDING[[#This Row],[LOW BIDDER''S UNIT PRICE]]","v":0},{"$f":"_300A_FUNDING[[#This Row],[Column11]]*_300A_FUNDING[[#This Row],[LOW BIDDER''S UNIT PRICE]]","v":0},{"$f":"_300A_FUNDING[[#This Row],[Column12]]*_300A_FUNDING[[#This Row],[LOW BIDDER''S UNIT PRICE]]","v":0},{"$f":"_300A_FUNDING[[#This Row],[Column13]]*_300A_FUNDING[[#This Row],[LOW BIDDER''S UNIT PRICE]]","v":0},{"$f":"_300A_FUNDING[[#This Row],[Column14]]*_300A_FUNDING[[#This Row],[LOW BIDDER''S UNIT PRICE]]","v":0}]
[null,null,null,null,null,null,null,null,null,null,null,null,null,null,null,null,0,{"$f":"_300A_FUNDING[[#This Row],[Column5]]*_300A_FUNDING[[#This Row],[LOW BIDDER''S UNIT PRICE]]","v":0},{"$f":"_300A_FUNDING[[#This Row],[Column6]]*_300A_FUNDING[[#This Row],[LOW BIDDER''S UNIT PRICE]]","v":0},{"$f":"_300A_FUNDING[[#This Row],[Column7]]*_300A_FUNDING[[#This Row],[LOW BIDDER''S UNIT PRICE]]","v":0},{"$f":"_300A_FUNDING[[#This Row],[Column8]]*_300A_FUNDING[[#This Row],[LOW BIDDER''S UNIT PRICE]]","v":0},{"$f":"_300A_FUNDING[[#This Row],[Column9]]*_300A_FUNDING[[#This Row],[LOW BIDDER''S UNIT PRICE]]","v":0},{"$f":"_300A_FUNDING[[#This Row],[Column10]]*_300A_FUNDING[[#This Row],[LOW BIDDER''S UNIT PRICE]]","v":0},{"$f":"_300A_FUNDING[[#This Row],[Column11]]*_300A_FUNDING[[#This Row],[LOW BIDDER''S UNIT PRICE]]","v":0},{"$f":"_300A_FUNDING[[#This Row],[Column12]]*_300A_FUNDING[[#This Row],[LOW BIDDER''S UNIT PRICE]]","v":0},{"$f":"_300A_FUNDING[[#This Row],[Column13]]*_300A_FUNDING[[#This Row],[LOW BIDDER''S UNIT PRICE]]","v":0},{"$f":"_300A_FUNDING[[#This Row],[Column14]]*_300A_FUNDING[[#This Row],[LOW BIDDER''S UNIT PRICE]]","v":0}]
[null,null,null,null,null,null,null,null,null,null,null,null,null,null,null,null,0,{"$f":"_300A_FUNDING[[#This Row],[Column5]]*_300A_FUNDING[[#This Row],[LOW BIDDER''S UNIT PRICE]]","v":0},{"$f":"_300A_FUNDING[[#This Row],[Column6]]*_300A_FUNDING[[#This Row],[LOW BIDDER''S UNIT PRICE]]","v":0},{"$f":"_300A_FUNDING[[#This Row],[Column7]]*_300A_FUNDING[[#This Row],[LOW BIDDER''S UNIT PRICE]]","v":0},{"$f":"_300A_FUNDING[[#This Row],[Column8]]*_300A_FUNDING[[#This Row],[LOW BIDDER''S UNIT PRICE]]","v":0},{"$f":"_300A_FUNDING[[#This Row],[Column9]]*_300A_FUNDING[[#This Row],[LOW BIDDER''S UNIT PRICE]]","v":0},{"$f":"_300A_FUNDING[[#This Row],[Column10]]*_300A_FUNDING[[#This Row],[LOW BIDDER''S UNIT PRICE]]","v":0},{"$f":"_300A_FUNDING[[#This Row],[Column11]]*_300A_FUNDING[[#This Row],[LOW BIDDER''S UNIT PRICE]]","v":0},{"$f":"_300A_FUNDING[[#This Row],[Column12]]*_300A_FUNDING[[#This Row],[LOW BIDDER''S UNIT PRICE]]","v":0},{"$f":"_300A_FUNDING[[#This Row],[Column13]]*_300A_FUNDING[[#This Row],[LOW BIDDER''S UNIT PRICE]]","v":0},{"$f":"_300A_FUNDING[[#This Row],[Column14]]*_300A_FUNDING[[#This Row],[LOW BIDDER''S UNIT PRICE]]","v":0}]
[null,null,null,null,null,null,null,null,null,null,null,null,null,null,null,null,0,{"$f":"_300A_FUNDING[[#This Row],[Column5]]*_300A_FUNDING[[#This Row],[LOW BIDDER''S UNIT PRICE]]","v":0},{"$f":"_300A_FUNDING[[#This Row],[Column6]]*_300A_FUNDING[[#This Row],[LOW BIDDER''S UNIT PRICE]]","v":0},{"$f":"_300A_FUNDING[[#This Row],[Column7]]*_300A_FUNDING[[#This Row],[LOW BIDDER''S UNIT PRICE]]","v":0},{"$f":"_300A_FUNDING[[#This Row],[Column8]]*_300A_FUNDING[[#This Row],[LOW BIDDER''S UNIT PRICE]]","v":0},{"$f":"_300A_FUNDING[[#This Row],[Column9]]*_300A_FUNDING[[#This Row],[LOW BIDDER''S UNIT PRICE]]","v":0},{"$f":"_300A_FUNDING[[#This Row],[Column10]]*_300A_FUNDING[[#This Row],[LOW BIDDER''S UNIT PRICE]]","v":0},{"$f":"_300A_FUNDING[[#This Row],[Column11]]*_300A_FUNDING[[#This Row],[LOW BIDDER''S UNIT PRICE]]","v":0},{"$f":"_300A_FUNDING[[#This Row],[Column12]]*_300A_FUNDING[[#This Row],[LOW BIDDER''S UNIT PRICE]]","v":0},{"$f":"_300A_FUNDING[[#This Row],[Column13]]*_300A_FUNDING[[#This Row],[LOW BIDDER''S UNIT PRICE]]","v":0},{"$f":"_300A_FUNDING[[#This Row],[Column14]]*_300A_FUNDING[[#This Row],[LOW BIDDER''S UNIT PRICE]]","v":0}]
[null,null,null,null,null,null,null,null,null,null,null,null,null,null,null,null,0,{"$f":"_300A_FUNDING[[#This Row],[Column5]]*_300A_FUNDING[[#This Row],[LOW BIDDER''S UNIT PRICE]]","v":0},{"$f":"_300A_FUNDING[[#This Row],[Column6]]*_300A_FUNDING[[#This Row],[LOW BIDDER''S UNIT PRICE]]","v":0},{"$f":"_300A_FUNDING[[#This Row],[Column7]]*_300A_FUNDING[[#This Row],[LOW BIDDER''S UNIT PRICE]]","v":0},{"$f":"_300A_FUNDING[[#This Row],[Column8]]*_300A_FUNDING[[#This Row],[LOW BIDDER''S UNIT PRICE]]","v":0},{"$f":"_300A_FUNDING[[#This Row],[Column9]]*_300A_FUNDING[[#This Row],[LOW BIDDER''S UNIT PRICE]]","v":0},{"$f":"_300A_FUNDING[[#This Row],[Column10]]*_300A_FUNDING[[#This Row],[LOW BIDDER''S UNIT PRICE]]","v":0},{"$f":"_300A_FUNDING[[#This Row],[Column11]]*_300A_FUNDING[[#This Row],[LOW BIDDER''S UNIT PRICE]]","v":0},{"$f":"_300A_FUNDING[[#This Row],[Column12]]*_300A_FUNDING[[#This Row],[LOW BIDDER''S UNIT PRICE]]","v":0},{"$f":"_300A_FUNDING[[#This Row],[Column13]]*_300A_FUNDING[[#This Row],[LOW BIDDER''S UNIT PRICE]]","v":0},{"$f":"_300A_FUNDING[[#This Row],[Column14]]*_300A_FUNDING[[#This Row],[LOW BIDDER''S UNIT PRICE]]","v":0}]
[null,null,null,null,null,null,null,null,null,null,null,null,null,null,null,null,0,{"$f":"_300A_FUNDING[[#This Row],[Column5]]*_300A_FUNDING[[#This Row],[LOW BIDDER''S UNIT PRICE]]","v":0},{"$f":"_300A_FUNDING[[#This Row],[Column6]]*_300A_FUNDING[[#This Row],[LOW BIDDER''S UNIT PRICE]]","v":0},{"$f":"_300A_FUNDING[[#This Row],[Column7]]*_300A_FUNDING[[#This Row],[LOW BIDDER''S UNIT PRICE]]","v":0},{"$f":"_300A_FUNDING[[#This Row],[Column8]]*_300A_FUNDING[[#This Row],[LOW BIDDER''S UNIT PRICE]]","v":0},{"$f":"_300A_FUNDING[[#This Row],[Column9]]*_300A_FUNDING[[#This Row],[LOW BIDDER''S UNIT PRICE]]","v":0},{"$f":"_300A_FUNDING[[#This Row],[Column10]]*_300A_FUNDING[[#This Row],[LOW BIDDER''S UNIT PRICE]]","v":0},{"$f":"_300A_FUNDING[[#This Row],[Column11]]*_300A_FUNDING[[#This Row],[LOW BIDDER''S UNIT PRICE]]","v":0},{"$f":"_300A_FUNDING[[#This Row],[Column12]]*_300A_FUNDING[[#This Row],[LOW BIDDER''S UNIT PRICE]]","v":0},{"$f":"_300A_FUNDING[[#This Row],[Column13]]*_300A_FUNDING[[#This Row],[LOW BIDDER''S UNIT PRICE]]","v":0},{"$f":"_300A_FUNDING[[#This Row],[Column14]]*_300A_FUNDING[[#This Row],[LOW BIDDER''S UNIT PRICE]]","v":0}]
[null,null,null,null,null,null,null,null,null,null,null,null,null,null,null,null,0,{"$f":"_300A_FUNDING[[#This Row],[Column5]]*_300A_FUNDING[[#This Row],[LOW BIDDER''S UNIT PRICE]]","v":0},{"$f":"_300A_FUNDING[[#This Row],[Column6]]*_300A_FUNDING[[#This Row],[LOW BIDDER''S UNIT PRICE]]","v":0},{"$f":"_300A_FUNDING[[#This Row],[Column7]]*_300A_FUNDING[[#This Row],[LOW BIDDER''S UNIT PRICE]]","v":0},{"$f":"_300A_FUNDING[[#This Row],[Column8]]*_300A_FUNDING[[#This Row],[LOW BIDDER''S UNIT PRICE]]","v":0},{"$f":"_300A_FUNDING[[#This Row],[Column9]]*_300A_FUNDING[[#This Row],[LOW BIDDER''S UNIT PRICE]]","v":0},{"$f":"_300A_FUNDING[[#This Row],[Column10]]*_300A_FUNDING[[#This Row],[LOW BIDDER''S UNIT PRICE]]","v":0},{"$f":"_300A_FUNDING[[#This Row],[Column11]]*_300A_FUNDING[[#This Row],[LOW BIDDER''S UNIT PRICE]]","v":0},{"$f":"_300A_FUNDING[[#This Row],[Column12]]*_300A_FUNDING[[#This Row],[LOW BIDDER''S UNIT PRICE]]","v":0},{"$f":"_300A_FUNDING[[#This Row],[Column13]]*_300A_FUNDING[[#This Row],[LOW BIDDER''S UNIT PRICE]]","v":0},{"$f":"_300A_FUNDING[[#This Row],[Column14]]*_300A_FUNDING[[#This Row],[LOW BIDDER''S UNIT PRICE]]","v":0}]
[null,null,null,null,null,null,null,null,null,null,null,null,null,null,null,null,0,{"$f":"_300A_FUNDING[[#This Row],[Column5]]*_300A_FUNDING[[#This Row],[LOW BIDDER''S UNIT PRICE]]","v":0},{"$f":"_300A_FUNDING[[#This Row],[Column6]]*_300A_FUNDING[[#This Row],[LOW BIDDER''S UNIT PRICE]]","v":0},{"$f":"_300A_FUNDING[[#This Row],[Column7]]*_300A_FUNDING[[#This Row],[LOW BIDDER''S UNIT PRICE]]","v":0},{"$f":"_300A_FUNDING[[#This Row],[Column8]]*_300A_FUNDING[[#This Row],[LOW BIDDER''S UNIT PRICE]]","v":0},{"$f":"_300A_FUNDING[[#This Row],[Column9]]*_300A_FUNDING[[#This Row],[LOW BIDDER''S UNIT PRICE]]","v":0},{"$f":"_300A_FUNDING[[#This Row],[Column10]]*_300A_FUNDING[[#This Row],[LOW BIDDER''S UNIT PRICE]]","v":0},{"$f":"_300A_FUNDING[[#This Row],[Column11]]*_300A_FUNDING[[#This Row],[LOW BIDDER''S UNIT PRICE]]","v":0},{"$f":"_300A_FUNDING[[#This Row],[Column12]]*_300A_FUNDING[[#This Row],[LOW BIDDER''S UNIT PRICE]]","v":0},{"$f":"_300A_FUNDING[[#This Row],[Column13]]*_300A_FUNDING[[#This Row],[LOW BIDDER''S UNIT PRICE]]","v":0},{"$f":"_300A_FUNDING[[#This Row],[Column14]]*_300A_FUNDING[[#This Row],[LOW BIDDER''S UNIT PRICE]]","v":0}]
[null,null,null,null,null,null,null,null,null,null,null,null,null,null,null,null,0,{"$f":"_300A_FUNDING[[#This Row],[Column5]]*_300A_FUNDING[[#This Row],[LOW BIDDER''S UNIT PRICE]]","v":0},{"$f":"_300A_FUNDING[[#This Row],[Column6]]*_300A_FUNDING[[#This Row],[LOW BIDDER''S UNIT PRICE]]","v":0},{"$f":"_300A_FUNDING[[#This Row],[Column7]]*_300A_FUNDING[[#This Row],[LOW BIDDER''S UNIT PRICE]]","v":0},{"$f":"_300A_FUNDING[[#This Row],[Column8]]*_300A_FUNDING[[#This Row],[LOW BIDDER''S UNIT PRICE]]","v":0},{"$f":"_300A_FUNDING[[#This Row],[Column9]]*_300A_FUNDING[[#This Row],[LOW BIDDER''S UNIT PRICE]]","v":0},{"$f":"_300A_FUNDING[[#This Row],[Column10]]*_300A_FUNDING[[#This Row],[LOW BIDDER''S UNIT PRICE]]","v":0},{"$f":"_300A_FUNDING[[#This Row],[Column11]]*_300A_FUNDING[[#This Row],[LOW BIDDER''S UNIT PRICE]]","v":0},{"$f":"_300A_FUNDING[[#This Row],[Column12]]*_300A_FUNDING[[#This Row],[LOW BIDDER''S UNIT PRICE]]","v":0},{"$f":"_300A_FUNDING[[#This Row],[Column13]]*_300A_FUNDING[[#This Row],[LOW BIDDER''S UNIT PRICE]]","v":0},{"$f":"_300A_FUNDING[[#This Row],[Column14]]*_300A_FUNDING[[#This Row],[LOW BIDDER''S UNIT PRICE]]","v":0}]
[null,null,null,null,null,null,null,null,null,null,null,null,null,null,null,null,0,{"$f":"_300A_FUNDING[[#This Row],[Column5]]*_300A_FUNDING[[#This Row],[LOW BIDDER''S UNIT PRICE]]","v":0},{"$f":"_300A_FUNDING[[#This Row],[Column6]]*_300A_FUNDING[[#This Row],[LOW BIDDER''S UNIT PRICE]]","v":0},{"$f":"_300A_FUNDING[[#This Row],[Column7]]*_300A_FUNDING[[#This Row],[LOW BIDDER''S UNIT PRICE]]","v":0},{"$f":"_300A_FUNDING[[#This Row],[Column8]]*_300A_FUNDING[[#This Row],[LOW BIDDER''S UNIT PRICE]]","v":0},{"$f":"_300A_FUNDING[[#This Row],[Column9]]*_300A_FUNDING[[#This Row],[LOW BIDDER''S UNIT PRICE]]","v":0},{"$f":"_300A_FUNDING[[#This Row],[Column10]]*_300A_FUNDING[[#This Row],[LOW BIDDER''S UNIT PRICE]]","v":0},{"$f":"_300A_FUNDING[[#This Row],[Column11]]*_300A_FUNDING[[#This Row],[LOW BIDDER''S UNIT PRICE]]","v":0},{"$f":"_300A_FUNDING[[#This Row],[Column12]]*_300A_FUNDING[[#This Row],[LOW BIDDER''S UNIT PRICE]]","v":0},{"$f":"_300A_FUNDING[[#This Row],[Column13]]*_300A_FUNDING[[#This Row],[LOW BIDDER''S UNIT PRICE]]","v":0},{"$f":"_300A_FUNDING[[#This Row],[Column14]]*_300A_FUNDING[[#This Row],[LOW BIDDER''S UNIT PRICE]]","v":0}]
[null,null,null,null,null,null,null,null,null,null,null,null,null,null,null,null,0,{"$f":"_300A_FUNDING[[#This Row],[Column5]]*_300A_FUNDING[[#This Row],[LOW BIDDER''S UNIT PRICE]]","v":0},{"$f":"_300A_FUNDING[[#This Row],[Column6]]*_300A_FUNDING[[#This Row],[LOW BIDDER''S UNIT PRICE]]","v":0},{"$f":"_300A_FUNDING[[#This Row],[Column7]]*_300A_FUNDING[[#This Row],[LOW BIDDER''S UNIT PRICE]]","v":0},{"$f":"_300A_FUNDING[[#This Row],[Column8]]*_300A_FUNDING[[#This Row],[LOW BIDDER''S UNIT PRICE]]","v":0},{"$f":"_300A_FUNDING[[#This Row],[Column9]]*_300A_FUNDING[[#This Row],[LOW BIDDER''S UNIT PRICE]]","v":0},{"$f":"_300A_FUNDING[[#This Row],[Column10]]*_300A_FUNDING[[#This Row],[LOW BIDDER''S UNIT PRICE]]","v":0},{"$f":"_300A_FUNDING[[#This Row],[Column11]]*_300A_FUNDING[[#This Row],[LOW BIDDER''S UNIT PRICE]]","v":0},{"$f":"_300A_FUNDING[[#This Row],[Column12]]*_300A_FUNDING[[#This Row],[LOW BIDDER''S UNIT PRICE]]","v":0},{"$f":"_300A_FUNDING[[#This Row],[Column13]]*_300A_FUNDING[[#This Row],[LOW BIDDER''S UNIT PRICE]]","v":0},{"$f":"_300A_FUNDING[[#This Row],[Column14]]*_300A_FUNDING[[#This Row],[LOW BIDDER''S UNIT PRICE]]","v":0}]
[null,null,null,null,null,null,null,null,null,null,null,null,null,null,null,null,0,{"$f":"_300A_FUNDING[[#This Row],[Column5]]*_300A_FUNDING[[#This Row],[LOW BIDDER''S UNIT PRICE]]","v":0},{"$f":"_300A_FUNDING[[#This Row],[Column6]]*_300A_FUNDING[[#This Row],[LOW BIDDER''S UNIT PRICE]]","v":0},{"$f":"_300A_FUNDING[[#This Row],[Column7]]*_300A_FUNDING[[#This Row],[LOW BIDDER''S UNIT PRICE]]","v":0},{"$f":"_300A_FUNDING[[#This Row],[Column8]]*_300A_FUNDING[[#This Row],[LOW BIDDER''S UNIT PRICE]]","v":0},{"$f":"_300A_FUNDING[[#This Row],[Column9]]*_300A_FUNDING[[#This Row],[LOW BIDDER''S UNIT PRICE]]","v":0},{"$f":"_300A_FUNDING[[#This Row],[Column10]]*_300A_FUNDING[[#This Row],[LOW BIDDER''S UNIT PRICE]]","v":0},{"$f":"_300A_FUNDING[[#This Row],[Column11]]*_300A_FUNDING[[#This Row],[LOW BIDDER''S UNIT PRICE]]","v":0},{"$f":"_300A_FUNDING[[#This Row],[Column12]]*_300A_FUNDING[[#This Row],[LOW BIDDER''S UNIT PRICE]]","v":0},{"$f":"_300A_FUNDING[[#This Row],[Column13]]*_300A_FUNDING[[#This Row],[LOW BIDDER''S UNIT PRICE]]","v":0},{"$f":"_300A_FUNDING[[#This Row],[Column14]]*_300A_FUNDING[[#This Row],[LOW BIDDER''S UNIT PRICE]]","v":0}]
[null,null,null,null,null,null,null,null,null,null,null,null,null,null,null,null,0,{"$f":"_300A_FUNDING[[#This Row],[Column5]]*_300A_FUNDING[[#This Row],[LOW BIDDER''S UNIT PRICE]]","v":0},{"$f":"_300A_FUNDING[[#This Row],[Column6]]*_300A_FUNDING[[#This Row],[LOW BIDDER''S UNIT PRICE]]","v":0},{"$f":"_300A_FUNDING[[#This Row],[Column7]]*_300A_FUNDING[[#This Row],[LOW BIDDER''S UNIT PRICE]]","v":0},{"$f":"_300A_FUNDING[[#This Row],[Column8]]*_300A_FUNDING[[#This Row],[LOW BIDDER''S UNIT PRICE]]","v":0},{"$f":"_300A_FUNDING[[#This Row],[Column9]]*_300A_FUNDING[[#This Row],[LOW BIDDER''S UNIT PRICE]]","v":0},{"$f":"_300A_FUNDING[[#This Row],[Column10]]*_300A_FUNDING[[#This Row],[LOW BIDDER''S UNIT PRICE]]","v":0},{"$f":"_300A_FUNDING[[#This Row],[Column11]]*_300A_FUNDING[[#This Row],[LOW BIDDER''S UNIT PRICE]]","v":0},{"$f":"_300A_FUNDING[[#This Row],[Column12]]*_300A_FUNDING[[#This Row],[LOW BIDDER''S UNIT PRICE]]","v":0},{"$f":"_300A_FUNDING[[#This Row],[Column13]]*_300A_FUNDING[[#This Row],[LOW BIDDER''S UNIT PRICE]]","v":0},{"$f":"_300A_FUNDING[[#This Row],[Column14]]*_300A_FUNDING[[#This Row],[LOW BIDDER''S UNIT PRICE]]","v":0}]
[null,null,null,null,null,null,null,null,null,null,null,null,null,null,null,null,0,{"$f":"_300A_FUNDING[[#This Row],[Column5]]*_300A_FUNDING[[#This Row],[LOW BIDDER''S UNIT PRICE]]","v":0},{"$f":"_300A_FUNDING[[#This Row],[Column6]]*_300A_FUNDING[[#This Row],[LOW BIDDER''S UNIT PRICE]]","v":0},{"$f":"_300A_FUNDING[[#This Row],[Column7]]*_300A_FUNDING[[#This Row],[LOW BIDDER''S UNIT PRICE]]","v":0},{"$f":"_300A_FUNDING[[#This Row],[Column8]]*_300A_FUNDING[[#This Row],[LOW BIDDER''S UNIT PRICE]]","v":0},{"$f":"_300A_FUNDING[[#This Row],[Column9]]*_300A_FUNDING[[#This Row],[LOW BIDDER''S UNIT PRICE]]","v":0},{"$f":"_300A_FUNDING[[#This Row],[Column10]]*_300A_FUNDING[[#This Row],[LOW BIDDER''S UNIT PRICE]]","v":0},{"$f":"_300A_FUNDING[[#This Row],[Column11]]*_300A_FUNDING[[#This Row],[LOW BIDDER''S UNIT PRICE]]","v":0},{"$f":"_300A_FUNDING[[#This Row],[Column12]]*_300A_FUNDING[[#This Row],[LOW BIDDER''S UNIT PRICE]]","v":0},{"$f":"_300A_FUNDING[[#This Row],[Column13]]*_300A_FUNDING[[#This Row],[LOW BIDDER''S UNIT PRICE]]","v":0},{"$f":"_300A_FUNDING[[#This Row],[Column14]]*_300A_FUNDING[[#This Row],[LOW BIDDER''S UNIT PRICE]]","v":0}]
[null,null,null,null,null,null,null,null,null,null,null,null,null,null,null,null,0,{"$f":"_300A_FUNDING[[#This Row],[Column5]]*_300A_FUNDING[[#This Row],[LOW BIDDER''S UNIT PRICE]]","v":0},{"$f":"_300A_FUNDING[[#This Row],[Column6]]*_300A_FUNDING[[#This Row],[LOW BIDDER''S UNIT PRICE]]","v":0},{"$f":"_300A_FUNDING[[#This Row],[Column7]]*_300A_FUNDING[[#This Row],[LOW BIDDER''S UNIT PRICE]]","v":0},{"$f":"_300A_FUNDING[[#This Row],[Column8]]*_300A_FUNDING[[#This Row],[LOW BIDDER''S UNIT PRICE]]","v":0},{"$f":"_300A_FUNDING[[#This Row],[Column9]]*_300A_FUNDING[[#This Row],[LOW BIDDER''S UNIT PRICE]]","v":0},{"$f":"_300A_FUNDING[[#This Row],[Column10]]*_300A_FUNDING[[#This Row],[LOW BIDDER''S UNIT PRICE]]","v":0},{"$f":"_300A_FUNDING[[#This Row],[Column11]]*_300A_FUNDING[[#This Row],[LOW BIDDER''S UNIT PRICE]]","v":0},{"$f":"_300A_FUNDING[[#This Row],[Column12]]*_300A_FUNDING[[#This Row],[LOW BIDDER''S UNIT PRICE]]","v":0},{"$f":"_300A_FUNDING[[#This Row],[Column13]]*_300A_FUNDING[[#This Row],[LOW BIDDER''S UNIT PRICE]]","v":0},{"$f":"_300A_FUNDING[[#This Row],[Column14]]*_300A_FUNDING[[#This Row],[LOW BIDDER''S UNIT PRICE]]","v":0}]
[null,null,null,null,null,null,null,null,null,null,null,null,null,null,null,null,0,{"$f":"_300A_FUNDING[[#This Row],[Column5]]*_300A_FUNDING[[#This Row],[LOW BIDDER''S UNIT PRICE]]","v":0},{"$f":"_300A_FUNDING[[#This Row],[Column6]]*_300A_FUNDING[[#This Row],[LOW BIDDER''S UNIT PRICE]]","v":0},{"$f":"_300A_FUNDING[[#This Row],[Column7]]*_300A_FUNDING[[#This Row],[LOW BIDDER''S UNIT PRICE]]","v":0},{"$f":"_300A_FUNDING[[#This Row],[Column8]]*_300A_FUNDING[[#This Row],[LOW BIDDER''S UNIT PRICE]]","v":0},{"$f":"_300A_FUNDING[[#This Row],[Column9]]*_300A_FUNDING[[#This Row],[LOW BIDDER''S UNIT PRICE]]","v":0},{"$f":"_300A_FUNDING[[#This Row],[Column10]]*_300A_FUNDING[[#This Row],[LOW BIDDER''S UNIT PRICE]]","v":0},{"$f":"_300A_FUNDING[[#This Row],[Column11]]*_300A_FUNDING[[#This Row],[LOW BIDDER''S UNIT PRICE]]","v":0},{"$f":"_300A_FUNDING[[#This Row],[Column12]]*_300A_FUNDING[[#This Row],[LOW BIDDER''S UNIT PRICE]]","v":0},{"$f":"_300A_FUNDING[[#This Row],[Column13]]*_300A_FUNDING[[#This Row],[LOW BIDDER''S UNIT PRICE]]","v":0},{"$f":"_300A_FUNDING[[#This Row],[Column14]]*_300A_FUNDING[[#This Row],[LOW BIDDER''S UNIT PRICE]]","v":0}]
[null,null,null,null,null,null,null,null,null,null,null,null,null,null,null,null,0,{"$f":"_300A_FUNDING[[#This Row],[Column5]]*_300A_FUNDING[[#This Row],[LOW BIDDER''S UNIT PRICE]]","v":0},{"$f":"_300A_FUNDING[[#This Row],[Column6]]*_300A_FUNDING[[#This Row],[LOW BIDDER''S UNIT PRICE]]","v":0},{"$f":"_300A_FUNDING[[#This Row],[Column7]]*_300A_FUNDING[[#This Row],[LOW BIDDER''S UNIT PRICE]]","v":0},{"$f":"_300A_FUNDING[[#This Row],[Column8]]*_300A_FUNDING[[#This Row],[LOW BIDDER''S UNIT PRICE]]","v":0},{"$f":"_300A_FUNDING[[#This Row],[Column9]]*_300A_FUNDING[[#This Row],[LOW BIDDER''S UNIT PRICE]]","v":0},{"$f":"_300A_FUNDING[[#This Row],[Column10]]*_300A_FUNDING[[#This Row],[LOW BIDDER''S UNIT PRICE]]","v":0},{"$f":"_300A_FUNDING[[#This Row],[Column11]]*_300A_FUNDING[[#This Row],[LOW BIDDER''S UNIT PRICE]]","v":0},{"$f":"_300A_FUNDING[[#This Row],[Column12]]*_300A_FUNDING[[#This Row],[LOW BIDDER''S UNIT PRICE]]","v":0},{"$f":"_300A_FUNDING[[#This Row],[Column13]]*_300A_FUNDING[[#This Row],[LOW BIDDER''S UNIT PRICE]]","v":0},{"$f":"_300A_FUNDING[[#This Row],[Column14]]*_300A_FUNDING[[#This Row],[LOW BIDDER''S UNIT PRICE]]","v":0}]
[null,null,null,null,null,null,null,null,null,null,null,null,null,null,null,null,0,{"$f":"_300A_FUNDING[[#This Row],[Column5]]*_300A_FUNDING[[#This Row],[LOW BIDDER''S UNIT PRICE]]","v":0},{"$f":"_300A_FUNDING[[#This Row],[Column6]]*_300A_FUNDING[[#This Row],[LOW BIDDER''S UNIT PRICE]]","v":0},{"$f":"_300A_FUNDING[[#This Row],[Column7]]*_300A_FUNDING[[#This Row],[LOW BIDDER''S UNIT PRICE]]","v":0},{"$f":"_300A_FUNDING[[#This Row],[Column8]]*_300A_FUNDING[[#This Row],[LOW BIDDER''S UNIT PRICE]]","v":0},{"$f":"_300A_FUNDING[[#This Row],[Column9]]*_300A_FUNDING[[#This Row],[LOW BIDDER''S UNIT PRICE]]","v":0},{"$f":"_300A_FUNDING[[#This Row],[Column10]]*_300A_FUNDING[[#This Row],[LOW BIDDER''S UNIT PRICE]]","v":0},{"$f":"_300A_FUNDING[[#This Row],[Column11]]*_300A_FUNDING[[#This Row],[LOW BIDDER''S UNIT PRICE]]","v":0},{"$f":"_300A_FUNDING[[#This Row],[Column12]]*_300A_FUNDING[[#This Row],[LOW BIDDER''S UNIT PRICE]]","v":0},{"$f":"_300A_FUNDING[[#This Row],[Column13]]*_300A_FUNDING[[#This Row],[LOW BIDDER''S UNIT PRICE]]","v":0},{"$f":"_300A_FUNDING[[#This Row],[Column14]]*_300A_FUNDING[[#This Row],[LOW BIDDER''S UNIT PRICE]]","v":0}]
[null,null,null,null,null,null,null,null,null,null,null,null,null,null,null,null,0,{"$f":"_300A_FUNDING[[#This Row],[Column5]]*_300A_FUNDING[[#This Row],[LOW BIDDER''S UNIT PRICE]]","v":0},{"$f":"_300A_FUNDING[[#This Row],[Column6]]*_300A_FUNDING[[#This Row],[LOW BIDDER''S UNIT PRICE]]","v":0},{"$f":"_300A_FUNDING[[#This Row],[Column7]]*_300A_FUNDING[[#This Row],[LOW BIDDER''S UNIT PRICE]]","v":0},{"$f":"_300A_FUNDING[[#This Row],[Column8]]*_300A_FUNDING[[#This Row],[LOW BIDDER''S UNIT PRICE]]","v":0},{"$f":"_300A_FUNDING[[#This Row],[Column9]]*_300A_FUNDING[[#This Row],[LOW BIDDER''S UNIT PRICE]]","v":0},{"$f":"_300A_FUNDING[[#This Row],[Column10]]*_300A_FUNDING[[#This Row],[LOW BIDDER''S UNIT PRICE]]","v":0},{"$f":"_300A_FUNDING[[#This Row],[Column11]]*_300A_FUNDING[[#This Row],[LOW BIDDER''S UNIT PRICE]]","v":0},{"$f":"_300A_FUNDING[[#This Row],[Column12]]*_300A_FUNDING[[#This Row],[LOW BIDDER''S UNIT PRICE]]","v":0},{"$f":"_300A_FUNDING[[#This Row],[Column13]]*_300A_FUNDING[[#This Row],[LOW BIDDER''S UNIT PRICE]]","v":0},{"$f":"_300A_FUNDING[[#This Row],[Column14]]*_300A_FUNDING[[#This Row],[LOW BIDDER''S UNIT PRICE]]","v":0}]
[null,null,null,null,null,null,null,null,null,null,null,null,null,null,null,null,0,{"$f":"_300A_FUNDING[[#This Row],[Column5]]*_300A_FUNDING[[#This Row],[LOW BIDDER''S UNIT PRICE]]","v":0},{"$f":"_300A_FUNDING[[#This Row],[Column6]]*_300A_FUNDING[[#This Row],[LOW BIDDER''S UNIT PRICE]]","v":0},{"$f":"_300A_FUNDING[[#This Row],[Column7]]*_300A_FUNDING[[#This Row],[LOW BIDDER''S UNIT PRICE]]","v":0},{"$f":"_300A_FUNDING[[#This Row],[Column8]]*_300A_FUNDING[[#This Row],[LOW BIDDER''S UNIT PRICE]]","v":0},{"$f":"_300A_FUNDING[[#This Row],[Column9]]*_300A_FUNDING[[#This Row],[LOW BIDDER''S UNIT PRICE]]","v":0},{"$f":"_300A_FUNDING[[#This Row],[Column10]]*_300A_FUNDING[[#This Row],[LOW BIDDER''S UNIT PRICE]]","v":0},{"$f":"_300A_FUNDING[[#This Row],[Column11]]*_300A_FUNDING[[#This Row],[LOW BIDDER''S UNIT PRICE]]","v":0},{"$f":"_300A_FUNDING[[#This Row],[Column12]]*_300A_FUNDING[[#This Row],[LOW BIDDER''S UNIT PRICE]]","v":0},{"$f":"_300A_FUNDING[[#This Row],[Column13]]*_300A_FUNDING[[#This Row],[LOW BIDDER''S UNIT PRICE]]","v":0},{"$f":"_300A_FUNDING[[#This Row],[Column14]]*_300A_FUNDING[[#This Row],[LOW BIDDER''S UNIT PRICE]]","v":0}]
[null,null,null,null,null,null,null,null,null,null,null,null,null,null,null,null,0,{"$f":"_300A_FUNDING[[#This Row],[Column5]]*_300A_FUNDING[[#This Row],[LOW BIDDER''S UNIT PRICE]]","v":0},{"$f":"_300A_FUNDING[[#This Row],[Column6]]*_300A_FUNDING[[#This Row],[LOW BIDDER''S UNIT PRICE]]","v":0},{"$f":"_300A_FUNDING[[#This Row],[Column7]]*_300A_FUNDING[[#This Row],[LOW BIDDER''S UNIT PRICE]]","v":0},{"$f":"_300A_FUNDING[[#This Row],[Column8]]*_300A_FUNDING[[#This Row],[LOW BIDDER''S UNIT PRICE]]","v":0},{"$f":"_300A_FUNDING[[#This Row],[Column9]]*_300A_FUNDING[[#This Row],[LOW BIDDER''S UNIT PRICE]]","v":0},{"$f":"_300A_FUNDING[[#This Row],[Column10]]*_300A_FUNDING[[#This Row],[LOW BIDDER''S UNIT PRICE]]","v":0},{"$f":"_300A_FUNDING[[#This Row],[Column11]]*_300A_FUNDING[[#This Row],[LOW BIDDER''S UNIT PRICE]]","v":0},{"$f":"_300A_FUNDING[[#This Row],[Column12]]*_300A_FUNDING[[#This Row],[LOW BIDDER''S UNIT PRICE]]","v":0},{"$f":"_300A_FUNDING[[#This Row],[Column13]]*_300A_FUNDING[[#This Row],[LOW BIDDER''S UNIT PRICE]]","v":0},{"$f":"_300A_FUNDING[[#This Row],[Column14]]*_300A_FUNDING[[#This Row],[LOW BIDDER''S UNIT PRICE]]","v":0}]
[null,null,null,null,null,null,null,null,null,null,null,null,null,null,null,null,0,{"$f":"_300A_FUNDING[[#This Row],[Column5]]*_300A_FUNDING[[#This Row],[LOW BIDDER''S UNIT PRICE]]","v":0},{"$f":"_300A_FUNDING[[#This Row],[Column6]]*_300A_FUNDING[[#This Row],[LOW BIDDER''S UNIT PRICE]]","v":0},{"$f":"_300A_FUNDING[[#This Row],[Column7]]*_300A_FUNDING[[#This Row],[LOW BIDDER''S UNIT PRICE]]","v":0},{"$f":"_300A_FUNDING[[#This Row],[Column8]]*_300A_FUNDING[[#This Row],[LOW BIDDER''S UNIT PRICE]]","v":0},{"$f":"_300A_FUNDING[[#This Row],[Column9]]*_300A_FUNDING[[#This Row],[LOW BIDDER''S UNIT PRICE]]","v":0},{"$f":"_300A_FUNDING[[#This Row],[Column10]]*_300A_FUNDING[[#This Row],[LOW BIDDER''S UNIT PRICE]]","v":0},{"$f":"_300A_FUNDING[[#This Row],[Column11]]*_300A_FUNDING[[#This Row],[LOW BIDDER''S UNIT PRICE]]","v":0},{"$f":"_300A_FUNDING[[#This Row],[Column12]]*_300A_FUNDING[[#This Row],[LOW BIDDER''S UNIT PRICE]]","v":0},{"$f":"_300A_FUNDING[[#This Row],[Column13]]*_300A_FUNDING[[#This Row],[LOW BIDDER''S UNIT PRICE]]","v":0},{"$f":"_300A_FUNDING[[#This Row],[Column14]]*_300A_FUNDING[[#This Row],[LOW BIDDER''S UNIT PRICE]]","v":0}]
[null,null,null,null,null,null,null,null,null,null,null,null,null,null,null,null,0,{"$f":"_300A_FUNDING[[#This Row],[Column5]]*_300A_FUNDING[[#This Row],[LOW BIDDER''S UNIT PRICE]]","v":0},{"$f":"_300A_FUNDING[[#This Row],[Column6]]*_300A_FUNDING[[#This Row],[LOW BIDDER''S UNIT PRICE]]","v":0},{"$f":"_300A_FUNDING[[#This Row],[Column7]]*_300A_FUNDING[[#This Row],[LOW BIDDER''S UNIT PRICE]]","v":0},{"$f":"_300A_FUNDING[[#This Row],[Column8]]*_300A_FUNDING[[#This Row],[LOW BIDDER''S UNIT PRICE]]","v":0},{"$f":"_300A_FUNDING[[#This Row],[Column9]]*_300A_FUNDING[[#This Row],[LOW BIDDER''S UNIT PRICE]]","v":0},{"$f":"_300A_FUNDING[[#This Row],[Column10]]*_300A_FUNDING[[#This Row],[LOW BIDDER''S UNIT PRICE]]","v":0},{"$f":"_300A_FUNDING[[#This Row],[Column11]]*_300A_FUNDING[[#This Row],[LOW BIDDER''S UNIT PRICE]]","v":0},{"$f":"_300A_FUNDING[[#This Row],[Column12]]*_300A_FUNDING[[#This Row],[LOW BIDDER''S UNIT PRICE]]","v":0},{"$f":"_300A_FUNDING[[#This Row],[Column13]]*_300A_FUNDING[[#This Row],[LOW BIDDER''S UNIT PRICE]]","v":0},{"$f":"_300A_FUNDING[[#This Row],[Column14]]*_300A_FUNDING[[#This Row],[LOW BIDDER''S UNIT PRICE]]","v":0}]
[null,null,null,null,null,null,null,null,null,null,null,null,null,null,null,null,0,{"$f":"_300A_FUNDING[[#This Row],[Column5]]*_300A_FUNDING[[#This Row],[LOW BIDDER''S UNIT PRICE]]","v":0},{"$f":"_300A_FUNDING[[#This Row],[Column6]]*_300A_FUNDING[[#This Row],[LOW BIDDER''S UNIT PRICE]]","v":0},{"$f":"_300A_FUNDING[[#This Row],[Column7]]*_300A_FUNDING[[#This Row],[LOW BIDDER''S UNIT PRICE]]","v":0},{"$f":"_300A_FUNDING[[#This Row],[Column8]]*_300A_FUNDING[[#This Row],[LOW BIDDER''S UNIT PRICE]]","v":0},{"$f":"_300A_FUNDING[[#This Row],[Column9]]*_300A_FUNDING[[#This Row],[LOW BIDDER''S UNIT PRICE]]","v":0},{"$f":"_300A_FUNDING[[#This Row],[Column10]]*_300A_FUNDING[[#This Row],[LOW BIDDER''S UNIT PRICE]]","v":0},{"$f":"_300A_FUNDING[[#This Row],[Column11]]*_300A_FUNDING[[#This Row],[LOW BIDDER''S UNIT PRICE]]","v":0},{"$f":"_300A_FUNDING[[#This Row],[Column12]]*_300A_FUNDING[[#This Row],[LOW BIDDER''S UNIT PRICE]]","v":0},{"$f":"_300A_FUNDING[[#This Row],[Column13]]*_300A_FUNDING[[#This Row],[LOW BIDDER''S UNIT PRICE]]","v":0},{"$f":"_300A_FUNDING[[#This Row],[Column14]]*_300A_FUNDING[[#This Row],[LOW BIDDER''S UNIT PRICE]]","v":0}]
[null,null,null,null,null,null,null,null,null,null,null,null,null,null,null,null,0,{"$f":"_300A_FUNDING[[#This Row],[Column5]]*_300A_FUNDING[[#This Row],[LOW BIDDER''S UNIT PRICE]]","v":0},{"$f":"_300A_FUNDING[[#This Row],[Column6]]*_300A_FUNDING[[#This Row],[LOW BIDDER''S UNIT PRICE]]","v":0},{"$f":"_300A_FUNDING[[#This Row],[Column7]]*_300A_FUNDING[[#This Row],[LOW BIDDER''S UNIT PRICE]]","v":0},{"$f":"_300A_FUNDING[[#This Row],[Column8]]*_300A_FUNDING[[#This Row],[LOW BIDDER''S UNIT PRICE]]","v":0},{"$f":"_300A_FUNDING[[#This Row],[Column9]]*_300A_FUNDING[[#This Row],[LOW BIDDER''S UNIT PRICE]]","v":0},{"$f":"_300A_FUNDING[[#This Row],[Column10]]*_300A_FUNDING[[#This Row],[LOW BIDDER''S UNIT PRICE]]","v":0},{"$f":"_300A_FUNDING[[#This Row],[Column11]]*_300A_FUNDING[[#This Row],[LOW BIDDER''S UNIT PRICE]]","v":0},{"$f":"_300A_FUNDING[[#This Row],[Column12]]*_300A_FUNDING[[#This Row],[LOW BIDDER''S UNIT PRICE]]","v":0},{"$f":"_300A_FUNDING[[#This Row],[Column13]]*_300A_FUNDING[[#This Row],[LOW BIDDER''S UNIT PRICE]]","v":0},{"$f":"_300A_FUNDING[[#This Row],[Column14]]*_300A_FUNDING[[#This Row],[LOW BIDDER''S UNIT PRICE]]","v":0}]
[null,null,null,null,null,null,null,null,null,null,null,null,null,null,null,null,0,{"$f":"_300A_FUNDING[[#This Row],[Column5]]*_300A_FUNDING[[#This Row],[LOW BIDDER''S UNIT PRICE]]","v":0},{"$f":"_300A_FUNDING[[#This Row],[Column6]]*_300A_FUNDING[[#This Row],[LOW BIDDER''S UNIT PRICE]]","v":0},{"$f":"_300A_FUNDING[[#This Row],[Column7]]*_300A_FUNDING[[#This Row],[LOW BIDDER''S UNIT PRICE]]","v":0},{"$f":"_300A_FUNDING[[#This Row],[Column8]]*_300A_FUNDING[[#This Row],[LOW BIDDER''S UNIT PRICE]]","v":0},{"$f":"_300A_FUNDING[[#This Row],[Column9]]*_300A_FUNDING[[#This Row],[LOW BIDDER''S UNIT PRICE]]","v":0},{"$f":"_300A_FUNDING[[#This Row],[Column10]]*_300A_FUNDING[[#This Row],[LOW BIDDER''S UNIT PRICE]]","v":0},{"$f":"_300A_FUNDING[[#This Row],[Column11]]*_300A_FUNDING[[#This Row],[LOW BIDDER''S UNIT PRICE]]","v":0},{"$f":"_300A_FUNDING[[#This Row],[Column12]]*_300A_FUNDING[[#This Row],[LOW BIDDER''S UNIT PRICE]]","v":0},{"$f":"_300A_FUNDING[[#This Row],[Column13]]*_300A_FUNDING[[#This Row],[LOW BIDDER''S UNIT PRICE]]","v":0},{"$f":"_300A_FUNDING[[#This Row],[Column14]]*_300A_FUNDING[[#This Row],[LOW BIDDER''S UNIT PRICE]]","v":0}]
[null,null,null,null,null,null,null,null,null,null,null,null,null,null,null,null,0,{"$f":"_300A_FUNDING[[#This Row],[Column5]]*_300A_FUNDING[[#This Row],[LOW BIDDER''S UNIT PRICE]]","v":0},{"$f":"_300A_FUNDING[[#This Row],[Column6]]*_300A_FUNDING[[#This Row],[LOW BIDDER''S UNIT PRICE]]","v":0},{"$f":"_300A_FUNDING[[#This Row],[Column7]]*_300A_FUNDING[[#This Row],[LOW BIDDER''S UNIT PRICE]]","v":0},{"$f":"_300A_FUNDING[[#This Row],[Column8]]*_300A_FUNDING[[#This Row],[LOW BIDDER''S UNIT PRICE]]","v":0},{"$f":"_300A_FUNDING[[#This Row],[Column9]]*_300A_FUNDING[[#This Row],[LOW BIDDER''S UNIT PRICE]]","v":0},{"$f":"_300A_FUNDING[[#This Row],[Column10]]*_300A_FUNDING[[#This Row],[LOW BIDDER''S UNIT PRICE]]","v":0},{"$f":"_300A_FUNDING[[#This Row],[Column11]]*_300A_FUNDING[[#This Row],[LOW BIDDER''S UNIT PRICE]]","v":0},{"$f":"_300A_FUNDING[[#This Row],[Column12]]*_300A_FUNDING[[#This Row],[LOW BIDDER''S UNIT PRICE]]","v":0},{"$f":"_300A_FUNDING[[#This Row],[Column13]]*_300A_FUNDING[[#This Row],[LOW BIDDER''S UNIT PRICE]]","v":0},{"$f":"_300A_FUNDING[[#This Row],[Column14]]*_300A_FUNDING[[#This Row],[LOW BIDDER''S UNIT PRICE]]","v":0}]
[null,null,null,null,null,null,null,null,null,null,null,null,null,null,null,null,0,{"$f":"_300A_FUNDING[[#This Row],[Column5]]*_300A_FUNDING[[#This Row],[LOW BIDDER''S UNIT PRICE]]","v":0},{"$f":"_300A_FUNDING[[#This Row],[Column6]]*_300A_FUNDING[[#This Row],[LOW BIDDER''S UNIT PRICE]]","v":0},{"$f":"_300A_FUNDING[[#This Row],[Column7]]*_300A_FUNDING[[#This Row],[LOW BIDDER''S UNIT PRICE]]","v":0},{"$f":"_300A_FUNDING[[#This Row],[Column8]]*_300A_FUNDING[[#This Row],[LOW BIDDER''S UNIT PRICE]]","v":0},{"$f":"_300A_FUNDING[[#This Row],[Column9]]*_300A_FUNDING[[#This Row],[LOW BIDDER''S UNIT PRICE]]","v":0},{"$f":"_300A_FUNDING[[#This Row],[Column10]]*_300A_FUNDING[[#This Row],[LOW BIDDER''S UNIT PRICE]]","v":0},{"$f":"_300A_FUNDING[[#This Row],[Column11]]*_300A_FUNDING[[#This Row],[LOW BIDDER''S UNIT PRICE]]","v":0},{"$f":"_300A_FUNDING[[#This Row],[Column12]]*_300A_FUNDING[[#This Row],[LOW BIDDER''S UNIT PRICE]]","v":0},{"$f":"_300A_FUNDING[[#This Row],[Column13]]*_300A_FUNDING[[#This Row],[LOW BIDDER''S UNIT PRICE]]","v":0},{"$f":"_300A_FUNDING[[#This Row],[Column14]]*_300A_FUNDING[[#This Row],[LOW BIDDER''S UNIT PRICE]]","v":0}]
[null,null,null,null,null,null,null,null,null,null,null,null,null,null,null,null,0,{"$f":"_300A_FUNDING[[#This Row],[Column5]]*_300A_FUNDING[[#This Row],[LOW BIDDER''S UNIT PRICE]]","v":0},{"$f":"_300A_FUNDING[[#This Row],[Column6]]*_300A_FUNDING[[#This Row],[LOW BIDDER''S UNIT PRICE]]","v":0},{"$f":"_300A_FUNDING[[#This Row],[Column7]]*_300A_FUNDING[[#This Row],[LOW BIDDER''S UNIT PRICE]]","v":0},{"$f":"_300A_FUNDING[[#This Row],[Column8]]*_300A_FUNDING[[#This Row],[LOW BIDDER''S UNIT PRICE]]","v":0},{"$f":"_300A_FUNDING[[#This Row],[Column9]]*_300A_FUNDING[[#This Row],[LOW BIDDER''S UNIT PRICE]]","v":0},{"$f":"_300A_FUNDING[[#This Row],[Column10]]*_300A_FUNDING[[#This Row],[LOW BIDDER''S UNIT PRICE]]","v":0},{"$f":"_300A_FUNDING[[#This Row],[Column11]]*_300A_FUNDING[[#This Row],[LOW BIDDER''S UNIT PRICE]]","v":0},{"$f":"_300A_FUNDING[[#This Row],[Column12]]*_300A_FUNDING[[#This Row],[LOW BIDDER''S UNIT PRICE]]","v":0},{"$f":"_300A_FUNDING[[#This Row],[Column13]]*_300A_FUNDING[[#This Row],[LOW BIDDER''S UNIT PRICE]]","v":0},{"$f":"_300A_FUNDING[[#This Row],[Column14]]*_300A_FUNDING[[#This Row],[LOW BIDDER''S UNIT PRICE]]","v":0}]
[null,null,null,null,null,null,null,null,null,null,null,null,null,null,null,null,0,{"$f":"_300A_FUNDING[[#This Row],[Column5]]*_300A_FUNDING[[#This Row],[LOW BIDDER''S UNIT PRICE]]","v":0},{"$f":"_300A_FUNDING[[#This Row],[Column6]]*_300A_FUNDING[[#This Row],[LOW BIDDER''S UNIT PRICE]]","v":0},{"$f":"_300A_FUNDING[[#This Row],[Column7]]*_300A_FUNDING[[#This Row],[LOW BIDDER''S UNIT PRICE]]","v":0},{"$f":"_300A_FUNDING[[#This Row],[Column8]]*_300A_FUNDING[[#This Row],[LOW BIDDER''S UNIT PRICE]]","v":0},{"$f":"_300A_FUNDING[[#This Row],[Column9]]*_300A_FUNDING[[#This Row],[LOW BIDDER''S UNIT PRICE]]","v":0},{"$f":"_300A_FUNDING[[#This Row],[Column10]]*_300A_FUNDING[[#This Row],[LOW BIDDER''S UNIT PRICE]]","v":0},{"$f":"_300A_FUNDING[[#This Row],[Column11]]*_300A_FUNDING[[#This Row],[LOW BIDDER''S UNIT PRICE]]","v":0},{"$f":"_300A_FUNDING[[#This Row],[Column12]]*_300A_FUNDING[[#This Row],[LOW BIDDER''S UNIT PRICE]]","v":0},{"$f":"_300A_FUNDING[[#This Row],[Column13]]*_300A_FUNDING[[#This Row],[LOW BIDDER''S UNIT PRICE]]","v":0},{"$f":"_300A_FUNDING[[#This Row],[Column14]]*_300A_FUNDING[[#This Row],[LOW BIDDER''S UNIT PRICE]]","v":0}]
[null,null,null,null,null,null,null,null,null,null,null,null,null,null,null,null,0,{"$f":"_300A_FUNDING[[#This Row],[Column5]]*_300A_FUNDING[[#This Row],[LOW BIDDER''S UNIT PRICE]]","v":0},{"$f":"_300A_FUNDING[[#This Row],[Column6]]*_300A_FUNDING[[#This Row],[LOW BIDDER''S UNIT PRICE]]","v":0},{"$f":"_300A_FUNDING[[#This Row],[Column7]]*_300A_FUNDING[[#This Row],[LOW BIDDER''S UNIT PRICE]]","v":0},{"$f":"_300A_FUNDING[[#This Row],[Column8]]*_300A_FUNDING[[#This Row],[LOW BIDDER''S UNIT PRICE]]","v":0},{"$f":"_300A_FUNDING[[#This Row],[Column9]]*_300A_FUNDING[[#This Row],[LOW BIDDER''S UNIT PRICE]]","v":0},{"$f":"_300A_FUNDING[[#This Row],[Column10]]*_300A_FUNDING[[#This Row],[LOW BIDDER''S UNIT PRICE]]","v":0},{"$f":"_300A_FUNDING[[#This Row],[Column11]]*_300A_FUNDING[[#This Row],[LOW BIDDER''S UNIT PRICE]]","v":0},{"$f":"_300A_FUNDING[[#This Row],[Column12]]*_300A_FUNDING[[#This Row],[LOW BIDDER''S UNIT PRICE]]","v":0},{"$f":"_300A_FUNDING[[#This Row],[Column13]]*_300A_FUNDING[[#This Row],[LOW BIDDER''S UNIT PRICE]]","v":0},{"$f":"_300A_FUNDING[[#This Row],[Column14]]*_300A_FUNDING[[#This Row],[LOW BIDDER''S UNIT PRICE]]","v":0}]
[null,null,null,null,null,null,null,null,null,null,null,null,null,null,null,null,0,{"$f":"_300A_FUNDING[[#This Row],[Column5]]*_300A_FUNDING[[#This Row],[LOW BIDDER''S UNIT PRICE]]","v":0},{"$f":"_300A_FUNDING[[#This Row],[Column6]]*_300A_FUNDING[[#This Row],[LOW BIDDER''S UNIT PRICE]]","v":0},{"$f":"_300A_FUNDING[[#This Row],[Column7]]*_300A_FUNDING[[#This Row],[LOW BIDDER''S UNIT PRICE]]","v":0},{"$f":"_300A_FUNDING[[#This Row],[Column8]]*_300A_FUNDING[[#This Row],[LOW BIDDER''S UNIT PRICE]]","v":0},{"$f":"_300A_FUNDING[[#This Row],[Column9]]*_300A_FUNDING[[#This Row],[LOW BIDDER''S UNIT PRICE]]","v":0},{"$f":"_300A_FUNDING[[#This Row],[Column10]]*_300A_FUNDING[[#This Row],[LOW BIDDER''S UNIT PRICE]]","v":0},{"$f":"_300A_FUNDING[[#This Row],[Column11]]*_300A_FUNDING[[#This Row],[LOW BIDDER''S UNIT PRICE]]","v":0},{"$f":"_300A_FUNDING[[#This Row],[Column12]]*_300A_FUNDING[[#This Row],[LOW BIDDER''S UNIT PRICE]]","v":0},{"$f":"_300A_FUNDING[[#This Row],[Column13]]*_300A_FUNDING[[#This Row],[LOW BIDDER''S UNIT PRICE]]","v":0},{"$f":"_300A_FUNDING[[#This Row],[Column14]]*_300A_FUNDING[[#This Row],[LOW BIDDER''S UNIT PRICE]]","v":0}]
[null,null,null,null,null,null,null,null,null,null,null,null,null,null,null,null,0,{"$f":"_300A_FUNDING[[#This Row],[Column5]]*_300A_FUNDING[[#This Row],[LOW BIDDER''S UNIT PRICE]]","v":0},{"$f":"_300A_FUNDING[[#This Row],[Column6]]*_300A_FUNDING[[#This Row],[LOW BIDDER''S UNIT PRICE]]","v":0},{"$f":"_300A_FUNDING[[#This Row],[Column7]]*_300A_FUNDING[[#This Row],[LOW BIDDER''S UNIT PRICE]]","v":0},{"$f":"_300A_FUNDING[[#This Row],[Column8]]*_300A_FUNDING[[#This Row],[LOW BIDDER''S UNIT PRICE]]","v":0},{"$f":"_300A_FUNDING[[#This Row],[Column9]]*_300A_FUNDING[[#This Row],[LOW BIDDER''S UNIT PRICE]]","v":0},{"$f":"_300A_FUNDING[[#This Row],[Column10]]*_300A_FUNDING[[#This Row],[LOW BIDDER''S UNIT PRICE]]","v":0},{"$f":"_300A_FUNDING[[#This Row],[Column11]]*_300A_FUNDING[[#This Row],[LOW BIDDER''S UNIT PRICE]]","v":0},{"$f":"_300A_FUNDING[[#This Row],[Column12]]*_300A_FUNDING[[#This Row],[LOW BIDDER''S UNIT PRICE]]","v":0},{"$f":"_300A_FUNDING[[#This Row],[Column13]]*_300A_FUNDING[[#This Row],[LOW BIDDER''S UNIT PRICE]]","v":0},{"$f":"_300A_FUNDING[[#This Row],[Column14]]*_300A_FUNDING[[#This Row],[LOW BIDDER''S UNIT PRICE]]","v":0}]
[null,null,null,null,null,null,null,null,null,null,null,null,null,null,null,null,0,{"$f":"_300A_FUNDING[[#This Row],[Column5]]*_300A_FUNDING[[#This Row],[LOW BIDDER''S UNIT PRICE]]","v":0},{"$f":"_300A_FUNDING[[#This Row],[Column6]]*_300A_FUNDING[[#This Row],[LOW BIDDER''S UNIT PRICE]]","v":0},{"$f":"_300A_FUNDING[[#This Row],[Column7]]*_300A_FUNDING[[#This Row],[LOW BIDDER''S UNIT PRICE]]","v":0},{"$f":"_300A_FUNDING[[#This Row],[Column8]]*_300A_FUNDING[[#This Row],[LOW BIDDER''S UNIT PRICE]]","v":0},{"$f":"_300A_FUNDING[[#This Row],[Column9]]*_300A_FUNDING[[#This Row],[LOW BIDDER''S UNIT PRICE]]","v":0},{"$f":"_300A_FUNDING[[#This Row],[Column10]]*_300A_FUNDING[[#This Row],[LOW BIDDER''S UNIT PRICE]]","v":0},{"$f":"_300A_FUNDING[[#This Row],[Column11]]*_300A_FUNDING[[#This Row],[LOW BIDDER''S UNIT PRICE]]","v":0},{"$f":"_300A_FUNDING[[#This Row],[Column12]]*_300A_FUNDING[[#This Row],[LOW BIDDER''S UNIT PRICE]]","v":0},{"$f":"_300A_FUNDING[[#This Row],[Column13]]*_300A_FUNDING[[#This Row],[LOW BIDDER''S UNIT PRICE]]","v":0},{"$f":"_300A_FUNDING[[#This Row],[Column14]]*_300A_FUNDING[[#This Row],[LOW BIDDER''S UNIT PRICE]]","v":0}]
[null,null,null,null,null,null,null,null,null,null,null,null,null,null,null,null,0,{"$f":"_300A_FUNDING[[#This Row],[Column5]]*_300A_FUNDING[[#This Row],[LOW BIDDER''S UNIT PRICE]]","v":0},{"$f":"_300A_FUNDING[[#This Row],[Column6]]*_300A_FUNDING[[#This Row],[LOW BIDDER''S UNIT PRICE]]","v":0},{"$f":"_300A_FUNDING[[#This Row],[Column7]]*_300A_FUNDING[[#This Row],[LOW BIDDER''S UNIT PRICE]]","v":0},{"$f":"_300A_FUNDING[[#This Row],[Column8]]*_300A_FUNDING[[#This Row],[LOW BIDDER''S UNIT PRICE]]","v":0},{"$f":"_300A_FUNDING[[#This Row],[Column9]]*_300A_FUNDING[[#This Row],[LOW BIDDER''S UNIT PRICE]]","v":0},{"$f":"_300A_FUNDING[[#This Row],[Column10]]*_300A_FUNDING[[#This Row],[LOW BIDDER''S UNIT PRICE]]","v":0},{"$f":"_300A_FUNDING[[#This Row],[Column11]]*_300A_FUNDING[[#This Row],[LOW BIDDER''S UNIT PRICE]]","v":0},{"$f":"_300A_FUNDING[[#This Row],[Column12]]*_300A_FUNDING[[#This Row],[LOW BIDDER''S UNIT PRICE]]","v":0},{"$f":"_300A_FUNDING[[#This Row],[Column13]]*_300A_FUNDING[[#This Row],[LOW BIDDER''S UNIT PRICE]]","v":0},{"$f":"_300A_FUNDING[[#This Row],[Column14]]*_300A_FUNDING[[#This Row],[LOW BIDDER''S UNIT PRICE]]","v":0}]
[null,null,null,null,null,null,null,null,null,null,null,null,null,null,null,null,0,{"$f":"_300A_FUNDING[[#This Row],[Column5]]*_300A_FUNDING[[#This Row],[LOW BIDDER''S UNIT PRICE]]","v":0},{"$f":"_300A_FUNDING[[#This Row],[Column6]]*_300A_FUNDING[[#This Row],[LOW BIDDER''S UNIT PRICE]]","v":0},{"$f":"_300A_FUNDING[[#This Row],[Column7]]*_300A_FUNDING[[#This Row],[LOW BIDDER''S UNIT PRICE]]","v":0},{"$f":"_300A_FUNDING[[#This Row],[Column8]]*_300A_FUNDING[[#This Row],[LOW BIDDER''S UNIT PRICE]]","v":0},{"$f":"_300A_FUNDING[[#This Row],[Column9]]*_300A_FUNDING[[#This Row],[LOW BIDDER''S UNIT PRICE]]","v":0},{"$f":"_300A_FUNDING[[#This Row],[Column10]]*_300A_FUNDING[[#This Row],[LOW BIDDER''S UNIT PRICE]]","v":0},{"$f":"_300A_FUNDING[[#This Row],[Column11]]*_300A_FUNDING[[#This Row],[LOW BIDDER''S UNIT PRICE]]","v":0},{"$f":"_300A_FUNDING[[#This Row],[Column12]]*_300A_FUNDING[[#This Row],[LOW BIDDER''S UNIT PRICE]]","v":0},{"$f":"_300A_FUNDING[[#This Row],[Column13]]*_300A_FUNDING[[#This Row],[LOW BIDDER''S UNIT PRICE]]","v":0},{"$f":"_300A_FUNDING[[#This Row],[Column14]]*_300A_FUNDING[[#This Row],[LOW BIDDER''S UNIT PRICE]]","v":0}]
[null,null,null,null,null,null,null,null,null,null,null,null,null,null,null,null,0,{"$f":"_300A_FUNDING[[#This Row],[Column5]]*_300A_FUNDING[[#This Row],[LOW BIDDER''S UNIT PRICE]]","v":0},{"$f":"_300A_FUNDING[[#This Row],[Column6]]*_300A_FUNDING[[#This Row],[LOW BIDDER''S UNIT PRICE]]","v":0},{"$f":"_300A_FUNDING[[#This Row],[Column7]]*_300A_FUNDING[[#This Row],[LOW BIDDER''S UNIT PRICE]]","v":0},{"$f":"_300A_FUNDING[[#This Row],[Column8]]*_300A_FUNDING[[#This Row],[LOW BIDDER''S UNIT PRICE]]","v":0},{"$f":"_300A_FUNDING[[#This Row],[Column9]]*_300A_FUNDING[[#This Row],[LOW BIDDER''S UNIT PRICE]]","v":0},{"$f":"_300A_FUNDING[[#This Row],[Column10]]*_300A_FUNDING[[#This Row],[LOW BIDDER''S UNIT PRICE]]","v":0},{"$f":"_300A_FUNDING[[#This Row],[Column11]]*_300A_FUNDING[[#This Row],[LOW BIDDER''S UNIT PRICE]]","v":0},{"$f":"_300A_FUNDING[[#This Row],[Column12]]*_300A_FUNDING[[#This Row],[LOW BIDDER''S UNIT PRICE]]","v":0},{"$f":"_300A_FUNDING[[#This Row],[Column13]]*_300A_FUNDING[[#This Row],[LOW BIDDER''S UNIT PRICE]]","v":0},{"$f":"_300A_FUNDING[[#This Row],[Column14]]*_300A_FUNDING[[#This Row],[LOW BIDDER''S UNIT PRICE]]","v":0}]
[null,null,null,null,null,null,null,null,null,null,null,null,null,null,null,null,0,{"$f":"_300A_FUNDING[[#This Row],[Column5]]*_300A_FUNDING[[#This Row],[LOW BIDDER''S UNIT PRICE]]","v":0},{"$f":"_300A_FUNDING[[#This Row],[Column6]]*_300A_FUNDING[[#This Row],[LOW BIDDER''S UNIT PRICE]]","v":0},{"$f":"_300A_FUNDING[[#This Row],[Column7]]*_300A_FUNDING[[#This Row],[LOW BIDDER''S UNIT PRICE]]","v":0},{"$f":"_300A_FUNDING[[#This Row],[Column8]]*_300A_FUNDING[[#This Row],[LOW BIDDER''S UNIT PRICE]]","v":0},{"$f":"_300A_FUNDING[[#This Row],[Column9]]*_300A_FUNDING[[#This Row],[LOW BIDDER''S UNIT PRICE]]","v":0},{"$f":"_300A_FUNDING[[#This Row],[Column10]]*_300A_FUNDING[[#This Row],[LOW BIDDER''S UNIT PRICE]]","v":0},{"$f":"_300A_FUNDING[[#This Row],[Column11]]*_300A_FUNDING[[#This Row],[LOW BIDDER''S UNIT PRICE]]","v":0},{"$f":"_300A_FUNDING[[#This Row],[Column12]]*_300A_FUNDING[[#This Row],[LOW BIDDER''S UNIT PRICE]]","v":0},{"$f":"_300A_FUNDING[[#This Row],[Column13]]*_300A_FUNDING[[#This Row],[LOW BIDDER''S UNIT PRICE]]","v":0},{"$f":"_300A_FUNDING[[#This Row],[Column14]]*_300A_FUNDING[[#This Row],[LOW BIDDER''S UNIT PRICE]]","v":0}]
[null,null,null,null,null,null,null,null,null,null,null,null,null,null,null,null,0,{"$f":"_300A_FUNDING[[#This Row],[Column5]]*_300A_FUNDING[[#This Row],[LOW BIDDER''S UNIT PRICE]]","v":0},{"$f":"_300A_FUNDING[[#This Row],[Column6]]*_300A_FUNDING[[#This Row],[LOW BIDDER''S UNIT PRICE]]","v":0},{"$f":"_300A_FUNDING[[#This Row],[Column7]]*_300A_FUNDING[[#This Row],[LOW BIDDER''S UNIT PRICE]]","v":0},{"$f":"_300A_FUNDING[[#This Row],[Column8]]*_300A_FUNDING[[#This Row],[LOW BIDDER''S UNIT PRICE]]","v":0},{"$f":"_300A_FUNDING[[#This Row],[Column9]]*_300A_FUNDING[[#This Row],[LOW BIDDER''S UNIT PRICE]]","v":0},{"$f":"_300A_FUNDING[[#This Row],[Column10]]*_300A_FUNDING[[#This Row],[LOW BIDDER''S UNIT PRICE]]","v":0},{"$f":"_300A_FUNDING[[#This Row],[Column11]]*_300A_FUNDING[[#This Row],[LOW BIDDER''S UNIT PRICE]]","v":0},{"$f":"_300A_FUNDING[[#This Row],[Column12]]*_300A_FUNDING[[#This Row],[LOW BIDDER''S UNIT PRICE]]","v":0},{"$f":"_300A_FUNDING[[#This Row],[Column13]]*_300A_FUNDING[[#This Row],[LOW BIDDER''S UNIT PRICE]]","v":0},{"$f":"_300A_FUNDING[[#This Row],[Column14]]*_300A_FUNDING[[#This Row],[LOW BIDDER''S UNIT PRICE]]","v":0}]
[null,null,null,null,null,null,null,null,null,null,null,null,null,null,null,null,0,{"$f":"_300A_FUNDING[[#This Row],[Column5]]*_300A_FUNDING[[#This Row],[LOW BIDDER''S UNIT PRICE]]","v":0},{"$f":"_300A_FUNDING[[#This Row],[Column6]]*_300A_FUNDING[[#This Row],[LOW BIDDER''S UNIT PRICE]]","v":0},{"$f":"_300A_FUNDING[[#This Row],[Column7]]*_300A_FUNDING[[#This Row],[LOW BIDDER''S UNIT PRICE]]","v":0},{"$f":"_300A_FUNDING[[#This Row],[Column8]]*_300A_FUNDING[[#This Row],[LOW BIDDER''S UNIT PRICE]]","v":0},{"$f":"_300A_FUNDING[[#This Row],[Column9]]*_300A_FUNDING[[#This Row],[LOW BIDDER''S UNIT PRICE]]","v":0},{"$f":"_300A_FUNDING[[#This Row],[Column10]]*_300A_FUNDING[[#This Row],[LOW BIDDER''S UNIT PRICE]]","v":0},{"$f":"_300A_FUNDING[[#This Row],[Column11]]*_300A_FUNDING[[#This Row],[LOW BIDDER''S UNIT PRICE]]","v":0},{"$f":"_300A_FUNDING[[#This Row],[Column12]]*_300A_FUNDING[[#This Row],[LOW BIDDER''S UNIT PRICE]]","v":0},{"$f":"_300A_FUNDING[[#This Row],[Column13]]*_300A_FUNDING[[#This Row],[LOW BIDDER''S UNIT PRICE]]","v":0},{"$f":"_300A_FUNDING[[#This Row],[Column14]]*_300A_FUNDING[[#This Row],[LOW BIDDER''S UNIT PRICE]]","v":0}]
[null,null,null,null,null,null,null,null,null,null,null,null,null,null,null,null,0,{"$f":"_300A_FUNDING[[#This Row],[Column5]]*_300A_FUNDING[[#This Row],[LOW BIDDER''S UNIT PRICE]]","v":0},{"$f":"_300A_FUNDING[[#This Row],[Column6]]*_300A_FUNDING[[#This Row],[LOW BIDDER''S UNIT PRICE]]","v":0},{"$f":"_300A_FUNDING[[#This Row],[Column7]]*_300A_FUNDING[[#This Row],[LOW BIDDER''S UNIT PRICE]]","v":0},{"$f":"_300A_FUNDING[[#This Row],[Column8]]*_300A_FUNDING[[#This Row],[LOW BIDDER''S UNIT PRICE]]","v":0},{"$f":"_300A_FUNDING[[#This Row],[Column9]]*_300A_FUNDING[[#This Row],[LOW BIDDER''S UNIT PRICE]]","v":0},{"$f":"_300A_FUNDING[[#This Row],[Column10]]*_300A_FUNDING[[#This Row],[LOW BIDDER''S UNIT PRICE]]","v":0},{"$f":"_300A_FUNDING[[#This Row],[Column11]]*_300A_FUNDING[[#This Row],[LOW BIDDER''S UNIT PRICE]]","v":0},{"$f":"_300A_FUNDING[[#This Row],[Column12]]*_300A_FUNDING[[#This Row],[LOW BIDDER''S UNIT PRICE]]","v":0},{"$f":"_300A_FUNDING[[#This Row],[Column13]]*_300A_FUNDING[[#This Row],[LOW BIDDER''S UNIT PRICE]]","v":0},{"$f":"_300A_FUNDING[[#This Row],[Column14]]*_300A_FUNDING[[#This Row],[LOW BIDDER''S UNIT PRICE]]","v":0}]
[null,null,null,null,null,null,null,null,null,null,null,null,null,null,null,null,0,{"$f":"_300A_FUNDING[[#This Row],[Column5]]*_300A_FUNDING[[#This Row],[LOW BIDDER''S UNIT PRICE]]","v":0},{"$f":"_300A_FUNDING[[#This Row],[Column6]]*_300A_FUNDING[[#This Row],[LOW BIDDER''S UNIT PRICE]]","v":0},{"$f":"_300A_FUNDING[[#This Row],[Column7]]*_300A_FUNDING[[#This Row],[LOW BIDDER''S UNIT PRICE]]","v":0},{"$f":"_300A_FUNDING[[#This Row],[Column8]]*_300A_FUNDING[[#This Row],[LOW BIDDER''S UNIT PRICE]]","v":0},{"$f":"_300A_FUNDING[[#This Row],[Column9]]*_300A_FUNDING[[#This Row],[LOW BIDDER''S UNIT PRICE]]","v":0},{"$f":"_300A_FUNDING[[#This Row],[Column10]]*_300A_FUNDING[[#This Row],[LOW BIDDER''S UNIT PRICE]]","v":0},{"$f":"_300A_FUNDING[[#This Row],[Column11]]*_300A_FUNDING[[#This Row],[LOW BIDDER''S UNIT PRICE]]","v":0},{"$f":"_300A_FUNDING[[#This Row],[Column12]]*_300A_FUNDING[[#This Row],[LOW BIDDER''S UNIT PRICE]]","v":0},{"$f":"_300A_FUNDING[[#This Row],[Column13]]*_300A_FUNDING[[#This Row],[LOW BIDDER''S UNIT PRICE]]","v":0},{"$f":"_300A_FUNDING[[#This Row],[Column14]]*_300A_FUNDING[[#This Row],[LOW BIDDER''S UNIT PRICE]]","v":0}]
[null,null,null,null,null,null,null,null,null,null,null,null,null,null,null,null,0,{"$f":"_300A_FUNDING[[#This Row],[Column5]]*_300A_FUNDING[[#This Row],[LOW BIDDER''S UNIT PRICE]]","v":0},{"$f":"_300A_FUNDING[[#This Row],[Column6]]*_300A_FUNDING[[#This Row],[LOW BIDDER''S UNIT PRICE]]","v":0},{"$f":"_300A_FUNDING[[#This Row],[Column7]]*_300A_FUNDING[[#This Row],[LOW BIDDER''S UNIT PRICE]]","v":0},{"$f":"_300A_FUNDING[[#This Row],[Column8]]*_300A_FUNDING[[#This Row],[LOW BIDDER''S UNIT PRICE]]","v":0},{"$f":"_300A_FUNDING[[#This Row],[Column9]]*_300A_FUNDING[[#This Row],[LOW BIDDER''S UNIT PRICE]]","v":0},{"$f":"_300A_FUNDING[[#This Row],[Column10]]*_300A_FUNDING[[#This Row],[LOW BIDDER''S UNIT PRICE]]","v":0},{"$f":"_300A_FUNDING[[#This Row],[Column11]]*_300A_FUNDING[[#This Row],[LOW BIDDER''S UNIT PRICE]]","v":0},{"$f":"_300A_FUNDING[[#This Row],[Column12]]*_300A_FUNDING[[#This Row],[LOW BIDDER''S UNIT PRICE]]","v":0},{"$f":"_300A_FUNDING[[#This Row],[Column13]]*_300A_FUNDING[[#This Row],[LOW BIDDER''S UNIT PRICE]]","v":0},{"$f":"_300A_FUNDING[[#This Row],[Column14]]*_300A_FUNDING[[#This Row],[LOW BIDDER''S UNIT PRICE]]","v":0}]
[null,null,null,null,null,null,null,null,null,null,null,null,null,null,null,null,0,{"$f":"_300A_FUNDING[[#This Row],[Column5]]*_300A_FUNDING[[#This Row],[LOW BIDDER''S UNIT PRICE]]","v":0},{"$f":"_300A_FUNDING[[#This Row],[Column6]]*_300A_FUNDING[[#This Row],[LOW BIDDER''S UNIT PRICE]]","v":0},{"$f":"_300A_FUNDING[[#This Row],[Column7]]*_300A_FUNDING[[#This Row],[LOW BIDDER''S UNIT PRICE]]","v":0},{"$f":"_300A_FUNDING[[#This Row],[Column8]]*_300A_FUNDING[[#This Row],[LOW BIDDER''S UNIT PRICE]]","v":0},{"$f":"_300A_FUNDING[[#This Row],[Column9]]*_300A_FUNDING[[#This Row],[LOW BIDDER''S UNIT PRICE]]","v":0},{"$f":"_300A_FUNDING[[#This Row],[Column10]]*_300A_FUNDING[[#This Row],[LOW BIDDER''S UNIT PRICE]]","v":0},{"$f":"_300A_FUNDING[[#This Row],[Column11]]*_300A_FUNDING[[#This Row],[LOW BIDDER''S UNIT PRICE]]","v":0},{"$f":"_300A_FUNDING[[#This Row],[Column12]]*_300A_FUNDING[[#This Row],[LOW BIDDER''S UNIT PRICE]]","v":0},{"$f":"_300A_FUNDING[[#This Row],[Column13]]*_300A_FUNDING[[#This Row],[LOW BIDDER''S UNIT PRICE]]","v":0},{"$f":"_300A_FUNDING[[#This Row],[Column14]]*_300A_FUNDING[[#This Row],[LOW BIDDER''S UNIT PRICE]]","v":0}]
[null,null,null,null,null,null,null,null,null,null,null,null,null,null,null,null,0,{"$f":"_300A_FUNDING[[#This Row],[Column5]]*_300A_FUNDING[[#This Row],[LOW BIDDER''S UNIT PRICE]]","v":0},{"$f":"_300A_FUNDING[[#This Row],[Column6]]*_300A_FUNDING[[#This Row],[LOW BIDDER''S UNIT PRICE]]","v":0},{"$f":"_300A_FUNDING[[#This Row],[Column7]]*_300A_FUNDING[[#This Row],[LOW BIDDER''S UNIT PRICE]]","v":0},{"$f":"_300A_FUNDING[[#This Row],[Column8]]*_300A_FUNDING[[#This Row],[LOW BIDDER''S UNIT PRICE]]","v":0},{"$f":"_300A_FUNDING[[#This Row],[Column9]]*_300A_FUNDING[[#This Row],[LOW BIDDER''S UNIT PRICE]]","v":0},{"$f":"_300A_FUNDING[[#This Row],[Column10]]*_300A_FUNDING[[#This Row],[LOW BIDDER''S UNIT PRICE]]","v":0},{"$f":"_300A_FUNDING[[#This Row],[Column11]]*_300A_FUNDING[[#This Row],[LOW BIDDER''S UNIT PRICE]]","v":0},{"$f":"_300A_FUNDING[[#This Row],[Column12]]*_300A_FUNDING[[#This Row],[LOW BIDDER''S UNIT PRICE]]","v":0},{"$f":"_300A_FUNDING[[#This Row],[Column13]]*_300A_FUNDING[[#This Row],[LOW BIDDER''S UNIT PRICE]]","v":0},{"$f":"_300A_FUNDING[[#This Row],[Column14]]*_300A_FUNDING[[#This Row],[LOW BIDDER''S UNIT PRICE]]","v":0}]
[null,null,null,null,null,null,null,null,null,null,null,null,null,null,null,null,0,{"$f":"_300A_FUNDING[[#This Row],[Column5]]*_300A_FUNDING[[#This Row],[LOW BIDDER''S UNIT PRICE]]","v":0},{"$f":"_300A_FUNDING[[#This Row],[Column6]]*_300A_FUNDING[[#This Row],[LOW BIDDER''S UNIT PRICE]]","v":0},{"$f":"_300A_FUNDING[[#This Row],[Column7]]*_300A_FUNDING[[#This Row],[LOW BIDDER''S UNIT PRICE]]","v":0},{"$f":"_300A_FUNDING[[#This Row],[Column8]]*_300A_FUNDING[[#This Row],[LOW BIDDER''S UNIT PRICE]]","v":0},{"$f":"_300A_FUNDING[[#This Row],[Column9]]*_300A_FUNDING[[#This Row],[LOW BIDDER''S UNIT PRICE]]","v":0},{"$f":"_300A_FUNDING[[#This Row],[Column10]]*_300A_FUNDING[[#This Row],[LOW BIDDER''S UNIT PRICE]]","v":0},{"$f":"_300A_FUNDING[[#This Row],[Column11]]*_300A_FUNDING[[#This Row],[LOW BIDDER''S UNIT PRICE]]","v":0},{"$f":"_300A_FUNDING[[#This Row],[Column12]]*_300A_FUNDING[[#This Row],[LOW BIDDER''S UNIT PRICE]]","v":0},{"$f":"_300A_FUNDING[[#This Row],[Column13]]*_300A_FUNDING[[#This Row],[LOW BIDDER''S UNIT PRICE]]","v":0},{"$f":"_300A_FUNDING[[#This Row],[Column14]]*_300A_FUNDING[[#This Row],[LOW BIDDER''S UNIT PRICE]]","v":0}]
[null,null,null,null,null,null,null,null,null,null,null,null,null,null,null,null,0,{"$f":"_300A_FUNDING[[#This Row],[Column5]]*_300A_FUNDING[[#This Row],[LOW BIDDER''S UNIT PRICE]]","v":0},{"$f":"_300A_FUNDING[[#This Row],[Column6]]*_300A_FUNDING[[#This Row],[LOW BIDDER''S UNIT PRICE]]","v":0},{"$f":"_300A_FUNDING[[#This Row],[Column7]]*_300A_FUNDING[[#This Row],[LOW BIDDER''S UNIT PRICE]]","v":0},{"$f":"_300A_FUNDING[[#This Row],[Column8]]*_300A_FUNDING[[#This Row],[LOW BIDDER''S UNIT PRICE]]","v":0},{"$f":"_300A_FUNDING[[#This Row],[Column9]]*_300A_FUNDING[[#This Row],[LOW BIDDER''S UNIT PRICE]]","v":0},{"$f":"_300A_FUNDING[[#This Row],[Column10]]*_300A_FUNDING[[#This Row],[LOW BIDDER''S UNIT PRICE]]","v":0},{"$f":"_300A_FUNDING[[#This Row],[Column11]]*_300A_FUNDING[[#This Row],[LOW BIDDER''S UNIT PRICE]]","v":0},{"$f":"_300A_FUNDING[[#This Row],[Column12]]*_300A_FUNDING[[#This Row],[LOW BIDDER''S UNIT PRICE]]","v":0},{"$f":"_300A_FUNDING[[#This Row],[Column13]]*_300A_FUNDING[[#This Row],[LOW BIDDER''S UNIT PRICE]]","v":0},{"$f":"_300A_FUNDING[[#This Row],[Column14]]*_300A_FUNDING[[#This Row],[LOW BIDDER''S UNIT PRICE]]","v":0}]
[null,null,null,null,null,null,null,null,null,null,null,null,null,null,null,null,0,{"$f":"_300A_FUNDING[[#This Row],[Column5]]*_300A_FUNDING[[#This Row],[LOW BIDDER''S UNIT PRICE]]","v":0},{"$f":"_300A_FUNDING[[#This Row],[Column6]]*_300A_FUNDING[[#This Row],[LOW BIDDER''S UNIT PRICE]]","v":0},{"$f":"_300A_FUNDING[[#This Row],[Column7]]*_300A_FUNDING[[#This Row],[LOW BIDDER''S UNIT PRICE]]","v":0},{"$f":"_300A_FUNDING[[#This Row],[Column8]]*_300A_FUNDING[[#This Row],[LOW BIDDER''S UNIT PRICE]]","v":0},{"$f":"_300A_FUNDING[[#This Row],[Column9]]*_300A_FUNDING[[#This Row],[LOW BIDDER''S UNIT PRICE]]","v":0},{"$f":"_300A_FUNDING[[#This Row],[Column10]]*_300A_FUNDING[[#This Row],[LOW BIDDER''S UNIT PRICE]]","v":0},{"$f":"_300A_FUNDING[[#This Row],[Column11]]*_300A_FUNDING[[#This Row],[LOW BIDDER''S UNIT PRICE]]","v":0},{"$f":"_300A_FUNDING[[#This Row],[Column12]]*_300A_FUNDING[[#This Row],[LOW BIDDER''S UNIT PRICE]]","v":0},{"$f":"_300A_FUNDING[[#This Row],[Column13]]*_300A_FUNDING[[#This Row],[LOW BIDDER''S UNIT PRICE]]","v":0},{"$f":"_300A_FUNDING[[#This Row],[Column14]]*_300A_FUNDING[[#This Row],[LOW BIDDER''S UNIT PRICE]]","v":0}]
[null,null,null,null,null,null,null,null,null,null,null,null,null,null,null,null,0,{"$f":"_300A_FUNDING[[#This Row],[Column5]]*_300A_FUNDING[[#This Row],[LOW BIDDER''S UNIT PRICE]]","v":0},{"$f":"_300A_FUNDING[[#This Row],[Column6]]*_300A_FUNDING[[#This Row],[LOW BIDDER''S UNIT PRICE]]","v":0},{"$f":"_300A_FUNDING[[#This Row],[Column7]]*_300A_FUNDING[[#This Row],[LOW BIDDER''S UNIT PRICE]]","v":0},{"$f":"_300A_FUNDING[[#This Row],[Column8]]*_300A_FUNDING[[#This Row],[LOW BIDDER''S UNIT PRICE]]","v":0},{"$f":"_300A_FUNDING[[#This Row],[Column9]]*_300A_FUNDING[[#This Row],[LOW BIDDER''S UNIT PRICE]]","v":0},{"$f":"_300A_FUNDING[[#This Row],[Column10]]*_300A_FUNDING[[#This Row],[LOW BIDDER''S UNIT PRICE]]","v":0},{"$f":"_300A_FUNDING[[#This Row],[Column11]]*_300A_FUNDING[[#This Row],[LOW BIDDER''S UNIT PRICE]]","v":0},{"$f":"_300A_FUNDING[[#This Row],[Column12]]*_300A_FUNDING[[#This Row],[LOW BIDDER''S UNIT PRICE]]","v":0},{"$f":"_300A_FUNDING[[#This Row],[Column13]]*_300A_FUNDING[[#This Row],[LOW BIDDER''S UNIT PRICE]]","v":0},{"$f":"_300A_FUNDING[[#This Row],[Column14]]*_300A_FUNDING[[#This Row],[LOW BIDDER''S UNIT PRICE]]","v":0}]
[null,null,null,null,null,null,null,null,null,null,null,null,null,null,null,null,0,{"$f":"_300A_FUNDING[[#This Row],[Column5]]*_300A_FUNDING[[#This Row],[LOW BIDDER''S UNIT PRICE]]","v":0},{"$f":"_300A_FUNDING[[#This Row],[Column6]]*_300A_FUNDING[[#This Row],[LOW BIDDER''S UNIT PRICE]]","v":0},{"$f":"_300A_FUNDING[[#This Row],[Column7]]*_300A_FUNDING[[#This Row],[LOW BIDDER''S UNIT PRICE]]","v":0},{"$f":"_300A_FUNDING[[#This Row],[Column8]]*_300A_FUNDING[[#This Row],[LOW BIDDER''S UNIT PRICE]]","v":0},{"$f":"_300A_FUNDING[[#This Row],[Column9]]*_300A_FUNDING[[#This Row],[LOW BIDDER''S UNIT PRICE]]","v":0},{"$f":"_300A_FUNDING[[#This Row],[Column10]]*_300A_FUNDING[[#This Row],[LOW BIDDER''S UNIT PRICE]]","v":0},{"$f":"_300A_FUNDING[[#This Row],[Column11]]*_300A_FUNDING[[#This Row],[LOW BIDDER''S UNIT PRICE]]","v":0},{"$f":"_300A_FUNDING[[#This Row],[Column12]]*_300A_FUNDING[[#This Row],[LOW BIDDER''S UNIT PRICE]]","v":0},{"$f":"_300A_FUNDING[[#This Row],[Column13]]*_300A_FUNDING[[#This Row],[LOW BIDDER''S UNIT PRICE]]","v":0},{"$f":"_300A_FUNDING[[#This Row],[Column14]]*_300A_FUNDING[[#This Row],[LOW BIDDER''S UNIT PRICE]]","v":0}]
[null,null,null,null,null,null,null,null,null,null,null,null,null,null,null,null,0,{"$f":"_300A_FUNDING[[#This Row],[Column5]]*_300A_FUNDING[[#This Row],[LOW BIDDER''S UNIT PRICE]]","v":0},{"$f":"_300A_FUNDING[[#This Row],[Column6]]*_300A_FUNDING[[#This Row],[LOW BIDDER''S UNIT PRICE]]","v":0},{"$f":"_300A_FUNDING[[#This Row],[Column7]]*_300A_FUNDING[[#This Row],[LOW BIDDER''S UNIT PRICE]]","v":0},{"$f":"_300A_FUNDING[[#This Row],[Column8]]*_300A_FUNDING[[#This Row],[LOW BIDDER''S UNIT PRICE]]","v":0},{"$f":"_300A_FUNDING[[#This Row],[Column9]]*_300A_FUNDING[[#This Row],[LOW BIDDER''S UNIT PRICE]]","v":0},{"$f":"_300A_FUNDING[[#This Row],[Column10]]*_300A_FUNDING[[#This Row],[LOW BIDDER''S UNIT PRICE]]","v":0},{"$f":"_300A_FUNDING[[#This Row],[Column11]]*_300A_FUNDING[[#This Row],[LOW BIDDER''S UNIT PRICE]]","v":0},{"$f":"_300A_FUNDING[[#This Row],[Column12]]*_300A_FUNDING[[#This Row],[LOW BIDDER''S UNIT PRICE]]","v":0},{"$f":"_300A_FUNDING[[#This Row],[Column13]]*_300A_FUNDING[[#This Row],[LOW BIDDER''S UNIT PRICE]]","v":0},{"$f":"_300A_FUNDING[[#This Row],[Column14]]*_300A_FUNDING[[#This Row],[LOW BIDDER''S UNIT PRICE]]","v":0}]
[null,null,null,null,null,null,null,null,null,null,null,null,null,null,null,null,0,{"$f":"_300A_FUNDING[[#This Row],[Column5]]*_300A_FUNDING[[#This Row],[LOW BIDDER''S UNIT PRICE]]","v":0},{"$f":"_300A_FUNDING[[#This Row],[Column6]]*_300A_FUNDING[[#This Row],[LOW BIDDER''S UNIT PRICE]]","v":0},{"$f":"_300A_FUNDING[[#This Row],[Column7]]*_300A_FUNDING[[#This Row],[LOW BIDDER''S UNIT PRICE]]","v":0},{"$f":"_300A_FUNDING[[#This Row],[Column8]]*_300A_FUNDING[[#This Row],[LOW BIDDER''S UNIT PRICE]]","v":0},{"$f":"_300A_FUNDING[[#This Row],[Column9]]*_300A_FUNDING[[#This Row],[LOW BIDDER''S UNIT PRICE]]","v":0},{"$f":"_300A_FUNDING[[#This Row],[Column10]]*_300A_FUNDING[[#This Row],[LOW BIDDER''S UNIT PRICE]]","v":0},{"$f":"_300A_FUNDING[[#This Row],[Column11]]*_300A_FUNDING[[#This Row],[LOW BIDDER''S UNIT PRICE]]","v":0},{"$f":"_300A_FUNDING[[#This Row],[Column12]]*_300A_FUNDING[[#This Row],[LOW BIDDER''S UNIT PRICE]]","v":0},{"$f":"_300A_FUNDING[[#This Row],[Column13]]*_300A_FUNDING[[#This Row],[LOW BIDDER''S UNIT PRICE]]","v":0},{"$f":"_300A_FUNDING[[#This Row],[Column14]]*_300A_FUNDING[[#This Row],[LOW BIDDER''S UNIT PRICE]]","v":0}]
[null,null,null,null,null,null,null,null,null,null,null,null,null,null,null,null,0,{"$f":"_300A_FUNDING[[#This Row],[Column5]]*_300A_FUNDING[[#This Row],[LOW BIDDER''S UNIT PRICE]]","v":0},{"$f":"_300A_FUNDING[[#This Row],[Column6]]*_300A_FUNDING[[#This Row],[LOW BIDDER''S UNIT PRICE]]","v":0},{"$f":"_300A_FUNDING[[#This Row],[Column7]]*_300A_FUNDING[[#This Row],[LOW BIDDER''S UNIT PRICE]]","v":0},{"$f":"_300A_FUNDING[[#This Row],[Column8]]*_300A_FUNDING[[#This Row],[LOW BIDDER''S UNIT PRICE]]","v":0},{"$f":"_300A_FUNDING[[#This Row],[Column9]]*_300A_FUNDING[[#This Row],[LOW BIDDER''S UNIT PRICE]]","v":0},{"$f":"_300A_FUNDING[[#This Row],[Column10]]*_300A_FUNDING[[#This Row],[LOW BIDDER''S UNIT PRICE]]","v":0},{"$f":"_300A_FUNDING[[#This Row],[Column11]]*_300A_FUNDING[[#This Row],[LOW BIDDER''S UNIT PRICE]]","v":0},{"$f":"_300A_FUNDING[[#This Row],[Column12]]*_300A_FUNDING[[#This Row],[LOW BIDDER''S UNIT PRICE]]","v":0},{"$f":"_300A_FUNDING[[#This Row],[Column13]]*_300A_FUNDING[[#This Row],[LOW BIDDER''S UNIT PRICE]]","v":0},{"$f":"_300A_FUNDING[[#This Row],[Column14]]*_300A_FUNDING[[#This Row],[LOW BIDDER''S UNIT PRICE]]","v":0}]
[null,null,null,null,null,null,null,null,null,null,null,null,null,null,null,null,0,{"$f":"_300A_FUNDING[[#This Row],[Column5]]*_300A_FUNDING[[#This Row],[LOW BIDDER''S UNIT PRICE]]","v":0},{"$f":"_300A_FUNDING[[#This Row],[Column6]]*_300A_FUNDING[[#This Row],[LOW BIDDER''S UNIT PRICE]]","v":0},{"$f":"_300A_FUNDING[[#This Row],[Column7]]*_300A_FUNDING[[#This Row],[LOW BIDDER''S UNIT PRICE]]","v":0},{"$f":"_300A_FUNDING[[#This Row],[Column8]]*_300A_FUNDING[[#This Row],[LOW BIDDER''S UNIT PRICE]]","v":0},{"$f":"_300A_FUNDING[[#This Row],[Column9]]*_300A_FUNDING[[#This Row],[LOW BIDDER''S UNIT PRICE]]","v":0},{"$f":"_300A_FUNDING[[#This Row],[Column10]]*_300A_FUNDING[[#This Row],[LOW BIDDER''S UNIT PRICE]]","v":0},{"$f":"_300A_FUNDING[[#This Row],[Column11]]*_300A_FUNDING[[#This Row],[LOW BIDDER''S UNIT PRICE]]","v":0},{"$f":"_300A_FUNDING[[#This Row],[Column12]]*_300A_FUNDING[[#This Row],[LOW BIDDER''S UNIT PRICE]]","v":0},{"$f":"_300A_FUNDING[[#This Row],[Column13]]*_300A_FUNDING[[#This Row],[LOW BIDDER''S UNIT PRICE]]","v":0},{"$f":"_300A_FUNDING[[#This Row],[Column14]]*_300A_FUNDING[[#This Row],[LOW BIDDER''S UNIT PRICE]]","v":0}]
[null,null,null,null,null,null,null,null,null,null,null,null,null,null,null,null,0,{"$f":"_300A_FUNDING[[#This Row],[Column5]]*_300A_FUNDING[[#This Row],[LOW BIDDER''S UNIT PRICE]]","v":0},{"$f":"_300A_FUNDING[[#This Row],[Column6]]*_300A_FUNDING[[#This Row],[LOW BIDDER''S UNIT PRICE]]","v":0},{"$f":"_300A_FUNDING[[#This Row],[Column7]]*_300A_FUNDING[[#This Row],[LOW BIDDER''S UNIT PRICE]]","v":0},{"$f":"_300A_FUNDING[[#This Row],[Column8]]*_300A_FUNDING[[#This Row],[LOW BIDDER''S UNIT PRICE]]","v":0},{"$f":"_300A_FUNDING[[#This Row],[Column9]]*_300A_FUNDING[[#This Row],[LOW BIDDER''S UNIT PRICE]]","v":0},{"$f":"_300A_FUNDING[[#This Row],[Column10]]*_300A_FUNDING[[#This Row],[LOW BIDDER''S UNIT PRICE]]","v":0},{"$f":"_300A_FUNDING[[#This Row],[Column11]]*_300A_FUNDING[[#This Row],[LOW BIDDER''S UNIT PRICE]]","v":0},{"$f":"_300A_FUNDING[[#This Row],[Column12]]*_300A_FUNDING[[#This Row],[LOW BIDDER''S UNIT PRICE]]","v":0},{"$f":"_300A_FUNDING[[#This Row],[Column13]]*_300A_FUNDING[[#This Row],[LOW BIDDER''S UNIT PRICE]]","v":0},{"$f":"_300A_FUNDING[[#This Row],[Column14]]*_300A_FUNDING[[#This Row],[LOW BIDDER''S UNIT PRICE]]","v":0}]
[null,null,null,null,null,null,null,null,null,null,null,null,null,null,null,null,0,{"$f":"_300A_FUNDING[[#This Row],[Column5]]*_300A_FUNDING[[#This Row],[LOW BIDDER''S UNIT PRICE]]","v":0},{"$f":"_300A_FUNDING[[#This Row],[Column6]]*_300A_FUNDING[[#This Row],[LOW BIDDER''S UNIT PRICE]]","v":0},{"$f":"_300A_FUNDING[[#This Row],[Column7]]*_300A_FUNDING[[#This Row],[LOW BIDDER''S UNIT PRICE]]","v":0},{"$f":"_300A_FUNDING[[#This Row],[Column8]]*_300A_FUNDING[[#This Row],[LOW BIDDER''S UNIT PRICE]]","v":0},{"$f":"_300A_FUNDING[[#This Row],[Column9]]*_300A_FUNDING[[#This Row],[LOW BIDDER''S UNIT PRICE]]","v":0},{"$f":"_300A_FUNDING[[#This Row],[Column10]]*_300A_FUNDING[[#This Row],[LOW BIDDER''S UNIT PRICE]]","v":0},{"$f":"_300A_FUNDING[[#This Row],[Column11]]*_300A_FUNDING[[#This Row],[LOW BIDDER''S UNIT PRICE]]","v":0},{"$f":"_300A_FUNDING[[#This Row],[Column12]]*_300A_FUNDING[[#This Row],[LOW BIDDER''S UNIT PRICE]]","v":0},{"$f":"_300A_FUNDING[[#This Row],[Column13]]*_300A_FUNDING[[#This Row],[LOW BIDDER''S UNIT PRICE]]","v":0},{"$f":"_300A_FUNDING[[#This Row],[Column14]]*_300A_FUNDING[[#This Row],[LOW BIDDER''S UNIT PRICE]]","v":0}]
[null,null,null,null,null,null,null,null,null,null,null,null,null,null,null,null,0,{"$f":"_300A_FUNDING[[#This Row],[Column5]]*_300A_FUNDING[[#This Row],[LOW BIDDER''S UNIT PRICE]]","v":0},{"$f":"_300A_FUNDING[[#This Row],[Column6]]*_300A_FUNDING[[#This Row],[LOW BIDDER''S UNIT PRICE]]","v":0},{"$f":"_300A_FUNDING[[#This Row],[Column7]]*_300A_FUNDING[[#This Row],[LOW BIDDER''S UNIT PRICE]]","v":0},{"$f":"_300A_FUNDING[[#This Row],[Column8]]*_300A_FUNDING[[#This Row],[LOW BIDDER''S UNIT PRICE]]","v":0},{"$f":"_300A_FUNDING[[#This Row],[Column9]]*_300A_FUNDING[[#This Row],[LOW BIDDER''S UNIT PRICE]]","v":0},{"$f":"_300A_FUNDING[[#This Row],[Column10]]*_300A_FUNDING[[#This Row],[LOW BIDDER''S UNIT PRICE]]","v":0},{"$f":"_300A_FUNDING[[#This Row],[Column11]]*_300A_FUNDING[[#This Row],[LOW BIDDER''S UNIT PRICE]]","v":0},{"$f":"_300A_FUNDING[[#This Row],[Column12]]*_300A_FUNDING[[#This Row],[LOW BIDDER''S UNIT PRICE]]","v":0},{"$f":"_300A_FUNDING[[#This Row],[Column13]]*_300A_FUNDING[[#This Row],[LOW BIDDER''S UNIT PRICE]]","v":0},{"$f":"_300A_FUNDING[[#This Row],[Column14]]*_300A_FUNDING[[#This Row],[LOW BIDDER''S UNIT PRICE]]","v":0}]
[null,null,null,null,null,null,null,null,null,null,null,null,null,null,null,null,0,{"$f":"_300A_FUNDING[[#This Row],[Column5]]*_300A_FUNDING[[#This Row],[LOW BIDDER''S UNIT PRICE]]","v":0},{"$f":"_300A_FUNDING[[#This Row],[Column6]]*_300A_FUNDING[[#This Row],[LOW BIDDER''S UNIT PRICE]]","v":0},{"$f":"_300A_FUNDING[[#This Row],[Column7]]*_300A_FUNDING[[#This Row],[LOW BIDDER''S UNIT PRICE]]","v":0},{"$f":"_300A_FUNDING[[#This Row],[Column8]]*_300A_FUNDING[[#This Row],[LOW BIDDER''S UNIT PRICE]]","v":0},{"$f":"_300A_FUNDING[[#This Row],[Column9]]*_300A_FUNDING[[#This Row],[LOW BIDDER''S UNIT PRICE]]","v":0},{"$f":"_300A_FUNDING[[#This Row],[Column10]]*_300A_FUNDING[[#This Row],[LOW BIDDER''S UNIT PRICE]]","v":0},{"$f":"_300A_FUNDING[[#This Row],[Column11]]*_300A_FUNDING[[#This Row],[LOW BIDDER''S UNIT PRICE]]","v":0},{"$f":"_300A_FUNDING[[#This Row],[Column12]]*_300A_FUNDING[[#This Row],[LOW BIDDER''S UNIT PRICE]]","v":0},{"$f":"_300A_FUNDING[[#This Row],[Column13]]*_300A_FUNDING[[#This Row],[LOW BIDDER''S UNIT PRICE]]","v":0},{"$f":"_300A_FUNDING[[#This Row],[Column14]]*_300A_FUNDING[[#This Row],[LOW BIDDER''S UNIT PRICE]]","v":0}]
[null,null,null,null,null,null,null,null,null,null,null,null,null,null,null,null,0,{"$f":"_300A_FUNDING[[#This Row],[Column5]]*_300A_FUNDING[[#This Row],[LOW BIDDER''S UNIT PRICE]]","v":0},{"$f":"_300A_FUNDING[[#This Row],[Column6]]*_300A_FUNDING[[#This Row],[LOW BIDDER''S UNIT PRICE]]","v":0},{"$f":"_300A_FUNDING[[#This Row],[Column7]]*_300A_FUNDING[[#This Row],[LOW BIDDER''S UNIT PRICE]]","v":0},{"$f":"_300A_FUNDING[[#This Row],[Column8]]*_300A_FUNDING[[#This Row],[LOW BIDDER''S UNIT PRICE]]","v":0},{"$f":"_300A_FUNDING[[#This Row],[Column9]]*_300A_FUNDING[[#This Row],[LOW BIDDER''S UNIT PRICE]]","v":0},{"$f":"_300A_FUNDING[[#This Row],[Column10]]*_300A_FUNDING[[#This Row],[LOW BIDDER''S UNIT PRICE]]","v":0},{"$f":"_300A_FUNDING[[#This Row],[Column11]]*_300A_FUNDING[[#This Row],[LOW BIDDER''S UNIT PRICE]]","v":0},{"$f":"_300A_FUNDING[[#This Row],[Column12]]*_300A_FUNDING[[#This Row],[LOW BIDDER''S UNIT PRICE]]","v":0},{"$f":"_300A_FUNDING[[#This Row],[Column13]]*_300A_FUNDING[[#This Row],[LOW BIDDER''S UNIT PRICE]]","v":0},{"$f":"_300A_FUNDING[[#This Row],[Column14]]*_300A_FUNDING[[#This Row],[LOW BIDDER''S UNIT PRICE]]","v":0}]
[null,null,null,null,null,null,null,null,null,null,null,null,null,null,null,null,0,{"$f":"_300A_FUNDING[[#This Row],[Column5]]*_300A_FUNDING[[#This Row],[LOW BIDDER''S UNIT PRICE]]","v":0},{"$f":"_300A_FUNDING[[#This Row],[Column6]]*_300A_FUNDING[[#This Row],[LOW BIDDER''S UNIT PRICE]]","v":0},{"$f":"_300A_FUNDING[[#This Row],[Column7]]*_300A_FUNDING[[#This Row],[LOW BIDDER''S UNIT PRICE]]","v":0},{"$f":"_300A_FUNDING[[#This Row],[Column8]]*_300A_FUNDING[[#This Row],[LOW BIDDER''S UNIT PRICE]]","v":0},{"$f":"_300A_FUNDING[[#This Row],[Column9]]*_300A_FUNDING[[#This Row],[LOW BIDDER''S UNIT PRICE]]","v":0},{"$f":"_300A_FUNDING[[#This Row],[Column10]]*_300A_FUNDING[[#This Row],[LOW BIDDER''S UNIT PRICE]]","v":0},{"$f":"_300A_FUNDING[[#This Row],[Column11]]*_300A_FUNDING[[#This Row],[LOW BIDDER''S UNIT PRICE]]","v":0},{"$f":"_300A_FUNDING[[#This Row],[Column12]]*_300A_FUNDING[[#This Row],[LOW BIDDER''S UNIT PRICE]]","v":0},{"$f":"_300A_FUNDING[[#This Row],[Column13]]*_300A_FUNDING[[#This Row],[LOW BIDDER''S UNIT PRICE]]","v":0},{"$f":"_300A_FUNDING[[#This Row],[Column14]]*_300A_FUNDING[[#This Row],[LOW BIDDER''S UNIT PRICE]]","v":0}]
[null,null,null,null,null,null,null,null,null,null,null,null,null,null,null,null,0,{"$f":"_300A_FUNDING[[#This Row],[Column5]]*_300A_FUNDING[[#This Row],[LOW BIDDER''S UNIT PRICE]]","v":0},{"$f":"_300A_FUNDING[[#This Row],[Column6]]*_300A_FUNDING[[#This Row],[LOW BIDDER''S UNIT PRICE]]","v":0},{"$f":"_300A_FUNDING[[#This Row],[Column7]]*_300A_FUNDING[[#This Row],[LOW BIDDER''S UNIT PRICE]]","v":0},{"$f":"_300A_FUNDING[[#This Row],[Column8]]*_300A_FUNDING[[#This Row],[LOW BIDDER''S UNIT PRICE]]","v":0},{"$f":"_300A_FUNDING[[#This Row],[Column9]]*_300A_FUNDING[[#This Row],[LOW BIDDER''S UNIT PRICE]]","v":0},{"$f":"_300A_FUNDING[[#This Row],[Column10]]*_300A_FUNDING[[#This Row],[LOW BIDDER''S UNIT PRICE]]","v":0},{"$f":"_300A_FUNDING[[#This Row],[Column11]]*_300A_FUNDING[[#This Row],[LOW BIDDER''S UNIT PRICE]]","v":0},{"$f":"_300A_FUNDING[[#This Row],[Column12]]*_300A_FUNDING[[#This Row],[LOW BIDDER''S UNIT PRICE]]","v":0},{"$f":"_300A_FUNDING[[#This Row],[Column13]]*_300A_FUNDING[[#This Row],[LOW BIDDER''S UNIT PRICE]]","v":0},{"$f":"_300A_FUNDING[[#This Row],[Column14]]*_300A_FUNDING[[#This Row],[LOW BIDDER''S UNIT PRICE]]","v":0}]
[null,null,null,null,null,null,null,null,null,null,null,null,null,null,null,null,0,{"$f":"_300A_FUNDING[[#This Row],[Column5]]*_300A_FUNDING[[#This Row],[LOW BIDDER''S UNIT PRICE]]","v":0},{"$f":"_300A_FUNDING[[#This Row],[Column6]]*_300A_FUNDING[[#This Row],[LOW BIDDER''S UNIT PRICE]]","v":0},{"$f":"_300A_FUNDING[[#This Row],[Column7]]*_300A_FUNDING[[#This Row],[LOW BIDDER''S UNIT PRICE]]","v":0},{"$f":"_300A_FUNDING[[#This Row],[Column8]]*_300A_FUNDING[[#This Row],[LOW BIDDER''S UNIT PRICE]]","v":0},{"$f":"_300A_FUNDING[[#This Row],[Column9]]*_300A_FUNDING[[#This Row],[LOW BIDDER''S UNIT PRICE]]","v":0},{"$f":"_300A_FUNDING[[#This Row],[Column10]]*_300A_FUNDING[[#This Row],[LOW BIDDER''S UNIT PRICE]]","v":0},{"$f":"_300A_FUNDING[[#This Row],[Column11]]*_300A_FUNDING[[#This Row],[LOW BIDDER''S UNIT PRICE]]","v":0},{"$f":"_300A_FUNDING[[#This Row],[Column12]]*_300A_FUNDING[[#This Row],[LOW BIDDER''S UNIT PRICE]]","v":0},{"$f":"_300A_FUNDING[[#This Row],[Column13]]*_300A_FUNDING[[#This Row],[LOW BIDDER''S UNIT PRICE]]","v":0},{"$f":"_300A_FUNDING[[#This Row],[Column14]]*_300A_FUNDING[[#This Row],[LOW BIDDER''S UNIT PRICE]]","v":0}]
[null,null,null,null,null,null,null,null,null,null,null,null,null,null,null,null,0,{"$f":"_300A_FUNDING[[#This Row],[Column5]]*_300A_FUNDING[[#This Row],[LOW BIDDER''S UNIT PRICE]]","v":0},{"$f":"_300A_FUNDING[[#This Row],[Column6]]*_300A_FUNDING[[#This Row],[LOW BIDDER''S UNIT PRICE]]","v":0},{"$f":"_300A_FUNDING[[#This Row],[Column7]]*_300A_FUNDING[[#This Row],[LOW BIDDER''S UNIT PRICE]]","v":0},{"$f":"_300A_FUNDING[[#This Row],[Column8]]*_300A_FUNDING[[#This Row],[LOW BIDDER''S UNIT PRICE]]","v":0},{"$f":"_300A_FUNDING[[#This Row],[Column9]]*_300A_FUNDING[[#This Row],[LOW BIDDER''S UNIT PRICE]]","v":0},{"$f":"_300A_FUNDING[[#This Row],[Column10]]*_300A_FUNDING[[#This Row],[LOW BIDDER''S UNIT PRICE]]","v":0},{"$f":"_300A_FUNDING[[#This Row],[Column11]]*_300A_FUNDING[[#This Row],[LOW BIDDER''S UNIT PRICE]]","v":0},{"$f":"_300A_FUNDING[[#This Row],[Column12]]*_300A_FUNDING[[#This Row],[LOW BIDDER''S UNIT PRICE]]","v":0},{"$f":"_300A_FUNDING[[#This Row],[Column13]]*_300A_FUNDING[[#This Row],[LOW BIDDER''S UNIT PRICE]]","v":0},{"$f":"_300A_FUNDING[[#This Row],[Column14]]*_300A_FUNDING[[#This Row],[LOW BIDDER''S UNIT PRICE]]","v":0}]
[null,null,null,null,null,null,null,null,null,null,null,null,null,null,null,null,0,{"$f":"_300A_FUNDING[[#This Row],[Column5]]*_300A_FUNDING[[#This Row],[LOW BIDDER''S UNIT PRICE]]","v":0},{"$f":"_300A_FUNDING[[#This Row],[Column6]]*_300A_FUNDING[[#This Row],[LOW BIDDER''S UNIT PRICE]]","v":0},{"$f":"_300A_FUNDING[[#This Row],[Column7]]*_300A_FUNDING[[#This Row],[LOW BIDDER''S UNIT PRICE]]","v":0},{"$f":"_300A_FUNDING[[#This Row],[Column8]]*_300A_FUNDING[[#This Row],[LOW BIDDER''S UNIT PRICE]]","v":0},{"$f":"_300A_FUNDING[[#This Row],[Column9]]*_300A_FUNDING[[#This Row],[LOW BIDDER''S UNIT PRICE]]","v":0},{"$f":"_300A_FUNDING[[#This Row],[Column10]]*_300A_FUNDING[[#This Row],[LOW BIDDER''S UNIT PRICE]]","v":0},{"$f":"_300A_FUNDING[[#This Row],[Column11]]*_300A_FUNDING[[#This Row],[LOW BIDDER''S UNIT PRICE]]","v":0},{"$f":"_300A_FUNDING[[#This Row],[Column12]]*_300A_FUNDING[[#This Row],[LOW BIDDER''S UNIT PRICE]]","v":0},{"$f":"_300A_FUNDING[[#This Row],[Column13]]*_300A_FUNDING[[#This Row],[LOW BIDDER''S UNIT PRICE]]","v":0},{"$f":"_300A_FUNDING[[#This Row],[Column14]]*_300A_FUNDING[[#This Row],[LOW BIDDER''S UNIT PRICE]]","v":0}]
[null,null,null,null,null,null,null,null,null,null,null,null,null,null,null,null,0,{"$f":"_300A_FUNDING[[#This Row],[Column5]]*_300A_FUNDING[[#This Row],[LOW BIDDER''S UNIT PRICE]]","v":0},{"$f":"_300A_FUNDING[[#This Row],[Column6]]*_300A_FUNDING[[#This Row],[LOW BIDDER''S UNIT PRICE]]","v":0},{"$f":"_300A_FUNDING[[#This Row],[Column7]]*_300A_FUNDING[[#This Row],[LOW BIDDER''S UNIT PRICE]]","v":0},{"$f":"_300A_FUNDING[[#This Row],[Column8]]*_300A_FUNDING[[#This Row],[LOW BIDDER''S UNIT PRICE]]","v":0},{"$f":"_300A_FUNDING[[#This Row],[Column9]]*_300A_FUNDING[[#This Row],[LOW BIDDER''S UNIT PRICE]]","v":0},{"$f":"_300A_FUNDING[[#This Row],[Column10]]*_300A_FUNDING[[#This Row],[LOW BIDDER''S UNIT PRICE]]","v":0},{"$f":"_300A_FUNDING[[#This Row],[Column11]]*_300A_FUNDING[[#This Row],[LOW BIDDER''S UNIT PRICE]]","v":0},{"$f":"_300A_FUNDING[[#This Row],[Column12]]*_300A_FUNDING[[#This Row],[LOW BIDDER''S UNIT PRICE]]","v":0},{"$f":"_300A_FUNDING[[#This Row],[Column13]]*_300A_FUNDING[[#This Row],[LOW BIDDER''S UNIT PRICE]]","v":0},{"$f":"_300A_FUNDING[[#This Row],[Column14]]*_300A_FUNDING[[#This Row],[LOW BIDDER''S UNIT PRICE]]","v":0}]
[null,null,null,null,null,null,null,null,null,null,null,null,null,null,null,null,0,{"$f":"_300A_FUNDING[[#This Row],[Column5]]*_300A_FUNDING[[#This Row],[LOW BIDDER''S UNIT PRICE]]","v":0},{"$f":"_300A_FUNDING[[#This Row],[Column6]]*_300A_FUNDING[[#This Row],[LOW BIDDER''S UNIT PRICE]]","v":0},{"$f":"_300A_FUNDING[[#This Row],[Column7]]*_300A_FUNDING[[#This Row],[LOW BIDDER''S UNIT PRICE]]","v":0},{"$f":"_300A_FUNDING[[#This Row],[Column8]]*_300A_FUNDING[[#This Row],[LOW BIDDER''S UNIT PRICE]]","v":0},{"$f":"_300A_FUNDING[[#This Row],[Column9]]*_300A_FUNDING[[#This Row],[LOW BIDDER''S UNIT PRICE]]","v":0},{"$f":"_300A_FUNDING[[#This Row],[Column10]]*_300A_FUNDING[[#This Row],[LOW BIDDER''S UNIT PRICE]]","v":0},{"$f":"_300A_FUNDING[[#This Row],[Column11]]*_300A_FUNDING[[#This Row],[LOW BIDDER''S UNIT PRICE]]","v":0},{"$f":"_300A_FUNDING[[#This Row],[Column12]]*_300A_FUNDING[[#This Row],[LOW BIDDER''S UNIT PRICE]]","v":0},{"$f":"_300A_FUNDING[[#This Row],[Column13]]*_300A_FUNDING[[#This Row],[LOW BIDDER''S UNIT PRICE]]","v":0},{"$f":"_300A_FUNDING[[#This Row],[Column14]]*_300A_FUNDING[[#This Row],[LOW BIDDER''S UNIT PRICE]]","v":0}]
[null,null,null,null,null,null,null,null,null,null,null,null,null,null,null,null,0,{"$f":"_300A_FUNDING[[#This Row],[Column5]]*_300A_FUNDING[[#This Row],[LOW BIDDER''S UNIT PRICE]]","v":0},{"$f":"_300A_FUNDING[[#This Row],[Column6]]*_300A_FUNDING[[#This Row],[LOW BIDDER''S UNIT PRICE]]","v":0},{"$f":"_300A_FUNDING[[#This Row],[Column7]]*_300A_FUNDING[[#This Row],[LOW BIDDER''S UNIT PRICE]]","v":0},{"$f":"_300A_FUNDING[[#This Row],[Column8]]*_300A_FUNDING[[#This Row],[LOW BIDDER''S UNIT PRICE]]","v":0},{"$f":"_300A_FUNDING[[#This Row],[Column9]]*_300A_FUNDING[[#This Row],[LOW BIDDER''S UNIT PRICE]]","v":0},{"$f":"_300A_FUNDING[[#This Row],[Column10]]*_300A_FUNDING[[#This Row],[LOW BIDDER''S UNIT PRICE]]","v":0},{"$f":"_300A_FUNDING[[#This Row],[Column11]]*_300A_FUNDING[[#This Row],[LOW BIDDER''S UNIT PRICE]]","v":0},{"$f":"_300A_FUNDING[[#This Row],[Column12]]*_300A_FUNDING[[#This Row],[LOW BIDDER''S UNIT PRICE]]","v":0},{"$f":"_300A_FUNDING[[#This Row],[Column13]]*_300A_FUNDING[[#This Row],[LOW BIDDER''S UNIT PRICE]]","v":0},{"$f":"_300A_FUNDING[[#This Row],[Column14]]*_300A_FUNDING[[#This Row],[LOW BIDDER''S UNIT PRICE]]","v":0}]
[null,null,null,null,null,null,null,null,null,null,null,null,null,null,null,null,0,{"$f":"_300A_FUNDING[[#This Row],[Column5]]*_300A_FUNDING[[#This Row],[LOW BIDDER''S UNIT PRICE]]","v":0},{"$f":"_300A_FUNDING[[#This Row],[Column6]]*_300A_FUNDING[[#This Row],[LOW BIDDER''S UNIT PRICE]]","v":0},{"$f":"_300A_FUNDING[[#This Row],[Column7]]*_300A_FUNDING[[#This Row],[LOW BIDDER''S UNIT PRICE]]","v":0},{"$f":"_300A_FUNDING[[#This Row],[Column8]]*_300A_FUNDING[[#This Row],[LOW BIDDER''S UNIT PRICE]]","v":0},{"$f":"_300A_FUNDING[[#This Row],[Column9]]*_300A_FUNDING[[#This Row],[LOW BIDDER''S UNIT PRICE]]","v":0},{"$f":"_300A_FUNDING[[#This Row],[Column10]]*_300A_FUNDING[[#This Row],[LOW BIDDER''S UNIT PRICE]]","v":0},{"$f":"_300A_FUNDING[[#This Row],[Column11]]*_300A_FUNDING[[#This Row],[LOW BIDDER''S UNIT PRICE]]","v":0},{"$f":"_300A_FUNDING[[#This Row],[Column12]]*_300A_FUNDING[[#This Row],[LOW BIDDER''S UNIT PRICE]]","v":0},{"$f":"_300A_FUNDING[[#This Row],[Column13]]*_300A_FUNDING[[#This Row],[LOW BIDDER''S UNIT PRICE]]","v":0},{"$f":"_300A_FUNDING[[#This Row],[Column14]]*_300A_FUNDING[[#This Row],[LOW BIDDER''S UNIT PRICE]]","v":0}]
[null,null,null,null,null,null,null,null,null,null,null,null,null,null,null,null,0,{"$f":"_300A_FUNDING[[#This Row],[Column5]]*_300A_FUNDING[[#This Row],[LOW BIDDER''S UNIT PRICE]]","v":0},{"$f":"_300A_FUNDING[[#This Row],[Column6]]*_300A_FUNDING[[#This Row],[LOW BIDDER''S UNIT PRICE]]","v":0},{"$f":"_300A_FUNDING[[#This Row],[Column7]]*_300A_FUNDING[[#This Row],[LOW BIDDER''S UNIT PRICE]]","v":0},{"$f":"_300A_FUNDING[[#This Row],[Column8]]*_300A_FUNDING[[#This Row],[LOW BIDDER''S UNIT PRICE]]","v":0},{"$f":"_300A_FUNDING[[#This Row],[Column9]]*_300A_FUNDING[[#This Row],[LOW BIDDER''S UNIT PRICE]]","v":0},{"$f":"_300A_FUNDING[[#This Row],[Column10]]*_300A_FUNDING[[#This Row],[LOW BIDDER''S UNIT PRICE]]","v":0},{"$f":"_300A_FUNDING[[#This Row],[Column11]]*_300A_FUNDING[[#This Row],[LOW BIDDER''S UNIT PRICE]]","v":0},{"$f":"_300A_FUNDING[[#This Row],[Column12]]*_300A_FUNDING[[#This Row],[LOW BIDDER''S UNIT PRICE]]","v":0},{"$f":"_300A_FUNDING[[#This Row],[Column13]]*_300A_FUNDING[[#This Row],[LOW BIDDER''S UNIT PRICE]]","v":0},{"$f":"_300A_FUNDING[[#This Row],[Column14]]*_300A_FUNDING[[#This Row],[LOW BIDDER''S UNIT PRICE]]","v":0}]
[null,null,null,null,null,null,null,null,null,null,null,null,null,null,null,null,0,{"$f":"_300A_FUNDING[[#This Row],[Column5]]*_300A_FUNDING[[#This Row],[LOW BIDDER''S UNIT PRICE]]","v":0},{"$f":"_300A_FUNDING[[#This Row],[Column6]]*_300A_FUNDING[[#This Row],[LOW BIDDER''S UNIT PRICE]]","v":0},{"$f":"_300A_FUNDING[[#This Row],[Column7]]*_300A_FUNDING[[#This Row],[LOW BIDDER''S UNIT PRICE]]","v":0},{"$f":"_300A_FUNDING[[#This Row],[Column8]]*_300A_FUNDING[[#This Row],[LOW BIDDER''S UNIT PRICE]]","v":0},{"$f":"_300A_FUNDING[[#This Row],[Column9]]*_300A_FUNDING[[#This Row],[LOW BIDDER''S UNIT PRICE]]","v":0},{"$f":"_300A_FUNDING[[#This Row],[Column10]]*_300A_FUNDING[[#This Row],[LOW BIDDER''S UNIT PRICE]]","v":0},{"$f":"_300A_FUNDING[[#This Row],[Column11]]*_300A_FUNDING[[#This Row],[LOW BIDDER''S UNIT PRICE]]","v":0},{"$f":"_300A_FUNDING[[#This Row],[Column12]]*_300A_FUNDING[[#This Row],[LOW BIDDER''S UNIT PRICE]]","v":0},{"$f":"_300A_FUNDING[[#This Row],[Column13]]*_300A_FUNDING[[#This Row],[LOW BIDDER''S UNIT PRICE]]","v":0},{"$f":"_300A_FUNDING[[#This Row],[Column14]]*_300A_FUNDING[[#This Row],[LOW BIDDER''S UNIT PRICE]]","v":0}]
[null,null,null,null,null,null,null,null,null,null,null,null,null,null,null,null,0,{"$f":"_300A_FUNDING[[#This Row],[Column5]]*_300A_FUNDING[[#This Row],[LOW BIDDER''S UNIT PRICE]]","v":0},{"$f":"_300A_FUNDING[[#This Row],[Column6]]*_300A_FUNDING[[#This Row],[LOW BIDDER''S UNIT PRICE]]","v":0},{"$f":"_300A_FUNDING[[#This Row],[Column7]]*_300A_FUNDING[[#This Row],[LOW BIDDER''S UNIT PRICE]]","v":0},{"$f":"_300A_FUNDING[[#This Row],[Column8]]*_300A_FUNDING[[#This Row],[LOW BIDDER''S UNIT PRICE]]","v":0},{"$f":"_300A_FUNDING[[#This Row],[Column9]]*_300A_FUNDING[[#This Row],[LOW BIDDER''S UNIT PRICE]]","v":0},{"$f":"_300A_FUNDING[[#This Row],[Column10]]*_300A_FUNDING[[#This Row],[LOW BIDDER''S UNIT PRICE]]","v":0},{"$f":"_300A_FUNDING[[#This Row],[Column11]]*_300A_FUNDING[[#This Row],[LOW BIDDER''S UNIT PRICE]]","v":0},{"$f":"_300A_FUNDING[[#This Row],[Column12]]*_300A_FUNDING[[#This Row],[LOW BIDDER''S UNIT PRICE]]","v":0},{"$f":"_300A_FUNDING[[#This Row],[Column13]]*_300A_FUNDING[[#This Row],[LOW BIDDER''S UNIT PRICE]]","v":0},{"$f":"_300A_FUNDING[[#This Row],[Column14]]*_300A_FUNDING[[#This Row],[LOW BIDDER''S UNIT PRICE]]","v":0}]
[null,null,null,null,null,null,null,null,null,null,null,null,null,null,null,null,0,{"$f":"_300A_FUNDING[[#This Row],[Column5]]*_300A_FUNDING[[#This Row],[LOW BIDDER''S UNIT PRICE]]","v":0},{"$f":"_300A_FUNDING[[#This Row],[Column6]]*_300A_FUNDING[[#This Row],[LOW BIDDER''S UNIT PRICE]]","v":0},{"$f":"_300A_FUNDING[[#This Row],[Column7]]*_300A_FUNDING[[#This Row],[LOW BIDDER''S UNIT PRICE]]","v":0},{"$f":"_300A_FUNDING[[#This Row],[Column8]]*_300A_FUNDING[[#This Row],[LOW BIDDER''S UNIT PRICE]]","v":0},{"$f":"_300A_FUNDING[[#This Row],[Column9]]*_300A_FUNDING[[#This Row],[LOW BIDDER''S UNIT PRICE]]","v":0},{"$f":"_300A_FUNDING[[#This Row],[Column10]]*_300A_FUNDING[[#This Row],[LOW BIDDER''S UNIT PRICE]]","v":0},{"$f":"_300A_FUNDING[[#This Row],[Column11]]*_300A_FUNDING[[#This Row],[LOW BIDDER''S UNIT PRICE]]","v":0},{"$f":"_300A_FUNDING[[#This Row],[Column12]]*_300A_FUNDING[[#This Row],[LOW BIDDER''S UNIT PRICE]]","v":0},{"$f":"_300A_FUNDING[[#This Row],[Column13]]*_300A_FUNDING[[#This Row],[LOW BIDDER''S UNIT PRICE]]","v":0},{"$f":"_300A_FUNDING[[#This Row],[Column14]]*_300A_FUNDING[[#This Row],[LOW BIDDER''S UNIT PRICE]]","v":0}]
[null,null,null,null,null,null,null,null,null,null,null,null,null,null,null,null,0,{"$f":"_300A_FUNDING[[#This Row],[Column5]]*_300A_FUNDING[[#This Row],[LOW BIDDER''S UNIT PRICE]]","v":0},{"$f":"_300A_FUNDING[[#This Row],[Column6]]*_300A_FUNDING[[#This Row],[LOW BIDDER''S UNIT PRICE]]","v":0},{"$f":"_300A_FUNDING[[#This Row],[Column7]]*_300A_FUNDING[[#This Row],[LOW BIDDER''S UNIT PRICE]]","v":0},{"$f":"_300A_FUNDING[[#This Row],[Column8]]*_300A_FUNDING[[#This Row],[LOW BIDDER''S UNIT PRICE]]","v":0},{"$f":"_300A_FUNDING[[#This Row],[Column9]]*_300A_FUNDING[[#This Row],[LOW BIDDER''S UNIT PRICE]]","v":0},{"$f":"_300A_FUNDING[[#This Row],[Column10]]*_300A_FUNDING[[#This Row],[LOW BIDDER''S UNIT PRICE]]","v":0},{"$f":"_300A_FUNDING[[#This Row],[Column11]]*_300A_FUNDING[[#This Row],[LOW BIDDER''S UNIT PRICE]]","v":0},{"$f":"_300A_FUNDING[[#This Row],[Column12]]*_300A_FUNDING[[#This Row],[LOW BIDDER''S UNIT PRICE]]","v":0},{"$f":"_300A_FUNDING[[#This Row],[Column13]]*_300A_FUNDING[[#This Row],[LOW BIDDER''S UNIT PRICE]]","v":0},{"$f":"_300A_FUNDING[[#This Row],[Column14]]*_300A_FUNDING[[#This Row],[LOW BIDDER''S UNIT PRICE]]","v":0}]
[null,null,null,null,null,null,null,null,null,null,null,null,null,null,null,null,0,{"$f":"_300A_FUNDING[[#This Row],[Column5]]*_300A_FUNDING[[#This Row],[LOW BIDDER''S UNIT PRICE]]","v":0},{"$f":"_300A_FUNDING[[#This Row],[Column6]]*_300A_FUNDING[[#This Row],[LOW BIDDER''S UNIT PRICE]]","v":0},{"$f":"_300A_FUNDING[[#This Row],[Column7]]*_300A_FUNDING[[#This Row],[LOW BIDDER''S UNIT PRICE]]","v":0},{"$f":"_300A_FUNDING[[#This Row],[Column8]]*_300A_FUNDING[[#This Row],[LOW BIDDER''S UNIT PRICE]]","v":0},{"$f":"_300A_FUNDING[[#This Row],[Column9]]*_300A_FUNDING[[#This Row],[LOW BIDDER''S UNIT PRICE]]","v":0},{"$f":"_300A_FUNDING[[#This Row],[Column10]]*_300A_FUNDING[[#This Row],[LOW BIDDER''S UNIT PRICE]]","v":0},{"$f":"_300A_FUNDING[[#This Row],[Column11]]*_300A_FUNDING[[#This Row],[LOW BIDDER''S UNIT PRICE]]","v":0},{"$f":"_300A_FUNDING[[#This Row],[Column12]]*_300A_FUNDING[[#This Row],[LOW BIDDER''S UNIT PRICE]]","v":0},{"$f":"_300A_FUNDING[[#This Row],[Column13]]*_300A_FUNDING[[#This Row],[LOW BIDDER''S UNIT PRICE]]","v":0},{"$f":"_300A_FUNDING[[#This Row],[Column14]]*_300A_FUNDING[[#This Row],[LOW BIDDER''S UNIT PRICE]]","v":0}]
[null,null,null,null,null,null,null,null,null,null,null,null,null,null,null,null,0,{"$f":"_300A_FUNDING[[#This Row],[Column5]]*_300A_FUNDING[[#This Row],[LOW BIDDER''S UNIT PRICE]]","v":0},{"$f":"_300A_FUNDING[[#This Row],[Column6]]*_300A_FUNDING[[#This Row],[LOW BIDDER''S UNIT PRICE]]","v":0},{"$f":"_300A_FUNDING[[#This Row],[Column7]]*_300A_FUNDING[[#This Row],[LOW BIDDER''S UNIT PRICE]]","v":0},{"$f":"_300A_FUNDING[[#This Row],[Column8]]*_300A_FUNDING[[#This Row],[LOW BIDDER''S UNIT PRICE]]","v":0},{"$f":"_300A_FUNDING[[#This Row],[Column9]]*_300A_FUNDING[[#This Row],[LOW BIDDER''S UNIT PRICE]]","v":0},{"$f":"_300A_FUNDING[[#This Row],[Column10]]*_300A_FUNDING[[#This Row],[LOW BIDDER''S UNIT PRICE]]","v":0},{"$f":"_300A_FUNDING[[#This Row],[Column11]]*_300A_FUNDING[[#This Row],[LOW BIDDER''S UNIT PRICE]]","v":0},{"$f":"_300A_FUNDING[[#This Row],[Column12]]*_300A_FUNDING[[#This Row],[LOW BIDDER''S UNIT PRICE]]","v":0},{"$f":"_300A_FUNDING[[#This Row],[Column13]]*_300A_FUNDING[[#This Row],[LOW BIDDER''S UNIT PRICE]]","v":0},{"$f":"_300A_FUNDING[[#This Row],[Column14]]*_300A_FUNDING[[#This Row],[LOW BIDDER''S UNIT PRICE]]","v":0}]
[null,null,null,null,null,null,null,null,null,null,null,null,null,null,null,null,0,{"$f":"_300A_FUNDING[[#This Row],[Column5]]*_300A_FUNDING[[#This Row],[LOW BIDDER''S UNIT PRICE]]","v":0},{"$f":"_300A_FUNDING[[#This Row],[Column6]]*_300A_FUNDING[[#This Row],[LOW BIDDER''S UNIT PRICE]]","v":0},{"$f":"_300A_FUNDING[[#This Row],[Column7]]*_300A_FUNDING[[#This Row],[LOW BIDDER''S UNIT PRICE]]","v":0},{"$f":"_300A_FUNDING[[#This Row],[Column8]]*_300A_FUNDING[[#This Row],[LOW BIDDER''S UNIT PRICE]]","v":0},{"$f":"_300A_FUNDING[[#This Row],[Column9]]*_300A_FUNDING[[#This Row],[LOW BIDDER''S UNIT PRICE]]","v":0},{"$f":"_300A_FUNDING[[#This Row],[Column10]]*_300A_FUNDING[[#This Row],[LOW BIDDER''S UNIT PRICE]]","v":0},{"$f":"_300A_FUNDING[[#This Row],[Column11]]*_300A_FUNDING[[#This Row],[LOW BIDDER''S UNIT PRICE]]","v":0},{"$f":"_300A_FUNDING[[#This Row],[Column12]]*_300A_FUNDING[[#This Row],[LOW BIDDER''S UNIT PRICE]]","v":0},{"$f":"_300A_FUNDING[[#This Row],[Column13]]*_300A_FUNDING[[#This Row],[LOW BIDDER''S UNIT PRICE]]","v":0},{"$f":"_300A_FUNDING[[#This Row],[Column14]]*_300A_FUNDING[[#This Row],[LOW BIDDER''S UNIT PRICE]]","v":0}]
[null,null,null,null,null,null,null,null,null,null,null,null,null,null,null,null,0,{"$f":"_300A_FUNDING[[#This Row],[Column5]]*_300A_FUNDING[[#This Row],[LOW BIDDER''S UNIT PRICE]]","v":0},{"$f":"_300A_FUNDING[[#This Row],[Column6]]*_300A_FUNDING[[#This Row],[LOW BIDDER''S UNIT PRICE]]","v":0},{"$f":"_300A_FUNDING[[#This Row],[Column7]]*_300A_FUNDING[[#This Row],[LOW BIDDER''S UNIT PRICE]]","v":0},{"$f":"_300A_FUNDING[[#This Row],[Column8]]*_300A_FUNDING[[#This Row],[LOW BIDDER''S UNIT PRICE]]","v":0},{"$f":"_300A_FUNDING[[#This Row],[Column9]]*_300A_FUNDING[[#This Row],[LOW BIDDER''S UNIT PRICE]]","v":0},{"$f":"_300A_FUNDING[[#This Row],[Column10]]*_300A_FUNDING[[#This Row],[LOW BIDDER''S UNIT PRICE]]","v":0},{"$f":"_300A_FUNDING[[#This Row],[Column11]]*_300A_FUNDING[[#This Row],[LOW BIDDER''S UNIT PRICE]]","v":0},{"$f":"_300A_FUNDING[[#This Row],[Column12]]*_300A_FUNDING[[#This Row],[LOW BIDDER''S UNIT PRICE]]","v":0},{"$f":"_300A_FUNDING[[#This Row],[Column13]]*_300A_FUNDING[[#This Row],[LOW BIDDER''S UNIT PRICE]]","v":0},{"$f":"_300A_FUNDING[[#This Row],[Column14]]*_300A_FUNDING[[#This Row],[LOW BIDDER''S UNIT PRICE]]","v":0}]
[null,null,null,null,null,null,null,null,null,null,null,null,null,null,null,null,0,{"$f":"_300A_FUNDING[[#This Row],[Column5]]*_300A_FUNDING[[#This Row],[LOW BIDDER''S UNIT PRICE]]","v":0},{"$f":"_300A_FUNDING[[#This Row],[Column6]]*_300A_FUNDING[[#This Row],[LOW BIDDER''S UNIT PRICE]]","v":0},{"$f":"_300A_FUNDING[[#This Row],[Column7]]*_300A_FUNDING[[#This Row],[LOW BIDDER''S UNIT PRICE]]","v":0},{"$f":"_300A_FUNDING[[#This Row],[Column8]]*_300A_FUNDING[[#This Row],[LOW BIDDER''S UNIT PRICE]]","v":0},{"$f":"_300A_FUNDING[[#This Row],[Column9]]*_300A_FUNDING[[#This Row],[LOW BIDDER''S UNIT PRICE]]","v":0},{"$f":"_300A_FUNDING[[#This Row],[Column10]]*_300A_FUNDING[[#This Row],[LOW BIDDER''S UNIT PRICE]]","v":0},{"$f":"_300A_FUNDING[[#This Row],[Column11]]*_300A_FUNDING[[#This Row],[LOW BIDDER''S UNIT PRICE]]","v":0},{"$f":"_300A_FUNDING[[#This Row],[Column12]]*_300A_FUNDING[[#This Row],[LOW BIDDER''S UNIT PRICE]]","v":0},{"$f":"_300A_FUNDING[[#This Row],[Column13]]*_300A_FUNDING[[#This Row],[LOW BIDDER''S UNIT PRICE]]","v":0},{"$f":"_300A_FUNDING[[#This Row],[Column14]]*_300A_FUNDING[[#This Row],[LOW BIDDER''S UNIT PRICE]]","v":0}]
[null,null,null,null,null,null,null,null,null,null,null,null,null,null,null,null,0,{"$f":"_300A_FUNDING[[#This Row],[Column5]]*_300A_FUNDING[[#This Row],[LOW BIDDER''S UNIT PRICE]]","v":0},{"$f":"_300A_FUNDING[[#This Row],[Column6]]*_300A_FUNDING[[#This Row],[LOW BIDDER''S UNIT PRICE]]","v":0},{"$f":"_300A_FUNDING[[#This Row],[Column7]]*_300A_FUNDING[[#This Row],[LOW BIDDER''S UNIT PRICE]]","v":0},{"$f":"_300A_FUNDING[[#This Row],[Column8]]*_300A_FUNDING[[#This Row],[LOW BIDDER''S UNIT PRICE]]","v":0},{"$f":"_300A_FUNDING[[#This Row],[Column9]]*_300A_FUNDING[[#This Row],[LOW BIDDER''S UNIT PRICE]]","v":0},{"$f":"_300A_FUNDING[[#This Row],[Column10]]*_300A_FUNDING[[#This Row],[LOW BIDDER''S UNIT PRICE]]","v":0},{"$f":"_300A_FUNDING[[#This Row],[Column11]]*_300A_FUNDING[[#This Row],[LOW BIDDER''S UNIT PRICE]]","v":0},{"$f":"_300A_FUNDING[[#This Row],[Column12]]*_300A_FUNDING[[#This Row],[LOW BIDDER''S UNIT PRICE]]","v":0},{"$f":"_300A_FUNDING[[#This Row],[Column13]]*_300A_FUNDING[[#This Row],[LOW BIDDER''S UNIT PRICE]]","v":0},{"$f":"_300A_FUNDING[[#This Row],[Column14]]*_300A_FUNDING[[#This Row],[LOW BIDDER''S UNIT PRICE]]","v":0}]
[null,null,null,null,null,null,null,null,null,null,null,null,null,null,null,null,0,{"$f":"_300A_FUNDING[[#This Row],[Column5]]*_300A_FUNDING[[#This Row],[LOW BIDDER''S UNIT PRICE]]","v":0},{"$f":"_300A_FUNDING[[#This Row],[Column6]]*_300A_FUNDING[[#This Row],[LOW BIDDER''S UNIT PRICE]]","v":0},{"$f":"_300A_FUNDING[[#This Row],[Column7]]*_300A_FUNDING[[#This Row],[LOW BIDDER''S UNIT PRICE]]","v":0},{"$f":"_300A_FUNDING[[#This Row],[Column8]]*_300A_FUNDING[[#This Row],[LOW BIDDER''S UNIT PRICE]]","v":0},{"$f":"_300A_FUNDING[[#This Row],[Column9]]*_300A_FUNDING[[#This Row],[LOW BIDDER''S UNIT PRICE]]","v":0},{"$f":"_300A_FUNDING[[#This Row],[Column10]]*_300A_FUNDING[[#This Row],[LOW BIDDER''S UNIT PRICE]]","v":0},{"$f":"_300A_FUNDING[[#This Row],[Column11]]*_300A_FUNDING[[#This Row],[LOW BIDDER''S UNIT PRICE]]","v":0},{"$f":"_300A_FUNDING[[#This Row],[Column12]]*_300A_FUNDING[[#This Row],[LOW BIDDER''S UNIT PRICE]]","v":0},{"$f":"_300A_FUNDING[[#This Row],[Column13]]*_300A_FUNDING[[#This Row],[LOW BIDDER''S UNIT PRICE]]","v":0},{"$f":"_300A_FUNDING[[#This Row],[Column14]]*_300A_FUNDING[[#This Row],[LOW BIDDER''S UNIT PRICE]]","v":0}]
[null,null,null,null,null,null,null,null,null,null,null,null,null,null,null,null,0,{"$f":"_300A_FUNDING[[#This Row],[Column5]]*_300A_FUNDING[[#This Row],[LOW BIDDER''S UNIT PRICE]]","v":0},{"$f":"_300A_FUNDING[[#This Row],[Column6]]*_300A_FUNDING[[#This Row],[LOW BIDDER''S UNIT PRICE]]","v":0},{"$f":"_300A_FUNDING[[#This Row],[Column7]]*_300A_FUNDING[[#This Row],[LOW BIDDER''S UNIT PRICE]]","v":0},{"$f":"_300A_FUNDING[[#This Row],[Column8]]*_300A_FUNDING[[#This Row],[LOW BIDDER''S UNIT PRICE]]","v":0},{"$f":"_300A_FUNDING[[#This Row],[Column9]]*_300A_FUNDING[[#This Row],[LOW BIDDER''S UNIT PRICE]]","v":0},{"$f":"_300A_FUNDING[[#This Row],[Column10]]*_300A_FUNDING[[#This Row],[LOW BIDDER''S UNIT PRICE]]","v":0},{"$f":"_300A_FUNDING[[#This Row],[Column11]]*_300A_FUNDING[[#This Row],[LOW BIDDER''S UNIT PRICE]]","v":0},{"$f":"_300A_FUNDING[[#This Row],[Column12]]*_300A_FUNDING[[#This Row],[LOW BIDDER''S UNIT PRICE]]","v":0},{"$f":"_300A_FUNDING[[#This Row],[Column13]]*_300A_FUNDING[[#This Row],[LOW BIDDER''S UNIT PRICE]]","v":0},{"$f":"_300A_FUNDING[[#This Row],[Column14]]*_300A_FUNDING[[#This Row],[LOW BIDDER''S UNIT PRICE]]","v":0}]
[null,null,null,null,null,null,null,null,null,null,null,null,null,null,null,null,0,{"$f":"_300A_FUNDING[[#This Row],[Column5]]*_300A_FUNDING[[#This Row],[LOW BIDDER''S UNIT PRICE]]","v":0},{"$f":"_300A_FUNDING[[#This Row],[Column6]]*_300A_FUNDING[[#This Row],[LOW BIDDER''S UNIT PRICE]]","v":0},{"$f":"_300A_FUNDING[[#This Row],[Column7]]*_300A_FUNDING[[#This Row],[LOW BIDDER''S UNIT PRICE]]","v":0},{"$f":"_300A_FUNDING[[#This Row],[Column8]]*_300A_FUNDING[[#This Row],[LOW BIDDER''S UNIT PRICE]]","v":0},{"$f":"_300A_FUNDING[[#This Row],[Column9]]*_300A_FUNDING[[#This Row],[LOW BIDDER''S UNIT PRICE]]","v":0},{"$f":"_300A_FUNDING[[#This Row],[Column10]]*_300A_FUNDING[[#This Row],[LOW BIDDER''S UNIT PRICE]]","v":0},{"$f":"_300A_FUNDING[[#This Row],[Column11]]*_300A_FUNDING[[#This Row],[LOW BIDDER''S UNIT PRICE]]","v":0},{"$f":"_300A_FUNDING[[#This Row],[Column12]]*_300A_FUNDING[[#This Row],[LOW BIDDER''S UNIT PRICE]]","v":0},{"$f":"_300A_FUNDING[[#This Row],[Column13]]*_300A_FUNDING[[#This Row],[LOW BIDDER''S UNIT PRICE]]","v":0},{"$f":"_300A_FUNDING[[#This Row],[Column14]]*_300A_FUNDING[[#This Row],[LOW BIDDER''S UNIT PRICE]]","v":0}]
[null,null,null,null,null,null,null,null,null,null,null,null,null,null,null,null,0,{"$f":"_300A_FUNDING[[#This Row],[Column5]]*_300A_FUNDING[[#This Row],[LOW BIDDER''S UNIT PRICE]]","v":0},{"$f":"_300A_FUNDING[[#This Row],[Column6]]*_300A_FUNDING[[#This Row],[LOW BIDDER''S UNIT PRICE]]","v":0},{"$f":"_300A_FUNDING[[#This Row],[Column7]]*_300A_FUNDING[[#This Row],[LOW BIDDER''S UNIT PRICE]]","v":0},{"$f":"_300A_FUNDING[[#This Row],[Column8]]*_300A_FUNDING[[#This Row],[LOW BIDDER''S UNIT PRICE]]","v":0},{"$f":"_300A_FUNDING[[#This Row],[Column9]]*_300A_FUNDING[[#This Row],[LOW BIDDER''S UNIT PRICE]]","v":0},{"$f":"_300A_FUNDING[[#This Row],[Column10]]*_300A_FUNDING[[#This Row],[LOW BIDDER''S UNIT PRICE]]","v":0},{"$f":"_300A_FUNDING[[#This Row],[Column11]]*_300A_FUNDING[[#This Row],[LOW BIDDER''S UNIT PRICE]]","v":0},{"$f":"_300A_FUNDING[[#This Row],[Column12]]*_300A_FUNDING[[#This Row],[LOW BIDDER''S UNIT PRICE]]","v":0},{"$f":"_300A_FUNDING[[#This Row],[Column13]]*_300A_FUNDING[[#This Row],[LOW BIDDER''S UNIT PRICE]]","v":0},{"$f":"_300A_FUNDING[[#This Row],[Column14]]*_300A_FUNDING[[#This Row],[LOW BIDDER''S UNIT PRICE]]","v":0}]
[null,null,null,null,null,null,null,null,null,null,null,null,null,null,null,null,0,{"$f":"_300A_FUNDING[[#This Row],[Column5]]*_300A_FUNDING[[#This Row],[LOW BIDDER''S UNIT PRICE]]","v":0},{"$f":"_300A_FUNDING[[#This Row],[Column6]]*_300A_FUNDING[[#This Row],[LOW BIDDER''S UNIT PRICE]]","v":0},{"$f":"_300A_FUNDING[[#This Row],[Column7]]*_300A_FUNDING[[#This Row],[LOW BIDDER''S UNIT PRICE]]","v":0},{"$f":"_300A_FUNDING[[#This Row],[Column8]]*_300A_FUNDING[[#This Row],[LOW BIDDER''S UNIT PRICE]]","v":0},{"$f":"_300A_FUNDING[[#This Row],[Column9]]*_300A_FUNDING[[#This Row],[LOW BIDDER''S UNIT PRICE]]","v":0},{"$f":"_300A_FUNDING[[#This Row],[Column10]]*_300A_FUNDING[[#This Row],[LOW BIDDER''S UNIT PRICE]]","v":0},{"$f":"_300A_FUNDING[[#This Row],[Column11]]*_300A_FUNDING[[#This Row],[LOW BIDDER''S UNIT PRICE]]","v":0},{"$f":"_300A_FUNDING[[#This Row],[Column12]]*_300A_FUNDING[[#This Row],[LOW BIDDER''S UNIT PRICE]]","v":0},{"$f":"_300A_FUNDING[[#This Row],[Column13]]*_300A_FUNDING[[#This Row],[LOW BIDDER''S UNIT PRICE]]","v":0},{"$f":"_300A_FUNDING[[#This Row],[Column14]]*_300A_FUNDING[[#This Row],[LOW BIDDER''S UNIT PRICE]]","v":0}]
[null,null,null,null,null,null,null,null,null,null,null,null,null,null,null,null,0,{"$f":"_300A_FUNDING[[#This Row],[Column5]]*_300A_FUNDING[[#This Row],[LOW BIDDER''S UNIT PRICE]]","v":0},{"$f":"_300A_FUNDING[[#This Row],[Column6]]*_300A_FUNDING[[#This Row],[LOW BIDDER''S UNIT PRICE]]","v":0},{"$f":"_300A_FUNDING[[#This Row],[Column7]]*_300A_FUNDING[[#This Row],[LOW BIDDER''S UNIT PRICE]]","v":0},{"$f":"_300A_FUNDING[[#This Row],[Column8]]*_300A_FUNDING[[#This Row],[LOW BIDDER''S UNIT PRICE]]","v":0},{"$f":"_300A_FUNDING[[#This Row],[Column9]]*_300A_FUNDING[[#This Row],[LOW BIDDER''S UNIT PRICE]]","v":0},{"$f":"_300A_FUNDING[[#This Row],[Column10]]*_300A_FUNDING[[#This Row],[LOW BIDDER''S UNIT PRICE]]","v":0},{"$f":"_300A_FUNDING[[#This Row],[Column11]]*_300A_FUNDING[[#This Row],[LOW BIDDER''S UNIT PRICE]]","v":0},{"$f":"_300A_FUNDING[[#This Row],[Column12]]*_300A_FUNDING[[#This Row],[LOW BIDDER''S UNIT PRICE]]","v":0},{"$f":"_300A_FUNDING[[#This Row],[Column13]]*_300A_FUNDING[[#This Row],[LOW BIDDER''S UNIT PRICE]]","v":0},{"$f":"_300A_FUNDING[[#This Row],[Column14]]*_300A_FUNDING[[#This Row],[LOW BIDDER''S UNIT PRICE]]","v":0}]
[null,null,null,null,null,null,null,null,null,null,null,null,null,null,null,null,0,{"$f":"_300A_FUNDING[[#This Row],[Column5]]*_300A_FUNDING[[#This Row],[LOW BIDDER''S UNIT PRICE]]","v":0},{"$f":"_300A_FUNDING[[#This Row],[Column6]]*_300A_FUNDING[[#This Row],[LOW BIDDER''S UNIT PRICE]]","v":0},{"$f":"_300A_FUNDING[[#This Row],[Column7]]*_300A_FUNDING[[#This Row],[LOW BIDDER''S UNIT PRICE]]","v":0},{"$f":"_300A_FUNDING[[#This Row],[Column8]]*_300A_FUNDING[[#This Row],[LOW BIDDER''S UNIT PRICE]]","v":0},{"$f":"_300A_FUNDING[[#This Row],[Column9]]*_300A_FUNDING[[#This Row],[LOW BIDDER''S UNIT PRICE]]","v":0},{"$f":"_300A_FUNDING[[#This Row],[Column10]]*_300A_FUNDING[[#This Row],[LOW BIDDER''S UNIT PRICE]]","v":0},{"$f":"_300A_FUNDING[[#This Row],[Column11]]*_300A_FUNDING[[#This Row],[LOW BIDDER''S UNIT PRICE]]","v":0},{"$f":"_300A_FUNDING[[#This Row],[Column12]]*_300A_FUNDING[[#This Row],[LOW BIDDER''S UNIT PRICE]]","v":0},{"$f":"_300A_FUNDING[[#This Row],[Column13]]*_300A_FUNDING[[#This Row],[LOW BIDDER''S UNIT PRICE]]","v":0},{"$f":"_300A_FUNDING[[#This Row],[Column14]]*_300A_FUNDING[[#This Row],[LOW BIDDER''S UNIT PRICE]]","v":0}]
[null,null,null,null,null,null,null,null,null,null,null,null,null,null,null,null,0,{"$f":"_300A_FUNDING[[#This Row],[Column5]]*_300A_FUNDING[[#This Row],[LOW BIDDER''S UNIT PRICE]]","v":0},{"$f":"_300A_FUNDING[[#This Row],[Column6]]*_300A_FUNDING[[#This Row],[LOW BIDDER''S UNIT PRICE]]","v":0},{"$f":"_300A_FUNDING[[#This Row],[Column7]]*_300A_FUNDING[[#This Row],[LOW BIDDER''S UNIT PRICE]]","v":0},{"$f":"_300A_FUNDING[[#This Row],[Column8]]*_300A_FUNDING[[#This Row],[LOW BIDDER''S UNIT PRICE]]","v":0},{"$f":"_300A_FUNDING[[#This Row],[Column9]]*_300A_FUNDING[[#This Row],[LOW BIDDER''S UNIT PRICE]]","v":0},{"$f":"_300A_FUNDING[[#This Row],[Column10]]*_300A_FUNDING[[#This Row],[LOW BIDDER''S UNIT PRICE]]","v":0},{"$f":"_300A_FUNDING[[#This Row],[Column11]]*_300A_FUNDING[[#This Row],[LOW BIDDER''S UNIT PRICE]]","v":0},{"$f":"_300A_FUNDING[[#This Row],[Column12]]*_300A_FUNDING[[#This Row],[LOW BIDDER''S UNIT PRICE]]","v":0},{"$f":"_300A_FUNDING[[#This Row],[Column13]]*_300A_FUNDING[[#This Row],[LOW BIDDER''S UNIT PRICE]]","v":0},{"$f":"_300A_FUNDING[[#This Row],[Column14]]*_300A_FUNDING[[#This Row],[LOW BIDDER''S UNIT PRICE]]","v":0}]
[null,null,null,null,null,null,null,null,null,null,null,null,null,null,null,null,0,{"$f":"_300A_FUNDING[[#This Row],[Column5]]*_300A_FUNDING[[#This Row],[LOW BIDDER''S UNIT PRICE]]","v":0},{"$f":"_300A_FUNDING[[#This Row],[Column6]]*_300A_FUNDING[[#This Row],[LOW BIDDER''S UNIT PRICE]]","v":0},{"$f":"_300A_FUNDING[[#This Row],[Column7]]*_300A_FUNDING[[#This Row],[LOW BIDDER''S UNIT PRICE]]","v":0},{"$f":"_300A_FUNDING[[#This Row],[Column8]]*_300A_FUNDING[[#This Row],[LOW BIDDER''S UNIT PRICE]]","v":0},{"$f":"_300A_FUNDING[[#This Row],[Column9]]*_300A_FUNDING[[#This Row],[LOW BIDDER''S UNIT PRICE]]","v":0},{"$f":"_300A_FUNDING[[#This Row],[Column10]]*_300A_FUNDING[[#This Row],[LOW BIDDER''S UNIT PRICE]]","v":0},{"$f":"_300A_FUNDING[[#This Row],[Column11]]*_300A_FUNDING[[#This Row],[LOW BIDDER''S UNIT PRICE]]","v":0},{"$f":"_300A_FUNDING[[#This Row],[Column12]]*_300A_FUNDING[[#This Row],[LOW BIDDER''S UNIT PRICE]]","v":0},{"$f":"_300A_FUNDING[[#This Row],[Column13]]*_300A_FUNDING[[#This Row],[LOW BIDDER''S UNIT PRICE]]","v":0},{"$f":"_300A_FUNDING[[#This Row],[Column14]]*_300A_FUNDING[[#This Row],[LOW BIDDER''S UNIT PRICE]]","v":0}]
[null,null,null,null,null,null,null,null,null,null,null,null,null,null,null,null,0,{"$f":"_300A_FUNDING[[#This Row],[Column5]]*_300A_FUNDING[[#This Row],[LOW BIDDER''S UNIT PRICE]]","v":0},{"$f":"_300A_FUNDING[[#This Row],[Column6]]*_300A_FUNDING[[#This Row],[LOW BIDDER''S UNIT PRICE]]","v":0},{"$f":"_300A_FUNDING[[#This Row],[Column7]]*_300A_FUNDING[[#This Row],[LOW BIDDER''S UNIT PRICE]]","v":0},{"$f":"_300A_FUNDING[[#This Row],[Column8]]*_300A_FUNDING[[#This Row],[LOW BIDDER''S UNIT PRICE]]","v":0},{"$f":"_300A_FUNDING[[#This Row],[Column9]]*_300A_FUNDING[[#This Row],[LOW BIDDER''S UNIT PRICE]]","v":0},{"$f":"_300A_FUNDING[[#This Row],[Column10]]*_300A_FUNDING[[#This Row],[LOW BIDDER''S UNIT PRICE]]","v":0},{"$f":"_300A_FUNDING[[#This Row],[Column11]]*_300A_FUNDING[[#This Row],[LOW BIDDER''S UNIT PRICE]]","v":0},{"$f":"_300A_FUNDING[[#This Row],[Column12]]*_300A_FUNDING[[#This Row],[LOW BIDDER''S UNIT PRICE]]","v":0},{"$f":"_300A_FUNDING[[#This Row],[Column13]]*_300A_FUNDING[[#This Row],[LOW BIDDER''S UNIT PRICE]]","v":0},{"$f":"_300A_FUNDING[[#This Row],[Column14]]*_300A_FUNDING[[#This Row],[LOW BIDDER''S UNIT PRICE]]","v":0}]
[null,null,null,null,null,null,null,null,null,null,null,null,null,null,null,null,0,{"$f":"_300A_FUNDING[[#This Row],[Column5]]*_300A_FUNDING[[#This Row],[LOW BIDDER''S UNIT PRICE]]","v":0},{"$f":"_300A_FUNDING[[#This Row],[Column6]]*_300A_FUNDING[[#This Row],[LOW BIDDER''S UNIT PRICE]]","v":0},{"$f":"_300A_FUNDING[[#This Row],[Column7]]*_300A_FUNDING[[#This Row],[LOW BIDDER''S UNIT PRICE]]","v":0},{"$f":"_300A_FUNDING[[#This Row],[Column8]]*_300A_FUNDING[[#This Row],[LOW BIDDER''S UNIT PRICE]]","v":0},{"$f":"_300A_FUNDING[[#This Row],[Column9]]*_300A_FUNDING[[#This Row],[LOW BIDDER''S UNIT PRICE]]","v":0},{"$f":"_300A_FUNDING[[#This Row],[Column10]]*_300A_FUNDING[[#This Row],[LOW BIDDER''S UNIT PRICE]]","v":0},{"$f":"_300A_FUNDING[[#This Row],[Column11]]*_300A_FUNDING[[#This Row],[LOW BIDDER''S UNIT PRICE]]","v":0},{"$f":"_300A_FUNDING[[#This Row],[Column12]]*_300A_FUNDING[[#This Row],[LOW BIDDER''S UNIT PRICE]]","v":0},{"$f":"_300A_FUNDING[[#This Row],[Column13]]*_300A_FUNDING[[#This Row],[LOW BIDDER''S UNIT PRICE]]","v":0},{"$f":"_300A_FUNDING[[#This Row],[Column14]]*_300A_FUNDING[[#This Row],[LOW BIDDER''S UNIT PRICE]]","v":0}]
[null,null,null,null,null,null,null,null,null,null,null,null,null,null,null,null,0,{"$f":"_300A_FUNDING[[#This Row],[Column5]]*_300A_FUNDING[[#This Row],[LOW BIDDER''S UNIT PRICE]]","v":0},{"$f":"_300A_FUNDING[[#This Row],[Column6]]*_300A_FUNDING[[#This Row],[LOW BIDDER''S UNIT PRICE]]","v":0},{"$f":"_300A_FUNDING[[#This Row],[Column7]]*_300A_FUNDING[[#This Row],[LOW BIDDER''S UNIT PRICE]]","v":0},{"$f":"_300A_FUNDING[[#This Row],[Column8]]*_300A_FUNDING[[#This Row],[LOW BIDDER''S UNIT PRICE]]","v":0},{"$f":"_300A_FUNDING[[#This Row],[Column9]]*_300A_FUNDING[[#This Row],[LOW BIDDER''S UNIT PRICE]]","v":0},{"$f":"_300A_FUNDING[[#This Row],[Column10]]*_300A_FUNDING[[#This Row],[LOW BIDDER''S UNIT PRICE]]","v":0},{"$f":"_300A_FUNDING[[#This Row],[Column11]]*_300A_FUNDING[[#This Row],[LOW BIDDER''S UNIT PRICE]]","v":0},{"$f":"_300A_FUNDING[[#This Row],[Column12]]*_300A_FUNDING[[#This Row],[LOW BIDDER''S UNIT PRICE]]","v":0},{"$f":"_300A_FUNDING[[#This Row],[Column13]]*_300A_FUNDING[[#This Row],[LOW BIDDER''S UNIT PRICE]]","v":0},{"$f":"_300A_FUNDING[[#This Row],[Column14]]*_300A_FUNDING[[#This Row],[LOW BIDDER''S UNIT PRICE]]","v":0}]
[null,null,null,null,null,null,null,null,null,null,null,null,null,null,null,null,0,{"$f":"_300A_FUNDING[[#This Row],[Column5]]*_300A_FUNDING[[#This Row],[LOW BIDDER''S UNIT PRICE]]","v":0},{"$f":"_300A_FUNDING[[#This Row],[Column6]]*_300A_FUNDING[[#This Row],[LOW BIDDER''S UNIT PRICE]]","v":0},{"$f":"_300A_FUNDING[[#This Row],[Column7]]*_300A_FUNDING[[#This Row],[LOW BIDDER''S UNIT PRICE]]","v":0},{"$f":"_300A_FUNDING[[#This Row],[Column8]]*_300A_FUNDING[[#This Row],[LOW BIDDER''S UNIT PRICE]]","v":0},{"$f":"_300A_FUNDING[[#This Row],[Column9]]*_300A_FUNDING[[#This Row],[LOW BIDDER''S UNIT PRICE]]","v":0},{"$f":"_300A_FUNDING[[#This Row],[Column10]]*_300A_FUNDING[[#This Row],[LOW BIDDER''S UNIT PRICE]]","v":0},{"$f":"_300A_FUNDING[[#This Row],[Column11]]*_300A_FUNDING[[#This Row],[LOW BIDDER''S UNIT PRICE]]","v":0},{"$f":"_300A_FUNDING[[#This Row],[Column12]]*_300A_FUNDING[[#This Row],[LOW BIDDER''S UNIT PRICE]]","v":0},{"$f":"_300A_FUNDING[[#This Row],[Column13]]*_300A_FUNDING[[#This Row],[LOW BIDDER''S UNIT PRICE]]","v":0},{"$f":"_300A_FUNDING[[#This Row],[Column14]]*_300A_FUNDING[[#This Row],[LOW BIDDER''S UNIT PRICE]]","v":0}]
[null,null,null,null,null,null,null,null,null,null,null,null,null,null,null,null,0,{"$f":"_300A_FUNDING[[#This Row],[Column5]]*_300A_FUNDING[[#This Row],[LOW BIDDER''S UNIT PRICE]]","v":0},{"$f":"_300A_FUNDING[[#This Row],[Column6]]*_300A_FUNDING[[#This Row],[LOW BIDDER''S UNIT PRICE]]","v":0},{"$f":"_300A_FUNDING[[#This Row],[Column7]]*_300A_FUNDING[[#This Row],[LOW BIDDER''S UNIT PRICE]]","v":0},{"$f":"_300A_FUNDING[[#This Row],[Column8]]*_300A_FUNDING[[#This Row],[LOW BIDDER''S UNIT PRICE]]","v":0},{"$f":"_300A_FUNDING[[#This Row],[Column9]]*_300A_FUNDING[[#This Row],[LOW BIDDER''S UNIT PRICE]]","v":0},{"$f":"_300A_FUNDING[[#This Row],[Column10]]*_300A_FUNDING[[#This Row],[LOW BIDDER''S UNIT PRICE]]","v":0},{"$f":"_300A_FUNDING[[#This Row],[Column11]]*_300A_FUNDING[[#This Row],[LOW BIDDER''S UNIT PRICE]]","v":0},{"$f":"_300A_FUNDING[[#This Row],[Column12]]*_300A_FUNDING[[#This Row],[LOW BIDDER''S UNIT PRICE]]","v":0},{"$f":"_300A_FUNDING[[#This Row],[Column13]]*_300A_FUNDING[[#This Row],[LOW BIDDER''S UNIT PRICE]]","v":0},{"$f":"_300A_FUNDING[[#This Row],[Column14]]*_300A_FUNDING[[#This Row],[LOW BIDDER''S UNIT PRICE]]","v":0}]
[null,null,null,null,null,null,null,null,null,null,null,null,null,null,null,null,0,{"$f":"_300A_FUNDING[[#This Row],[Column5]]*_300A_FUNDING[[#This Row],[LOW BIDDER''S UNIT PRICE]]","v":0},{"$f":"_300A_FUNDING[[#This Row],[Column6]]*_300A_FUNDING[[#This Row],[LOW BIDDER''S UNIT PRICE]]","v":0},{"$f":"_300A_FUNDING[[#This Row],[Column7]]*_300A_FUNDING[[#This Row],[LOW BIDDER''S UNIT PRICE]]","v":0},{"$f":"_300A_FUNDING[[#This Row],[Column8]]*_300A_FUNDING[[#This Row],[LOW BIDDER''S UNIT PRICE]]","v":0},{"$f":"_300A_FUNDING[[#This Row],[Column9]]*_300A_FUNDING[[#This Row],[LOW BIDDER''S UNIT PRICE]]","v":0},{"$f":"_300A_FUNDING[[#This Row],[Column10]]*_300A_FUNDING[[#This Row],[LOW BIDDER''S UNIT PRICE]]","v":0},{"$f":"_300A_FUNDING[[#This Row],[Column11]]*_300A_FUNDING[[#This Row],[LOW BIDDER''S UNIT PRICE]]","v":0},{"$f":"_300A_FUNDING[[#This Row],[Column12]]*_300A_FUNDING[[#This Row],[LOW BIDDER''S UNIT PRICE]]","v":0},{"$f":"_300A_FUNDING[[#This Row],[Column13]]*_300A_FUNDING[[#This Row],[LOW BIDDER''S UNIT PRICE]]","v":0},{"$f":"_300A_FUNDING[[#This Row],[Column14]]*_300A_FUNDING[[#This Row],[LOW BIDDER''S UNIT PRICE]]","v":0}]
[null,null,null,null,null,null,null,null,null,null,null,null,null,null,null,null,0,{"$f":"_300A_FUNDING[[#This Row],[Column5]]*_300A_FUNDING[[#This Row],[LOW BIDDER''S UNIT PRICE]]","v":0},{"$f":"_300A_FUNDING[[#This Row],[Column6]]*_300A_FUNDING[[#This Row],[LOW BIDDER''S UNIT PRICE]]","v":0},{"$f":"_300A_FUNDING[[#This Row],[Column7]]*_300A_FUNDING[[#This Row],[LOW BIDDER''S UNIT PRICE]]","v":0},{"$f":"_300A_FUNDING[[#This Row],[Column8]]*_300A_FUNDING[[#This Row],[LOW BIDDER''S UNIT PRICE]]","v":0},{"$f":"_300A_FUNDING[[#This Row],[Column9]]*_300A_FUNDING[[#This Row],[LOW BIDDER''S UNIT PRICE]]","v":0},{"$f":"_300A_FUNDING[[#This Row],[Column10]]*_300A_FUNDING[[#This Row],[LOW BIDDER''S UNIT PRICE]]","v":0},{"$f":"_300A_FUNDING[[#This Row],[Column11]]*_300A_FUNDING[[#This Row],[LOW BIDDER''S UNIT PRICE]]","v":0},{"$f":"_300A_FUNDING[[#This Row],[Column12]]*_300A_FUNDING[[#This Row],[LOW BIDDER''S UNIT PRICE]]","v":0},{"$f":"_300A_FUNDING[[#This Row],[Column13]]*_300A_FUNDING[[#This Row],[LOW BIDDER''S UNIT PRICE]]","v":0},{"$f":"_300A_FUNDING[[#This Row],[Column14]]*_300A_FUNDING[[#This Row],[LOW BIDDER''S UNIT PRICE]]","v":0}]
[null,null,null,null,null,null,null,null,null,null,null,null,null,null,null,null,0,{"$f":"_300A_FUNDING[[#This Row],[Column5]]*_300A_FUNDING[[#This Row],[LOW BIDDER''S UNIT PRICE]]","v":0},{"$f":"_300A_FUNDING[[#This Row],[Column6]]*_300A_FUNDING[[#This Row],[LOW BIDDER''S UNIT PRICE]]","v":0},{"$f":"_300A_FUNDING[[#This Row],[Column7]]*_300A_FUNDING[[#This Row],[LOW BIDDER''S UNIT PRICE]]","v":0},{"$f":"_300A_FUNDING[[#This Row],[Column8]]*_300A_FUNDING[[#This Row],[LOW BIDDER''S UNIT PRICE]]","v":0},{"$f":"_300A_FUNDING[[#This Row],[Column9]]*_300A_FUNDING[[#This Row],[LOW BIDDER''S UNIT PRICE]]","v":0},{"$f":"_300A_FUNDING[[#This Row],[Column10]]*_300A_FUNDING[[#This Row],[LOW BIDDER''S UNIT PRICE]]","v":0},{"$f":"_300A_FUNDING[[#This Row],[Column11]]*_300A_FUNDING[[#This Row],[LOW BIDDER''S UNIT PRICE]]","v":0},{"$f":"_300A_FUNDING[[#This Row],[Column12]]*_300A_FUNDING[[#This Row],[LOW BIDDER''S UNIT PRICE]]","v":0},{"$f":"_300A_FUNDING[[#This Row],[Column13]]*_300A_FUNDING[[#This Row],[LOW BIDDER''S UNIT PRICE]]","v":0},{"$f":"_300A_FUNDING[[#This Row],[Column14]]*_300A_FUNDING[[#This Row],[LOW BIDDER''S UNIT PRICE]]","v":0}]
[null,null,null,null,null,null,null,null,null,null,null,null,null,null,null,null,0,{"$f":"_300A_FUNDING[[#This Row],[Column5]]*_300A_FUNDING[[#This Row],[LOW BIDDER''S UNIT PRICE]]","v":0},{"$f":"_300A_FUNDING[[#This Row],[Column6]]*_300A_FUNDING[[#This Row],[LOW BIDDER''S UNIT PRICE]]","v":0},{"$f":"_300A_FUNDING[[#This Row],[Column7]]*_300A_FUNDING[[#This Row],[LOW BIDDER''S UNIT PRICE]]","v":0},{"$f":"_300A_FUNDING[[#This Row],[Column8]]*_300A_FUNDING[[#This Row],[LOW BIDDER''S UNIT PRICE]]","v":0},{"$f":"_300A_FUNDING[[#This Row],[Column9]]*_300A_FUNDING[[#This Row],[LOW BIDDER''S UNIT PRICE]]","v":0},{"$f":"_300A_FUNDING[[#This Row],[Column10]]*_300A_FUNDING[[#This Row],[LOW BIDDER''S UNIT PRICE]]","v":0},{"$f":"_300A_FUNDING[[#This Row],[Column11]]*_300A_FUNDING[[#This Row],[LOW BIDDER''S UNIT PRICE]]","v":0},{"$f":"_300A_FUNDING[[#This Row],[Column12]]*_300A_FUNDING[[#This Row],[LOW BIDDER''S UNIT PRICE]]","v":0},{"$f":"_300A_FUNDING[[#This Row],[Column13]]*_300A_FUNDING[[#This Row],[LOW BIDDER''S UNIT PRICE]]","v":0},{"$f":"_300A_FUNDING[[#This Row],[Column14]]*_300A_FUNDING[[#This Row],[LOW BIDDER''S UNIT PRICE]]","v":0}]
[null,null,null,null,null,null,null,null,null,null,null,null,null,null,null,null,0,{"$f":"_300A_FUNDING[[#This Row],[Column5]]*_300A_FUNDING[[#This Row],[LOW BIDDER''S UNIT PRICE]]","v":0},{"$f":"_300A_FUNDING[[#This Row],[Column6]]*_300A_FUNDING[[#This Row],[LOW BIDDER''S UNIT PRICE]]","v":0},{"$f":"_300A_FUNDING[[#This Row],[Column7]]*_300A_FUNDING[[#This Row],[LOW BIDDER''S UNIT PRICE]]","v":0},{"$f":"_300A_FUNDING[[#This Row],[Column8]]*_300A_FUNDING[[#This Row],[LOW BIDDER''S UNIT PRICE]]","v":0},{"$f":"_300A_FUNDING[[#This Row],[Column9]]*_300A_FUNDING[[#This Row],[LOW BIDDER''S UNIT PRICE]]","v":0},{"$f":"_300A_FUNDING[[#This Row],[Column10]]*_300A_FUNDING[[#This Row],[LOW BIDDER''S UNIT PRICE]]","v":0},{"$f":"_300A_FUNDING[[#This Row],[Column11]]*_300A_FUNDING[[#This Row],[LOW BIDDER''S UNIT PRICE]]","v":0},{"$f":"_300A_FUNDING[[#This Row],[Column12]]*_300A_FUNDING[[#This Row],[LOW BIDDER''S UNIT PRICE]]","v":0},{"$f":"_300A_FUNDING[[#This Row],[Column13]]*_300A_FUNDING[[#This Row],[LOW BIDDER''S UNIT PRICE]]","v":0},{"$f":"_300A_FUNDING[[#This Row],[Column14]]*_300A_FUNDING[[#This Row],[LOW BIDDER''S UNIT PRICE]]","v":0}]
[null,null,null,null,null,null,null,null,null,null,null,null,null,null,null,null,0,{"$f":"_300A_FUNDING[[#This Row],[Column5]]*_300A_FUNDING[[#This Row],[LOW BIDDER''S UNIT PRICE]]","v":0},{"$f":"_300A_FUNDING[[#This Row],[Column6]]*_300A_FUNDING[[#This Row],[LOW BIDDER''S UNIT PRICE]]","v":0},{"$f":"_300A_FUNDING[[#This Row],[Column7]]*_300A_FUNDING[[#This Row],[LOW BIDDER''S UNIT PRICE]]","v":0},{"$f":"_300A_FUNDING[[#This Row],[Column8]]*_300A_FUNDING[[#This Row],[LOW BIDDER''S UNIT PRICE]]","v":0},{"$f":"_300A_FUNDING[[#This Row],[Column9]]*_300A_FUNDING[[#This Row],[LOW BIDDER''S UNIT PRICE]]","v":0},{"$f":"_300A_FUNDING[[#This Row],[Column10]]*_300A_FUNDING[[#This Row],[LOW BIDDER''S UNIT PRICE]]","v":0},{"$f":"_300A_FUNDING[[#This Row],[Column11]]*_300A_FUNDING[[#This Row],[LOW BIDDER''S UNIT PRICE]]","v":0},{"$f":"_300A_FUNDING[[#This Row],[Column12]]*_300A_FUNDING[[#This Row],[LOW BIDDER''S UNIT PRICE]]","v":0},{"$f":"_300A_FUNDING[[#This Row],[Column13]]*_300A_FUNDING[[#This Row],[LOW BIDDER''S UNIT PRICE]]","v":0},{"$f":"_300A_FUNDING[[#This Row],[Column14]]*_300A_FUNDING[[#This Row],[LOW BIDDER''S UNIT PRICE]]","v":0}]
[null,null,null,null,null,null,null,null,null,null,null,null,null,null,null,null,0,{"$f":"_300A_FUNDING[[#This Row],[Column5]]*_300A_FUNDING[[#This Row],[LOW BIDDER''S UNIT PRICE]]","v":0},{"$f":"_300A_FUNDING[[#This Row],[Column6]]*_300A_FUNDING[[#This Row],[LOW BIDDER''S UNIT PRICE]]","v":0},{"$f":"_300A_FUNDING[[#This Row],[Column7]]*_300A_FUNDING[[#This Row],[LOW BIDDER''S UNIT PRICE]]","v":0},{"$f":"_300A_FUNDING[[#This Row],[Column8]]*_300A_FUNDING[[#This Row],[LOW BIDDER''S UNIT PRICE]]","v":0},{"$f":"_300A_FUNDING[[#This Row],[Column9]]*_300A_FUNDING[[#This Row],[LOW BIDDER''S UNIT PRICE]]","v":0},{"$f":"_300A_FUNDING[[#This Row],[Column10]]*_300A_FUNDING[[#This Row],[LOW BIDDER''S UNIT PRICE]]","v":0},{"$f":"_300A_FUNDING[[#This Row],[Column11]]*_300A_FUNDING[[#This Row],[LOW BIDDER''S UNIT PRICE]]","v":0},{"$f":"_300A_FUNDING[[#This Row],[Column12]]*_300A_FUNDING[[#This Row],[LOW BIDDER''S UNIT PRICE]]","v":0},{"$f":"_300A_FUNDING[[#This Row],[Column13]]*_300A_FUNDING[[#This Row],[LOW BIDDER''S UNIT PRICE]]","v":0},{"$f":"_300A_FUNDING[[#This Row],[Column14]]*_300A_FUNDING[[#This Row],[LOW BIDDER''S UNIT PRICE]]","v":0}]
[null,null,null,null,null,null,null,null,null,null,null,null,null,null,null,null,0,{"$f":"_300A_FUNDING[[#This Row],[Column5]]*_300A_FUNDING[[#This Row],[LOW BIDDER''S UNIT PRICE]]","v":0},{"$f":"_300A_FUNDING[[#This Row],[Column6]]*_300A_FUNDING[[#This Row],[LOW BIDDER''S UNIT PRICE]]","v":0},{"$f":"_300A_FUNDING[[#This Row],[Column7]]*_300A_FUNDING[[#This Row],[LOW BIDDER''S UNIT PRICE]]","v":0},{"$f":"_300A_FUNDING[[#This Row],[Column8]]*_300A_FUNDING[[#This Row],[LOW BIDDER''S UNIT PRICE]]","v":0},{"$f":"_300A_FUNDING[[#This Row],[Column9]]*_300A_FUNDING[[#This Row],[LOW BIDDER''S UNIT PRICE]]","v":0},{"$f":"_300A_FUNDING[[#This Row],[Column10]]*_300A_FUNDING[[#This Row],[LOW BIDDER''S UNIT PRICE]]","v":0},{"$f":"_300A_FUNDING[[#This Row],[Column11]]*_300A_FUNDING[[#This Row],[LOW BIDDER''S UNIT PRICE]]","v":0},{"$f":"_300A_FUNDING[[#This Row],[Column12]]*_300A_FUNDING[[#This Row],[LOW BIDDER''S UNIT PRICE]]","v":0},{"$f":"_300A_FUNDING[[#This Row],[Column13]]*_300A_FUNDING[[#This Row],[LOW BIDDER''S UNIT PRICE]]","v":0},{"$f":"_300A_FUNDING[[#This Row],[Column14]]*_300A_FUNDING[[#This Row],[LOW BIDDER''S UNIT PRICE]]","v":0}]
[null,null,null,null,null,null,null,null,null,null,null,null,null,null,null,null,0,{"$f":"_300A_FUNDING[[#This Row],[Column5]]*_300A_FUNDING[[#This Row],[LOW BIDDER''S UNIT PRICE]]","v":0},{"$f":"_300A_FUNDING[[#This Row],[Column6]]*_300A_FUNDING[[#This Row],[LOW BIDDER''S UNIT PRICE]]","v":0},{"$f":"_300A_FUNDING[[#This Row],[Column7]]*_300A_FUNDING[[#This Row],[LOW BIDDER''S UNIT PRICE]]","v":0},{"$f":"_300A_FUNDING[[#This Row],[Column8]]*_300A_FUNDING[[#This Row],[LOW BIDDER''S UNIT PRICE]]","v":0},{"$f":"_300A_FUNDING[[#This Row],[Column9]]*_300A_FUNDING[[#This Row],[LOW BIDDER''S UNIT PRICE]]","v":0},{"$f":"_300A_FUNDING[[#This Row],[Column10]]*_300A_FUNDING[[#This Row],[LOW BIDDER''S UNIT PRICE]]","v":0},{"$f":"_300A_FUNDING[[#This Row],[Column11]]*_300A_FUNDING[[#This Row],[LOW BIDDER''S UNIT PRICE]]","v":0},{"$f":"_300A_FUNDING[[#This Row],[Column12]]*_300A_FUNDING[[#This Row],[LOW BIDDER''S UNIT PRICE]]","v":0},{"$f":"_300A_FUNDING[[#This Row],[Column13]]*_300A_FUNDING[[#This Row],[LOW BIDDER''S UNIT PRICE]]","v":0},{"$f":"_300A_FUNDING[[#This Row],[Column14]]*_300A_FUNDING[[#This Row],[LOW BIDDER''S UNIT PRICE]]","v":0}]
[null,null,null,null,null,null,null,null,null,null,null,null,null,null,null,null,0,{"$f":"_300A_FUNDING[[#This Row],[Column5]]*_300A_FUNDING[[#This Row],[LOW BIDDER''S UNIT PRICE]]","v":0},{"$f":"_300A_FUNDING[[#This Row],[Column6]]*_300A_FUNDING[[#This Row],[LOW BIDDER''S UNIT PRICE]]","v":0},{"$f":"_300A_FUNDING[[#This Row],[Column7]]*_300A_FUNDING[[#This Row],[LOW BIDDER''S UNIT PRICE]]","v":0},{"$f":"_300A_FUNDING[[#This Row],[Column8]]*_300A_FUNDING[[#This Row],[LOW BIDDER''S UNIT PRICE]]","v":0},{"$f":"_300A_FUNDING[[#This Row],[Column9]]*_300A_FUNDING[[#This Row],[LOW BIDDER''S UNIT PRICE]]","v":0},{"$f":"_300A_FUNDING[[#This Row],[Column10]]*_300A_FUNDING[[#This Row],[LOW BIDDER''S UNIT PRICE]]","v":0},{"$f":"_300A_FUNDING[[#This Row],[Column11]]*_300A_FUNDING[[#This Row],[LOW BIDDER''S UNIT PRICE]]","v":0},{"$f":"_300A_FUNDING[[#This Row],[Column12]]*_300A_FUNDING[[#This Row],[LOW BIDDER''S UNIT PRICE]]","v":0},{"$f":"_300A_FUNDING[[#This Row],[Column13]]*_300A_FUNDING[[#This Row],[LOW BIDDER''S UNIT PRICE]]","v":0},{"$f":"_300A_FUNDING[[#This Row],[Column14]]*_300A_FUNDING[[#This Row],[LOW BIDDER''S UNIT PRICE]]","v":0}]
[null,null,null,null,null,null,null,null,null,null,null,null,null,null,null,null,0,{"$f":"_300A_FUNDING[[#This Row],[Column5]]*_300A_FUNDING[[#This Row],[LOW BIDDER''S UNIT PRICE]]","v":0},{"$f":"_300A_FUNDING[[#This Row],[Column6]]*_300A_FUNDING[[#This Row],[LOW BIDDER''S UNIT PRICE]]","v":0},{"$f":"_300A_FUNDING[[#This Row],[Column7]]*_300A_FUNDING[[#This Row],[LOW BIDDER''S UNIT PRICE]]","v":0},{"$f":"_300A_FUNDING[[#This Row],[Column8]]*_300A_FUNDING[[#This Row],[LOW BIDDER''S UNIT PRICE]]","v":0},{"$f":"_300A_FUNDING[[#This Row],[Column9]]*_300A_FUNDING[[#This Row],[LOW BIDDER''S UNIT PRICE]]","v":0},{"$f":"_300A_FUNDING[[#This Row],[Column10]]*_300A_FUNDING[[#This Row],[LOW BIDDER''S UNIT PRICE]]","v":0},{"$f":"_300A_FUNDING[[#This Row],[Column11]]*_300A_FUNDING[[#This Row],[LOW BIDDER''S UNIT PRICE]]","v":0},{"$f":"_300A_FUNDING[[#This Row],[Column12]]*_300A_FUNDING[[#This Row],[LOW BIDDER''S UNIT PRICE]]","v":0},{"$f":"_300A_FUNDING[[#This Row],[Column13]]*_300A_FUNDING[[#This Row],[LOW BIDDER''S UNIT PRICE]]","v":0},{"$f":"_300A_FUNDING[[#This Row],[Column14]]*_300A_FUNDING[[#This Row],[LOW BIDDER''S UNIT PRICE]]","v":0}]
[null,null,null,null,null,null,null,null,null,null,null,null,null,null,null,null,0,{"$f":"_300A_FUNDING[[#This Row],[Column5]]*_300A_FUNDING[[#This Row],[LOW BIDDER''S UNIT PRICE]]","v":0},{"$f":"_300A_FUNDING[[#This Row],[Column6]]*_300A_FUNDING[[#This Row],[LOW BIDDER''S UNIT PRICE]]","v":0},{"$f":"_300A_FUNDING[[#This Row],[Column7]]*_300A_FUNDING[[#This Row],[LOW BIDDER''S UNIT PRICE]]","v":0},{"$f":"_300A_FUNDING[[#This Row],[Column8]]*_300A_FUNDING[[#This Row],[LOW BIDDER''S UNIT PRICE]]","v":0},{"$f":"_300A_FUNDING[[#This Row],[Column9]]*_300A_FUNDING[[#This Row],[LOW BIDDER''S UNIT PRICE]]","v":0},{"$f":"_300A_FUNDING[[#This Row],[Column10]]*_300A_FUNDING[[#This Row],[LOW BIDDER''S UNIT PRICE]]","v":0},{"$f":"_300A_FUNDING[[#This Row],[Column11]]*_300A_FUNDING[[#This Row],[LOW BIDDER''S UNIT PRICE]]","v":0},{"$f":"_300A_FUNDING[[#This Row],[Column12]]*_300A_FUNDING[[#This Row],[LOW BIDDER''S UNIT PRICE]]","v":0},{"$f":"_300A_FUNDING[[#This Row],[Column13]]*_300A_FUNDING[[#This Row],[LOW BIDDER''S UNIT PRICE]]","v":0},{"$f":"_300A_FUNDING[[#This Row],[Column14]]*_300A_FUNDING[[#This Row],[LOW BIDDER''S UNIT PRICE]]","v":0}]
[null,null,null,null,null,null,null,null,null,null,null,null,null,null,null,null,0,{"$f":"_300A_FUNDING[[#This Row],[Column5]]*_300A_FUNDING[[#This Row],[LOW BIDDER''S UNIT PRICE]]","v":0},{"$f":"_300A_FUNDING[[#This Row],[Column6]]*_300A_FUNDING[[#This Row],[LOW BIDDER''S UNIT PRICE]]","v":0},{"$f":"_300A_FUNDING[[#This Row],[Column7]]*_300A_FUNDING[[#This Row],[LOW BIDDER''S UNIT PRICE]]","v":0},{"$f":"_300A_FUNDING[[#This Row],[Column8]]*_300A_FUNDING[[#This Row],[LOW BIDDER''S UNIT PRICE]]","v":0},{"$f":"_300A_FUNDING[[#This Row],[Column9]]*_300A_FUNDING[[#This Row],[LOW BIDDER''S UNIT PRICE]]","v":0},{"$f":"_300A_FUNDING[[#This Row],[Column10]]*_300A_FUNDING[[#This Row],[LOW BIDDER''S UNIT PRICE]]","v":0},{"$f":"_300A_FUNDING[[#This Row],[Column11]]*_300A_FUNDING[[#This Row],[LOW BIDDER''S UNIT PRICE]]","v":0},{"$f":"_300A_FUNDING[[#This Row],[Column12]]*_300A_FUNDING[[#This Row],[LOW BIDDER''S UNIT PRICE]]","v":0},{"$f":"_300A_FUNDING[[#This Row],[Column13]]*_300A_FUNDING[[#This Row],[LOW BIDDER''S UNIT PRICE]]","v":0},{"$f":"_300A_FUNDING[[#This Row],[Column14]]*_300A_FUNDING[[#This Row],[LOW BIDDER''S UNIT PRICE]]","v":0}]
[null,null,null,null,null,null,null,null,null,null,null,null,null,null,null,null,0,{"$f":"_300A_FUNDING[[#This Row],[Column5]]*_300A_FUNDING[[#This Row],[LOW BIDDER''S UNIT PRICE]]","v":0},{"$f":"_300A_FUNDING[[#This Row],[Column6]]*_300A_FUNDING[[#This Row],[LOW BIDDER''S UNIT PRICE]]","v":0},{"$f":"_300A_FUNDING[[#This Row],[Column7]]*_300A_FUNDING[[#This Row],[LOW BIDDER''S UNIT PRICE]]","v":0},{"$f":"_300A_FUNDING[[#This Row],[Column8]]*_300A_FUNDING[[#This Row],[LOW BIDDER''S UNIT PRICE]]","v":0},{"$f":"_300A_FUNDING[[#This Row],[Column9]]*_300A_FUNDING[[#This Row],[LOW BIDDER''S UNIT PRICE]]","v":0},{"$f":"_300A_FUNDING[[#This Row],[Column10]]*_300A_FUNDING[[#This Row],[LOW BIDDER''S UNIT PRICE]]","v":0},{"$f":"_300A_FUNDING[[#This Row],[Column11]]*_300A_FUNDING[[#This Row],[LOW BIDDER''S UNIT PRICE]]","v":0},{"$f":"_300A_FUNDING[[#This Row],[Column12]]*_300A_FUNDING[[#This Row],[LOW BIDDER''S UNIT PRICE]]","v":0},{"$f":"_300A_FUNDING[[#This Row],[Column13]]*_300A_FUNDING[[#This Row],[LOW BIDDER''S UNIT PRICE]]","v":0},{"$f":"_300A_FUNDING[[#This Row],[Column14]]*_300A_FUNDING[[#This Row],[LOW BIDDER''S UNIT PRICE]]","v":0}]
[null,null,null,null,null,null,null,null,null,null,null,null,null,null,null,null,0,{"$f":"_300A_FUNDING[[#This Row],[Column5]]*_300A_FUNDING[[#This Row],[LOW BIDDER''S UNIT PRICE]]","v":0},{"$f":"_300A_FUNDING[[#This Row],[Column6]]*_300A_FUNDING[[#This Row],[LOW BIDDER''S UNIT PRICE]]","v":0},{"$f":"_300A_FUNDING[[#This Row],[Column7]]*_300A_FUNDING[[#This Row],[LOW BIDDER''S UNIT PRICE]]","v":0},{"$f":"_300A_FUNDING[[#This Row],[Column8]]*_300A_FUNDING[[#This Row],[LOW BIDDER''S UNIT PRICE]]","v":0},{"$f":"_300A_FUNDING[[#This Row],[Column9]]*_300A_FUNDING[[#This Row],[LOW BIDDER''S UNIT PRICE]]","v":0},{"$f":"_300A_FUNDING[[#This Row],[Column10]]*_300A_FUNDING[[#This Row],[LOW BIDDER''S UNIT PRICE]]","v":0},{"$f":"_300A_FUNDING[[#This Row],[Column11]]*_300A_FUNDING[[#This Row],[LOW BIDDER''S UNIT PRICE]]","v":0},{"$f":"_300A_FUNDING[[#This Row],[Column12]]*_300A_FUNDING[[#This Row],[LOW BIDDER''S UNIT PRICE]]","v":0},{"$f":"_300A_FUNDING[[#This Row],[Column13]]*_300A_FUNDING[[#This Row],[LOW BIDDER''S UNIT PRICE]]","v":0},{"$f":"_300A_FUNDING[[#This Row],[Column14]]*_300A_FUNDING[[#This Row],[LOW BIDDER''S UNIT PRICE]]","v":0}]
[null,null,null,null,null,null,null,null,null,null,null,null,null,null,null,null,0,{"$f":"_300A_FUNDING[[#This Row],[Column5]]*_300A_FUNDING[[#This Row],[LOW BIDDER''S UNIT PRICE]]","v":0},{"$f":"_300A_FUNDING[[#This Row],[Column6]]*_300A_FUNDING[[#This Row],[LOW BIDDER''S UNIT PRICE]]","v":0},{"$f":"_300A_FUNDING[[#This Row],[Column7]]*_300A_FUNDING[[#This Row],[LOW BIDDER''S UNIT PRICE]]","v":0},{"$f":"_300A_FUNDING[[#This Row],[Column8]]*_300A_FUNDING[[#This Row],[LOW BIDDER''S UNIT PRICE]]","v":0},{"$f":"_300A_FUNDING[[#This Row],[Column9]]*_300A_FUNDING[[#This Row],[LOW BIDDER''S UNIT PRICE]]","v":0},{"$f":"_300A_FUNDING[[#This Row],[Column10]]*_300A_FUNDING[[#This Row],[LOW BIDDER''S UNIT PRICE]]","v":0},{"$f":"_300A_FUNDING[[#This Row],[Column11]]*_300A_FUNDING[[#This Row],[LOW BIDDER''S UNIT PRICE]]","v":0},{"$f":"_300A_FUNDING[[#This Row],[Column12]]*_300A_FUNDING[[#This Row],[LOW BIDDER''S UNIT PRICE]]","v":0},{"$f":"_300A_FUNDING[[#This Row],[Column13]]*_300A_FUNDING[[#This Row],[LOW BIDDER''S UNIT PRICE]]","v":0},{"$f":"_300A_FUNDING[[#This Row],[Column14]]*_300A_FUNDING[[#This Row],[LOW BIDDER''S UNIT PRICE]]","v":0}]
[null,null,null,null,null,null,null,null,null,null,null,null,null,null,null,null,0,{"$f":"_300A_FUNDING[[#This Row],[Column5]]*_300A_FUNDING[[#This Row],[LOW BIDDER''S UNIT PRICE]]","v":0},{"$f":"_300A_FUNDING[[#This Row],[Column6]]*_300A_FUNDING[[#This Row],[LOW BIDDER''S UNIT PRICE]]","v":0},{"$f":"_300A_FUNDING[[#This Row],[Column7]]*_300A_FUNDING[[#This Row],[LOW BIDDER''S UNIT PRICE]]","v":0},{"$f":"_300A_FUNDING[[#This Row],[Column8]]*_300A_FUNDING[[#This Row],[LOW BIDDER''S UNIT PRICE]]","v":0},{"$f":"_300A_FUNDING[[#This Row],[Column9]]*_300A_FUNDING[[#This Row],[LOW BIDDER''S UNIT PRICE]]","v":0},{"$f":"_300A_FUNDING[[#This Row],[Column10]]*_300A_FUNDING[[#This Row],[LOW BIDDER''S UNIT PRICE]]","v":0},{"$f":"_300A_FUNDING[[#This Row],[Column11]]*_300A_FUNDING[[#This Row],[LOW BIDDER''S UNIT PRICE]]","v":0},{"$f":"_300A_FUNDING[[#This Row],[Column12]]*_300A_FUNDING[[#This Row],[LOW BIDDER''S UNIT PRICE]]","v":0},{"$f":"_300A_FUNDING[[#This Row],[Column13]]*_300A_FUNDING[[#This Row],[LOW BIDDER''S UNIT PRICE]]","v":0},{"$f":"_300A_FUNDING[[#This Row],[Column14]]*_300A_FUNDING[[#This Row],[LOW BIDDER''S UNIT PRICE]]","v":0}]
[null,null,null,null,null,null,null,null,null,null,null,null,null,null,null,null,0,{"$f":"_300A_FUNDING[[#This Row],[Column5]]*_300A_FUNDING[[#This Row],[LOW BIDDER''S UNIT PRICE]]","v":0},{"$f":"_300A_FUNDING[[#This Row],[Column6]]*_300A_FUNDING[[#This Row],[LOW BIDDER''S UNIT PRICE]]","v":0},{"$f":"_300A_FUNDING[[#This Row],[Column7]]*_300A_FUNDING[[#This Row],[LOW BIDDER''S UNIT PRICE]]","v":0},{"$f":"_300A_FUNDING[[#This Row],[Column8]]*_300A_FUNDING[[#This Row],[LOW BIDDER''S UNIT PRICE]]","v":0},{"$f":"_300A_FUNDING[[#This Row],[Column9]]*_300A_FUNDING[[#This Row],[LOW BIDDER''S UNIT PRICE]]","v":0},{"$f":"_300A_FUNDING[[#This Row],[Column10]]*_300A_FUNDING[[#This Row],[LOW BIDDER''S UNIT PRICE]]","v":0},{"$f":"_300A_FUNDING[[#This Row],[Column11]]*_300A_FUNDING[[#This Row],[LOW BIDDER''S UNIT PRICE]]","v":0},{"$f":"_300A_FUNDING[[#This Row],[Column12]]*_300A_FUNDING[[#This Row],[LOW BIDDER''S UNIT PRICE]]","v":0},{"$f":"_300A_FUNDING[[#This Row],[Column13]]*_300A_FUNDING[[#This Row],[LOW BIDDER''S UNIT PRICE]]","v":0},{"$f":"_300A_FUNDING[[#This Row],[Column14]]*_300A_FUNDING[[#This Row],[LOW BIDDER''S UNIT PRICE]]","v":0}]
[null,null,null,null,null,null,null,null,null,null,null,null,null,null,null,null,0,{"$f":"_300A_FUNDING[[#This Row],[Column5]]*_300A_FUNDING[[#This Row],[LOW BIDDER''S UNIT PRICE]]","v":0},{"$f":"_300A_FUNDING[[#This Row],[Column6]]*_300A_FUNDING[[#This Row],[LOW BIDDER''S UNIT PRICE]]","v":0},{"$f":"_300A_FUNDING[[#This Row],[Column7]]*_300A_FUNDING[[#This Row],[LOW BIDDER''S UNIT PRICE]]","v":0},{"$f":"_300A_FUNDING[[#This Row],[Column8]]*_300A_FUNDING[[#This Row],[LOW BIDDER''S UNIT PRICE]]","v":0},{"$f":"_300A_FUNDING[[#This Row],[Column9]]*_300A_FUNDING[[#This Row],[LOW BIDDER''S UNIT PRICE]]","v":0},{"$f":"_300A_FUNDING[[#This Row],[Column10]]*_300A_FUNDING[[#This Row],[LOW BIDDER''S UNIT PRICE]]","v":0},{"$f":"_300A_FUNDING[[#This Row],[Column11]]*_300A_FUNDING[[#This Row],[LOW BIDDER''S UNIT PRICE]]","v":0},{"$f":"_300A_FUNDING[[#This Row],[Column12]]*_300A_FUNDING[[#This Row],[LOW BIDDER''S UNIT PRICE]]","v":0},{"$f":"_300A_FUNDING[[#This Row],[Column13]]*_300A_FUNDING[[#This Row],[LOW BIDDER''S UNIT PRICE]]","v":0},{"$f":"_300A_FUNDING[[#This Row],[Column14]]*_300A_FUNDING[[#This Row],[LOW BIDDER''S UNIT PRICE]]","v":0}]
[null,null,null,null,null,null,null,null,null,null,null,null,null,null,null,null,0,{"$f":"_300A_FUNDING[[#This Row],[Column5]]*_300A_FUNDING[[#This Row],[LOW BIDDER''S UNIT PRICE]]","v":0},{"$f":"_300A_FUNDING[[#This Row],[Column6]]*_300A_FUNDING[[#This Row],[LOW BIDDER''S UNIT PRICE]]","v":0},{"$f":"_300A_FUNDING[[#This Row],[Column7]]*_300A_FUNDING[[#This Row],[LOW BIDDER''S UNIT PRICE]]","v":0},{"$f":"_300A_FUNDING[[#This Row],[Column8]]*_300A_FUNDING[[#This Row],[LOW BIDDER''S UNIT PRICE]]","v":0},{"$f":"_300A_FUNDING[[#This Row],[Column9]]*_300A_FUNDING[[#This Row],[LOW BIDDER''S UNIT PRICE]]","v":0},{"$f":"_300A_FUNDING[[#This Row],[Column10]]*_300A_FUNDING[[#This Row],[LOW BIDDER''S UNIT PRICE]]","v":0},{"$f":"_300A_FUNDING[[#This Row],[Column11]]*_300A_FUNDING[[#This Row],[LOW BIDDER''S UNIT PRICE]]","v":0},{"$f":"_300A_FUNDING[[#This Row],[Column12]]*_300A_FUNDING[[#This Row],[LOW BIDDER''S UNIT PRICE]]","v":0},{"$f":"_300A_FUNDING[[#This Row],[Column13]]*_300A_FUNDING[[#This Row],[LOW BIDDER''S UNIT PRICE]]","v":0},{"$f":"_300A_FUNDING[[#This Row],[Column14]]*_300A_FUNDING[[#This Row],[LOW BIDDER''S UNIT PRICE]]","v":0}]
[null,null,null,null,null,null,null,null,null,null,null,null,null,null,null,null,0,{"$f":"_300A_FUNDING[[#This Row],[Column5]]*_300A_FUNDING[[#This Row],[LOW BIDDER''S UNIT PRICE]]","v":0},{"$f":"_300A_FUNDING[[#This Row],[Column6]]*_300A_FUNDING[[#This Row],[LOW BIDDER''S UNIT PRICE]]","v":0},{"$f":"_300A_FUNDING[[#This Row],[Column7]]*_300A_FUNDING[[#This Row],[LOW BIDDER''S UNIT PRICE]]","v":0},{"$f":"_300A_FUNDING[[#This Row],[Column8]]*_300A_FUNDING[[#This Row],[LOW BIDDER''S UNIT PRICE]]","v":0},{"$f":"_300A_FUNDING[[#This Row],[Column9]]*_300A_FUNDING[[#This Row],[LOW BIDDER''S UNIT PRICE]]","v":0},{"$f":"_300A_FUNDING[[#This Row],[Column10]]*_300A_FUNDING[[#This Row],[LOW BIDDER''S UNIT PRICE]]","v":0},{"$f":"_300A_FUNDING[[#This Row],[Column11]]*_300A_FUNDING[[#This Row],[LOW BIDDER''S UNIT PRICE]]","v":0},{"$f":"_300A_FUNDING[[#This Row],[Column12]]*_300A_FUNDING[[#This Row],[LOW BIDDER''S UNIT PRICE]]","v":0},{"$f":"_300A_FUNDING[[#This Row],[Column13]]*_300A_FUNDING[[#This Row],[LOW BIDDER''S UNIT PRICE]]","v":0},{"$f":"_300A_FUNDING[[#This Row],[Column14]]*_300A_FUNDING[[#This Row],[LOW BIDDER''S UNIT PRICE]]","v":0}]
[null,null,null,null,null,null,null,null,null,null,null,null,null,null,null,null,0,{"$f":"_300A_FUNDING[[#This Row],[Column5]]*_300A_FUNDING[[#This Row],[LOW BIDDER''S UNIT PRICE]]","v":0},{"$f":"_300A_FUNDING[[#This Row],[Column6]]*_300A_FUNDING[[#This Row],[LOW BIDDER''S UNIT PRICE]]","v":0},{"$f":"_300A_FUNDING[[#This Row],[Column7]]*_300A_FUNDING[[#This Row],[LOW BIDDER''S UNIT PRICE]]","v":0},{"$f":"_300A_FUNDING[[#This Row],[Column8]]*_300A_FUNDING[[#This Row],[LOW BIDDER''S UNIT PRICE]]","v":0},{"$f":"_300A_FUNDING[[#This Row],[Column9]]*_300A_FUNDING[[#This Row],[LOW BIDDER''S UNIT PRICE]]","v":0},{"$f":"_300A_FUNDING[[#This Row],[Column10]]*_300A_FUNDING[[#This Row],[LOW BIDDER''S UNIT PRICE]]","v":0},{"$f":"_300A_FUNDING[[#This Row],[Column11]]*_300A_FUNDING[[#This Row],[LOW BIDDER''S UNIT PRICE]]","v":0},{"$f":"_300A_FUNDING[[#This Row],[Column12]]*_300A_FUNDING[[#This Row],[LOW BIDDER''S UNIT PRICE]]","v":0},{"$f":"_300A_FUNDING[[#This Row],[Column13]]*_300A_FUNDING[[#This Row],[LOW BIDDER''S UNIT PRICE]]","v":0},{"$f":"_300A_FUNDING[[#This Row],[Column14]]*_300A_FUNDING[[#This Row],[LOW BIDDER''S UNIT PRICE]]","v":0}]
[null,null,null,null,null,null,null,null,null,null,null,null,null,null,null,null,0,{"$f":"_300A_FUNDING[[#This Row],[Column5]]*_300A_FUNDING[[#This Row],[LOW BIDDER''S UNIT PRICE]]","v":0},{"$f":"_300A_FUNDING[[#This Row],[Column6]]*_300A_FUNDING[[#This Row],[LOW BIDDER''S UNIT PRICE]]","v":0},{"$f":"_300A_FUNDING[[#This Row],[Column7]]*_300A_FUNDING[[#This Row],[LOW BIDDER''S UNIT PRICE]]","v":0},{"$f":"_300A_FUNDING[[#This Row],[Column8]]*_300A_FUNDING[[#This Row],[LOW BIDDER''S UNIT PRICE]]","v":0},{"$f":"_300A_FUNDING[[#This Row],[Column9]]*_300A_FUNDING[[#This Row],[LOW BIDDER''S UNIT PRICE]]","v":0},{"$f":"_300A_FUNDING[[#This Row],[Column10]]*_300A_FUNDING[[#This Row],[LOW BIDDER''S UNIT PRICE]]","v":0},{"$f":"_300A_FUNDING[[#This Row],[Column11]]*_300A_FUNDING[[#This Row],[LOW BIDDER''S UNIT PRICE]]","v":0},{"$f":"_300A_FUNDING[[#This Row],[Column12]]*_300A_FUNDING[[#This Row],[LOW BIDDER''S UNIT PRICE]]","v":0},{"$f":"_300A_FUNDING[[#This Row],[Column13]]*_300A_FUNDING[[#This Row],[LOW BIDDER''S UNIT PRICE]]","v":0},{"$f":"_300A_FUNDING[[#This Row],[Column14]]*_300A_FUNDING[[#This Row],[LOW BIDDER''S UNIT PRICE]]","v":0}]
[null,null,null,null,null,null,null,null,null,null,null,null,null,null,null,null,0,{"$f":"_300A_FUNDING[[#This Row],[Column5]]*_300A_FUNDING[[#This Row],[LOW BIDDER''S UNIT PRICE]]","v":0},{"$f":"_300A_FUNDING[[#This Row],[Column6]]*_300A_FUNDING[[#This Row],[LOW BIDDER''S UNIT PRICE]]","v":0},{"$f":"_300A_FUNDING[[#This Row],[Column7]]*_300A_FUNDING[[#This Row],[LOW BIDDER''S UNIT PRICE]]","v":0},{"$f":"_300A_FUNDING[[#This Row],[Column8]]*_300A_FUNDING[[#This Row],[LOW BIDDER''S UNIT PRICE]]","v":0},{"$f":"_300A_FUNDING[[#This Row],[Column9]]*_300A_FUNDING[[#This Row],[LOW BIDDER''S UNIT PRICE]]","v":0},{"$f":"_300A_FUNDING[[#This Row],[Column10]]*_300A_FUNDING[[#This Row],[LOW BIDDER''S UNIT PRICE]]","v":0},{"$f":"_300A_FUNDING[[#This Row],[Column11]]*_300A_FUNDING[[#This Row],[LOW BIDDER''S UNIT PRICE]]","v":0},{"$f":"_300A_FUNDING[[#This Row],[Column12]]*_300A_FUNDING[[#This Row],[LOW BIDDER''S UNIT PRICE]]","v":0},{"$f":"_300A_FUNDING[[#This Row],[Column13]]*_300A_FUNDING[[#This Row],[LOW BIDDER''S UNIT PRICE]]","v":0},{"$f":"_300A_FUNDING[[#This Row],[Column14]]*_300A_FUNDING[[#This Row],[LOW BIDDER''S UNIT PRICE]]","v":0}]
[null,null,null,null,null,null,null,null,null,null,null,null,null,null,null,null,0,{"$f":"_300A_FUNDING[[#This Row],[Column5]]*_300A_FUNDING[[#This Row],[LOW BIDDER''S UNIT PRICE]]","v":0},{"$f":"_300A_FUNDING[[#This Row],[Column6]]*_300A_FUNDING[[#This Row],[LOW BIDDER''S UNIT PRICE]]","v":0},{"$f":"_300A_FUNDING[[#This Row],[Column7]]*_300A_FUNDING[[#This Row],[LOW BIDDER''S UNIT PRICE]]","v":0},{"$f":"_300A_FUNDING[[#This Row],[Column8]]*_300A_FUNDING[[#This Row],[LOW BIDDER''S UNIT PRICE]]","v":0},{"$f":"_300A_FUNDING[[#This Row],[Column9]]*_300A_FUNDING[[#This Row],[LOW BIDDER''S UNIT PRICE]]","v":0},{"$f":"_300A_FUNDING[[#This Row],[Column10]]*_300A_FUNDING[[#This Row],[LOW BIDDER''S UNIT PRICE]]","v":0},{"$f":"_300A_FUNDING[[#This Row],[Column11]]*_300A_FUNDING[[#This Row],[LOW BIDDER''S UNIT PRICE]]","v":0},{"$f":"_300A_FUNDING[[#This Row],[Column12]]*_300A_FUNDING[[#This Row],[LOW BIDDER''S UNIT PRICE]]","v":0},{"$f":"_300A_FUNDING[[#This Row],[Column13]]*_300A_FUNDING[[#This Row],[LOW BIDDER''S UNIT PRICE]]","v":0},{"$f":"_300A_FUNDING[[#This Row],[Column14]]*_300A_FUNDING[[#This Row],[LOW BIDDER''S UNIT PRICE]]","v":0}]
[null,null,null,null,null,null,null,null,null,null,null,null,null,null,null,null,0,{"$f":"_300A_FUNDING[[#This Row],[Column5]]*_300A_FUNDING[[#This Row],[LOW BIDDER''S UNIT PRICE]]","v":0},{"$f":"_300A_FUNDING[[#This Row],[Column6]]*_300A_FUNDING[[#This Row],[LOW BIDDER''S UNIT PRICE]]","v":0},{"$f":"_300A_FUNDING[[#This Row],[Column7]]*_300A_FUNDING[[#This Row],[LOW BIDDER''S UNIT PRICE]]","v":0},{"$f":"_300A_FUNDING[[#This Row],[Column8]]*_300A_FUNDING[[#This Row],[LOW BIDDER''S UNIT PRICE]]","v":0},{"$f":"_300A_FUNDING[[#This Row],[Column9]]*_300A_FUNDING[[#This Row],[LOW BIDDER''S UNIT PRICE]]","v":0},{"$f":"_300A_FUNDING[[#This Row],[Column10]]*_300A_FUNDING[[#This Row],[LOW BIDDER''S UNIT PRICE]]","v":0},{"$f":"_300A_FUNDING[[#This Row],[Column11]]*_300A_FUNDING[[#This Row],[LOW BIDDER''S UNIT PRICE]]","v":0},{"$f":"_300A_FUNDING[[#This Row],[Column12]]*_300A_FUNDING[[#This Row],[LOW BIDDER''S UNIT PRICE]]","v":0},{"$f":"_300A_FUNDING[[#This Row],[Column13]]*_300A_FUNDING[[#This Row],[LOW BIDDER''S UNIT PRICE]]","v":0},{"$f":"_300A_FUNDING[[#This Row],[Column14]]*_300A_FUNDING[[#This Row],[LOW BIDDER''S UNIT PRICE]]","v":0}]
[null,null,null,null,null,null,null,null,null,null,null,null,null,null,null,null,0,{"$f":"_300A_FUNDING[[#This Row],[Column5]]*_300A_FUNDING[[#This Row],[LOW BIDDER''S UNIT PRICE]]","v":0},{"$f":"_300A_FUNDING[[#This Row],[Column6]]*_300A_FUNDING[[#This Row],[LOW BIDDER''S UNIT PRICE]]","v":0},{"$f":"_300A_FUNDING[[#This Row],[Column7]]*_300A_FUNDING[[#This Row],[LOW BIDDER''S UNIT PRICE]]","v":0},{"$f":"_300A_FUNDING[[#This Row],[Column8]]*_300A_FUNDING[[#This Row],[LOW BIDDER''S UNIT PRICE]]","v":0},{"$f":"_300A_FUNDING[[#This Row],[Column9]]*_300A_FUNDING[[#This Row],[LOW BIDDER''S UNIT PRICE]]","v":0},{"$f":"_300A_FUNDING[[#This Row],[Column10]]*_300A_FUNDING[[#This Row],[LOW BIDDER''S UNIT PRICE]]","v":0},{"$f":"_300A_FUNDING[[#This Row],[Column11]]*_300A_FUNDING[[#This Row],[LOW BIDDER''S UNIT PRICE]]","v":0},{"$f":"_300A_FUNDING[[#This Row],[Column12]]*_300A_FUNDING[[#This Row],[LOW BIDDER''S UNIT PRICE]]","v":0},{"$f":"_300A_FUNDING[[#This Row],[Column13]]*_300A_FUNDING[[#This Row],[LOW BIDDER''S UNIT PRICE]]","v":0},{"$f":"_300A_FUNDING[[#This Row],[Column14]]*_300A_FUNDING[[#This Row],[LOW BIDDER''S UNIT PRICE]]","v":0}]
[null,null,null,null,null,null,null,null,null,null,null,null,null,null,null,null,0,{"$f":"_300A_FUNDING[[#This Row],[Column5]]*_300A_FUNDING[[#This Row],[LOW BIDDER''S UNIT PRICE]]","v":0},{"$f":"_300A_FUNDING[[#This Row],[Column6]]*_300A_FUNDING[[#This Row],[LOW BIDDER''S UNIT PRICE]]","v":0},{"$f":"_300A_FUNDING[[#This Row],[Column7]]*_300A_FUNDING[[#This Row],[LOW BIDDER''S UNIT PRICE]]","v":0},{"$f":"_300A_FUNDING[[#This Row],[Column8]]*_300A_FUNDING[[#This Row],[LOW BIDDER''S UNIT PRICE]]","v":0},{"$f":"_300A_FUNDING[[#This Row],[Column9]]*_300A_FUNDING[[#This Row],[LOW BIDDER''S UNIT PRICE]]","v":0},{"$f":"_300A_FUNDING[[#This Row],[Column10]]*_300A_FUNDING[[#This Row],[LOW BIDDER''S UNIT PRICE]]","v":0},{"$f":"_300A_FUNDING[[#This Row],[Column11]]*_300A_FUNDING[[#This Row],[LOW BIDDER''S UNIT PRICE]]","v":0},{"$f":"_300A_FUNDING[[#This Row],[Column12]]*_300A_FUNDING[[#This Row],[LOW BIDDER''S UNIT PRICE]]","v":0},{"$f":"_300A_FUNDING[[#This Row],[Column13]]*_300A_FUNDING[[#This Row],[LOW BIDDER''S UNIT PRICE]]","v":0},{"$f":"_300A_FUNDING[[#This Row],[Column14]]*_300A_FUNDING[[#This Row],[LOW BIDDER''S UNIT PRICE]]","v":0}]
[null,null,null,null,null,null,null,null,null,null,null,null,null,null,null,null,0,{"$f":"_300A_FUNDING[[#This Row],[Column5]]*_300A_FUNDING[[#This Row],[LOW BIDDER''S UNIT PRICE]]","v":0},{"$f":"_300A_FUNDING[[#This Row],[Column6]]*_300A_FUNDING[[#This Row],[LOW BIDDER''S UNIT PRICE]]","v":0},{"$f":"_300A_FUNDING[[#This Row],[Column7]]*_300A_FUNDING[[#This Row],[LOW BIDDER''S UNIT PRICE]]","v":0},{"$f":"_300A_FUNDING[[#This Row],[Column8]]*_300A_FUNDING[[#This Row],[LOW BIDDER''S UNIT PRICE]]","v":0},{"$f":"_300A_FUNDING[[#This Row],[Column9]]*_300A_FUNDING[[#This Row],[LOW BIDDER''S UNIT PRICE]]","v":0},{"$f":"_300A_FUNDING[[#This Row],[Column10]]*_300A_FUNDING[[#This Row],[LOW BIDDER''S UNIT PRICE]]","v":0},{"$f":"_300A_FUNDING[[#This Row],[Column11]]*_300A_FUNDING[[#This Row],[LOW BIDDER''S UNIT PRICE]]","v":0},{"$f":"_300A_FUNDING[[#This Row],[Column12]]*_300A_FUNDING[[#This Row],[LOW BIDDER''S UNIT PRICE]]","v":0},{"$f":"_300A_FUNDING[[#This Row],[Column13]]*_300A_FUNDING[[#This Row],[LOW BIDDER''S UNIT PRICE]]","v":0},{"$f":"_300A_FUNDING[[#This Row],[Column14]]*_300A_FUNDING[[#This Row],[LOW BIDDER''S UNIT PRICE]]","v":0}]
[null,null,null,null,null,null,null,null,null,null,null,null,null,null,null,null,0,{"$f":"_300A_FUNDING[[#This Row],[Column5]]*_300A_FUNDING[[#This Row],[LOW BIDDER''S UNIT PRICE]]","v":0},{"$f":"_300A_FUNDING[[#This Row],[Column6]]*_300A_FUNDING[[#This Row],[LOW BIDDER''S UNIT PRICE]]","v":0},{"$f":"_300A_FUNDING[[#This Row],[Column7]]*_300A_FUNDING[[#This Row],[LOW BIDDER''S UNIT PRICE]]","v":0},{"$f":"_300A_FUNDING[[#This Row],[Column8]]*_300A_FUNDING[[#This Row],[LOW BIDDER''S UNIT PRICE]]","v":0},{"$f":"_300A_FUNDING[[#This Row],[Column9]]*_300A_FUNDING[[#This Row],[LOW BIDDER''S UNIT PRICE]]","v":0},{"$f":"_300A_FUNDING[[#This Row],[Column10]]*_300A_FUNDING[[#This Row],[LOW BIDDER''S UNIT PRICE]]","v":0},{"$f":"_300A_FUNDING[[#This Row],[Column11]]*_300A_FUNDING[[#This Row],[LOW BIDDER''S UNIT PRICE]]","v":0},{"$f":"_300A_FUNDING[[#This Row],[Column12]]*_300A_FUNDING[[#This Row],[LOW BIDDER''S UNIT PRICE]]","v":0},{"$f":"_300A_FUNDING[[#This Row],[Column13]]*_300A_FUNDING[[#This Row],[LOW BIDDER''S UNIT PRICE]]","v":0},{"$f":"_300A_FUNDING[[#This Row],[Column14]]*_300A_FUNDING[[#This Row],[LOW BIDDER''S UNIT PRICE]]","v":0}]
[null,null,null,null,null,null,null,null,null,null,null,null,null,null,null,null,0,{"$f":"_300A_FUNDING[[#This Row],[Column5]]*_300A_FUNDING[[#This Row],[LOW BIDDER''S UNIT PRICE]]","v":0},{"$f":"_300A_FUNDING[[#This Row],[Column6]]*_300A_FUNDING[[#This Row],[LOW BIDDER''S UNIT PRICE]]","v":0},{"$f":"_300A_FUNDING[[#This Row],[Column7]]*_300A_FUNDING[[#This Row],[LOW BIDDER''S UNIT PRICE]]","v":0},{"$f":"_300A_FUNDING[[#This Row],[Column8]]*_300A_FUNDING[[#This Row],[LOW BIDDER''S UNIT PRICE]]","v":0},{"$f":"_300A_FUNDING[[#This Row],[Column9]]*_300A_FUNDING[[#This Row],[LOW BIDDER''S UNIT PRICE]]","v":0},{"$f":"_300A_FUNDING[[#This Row],[Column10]]*_300A_FUNDING[[#This Row],[LOW BIDDER''S UNIT PRICE]]","v":0},{"$f":"_300A_FUNDING[[#This Row],[Column11]]*_300A_FUNDING[[#This Row],[LOW BIDDER''S UNIT PRICE]]","v":0},{"$f":"_300A_FUNDING[[#This Row],[Column12]]*_300A_FUNDING[[#This Row],[LOW BIDDER''S UNIT PRICE]]","v":0},{"$f":"_300A_FUNDING[[#This Row],[Column13]]*_300A_FUNDING[[#This Row],[LOW BIDDER''S UNIT PRICE]]","v":0},{"$f":"_300A_FUNDING[[#This Row],[Column14]]*_300A_FUNDING[[#This Row],[LOW BIDDER''S UNIT PRICE]]","v":0}]
[null,null,null,null,null,null,null,null,null,null,null,null,null,null,null,null,0,{"$f":"_300A_FUNDING[[#This Row],[Column5]]*_300A_FUNDING[[#This Row],[LOW BIDDER''S UNIT PRICE]]","v":0},{"$f":"_300A_FUNDING[[#This Row],[Column6]]*_300A_FUNDING[[#This Row],[LOW BIDDER''S UNIT PRICE]]","v":0},{"$f":"_300A_FUNDING[[#This Row],[Column7]]*_300A_FUNDING[[#This Row],[LOW BIDDER''S UNIT PRICE]]","v":0},{"$f":"_300A_FUNDING[[#This Row],[Column8]]*_300A_FUNDING[[#This Row],[LOW BIDDER''S UNIT PRICE]]","v":0},{"$f":"_300A_FUNDING[[#This Row],[Column9]]*_300A_FUNDING[[#This Row],[LOW BIDDER''S UNIT PRICE]]","v":0},{"$f":"_300A_FUNDING[[#This Row],[Column10]]*_300A_FUNDING[[#This Row],[LOW BIDDER''S UNIT PRICE]]","v":0},{"$f":"_300A_FUNDING[[#This Row],[Column11]]*_300A_FUNDING[[#This Row],[LOW BIDDER''S UNIT PRICE]]","v":0},{"$f":"_300A_FUNDING[[#This Row],[Column12]]*_300A_FUNDING[[#This Row],[LOW BIDDER''S UNIT PRICE]]","v":0},{"$f":"_300A_FUNDING[[#This Row],[Column13]]*_300A_FUNDING[[#This Row],[LOW BIDDER''S UNIT PRICE]]","v":0},{"$f":"_300A_FUNDING[[#This Row],[Column14]]*_300A_FUNDING[[#This Row],[LOW BIDDER''S UNIT PRICE]]","v":0}]
[null,null,null,null,null,null,null,null,null,null,null,null,null,null,null,null,0,{"$f":"_300A_FUNDING[[#This Row],[Column5]]*_300A_FUNDING[[#This Row],[LOW BIDDER''S UNIT PRICE]]","v":0},{"$f":"_300A_FUNDING[[#This Row],[Column6]]*_300A_FUNDING[[#This Row],[LOW BIDDER''S UNIT PRICE]]","v":0},{"$f":"_300A_FUNDING[[#This Row],[Column7]]*_300A_FUNDING[[#This Row],[LOW BIDDER''S UNIT PRICE]]","v":0},{"$f":"_300A_FUNDING[[#This Row],[Column8]]*_300A_FUNDING[[#This Row],[LOW BIDDER''S UNIT PRICE]]","v":0},{"$f":"_300A_FUNDING[[#This Row],[Column9]]*_300A_FUNDING[[#This Row],[LOW BIDDER''S UNIT PRICE]]","v":0},{"$f":"_300A_FUNDING[[#This Row],[Column10]]*_300A_FUNDING[[#This Row],[LOW BIDDER''S UNIT PRICE]]","v":0},{"$f":"_300A_FUNDING[[#This Row],[Column11]]*_300A_FUNDING[[#This Row],[LOW BIDDER''S UNIT PRICE]]","v":0},{"$f":"_300A_FUNDING[[#This Row],[Column12]]*_300A_FUNDING[[#This Row],[LOW BIDDER''S UNIT PRICE]]","v":0},{"$f":"_300A_FUNDING[[#This Row],[Column13]]*_300A_FUNDING[[#This Row],[LOW BIDDER''S UNIT PRICE]]","v":0},{"$f":"_300A_FUNDING[[#This Row],[Column14]]*_300A_FUNDING[[#This Row],[LOW BIDDER''S UNIT PRICE]]","v":0}]
[null,null,null,null,null,null,null,null,null,null,null,null,null,null,null,null,0,{"$f":"_300A_FUNDING[[#This Row],[Column5]]*_300A_FUNDING[[#This Row],[LOW BIDDER''S UNIT PRICE]]","v":0},{"$f":"_300A_FUNDING[[#This Row],[Column6]]*_300A_FUNDING[[#This Row],[LOW BIDDER''S UNIT PRICE]]","v":0},{"$f":"_300A_FUNDING[[#This Row],[Column7]]*_300A_FUNDING[[#This Row],[LOW BIDDER''S UNIT PRICE]]","v":0},{"$f":"_300A_FUNDING[[#This Row],[Column8]]*_300A_FUNDING[[#This Row],[LOW BIDDER''S UNIT PRICE]]","v":0},{"$f":"_300A_FUNDING[[#This Row],[Column9]]*_300A_FUNDING[[#This Row],[LOW BIDDER''S UNIT PRICE]]","v":0},{"$f":"_300A_FUNDING[[#This Row],[Column10]]*_300A_FUNDING[[#This Row],[LOW BIDDER''S UNIT PRICE]]","v":0},{"$f":"_300A_FUNDING[[#This Row],[Column11]]*_300A_FUNDING[[#This Row],[LOW BIDDER''S UNIT PRICE]]","v":0},{"$f":"_300A_FUNDING[[#This Row],[Column12]]*_300A_FUNDING[[#This Row],[LOW BIDDER''S UNIT PRICE]]","v":0},{"$f":"_300A_FUNDING[[#This Row],[Column13]]*_300A_FUNDING[[#This Row],[LOW BIDDER''S UNIT PRICE]]","v":0},{"$f":"_300A_FUNDING[[#This Row],[Column14]]*_300A_FUNDING[[#This Row],[LOW BIDDER''S UNIT PRICE]]","v":0}]
[null,null,null,null,null,null,null,null,null,null,null,null,null,null,null,null,0,{"$f":"_300A_FUNDING[[#This Row],[Column5]]*_300A_FUNDING[[#This Row],[LOW BIDDER''S UNIT PRICE]]","v":0},{"$f":"_300A_FUNDING[[#This Row],[Column6]]*_300A_FUNDING[[#This Row],[LOW BIDDER''S UNIT PRICE]]","v":0},{"$f":"_300A_FUNDING[[#This Row],[Column7]]*_300A_FUNDING[[#This Row],[LOW BIDDER''S UNIT PRICE]]","v":0},{"$f":"_300A_FUNDING[[#This Row],[Column8]]*_300A_FUNDING[[#This Row],[LOW BIDDER''S UNIT PRICE]]","v":0},{"$f":"_300A_FUNDING[[#This Row],[Column9]]*_300A_FUNDING[[#This Row],[LOW BIDDER''S UNIT PRICE]]","v":0},{"$f":"_300A_FUNDING[[#This Row],[Column10]]*_300A_FUNDING[[#This Row],[LOW BIDDER''S UNIT PRICE]]","v":0},{"$f":"_300A_FUNDING[[#This Row],[Column11]]*_300A_FUNDING[[#This Row],[LOW BIDDER''S UNIT PRICE]]","v":0},{"$f":"_300A_FUNDING[[#This Row],[Column12]]*_300A_FUNDING[[#This Row],[LOW BIDDER''S UNIT PRICE]]","v":0},{"$f":"_300A_FUNDING[[#This Row],[Column13]]*_300A_FUNDING[[#This Row],[LOW BIDDER''S UNIT PRICE]]","v":0},{"$f":"_300A_FUNDING[[#This Row],[Column14]]*_300A_FUNDING[[#This Row],[LOW BIDDER''S UNIT PRICE]]","v":0}]
[null,null,null,null,null,null,null,null,null,null,null,null,null,null,null,null,0,{"$f":"_300A_FUNDING[[#This Row],[Column5]]*_300A_FUNDING[[#This Row],[LOW BIDDER''S UNIT PRICE]]","v":0},{"$f":"_300A_FUNDING[[#This Row],[Column6]]*_300A_FUNDING[[#This Row],[LOW BIDDER''S UNIT PRICE]]","v":0},{"$f":"_300A_FUNDING[[#This Row],[Column7]]*_300A_FUNDING[[#This Row],[LOW BIDDER''S UNIT PRICE]]","v":0},{"$f":"_300A_FUNDING[[#This Row],[Column8]]*_300A_FUNDING[[#This Row],[LOW BIDDER''S UNIT PRICE]]","v":0},{"$f":"_300A_FUNDING[[#This Row],[Column9]]*_300A_FUNDING[[#This Row],[LOW BIDDER''S UNIT PRICE]]","v":0},{"$f":"_300A_FUNDING[[#This Row],[Column10]]*_300A_FUNDING[[#This Row],[LOW BIDDER''S UNIT PRICE]]","v":0},{"$f":"_300A_FUNDING[[#This Row],[Column11]]*_300A_FUNDING[[#This Row],[LOW BIDDER''S UNIT PRICE]]","v":0},{"$f":"_300A_FUNDING[[#This Row],[Column12]]*_300A_FUNDING[[#This Row],[LOW BIDDER''S UNIT PRICE]]","v":0},{"$f":"_300A_FUNDING[[#This Row],[Column13]]*_300A_FUNDING[[#This Row],[LOW BIDDER''S UNIT PRICE]]","v":0},{"$f":"_300A_FUNDING[[#This Row],[Column14]]*_300A_FUNDING[[#This Row],[LOW BIDDER''S UNIT PRICE]]","v":0}]
[null,null,null,null,null,null,null,null,null,null,null,null,null,null,null,null,0,{"$f":"_300A_FUNDING[[#This Row],[Column5]]*_300A_FUNDING[[#This Row],[LOW BIDDER''S UNIT PRICE]]","v":0},{"$f":"_300A_FUNDING[[#This Row],[Column6]]*_300A_FUNDING[[#This Row],[LOW BIDDER''S UNIT PRICE]]","v":0},{"$f":"_300A_FUNDING[[#This Row],[Column7]]*_300A_FUNDING[[#This Row],[LOW BIDDER''S UNIT PRICE]]","v":0},{"$f":"_300A_FUNDING[[#This Row],[Column8]]*_300A_FUNDING[[#This Row],[LOW BIDDER''S UNIT PRICE]]","v":0},{"$f":"_300A_FUNDING[[#This Row],[Column9]]*_300A_FUNDING[[#This Row],[LOW BIDDER''S UNIT PRICE]]","v":0},{"$f":"_300A_FUNDING[[#This Row],[Column10]]*_300A_FUNDING[[#This Row],[LOW BIDDER''S UNIT PRICE]]","v":0},{"$f":"_300A_FUNDING[[#This Row],[Column11]]*_300A_FUNDING[[#This Row],[LOW BIDDER''S UNIT PRICE]]","v":0},{"$f":"_300A_FUNDING[[#This Row],[Column12]]*_300A_FUNDING[[#This Row],[LOW BIDDER''S UNIT PRICE]]","v":0},{"$f":"_300A_FUNDING[[#This Row],[Column13]]*_300A_FUNDING[[#This Row],[LOW BIDDER''S UNIT PRICE]]","v":0},{"$f":"_300A_FUNDING[[#This Row],[Column14]]*_300A_FUNDING[[#This Row],[LOW BIDDER''S UNIT PRICE]]","v":0}]
[null,null,null,null,null,null,null,null,null,null,null,null,null,null,null,null,0,{"$f":"_300A_FUNDING[[#This Row],[Column5]]*_300A_FUNDING[[#This Row],[LOW BIDDER''S UNIT PRICE]]","v":0},{"$f":"_300A_FUNDING[[#This Row],[Column6]]*_300A_FUNDING[[#This Row],[LOW BIDDER''S UNIT PRICE]]","v":0},{"$f":"_300A_FUNDING[[#This Row],[Column7]]*_300A_FUNDING[[#This Row],[LOW BIDDER''S UNIT PRICE]]","v":0},{"$f":"_300A_FUNDING[[#This Row],[Column8]]*_300A_FUNDING[[#This Row],[LOW BIDDER''S UNIT PRICE]]","v":0},{"$f":"_300A_FUNDING[[#This Row],[Column9]]*_300A_FUNDING[[#This Row],[LOW BIDDER''S UNIT PRICE]]","v":0},{"$f":"_300A_FUNDING[[#This Row],[Column10]]*_300A_FUNDING[[#This Row],[LOW BIDDER''S UNIT PRICE]]","v":0},{"$f":"_300A_FUNDING[[#This Row],[Column11]]*_300A_FUNDING[[#This Row],[LOW BIDDER''S UNIT PRICE]]","v":0},{"$f":"_300A_FUNDING[[#This Row],[Column12]]*_300A_FUNDING[[#This Row],[LOW BIDDER''S UNIT PRICE]]","v":0},{"$f":"_300A_FUNDING[[#This Row],[Column13]]*_300A_FUNDING[[#This Row],[LOW BIDDER''S UNIT PRICE]]","v":0},{"$f":"_300A_FUNDING[[#This Row],[Column14]]*_300A_FUNDING[[#This Row],[LOW BIDDER''S UNIT PRICE]]","v":0}]

{"sheet":"Rec to Award","index":17,"n_rows":76,"n_cols":13,"rows_kept":76,"cut":false,"hidden":false,"merged":[[73,0,73,7],[64,0,64,1],[65,0,66,7],[9,0,9,1],[9,2,9,4],[68,0,68,1],[72,0,72,7],[34,0,34,1],[39,0,39,7],[40,2,41,2],[42,0,42,7],[59,0,59,1],[62,0,62,1],[7,0,7,1],[11,0,11,7],[12,2,13,2],[13,0,13,1],[0,0,0,7],[4,0,4,1],[4,4,4,5],[5,0,5,1],[6,0,6,1]]}
["RECOMMENDATION TO AWARD"]
[]
[]
["These numbers are populated from the Rec to File tab. They can be overwritten, but doing so will destroy the link."]
["     Construction Administration",null,{"$f":"'Rec to File'!C8","v":"EOPC Needed"},"%"]
["     Design",null,{"$f":"'Rec to File'!C9","v":"Choose Designer"},"%"]
["     Construction Inspection",null,{"$f":"'Rec to File'!C10","v":"EOPC Needed"},"%"]
["     Construction Contingency",null,{"$f":"'Rec to File'!C11","v":10},"%"]
[]
["Awarding to Contractor:"]
[null,null,null,null,null,"Unhide rows I - M to see Divisions 6-10, if needed",null,null,"The default printing area is set for Divisions 1-5. Go to Page Layout>Print Area to change"]
["BUDGETED REVENUE (FUNDING SOURCES):"]
[null,null,"Total","CIP No.","CIP No.","CIP No.","CIP No.","CIP No.","CIP No.","CIP No.","CIP No.","CIP No.","CIP No."]
["Grant Type  ",null,null,{"$f":"EOPC!G3","v":0},{"$f":"EOPC!G4","v":0},{"$f":"EOPC!G5","v":0},{"$f":"EOPC!G6","v":0},{"$f":"EOPC!G7","v":0},{"$f":"EOPC!G8","v":0},{"$f":"EOPC!G9","v":0},{"$f":"EOPC!G10","v":0},{"$f":"EOPC!G11","v":0},{"$f":"EOPC!G12","v":0}]
["GO Bonds (Prior FY)",null,{"$f":"SUM(D15:M15)","v":0}]
["GO Bonds (Current FY)",null,{"$f":"SUM(D16:M16)","v":0}]
["GO Bonds (Future FY)",null,0]
["TIF GO Bonds (Prior FY)",null,0]
["TIF GO Bonds (Current FY)",null,0]
["TIF GO Bonds (Future FY)",null,0]
["Federal Grant ",null,0]
["Federal Grant ",null,0]
["State Grant ",null,0]
["State Grant ",null,0]
["Local 28E Grant",null,0]
["LOST (Paving for Progress)",null,0]
["IFM (Flood Control System)",null,0]
["Contribution/Donation",null,0]
["Road Use Tax",null,0]
["Special Assessment",null,0]
["Cash On Hand ",null,0]
["Transfer from another Project",null,0]
["Transfer from another Project",null,0]
["Transfer from another Project",null,0]
["TOTAL PROJECT REVENUE BUDGET",null,{"$f":"SUM(C15:C34)","v":0},{"$f":"SUM(D15:D34)","v":0},{"$f":"SUM(E15:E34)","v":0},0,0,0,0,0,0,0,0]
[]
[]
[]
[]
["PROJECT BUDGET:"]
[null,null,"Total","CIP No.","CIP No.","CIP No.","CIP No.","CIP No.","CIP No.","CIP No.","CIP No.","CIP No.","CIP No."]
[null,null,null,{"$f":"EOPC!G3","v":0},{"$f":"EOPC!G4","v":0},{"$f":"EOPC!G5","v":0},{"$f":"EOPC!G6","v":0},{"$f":"EOPC!G7","v":0},{"$f":"EOPC!G8","v":0},{"$f":"EOPC!G9","v":0},{"$f":"EOPC!G10","v":0},{"$f":"EOPC!G11","v":0},{"$f":"EOPC!G12","v":0}]
["EXPENDITURES:"]
["Construction",null,{"$f":"SUM(D44:M44)","v":0},{"$f":"'300-A Funding'!D5","v":0},{"$f":"'300-A Funding'!D6","v":0},{"$f":"'300-A Funding'!D7","v":0},{"$f":"'300-A Funding'!D8","v":0},{"$f":"'300-A Funding'!D9","v":0},{"$f":"'300-A Funding'!D10","v":0},{"$f":"'300-A Funding'!D11","v":0},{"$f":"'300-A Funding'!D12","v":0},{"$f":"'300-A Funding'!D13","v":0},{"$f":"'300-A Funding'!D14","v":0}]
[{"$f":"CONCATENATE(\"Construction Contingency (\",C8,\"%)\")","v":"Construction Contingency (10%)"},null,{"$f":"SUM(D45:M45)","v":0},{"$f":"($C$8/100)*D44","v":0},{"$f":"($C$8/100)*E44","v":0},0,0,0,0,0,0,0,0]
["Completion Incentive Payment",null,{"$f":"SUM(D46:M46)","v":0},{"$f":"'Rec to File'!D46","v":0},{"$f":"'Rec to File'!E46","v":0},{"$f":"'Rec to File'!F46","v":0},{"$f":"'Rec to File'!G46","v":0},{"$f":"'Rec to File'!H46","v":0},{"$f":"'Rec to File'!I46","v":0},{"$f":"'Rec to File'!J46","v":0},{"$f":"'Rec to File'!K46","v":0},{"$f":"'Rec to File'!L46","v":0},{"$f":"'Rec to File'!M46","v":0}]
["Milestone Incentive Payment",null,0,{"$f":"'Rec to File'!D47","v":0},{"$f":"'Rec to File'!E47","v":0},{"$f":"'Rec to File'!F47","v":0},{"$f":"'Rec to File'!G47","v":0},{"$f":"'Rec to File'!H47","v":0},{"$f":"'Rec to File'!I47","v":0},{"$f":"'Rec to File'!J47","v":0},{"$f":"'Rec to File'!K47","v":0},{"$f":"'Rec to File'!L47","v":0},{"$f":"'Rec to File'!M47","v":0}]
["Other Incentive (Specify)",null,0,{"$f":"'Rec to File'!D48","v":0},{"$f":"'Rec to File'!E48","v":0},{"$f":"'Rec to File'!F48","v":0},{"$f":"'Rec to File'!G48","v":0},{"$f":"'Rec to File'!H48","v":0},{"$f":"'Rec to File'!I48","v":0},{"$f":"'Rec to File'!J48","v":0},{"$f":"'Rec to File'!K48","v":0},{"$f":"'Rec to File'!L48","v":0},{"$f":"'Rec to File'!M48","v":0}]
["Pavement Smoothness Incentive",null,0,{"$f":"'Rec to File'!D49","v":0},{"$f":"'Rec to File'!E49","v":0},{"$f":"'Rec to File'!F49","v":0},{"$f":"'Rec to File'!G49","v":0},{"$f":"'Rec to File'!H49","v":0},{"$f":"'Rec to File'!I49","v":0},{"$f":"'Rec to File'!J49","v":0},{"$f":"'Rec to File'!K49","v":0},{"$f":"'Rec to File'!L49","v":0},{"$f":"'Rec to File'!M49","v":0}]
["Construction Budget",null,{"$f":"SUM(D50:M50)","v":0},{"$f":"SUM(D44:D49)","v":0},{"$f":"SUM(E44:E49)","v":0},0,0,0,0,0,0,0,0]
["ROW/Esmnt Acquisition",null,{"$f":"SUM(D51:M51)","v":0},{"$f":"'Rec to File'!D51","v":0},{"$f":"'Rec to File'!E51","v":0},{"$f":"'Rec to File'!F51","v":0},{"$f":"'Rec to File'!G51","v":0},{"$f":"'Rec to File'!H51","v":0},{"$f":"'Rec to File'!I51","v":0},{"$f":"'Rec to File'!J51","v":0},{"$f":"'Rec to File'!K51","v":0},{"$f":"'Rec to File'!L51","v":0},{"$f":"'Rec to File'!M51","v":0}]
["Design (External)",null,{"$f":"SUM(D52:M52)","v":0},{"$f":"'Rec to File'!D52","v":0},{"$f":"'Rec to File'!E52","v":0},{"$f":"'Rec to File'!F52","v":0},{"$f":"'Rec to File'!G52","v":0},{"$f":"'Rec to File'!H52","v":0},{"$f":"'Rec to File'!I52","v":0},{"$f":"'Rec to File'!J52","v":0},{"$f":"'Rec to File'!K52","v":0},{"$f":"'Rec to File'!L52","v":0},{"$f":"'Rec to File'!M52","v":0}]
["Bidding (printing, publishing, etc)",null,{"$f":"SUM(D53:M53)","v":1500},{"$f":"'Rec to File'!D53","v":1500},{"$f":"'Rec to File'!E53","v":0},{"$f":"'Rec to File'!F53","v":0},{"$f":"'Rec to File'!G53","v":0},{"$f":"'Rec to File'!H53","v":0},{"$f":"'Rec to File'!I53","v":0},{"$f":"'Rec to File'!J53","v":0},{"$f":"'Rec to File'!K53","v":0},{"$f":"'Rec to File'!L53","v":0},{"$f":"'Rec to File'!M53","v":0}]
["Owner-Furnished Equipment",null,0,{"$f":"'Rec to File'!D54","v":0},{"$f":"'Rec to File'!E54","v":0},{"$f":"'Rec to File'!F54","v":0},{"$f":"'Rec to File'!G54","v":0},{"$f":"'Rec to File'!H54","v":0},{"$f":"'Rec to File'!I54","v":0},{"$f":"'Rec to File'!J54","v":0},{"$f":"'Rec to File'!K54","v":0},{"$f":"'Rec to File'!L54","v":0},{"$f":"'Rec to File'!M54","v":0}]
["Non-Construction Contingency",null,0,{"$f":"'Rec to File'!D55","v":0},{"$f":"'Rec to File'!E55","v":0},{"$f":"'Rec to File'!F55","v":0},{"$f":"'Rec to File'!G55","v":0},{"$f":"'Rec to File'!H55","v":0},0,0,0,0,0]
["Internal Costs",null,0,0,0,0,0,0,0,0,0,0,0]
[{"$f":"CONCATENATE(\"   Construction Admin (\",C5,\"%)\")","v":"   Construction Admin (EOPC Needed%)"},null,{"$f":"SUM(D57:M57)","v":{"$error":"#VALUE!"}},{"$f":"($C$5/100)*D44","v":{"$error":"#VALUE!"}},{"$f":"($C$5/100)*E44","v":{"$error":"#VALUE!"}},{"$f":"($C$5/100)*F44","v":{"$error":"#VALUE!"}},{"$f":"($C$5/100)*G44","v":{"$error":"#VALUE!"}},{"$f":"($C$5/100)*H44","v":{"$error":"#VALUE!"}},{"$f":"($C$5/100)*I44","v":{"$error":"#VALUE!"}},{"$error":"#VALUE!"},{"$error":"#VALUE!"},{"$error":"#VALUE!"},{"$error":"#VALUE!"}]
[{"$f":"IF(EOPC!K5=\"City Staff\",CONCATENATE(\"   Internal Design (\",C6,\"%)\"),\"   Internal Staff (0%)\")","v":"   Internal Staff (0%)"},null,{"$f":"SUM(D58:M58)","v":0},{"$f":"IF(EOPC!$K$5=\"City Staff\",($C$6/100)*D44,0)","v":0},{"$f":"IF(EOPC!$K$5=\"City Staff\",($C$6/100)*E44,0)","v":0},{"$f":"IF(EOPC!$K$5=\"City Staff\",($C$6/100)*F44,0)","v":0},{"$f":"IF(EOPC!$K$5=\"City Staff\",($C$6/100)*G44,0)","v":0},{"$f":"IF(EOPC!$K$5=\"City Staff\",($C$6/100)*H44,0)","v":0},{"$f":"IF(EOPC!$K$5=\"City Staff\",($C$6/100)*I44,0)","v":0},{"$f":"IF(EOPC!$K$5=\"City Staff\",($C$6/100)*J44,0)","v":0},{"$f":"IF(EOPC!$K$5=\"City Staff\",($C$6/100)*K44,0)","v":0},{"$f":"IF(EOPC!$K$5=\"City Staff\",($C$6/100)*L44,0)","v":0},{"$f":"IF(EOPC!$K$5=\"City Staff\",($C$6/100)*M44,0)","v":0}]
[{"$f":"CONCATENATE(\"   Inspection (\",C7,\"%)\")","v":"   Inspection (EOPC Needed%)"},null,{"$f":"SUM(D59:M59)","v":{"$error":"#VALUE!"}},{"$f":"($C$7/100)*D44","v":{"$error":"#VALUE!"}},{"$f":"($C$7/100)*E44","v":{"$error":"#VALUE!"}},{"$f":"($C$7/100)*F44","v":{"$error":"#VALUE!"}},{"$f":"($C$7/100)*G44","v":{"$error":"#VALUE!"}},{"$f":"($C$7/100)*H44","v":{"$error":"#VALUE!"}},{"$f":"($C$7/100)*I44","v":{"$error":"#VALUE!"}},{"$error":"#VALUE!"},{"$error":"#VALUE!"},{"$error":"#VALUE!"},{"$error":"#VALUE!"}]
["TOTAL PROJECT BUDGET",null,{"$f":"SUM(D60:M60)","v":{"$error":"#VALUE!"}},{"$f":"SUM(D50:D59)","v":{"$error":"#VALUE!"}},{"$f":"SUM(E50:E59)","v":{"$error":"#VALUE!"}},{"$error":"#VALUE!"},{"$error":"#VALUE!"},{"$error":"#VALUE!"},{"$error":"#VALUE!"},{"$error":"#VALUE!"},{"$f":"SUM(K50:K59)","v":{"$error":"#VALUE!"}},{"$error":"#VALUE!"},{"$error":"#VALUE!"}]
[]
[]
["TOTAL PROJECT REVENUE BUDGET",null,{"$f":"C35","v":0},{"$f":"D35","v":0},0,0,0,0,0,0,0,0,0]
[]
["Difference - Favorable / (Unfavorable)",null,{"$f":"C63-C60","v":{"$error":"#VALUE!"}},{"$f":"D63-D60","v":{"$error":"#VALUE!"}},{"$error":"#VALUE!"},{"$error":"#VALUE!"},{"$error":"#VALUE!"},{"$error":"#VALUE!"},{"$error":"#VALUE!"},{"$error":"#VALUE!"},{"$error":"#VALUE!"},{"$error":"#VALUE!"},{"$error":"#VALUE!"}]
["Funding information:  "]
[]
[]
["Amount of favorable difference to be transferred out of project (indicated by CIP)",null,{"$f":"SUM(D69:M69)","v":0}]
[]
["*Note to preparer:  The contract amount to be awarded on the Resolution Awarding Contract equals Construction bid plus incentive"]
["*28E Contact Information:"]
[]
["If checked, bid tab does not need to be prepared by CIP, but instead all quantities & amounts can be shown under the main CIP. "]
[]
["Allocation for construction (if applicable)",null,null,0,0,0,0,0,{"$f":"SUM(D76:H76)","v":0},{"$f":"SUM(E76:I76)","v":0},0,0,0]

{"sheet":"300-B","index":18,"n_rows":33,"n_cols":11,"rows_kept":33,"cut":false,"hidden":false,"merged":[[1,0,1,7],[2,0,2,7],[32,0,32,7],[7,0,7,7],[25,5,25,7],[29,0,29,2],[29,5,29,7],[30,1,30,2],[30,5,30,7]]}
["ALTERNATE BID ITEMS"]
[{"$f":"UPPER('Project Manual Form'!E7)","v":"0"}]
[{"$f":"CONCATENATE(\"CONTRACT NO. \",'Project Manual Form'!E6)","v":"CONTRACT NO. "}]
["CITY OF CEDAR RAPIDS, IOWA"]
[]
[null,null,null,null,null,null,null,null,null,null,"Preparer: Alternate bids are not used in all projects. An example of proper use might include"]
[null,null,null,null,null,null,null,null,null,null,"providing for an alternate bid for full depth asphalt paving instead of full depth concrete paving"]
["Contract award will be made based on the Total Base Bid.  Alternate Bids will be added to or deducted from the Total Base Bid, if they are accepted, after Contract award is made.  Material/manufacturer of items which Bidder shall include in the Total Base Bid are listed above the alternate items and shall not be shown as additions or deductions.  Where blank spaces are provided, Bidder may Bid other alternate items by writing in the material/manufacturer's name.  OWNER reserves the right to accept or reject any alternates to the Total Base Bid.",null,null,null,null,null,null,null,null,null,"in order to secure the best value for the taxpayers. Speak with the project manager on whether"]
[null,null,null,null,null,null,null,null,null,null,"an alternate bid should be used."]
["Legal Name of Bidder: ________________________________________________________________"]
["Address of Bidder:      ________________________________________________________________"]
["BID",null,null,null,null,"CHANGE IN ","DEDUCT"]
["ITEM ",null,"MATERIAL/",null,null,"UNIT PRICE","FROM","ADD TO"]
["NO.","DESCRIPTION","MANUFACTURER","QTY","UNIT","(+ OR -)","BASE BID","BASE BID"]
[null,null,null,0]
[null,null,null,0]
[null,null,null,0]
[null,null,null,0]
[null,null,null,0]
[null,null,null,0]
[null,null,null,0]
[null,null,null,0]
[null,null,null,0]
[]
[]
["SUBTOTAL ALTERNATE BID ITEMS DEDUCTIONS AND ADDITIONS",null,null,null,null,"$"]
[]
["TOTAL BASE BID PLUS ALTERNATES:"]
[]
[null,null,null,"Dollars",null,"$"]
[null,"(Words)",null,null,null,"(Numbers)"]
[]
["NOTE:  THE ENTIRE DOCUMENT MUST BE SUBMITTED AS THE BID.  DO NOT SEPARATE BID PAGES BOUND IN THE DOCUMENT."]

{"sheet":"300-B Funding","index":19,"n_rows":115,"n_cols":21,"rows_kept":115,"cut":false,"hidden":false,"merged":[[0,0,0,20],[1,0,1,20],[2,0,2,20]]}
["ALTERNATE BID ITEMS"]
[{"$f":"UPPER('Project Manual Form'!E7)","v":"0"}]
[{"$f":"CONCATENATE(\"CONTRACT NO. \",'Project Manual Form'!E6)","v":"CONTRACT NO. "}]
[]
[null,null,null,null,null,null,"Project #______","Project #______","Project #______","Project #______","Project #______","Project #______","Project #______",{"$f":"G5","v":"Project #______"},"Project #______","Project #______","Project #______","Project #______","Project #______","Project #______"]
["BID ITEM No.","STD ITEM No.","DESCRIPTION","Total Units","Unit of Measure","Unit Price","Units for Roadway Street Project","Units for Roadway Street Project","Units for Storm Project","Units for Bridge Project","Units for Signals Project","Units for Sanitary Project","Units for Water Dept Project","Cost for Roadway Street Project","Cost for Roadway Street Project","Cost for Storm Project","Cost for Bridge Project","Cost for Signals Project","Cost for Sanitary Project","Cost for Water Dept Project","Extended Cost"]
[1,null,null,null,null,null,null,null,null,null,null,null,null,{"$f":"ROUND(G7*$F7,2)","v":0},0,0,0,0,0,0,{"$f":"ROUND(SUM(N7:T7),2)","v":0}]
[{"$f":"A7+1","v":2},null,null,null,null,null,null,null,null,null,null,null,null,0,0,0,0,0,0,0,0]
[3,null,null,null,null,null,null,null,null,null,null,null,null,0,0,0,0,0,0,0,0]
[4,null,null,null,null,null,null,null,null,null,null,null,null,0,0,0,0,0,0,0,0]
[5,null,null,null,null,null,null,null,null,null,null,null,null,0,0,0,0,0,0,0,0]
[6,null,null,null,null,null,null,null,null,null,null,null,null,0,0,0,0,0,0,0,0]
[7,null,null,null,null,null,null,null,null,null,null,null,null,0,0,0,0,0,0,0,0]
[8,null,null,null,null,null,null,null,null,null,null,null,null,0,0,0,0,0,0,0,0]
[9,null,null,null,null,null,null,null,null,null,null,null,null,0,0,0,0,0,0,0,0]
[10,null,null,null,null,null,null,null,null,null,null,null,null,0,0,0,0,0,0,0,0]
[11,null,null,null,null,null,null,null,null,null,null,null,null,0,0,0,0,0,0,0,0]
[12,null,null,null,null,null,null,null,null,null,null,null,null,0,0,0,0,0,0,0,0]
[13,null,null,null,null,null,null,null,null,null,null,null,null,0,0,0,0,0,0,0,0]
[14,null,null,null,null,null,null,null,null,null,null,null,null,0,0,0,0,0,0,0,0]
[15,null,null,null,null,null,null,null,null,null,null,null,null,0,0,0,0,0,0,0,0]
[16,null,null,null,null,null,null,null,null,null,null,null,null,0,0,0,0,0,0,0,0]
[17,null,null,null,null,null,null,null,null,null,null,null,null,0,0,0,0,0,0,0,0]
[18,null,null,null,null,null,null,null,null,null,null,null,null,0,0,0,0,0,0,0,0]
[19,null,null,null,null,null,null,null,null,null,null,null,null,0,0,0,0,0,0,0,0]
[20,null,null,null,null,null,null,null,null,null,null,null,null,0,0,0,0,0,0,0,0]
[21,null,null,null,null,null,null,null,null,null,null,null,null,0,0,0,0,0,0,0,0]
[22,null,null,null,null,null,null,null,null,null,null,null,null,0,0,0,0,0,0,0,0]
[23,null,null,null,null,null,null,null,null,null,null,null,null,0,0,0,0,0,0,0,0]
[24,null,null,null,null,null,null,null,null,null,null,null,null,0,0,0,0,0,0,0,0]
[25,null,null,null,null,null,null,null,null,null,null,null,null,0,0,0,0,0,0,0,0]
[26,null,null,null,null,null,null,null,null,null,null,null,null,0,0,0,0,0,0,0,0]
[27,null,null,null,null,null,null,null,null,null,null,null,null,0,0,0,0,0,0,0,0]
[28,null,null,null,null,null,null,null,null,null,null,null,null,0,0,0,0,0,0,0,0]
[29,null,null,null,null,null,null,null,null,null,null,null,null,0,0,0,0,0,0,0,0]
[30,null,null,null,null,null,null,null,null,null,null,null,null,0,0,0,0,0,0,0,0]
[31,null,null,null,null,null,null,null,null,null,null,null,null,0,0,0,0,0,0,0,0]
[32,null,null,null,null,null,null,null,null,null,null,null,null,0,0,0,0,0,0,0,0]
[33,null,null,null,null,null,null,null,null,null,null,null,null,{"$f":"ROUND(G39*$F39,2)","v":0},0,0,0,0,0,0,0]
[34,null,null,null,null,null,null,null,null,null,null,null,null,0,0,0,0,0,0,0,0]
[35,null,null,null,null,null,null,null,null,null,null,null,null,0,0,0,0,0,0,0,0]
[36,null,null,null,null,null,null,null,null,null,null,null,null,0,0,0,0,0,0,0,0]
[37,null,null,null,null,null,null,null,null,null,null,null,null,0,0,0,0,0,0,0,0]
[38,null,null,null,null,null,null,null,null,null,null,null,null,0,0,0,0,0,0,0,0]
[39,null,null,null,null,null,null,null,null,null,null,null,null,0,0,0,0,0,0,0,0]
[40,null,null,null,null,null,null,null,null,null,null,null,null,0,0,0,0,0,0,0,0]
[41,null,null,null,null,null,null,null,null,null,null,null,null,0,0,0,0,0,0,0,0]
[42,null,null,null,null,null,null,null,null,null,null,null,null,0,0,0,0,0,0,0,0]
[43,null,null,null,null,null,null,null,null,null,null,null,null,0,0,0,0,0,0,0,0]
[44,null,null,null,null,null,null,null,null,null,null,null,null,0,0,0,0,0,0,0,0]
[45,null,null,null,null,null,null,null,null,null,null,null,null,0,0,0,0,0,0,0,0]
[46,null,null,null,null,null,null,null,null,null,null,null,null,0,0,0,0,0,0,0,0]
[47,null,null,null,null,null,null,null,null,null,null,null,null,0,0,0,0,0,0,0,0]
[48,null,null,null,null,null,null,null,null,null,null,null,null,0,0,0,0,0,0,0,0]
[49,null,null,null,null,null,null,null,null,null,null,null,null,0,0,0,0,0,0,0,0]
[50,null,null,null,null,null,null,null,null,null,null,null,null,0,0,0,0,0,0,0,0]
[51,null,null,null,null,null,null,null,null,null,null,null,null,0,0,0,0,0,0,0,0]
[52,null,null,null,null,null,null,null,null,null,null,null,null,0,0,0,0,0,0,0,0]
[53,null,null,null,null,null,null,null,null,null,null,null,null,0,0,0,0,0,0,0,0]
[54,null,null,null,null,null,null,null,null,null,null,null,null,0,0,0,0,0,0,0,0]
[55,null,null,null,null,null,null,null,null,null,null,null,null,0,0,0,0,0,0,0,0]
[56,null,null,null,null,null,null,null,null,null,null,null,null,0,0,0,0,0,0,0,0]
[57,null,null,null,null,null,null,null,null,null,null,null,null,0,0,0,0,0,0,0,0]
[58,null,null,null,null,null,null,null,null,null,null,null,null,0,0,0,0,0,0,0,0]
[59,null,null,null,null,null,null,null,null,null,null,null,null,0,0,0,0,0,0,0,0]
[60,null,null,null,null,null,null,null,null,null,null,null,null,0,0,0,0,0,0,0,0]
[61,null,null,null,null,null,null,null,null,null,null,null,null,0,0,0,0,0,0,0,0]
[62,null,null,null,null,null,null,null,null,null,null,null,null,0,0,0,0,0,0,0,0]
[63,null,null,null,null,null,null,null,null,null,null,null,null,0,0,0,0,0,0,0,0]
[64,null,null,null,null,null,null,null,null,null,null,null,null,0,0,0,0,0,0,0,0]
[65,null,null,null,null,null,null,null,null,null,null,null,null,{"$f":"ROUND(G71*$F71,2)","v":0},0,0,0,0,0,0,{"$f":"ROUND(SUM(N71:T71),2)","v":0}]
[{"$f":"A71+1","v":66},null,null,null,null,null,null,null,null,null,null,null,null,0,0,0,0,0,0,0,0]
[67,null,null,null,null,null,null,null,null,null,null,null,null,0,0,0,0,0,0,0,0]
[68,null,null,null,null,null,null,null,null,null,null,null,null,0,0,0,0,0,0,0,0]
[69,null,null,null,null,null,null,null,null,null,null,null,null,0,0,0,0,0,0,0,0]
[70,null,null,null,null,null,null,null,null,null,null,null,null,0,0,0,0,0,0,0,0]
[71,null,null,null,null,null,null,null,null,null,null,null,null,0,0,0,0,0,0,0,0]
[72,null,null,null,null,null,null,null,null,null,null,null,null,0,0,0,0,0,0,0,0]
[73,null,null,null,null,null,null,null,null,null,null,null,null,0,0,0,0,0,0,0,0]
[74,null,null,null,null,null,null,null,null,null,null,null,null,0,0,0,0,0,0,0,0]
[75,null,null,null,null,null,null,null,null,null,null,null,null,0,0,0,0,0,0,0,0]
[76,null,null,null,null,null,null,null,null,null,null,null,null,0,0,0,0,0,0,0,0]
[77,null,null,null,null,null,null,null,null,null,null,null,null,0,0,0,0,0,0,0,0]
[78,null,null,null,null,null,null,null,null,null,null,null,null,0,0,0,0,0,0,0,0]
[79,null,null,null,null,null,null,null,null,null,null,null,null,0,0,0,0,0,0,0,0]
[80,null,null,null,null,null,null,null,null,null,null,null,null,0,0,0,0,0,0,0,0]
[81,null,null,null,null,null,null,null,null,null,null,null,null,0,0,0,0,0,0,0,0]
[82,null,null,null,null,null,null,null,null,null,null,null,null,0,0,0,0,0,0,0,0]
[83,null,null,null,null,null,null,null,null,null,null,null,null,0,0,0,0,0,0,0,0]
[84,null,null,null,null,null,null,null,null,null,null,null,null,0,0,0,0,0,0,0,0]
[85,null,null,null,null,null,null,null,null,null,null,null,null,0,0,0,0,0,0,0,0]
[86,null,null,null,null,null,null,null,null,null,null,null,null,0,0,0,0,0,0,0,0]
[87,null,null,null,null,null,null,null,null,null,null,null,null,0,0,0,0,0,0,0,0]
[88,null,null,null,null,null,null,null,null,null,null,null,null,0,0,0,0,0,0,0,0]
[89,null,null,null,null,null,null,null,null,null,null,null,null,0,0,0,0,0,0,0,0]
[90,null,null,null,null,null,null,null,null,null,null,null,null,0,0,0,0,0,0,0,0]
[91,null,null,null,null,null,null,null,null,null,null,null,null,0,0,0,0,0,0,0,0]
[92,null,null,null,null,null,null,null,null,null,null,null,null,0,0,0,0,0,0,0,0]
[93,null,null,null,null,null,null,null,null,null,null,null,null,0,0,0,0,0,0,0,0]
[94,null,null,null,null,null,null,null,null,null,null,null,null,0,0,0,0,0,0,0,0]
[95,null,null,null,null,null,null,null,null,null,null,null,null,0,0,0,0,0,0,0,0]
[96,null,null,null,null,null,null,null,null,null,null,null,null,0,0,0,0,0,0,0,0]
[97,null,null,null,null,null,null,null,null,null,null,null,null,0,0,0,0,0,0,0,{"$f":"ROUND(SUM(N103:T103),2)","v":0}]
[98,null,null,null,null,null,null,null,null,null,null,null,null,0,0,0,0,0,0,0,0]
[99,null,null,null,null,null,null,null,null,null,null,null,null,0,0,0,0,0,0,0,0]
[100,null,null,null,null,null,null,null,null,null,null,null,null,0,0,0,0,0,0,0,0]
[]
[]
[null,null,null,null,null,null,null,null,null,null,null,null,"Cost Opinion",{"$f":"ROUND(SUM(N7:N108),2)","v":0},0,0,0,0,0,0,0]
[null,null,null,null,null,null,null,null,null,null,null,null,"10% Contingency",{"$f":"N109*10%","v":0},0,0,0,0,0,0,0]
[null,null,null,null,null,null,null,null,null,null,null,null,"Cost Opinion plus 10% Contingency",{"$f":"ROUND(N109+N110,2)","v":0},0,0,0,0,0,0,0]
[null,null,null,null,null,null,null,null,null,null,null,null,"Engineering"]
[null,null,null,null,null,null,null,null,null,null,null,null,"Right of Way"]
[null,null,null,null,null,null,null,null,null,null,null,null,"Administrative"]
[null,null,null,null,null,null,null,null,null,null,null,null,"Grand Total",{"$f":"ROUND(SUM(N111:N114),2)","v":0},0,0,0,0,0,0,0]

{"sheet":"300-C","index":20,"n_rows":42,"n_cols":13,"rows_kept":42,"cut":false,"hidden":false,"merged":[[6,0,6,9],[8,0,8,9],[10,5,10,6],[40,0,40,9],[1,0,1,9],[2,0,2,9]]}
["SUPPLEMENTAL UNIT PRICE BID"]
[{"$f":"UPPER('Project Manual Form'!E7)","v":"0"}]
[{"$f":"CONCATENATE(\"CONTRACT NO. \",'Project Manual Form'!E6)","v":"CONTRACT NO. "}]
["CITY OF CEDAR RAPIDS, IOWA"]
[]
[]
["The following Supplemental Unit Prices will apply in the event that additions to or deductions from the Work required in the Bid are ordered.  OWNER reserves the right to accept or reject these prices by inclusion in or omission from the Contract Documents to be executed after the award of the Contract.  If Work involving omitted Supplemental Unit Prices does occur, such Work shall be compensated for using other methods as provided in the Contract Documents."]
[]
["The following Supplemental Unit Prices will apply in the event that additions to or deductions from the Work required in the Bid are ordered.  OWNER reserves the right to accept or reject these prices for Item(s) _______________ by inclusion in or omission from the Contract Documents to be executed after the award of the Contract.  If Work involving omitted Supplemental Unit Prices does occur, such Work shall be compensated for using other methods as provided in the Contract Documents.  Item(s) _______________ shall become part of the Contract Documents to be used for additions to or deductions from the estimated quantities given in the Specifications."]
[]
["ITEM ",null,null,null,null,null,null,null,null,null,null,null,"Preparer: 300-C is not used in all projects. Refer to project manager to see if"]
["NO.","DESCRIPTION",null,"UNIT",null,null,null,null,null,null,null,null,"this will be necessary."]
[]
["1.",null,null,null,null,null,null,"Dollars","$"]
[null,null,null,null,null,"(Words)",null,null,null,"(Numbers)"]
[]
["2.",null,null,null,null,null,null,"Dollars","$"]
[null,null,null,null,null,"(Words)",null,null,null,"(Numbers)"]
[]
["3.",null,null,null,null,null,null,"Dollars","$"]
[null,null,null,null,null,"(Words)",null,null,null,"(Numbers)"]
[]
["4.",null,null,null,null,null,null,"Dollars","$"]
[null,null,null,null,null,"(Words)",null,null,null,"(Numbers)"]
[]
["5.",null,null,null,null,null,null,"Dollars","$"]
[null,null,null,null,null,"(Words)",null,null,null,"(Numbers)"]
[]
["6.",null,null,null,null,null,null,"Dollars","$"]
[null,null,null,null,null,"(Words)",null,null,null,"(Numbers)"]
[]
["7.",null,null,null,null,null,null,"Dollars","$"]
[null,null,null,null,null,"(Words)",null,null,null,"(Numbers)"]
[]
["8.",null,null,null,null,null,null,"Dollars","$"]
[null,null,null,null,null,"(Words)",null,null,null,"(Numbers)"]
[]
["9.",null,null,null,null,null,null,"Dollars","$"]
[null,null,null,null,null,"(Words)",null,null,null,"(Numbers)"]
[]
["NOTE:  THE ENTIRE DOCUMENT MUST BE SUBMITTED AS THE BID.  DO NOT SEPARATE BID PAGES FROM THE "]
["PAGES FROM THE BOUND DOCUMENT."]

{"sheet":"300-C Funding","index":21,"n_rows":115,"n_cols":21,"rows_kept":115,"cut":false,"hidden":false,"merged":[[0,0,0,20],[1,0,1,20],[2,0,2,20]]}
["SUPPLEMENTAL BID ITEMS"]
[{"$f":"UPPER('Project Manual Form'!E7)","v":"0"}]
[{"$f":"CONCATENATE(\"CONTRACT NO. \",'Project Manual Form'!E6)","v":"CONTRACT NO. "}]
[]
[null,null,null,null,null,null,"Project #______","Project #______","Project #______","Project #______","Project #______","Project #______","Project #______",{"$f":"G5","v":"Project #______"},"Project #______","Project #______","Project #______","Project #______","Project #______","Project #______"]
["BID ITEM No.","STD ITEM No.","DESCRIPTION","Total Units","Unit of Measure","Unit Price","Units for Roadway Street Project","Units for Roadway Street Project","Units for Storm Project","Units for Bridge Project","Units for Signals Project","Units for Sanitary Project","Units for Water Dept Project","Cost for Roadway Street Project","Cost for Roadway Street Project","Cost for Storm Project","Cost for Bridge Project","Cost for Signals Project","Cost for Sanitary Project","Cost for Water Dept Project","Extended Cost"]
[1,null,null,null,null,null,null,null,null,null,null,null,null,{"$f":"ROUND(G7*$F7,2)","v":0},0,0,0,0,0,0,{"$f":"ROUND(SUM(N7:T7),2)","v":0}]
[{"$f":"A7+1","v":2},null,null,null,null,null,null,null,null,null,null,null,null,0,0,0,0,0,0,0,0]
[3,null,null,null,null,null,null,null,null,null,null,null,null,0,0,0,0,0,0,0,0]
[4,null,null,null,null,null,null,null,null,null,null,null,null,0,0,0,0,0,0,0,0]
[5,null,null,null,null,null,null,null,null,null,null,null,null,0,0,0,0,0,0,0,0]
[6,null,null,null,null,null,null,null,null,null,null,null,null,0,0,0,0,0,0,0,0]
[7,null,null,null,null,null,null,null,null,null,null,null,null,0,0,0,0,0,0,0,0]
[8,null,null,null,null,null,null,null,null,null,null,null,null,0,0,0,0,0,0,0,0]
[9,null,null,null,null,null,null,null,null,null,null,null,null,0,0,0,0,0,0,0,0]
[10,null,null,null,null,null,null,null,null,null,null,null,null,0,0,0,0,0,0,0,0]
[11,null,null,null,null,null,null,null,null,null,null,null,null,0,0,0,0,0,0,0,0]
[12,null,null,null,null,null,null,null,null,null,null,null,null,0,0,0,0,0,0,0,0]
[13,null,null,null,null,null,null,null,null,null,null,null,null,0,0,0,0,0,0,0,0]
[14,null,null,null,null,null,null,null,null,null,null,null,null,0,0,0,0,0,0,0,0]
[15,null,null,null,null,null,null,null,null,null,null,null,null,0,0,0,0,0,0,0,0]
[16,null,null,null,null,null,null,null,null,null,null,null,null,0,0,0,0,0,0,0,0]
[17,null,null,null,null,null,null,null,null,null,null,null,null,0,0,0,0,0,0,0,0]
[18,null,null,null,null,null,null,null,null,null,null,null,null,0,0,0,0,0,0,0,0]
[19,null,null,null,null,null,null,null,null,null,null,null,null,0,0,0,0,0,0,0,0]
[20,null,null,null,null,null,null,null,null,null,null,null,null,0,0,0,0,0,0,0,0]
[21,null,null,null,null,null,null,null,null,null,null,null,null,0,0,0,0,0,0,0,0]
[22,null,null,null,null,null,null,null,null,null,null,null,null,0,0,0,0,0,0,0,0]
[23,null,null,null,null,null,null,null,null,null,null,null,null,0,0,0,0,0,0,0,0]
[24,null,null,null,null,null,null,null,null,null,null,null,null,0,0,0,0,0,0,0,0]
[25,null,null,null,null,null,null,null,null,null,null,null,null,0,0,0,0,0,0,0,0]
[26,null,null,null,null,null,null,null,null,null,null,null,null,0,0,0,0,0,0,0,0]
[27,null,null,null,null,null,null,null,null,null,null,null,null,0,0,0,0,0,0,0,0]
[28,null,null,null,null,null,null,null,null,null,null,null,null,0,0,0,0,0,0,0,0]
[29,null,null,null,null,null,null,null,null,null,null,null,null,0,0,0,0,0,0,0,0]
[30,null,null,null,null,null,null,null,null,null,null,null,null,0,0,0,0,0,0,0,0]
[31,null,null,null,null,null,null,null,null,null,null,null,null,0,0,0,0,0,0,0,0]
[32,null,null,null,null,null,null,null,null,null,null,null,null,0,0,0,0,0,0,0,0]
[33,null,null,null,null,null,null,null,null,null,null,null,null,{"$f":"ROUND(G39*$F39,2)","v":0},0,0,0,0,0,0,0]
[34,null,null,null,null,null,null,null,null,null,null,null,null,0,0,0,0,0,0,0,0]
[35,null,null,null,null,null,null,null,null,null,null,null,null,0,0,0,0,0,0,0,0]
[36,null,null,null,null,null,null,null,null,null,null,null,null,0,0,0,0,0,0,0,0]
[37,null,null,null,null,null,null,null,null,null,null,null,null,0,0,0,0,0,0,0,0]
[38,null,null,null,null,null,null,null,null,null,null,null,null,0,0,0,0,0,0,0,0]
[39,null,null,null,null,null,null,null,null,null,null,null,null,0,0,0,0,0,0,0,0]
[40,null,null,null,null,null,null,null,null,null,null,null,null,0,0,0,0,0,0,0,0]
[41,null,null,null,null,null,null,null,null,null,null,null,null,0,0,0,0,0,0,0,0]
[42,null,null,null,null,null,null,null,null,null,null,null,null,0,0,0,0,0,0,0,0]
[43,null,null,null,null,null,null,null,null,null,null,null,null,0,0,0,0,0,0,0,0]
[44,null,null,null,null,null,null,null,null,null,null,null,null,0,0,0,0,0,0,0,0]
[45,null,null,null,null,null,null,null,null,null,null,null,null,0,0,0,0,0,0,0,0]
[46,null,null,null,null,null,null,null,null,null,null,null,null,0,0,0,0,0,0,0,0]
[47,null,null,null,null,null,null,null,null,null,null,null,null,0,0,0,0,0,0,0,0]
[48,null,null,null,null,null,null,null,null,null,null,null,null,0,0,0,0,0,0,0,0]
[49,null,null,null,null,null,null,null,null,null,null,null,null,0,0,0,0,0,0,0,0]
[50,null,null,null,null,null,null,null,null,null,null,null,null,0,0,0,0,0,0,0,0]
[51,null,null,null,null,null,null,null,null,null,null,null,null,0,0,0,0,0,0,0,0]
[52,null,null,null,null,null,null,null,null,null,null,null,null,0,0,0,0,0,0,0,0]
[53,null,null,null,null,null,null,null,null,null,null,null,null,0,0,0,0,0,0,0,0]
[54,null,null,null,null,null,null,null,null,null,null,null,null,0,0,0,0,0,0,0,0]
[55,null,null,null,null,null,null,null,null,null,null,null,null,0,0,0,0,0,0,0,0]
[56,null,null,null,null,null,null,null,null,null,null,null,null,0,0,0,0,0,0,0,0]
[57,null,null,null,null,null,null,null,null,null,null,null,null,0,0,0,0,0,0,0,0]
[58,null,null,null,null,null,null,null,null,null,null,null,null,0,0,0,0,0,0,0,0]
[59,null,null,null,null,null,null,null,null,null,null,null,null,0,0,0,0,0,0,0,0]
[60,null,null,null,null,null,null,null,null,null,null,null,null,0,0,0,0,0,0,0,0]
[61,null,null,null,null,null,null,null,null,null,null,null,null,0,0,0,0,0,0,0,0]
[62,null,null,null,null,null,null,null,null,null,null,null,null,0,0,0,0,0,0,0,0]
[63,null,null,null,null,null,null,null,null,null,null,null,null,0,0,0,0,0,0,0,0]
[64,null,null,null,null,null,null,null,null,null,null,null,null,0,0,0,0,0,0,0,0]
[65,null,null,null,null,null,null,null,null,null,null,null,null,{"$f":"ROUND(G71*$F71,2)","v":0},0,0,0,0,0,0,{"$f":"ROUND(SUM(N71:T71),2)","v":0}]
[{"$f":"A71+1","v":66},null,null,null,null,null,null,null,null,null,null,null,null,0,0,0,0,0,0,0,0]
[67,null,null,null,null,null,null,null,null,null,null,null,null,0,0,0,0,0,0,0,0]
[68,null,null,null,null,null,null,null,null,null,null,null,null,0,0,0,0,0,0,0,0]
[69,null,null,null,null,null,null,null,null,null,null,null,null,0,0,0,0,0,0,0,0]
[70,null,null,null,null,null,null,null,null,null,null,null,null,0,0,0,0,0,0,0,0]
[71,null,null,null,null,null,null,null,null,null,null,null,null,0,0,0,0,0,0,0,0]
[72,null,null,null,null,null,null,null,null,null,null,null,null,0,0,0,0,0,0,0,0]
[73,null,null,null,null,null,null,null,null,null,null,null,null,0,0,0,0,0,0,0,0]
[74,null,null,null,null,null,null,null,null,null,null,null,null,0,0,0,0,0,0,0,0]
[75,null,null,null,null,null,null,null,null,null,null,null,null,0,0,0,0,0,0,0,0]
[76,null,null,null,null,null,null,null,null,null,null,null,null,0,0,0,0,0,0,0,0]
[77,null,null,null,null,null,null,null,null,null,null,null,null,0,0,0,0,0,0,0,0]
[78,null,null,null,null,null,null,null,null,null,null,null,null,0,0,0,0,0,0,0,0]
[79,null,null,null,null,null,null,null,null,null,null,null,null,0,0,0,0,0,0,0,0]
[80,null,null,null,null,null,null,null,null,null,null,null,null,0,0,0,0,0,0,0,0]
[81,null,null,null,null,null,null,null,null,null,null,null,null,0,0,0,0,0,0,0,0]
[82,null,null,null,null,null,null,null,null,null,null,null,null,0,0,0,0,0,0,0,0]
[83,null,null,null,null,null,null,null,null,null,null,null,null,0,0,0,0,0,0,0,0]
[84,null,null,null,null,null,null,null,null,null,null,null,null,0,0,0,0,0,0,0,0]
[85,null,null,null,null,null,null,null,null,null,null,null,null,0,0,0,0,0,0,0,0]
[86,null,null,null,null,null,null,null,null,null,null,null,null,0,0,0,0,0,0,0,0]
[87,null,null,null,null,null,null,null,null,null,null,null,null,0,0,0,0,0,0,0,0]
[88,null,null,null,null,null,null,null,null,null,null,null,null,0,0,0,0,0,0,0,0]
[89,null,null,null,null,null,null,null,null,null,null,null,null,0,0,0,0,0,0,0,0]
[90,null,null,null,null,null,null,null,null,null,null,null,null,0,0,0,0,0,0,0,0]
[91,null,null,null,null,null,null,null,null,null,null,null,null,0,0,0,0,0,0,0,0]
[92,null,null,null,null,null,null,null,null,null,null,null,null,0,0,0,0,0,0,0,0]
[93,null,null,null,null,null,null,null,null,null,null,null,null,0,0,0,0,0,0,0,0]
[94,null,null,null,null,null,null,null,null,null,null,null,null,0,0,0,0,0,0,0,0]
[95,null,null,null,null,null,null,null,null,null,null,null,null,0,0,0,0,0,0,0,0]
[96,null,null,null,null,null,null,null,null,null,null,null,null,0,0,0,0,0,0,0,0]
[97,null,null,null,null,null,null,null,null,null,null,null,null,0,0,0,0,0,0,0,{"$f":"ROUND(SUM(N103:T103),2)","v":0}]
[98,null,null,null,null,null,null,null,null,null,null,null,null,0,0,0,0,0,0,0,0]
[99,null,null,null,null,null,null,null,null,null,null,null,null,0,0,0,0,0,0,0,0]
[100,null,null,null,null,null,null,null,null,null,null,null,null,0,0,0,0,0,0,0,0]
[]
[]
[null,null,null,null,null,null,null,null,null,null,null,null,"Cost Opinion",{"$f":"ROUND(SUM(N7:N108),2)","v":0},0,0,0,0,0,0,0]
[null,null,null,null,null,null,null,null,null,null,null,null,"10% Contingency",{"$f":"N109*10%","v":0},0,0,0,0,0,0,0]
[null,null,null,null,null,null,null,null,null,null,null,null,"Cost Opinion plus 10% Contingency",{"$f":"ROUND(N109+N110,2)","v":0},0,0,0,0,0,0,0]
[null,null,null,null,null,null,null,null,null,null,null,null,"Engineering"]
[null,null,null,null,null,null,null,null,null,null,null,null,"Right of Way"]
[null,null,null,null,null,null,null,null,null,null,null,null,"Administrative"]
[null,null,null,null,null,null,null,null,null,null,null,null,"Grand Total",{"$f":"ROUND(SUM(N111:N114),2)","v":0},0,0,0,0,0,0,0]

{"sheet":"500-A","index":22,"n_rows":409,"n_cols":9,"rows_kept":409,"cut":false,"hidden":false,"merged":[[335,0,335,3],[336,0,336,3],[317,0,317,6],[318,0,318,6],[319,0,319,6],[320,0,320,4],[331,0,331,3],[313,0,313,6],[1,0,1,6],[2,0,2,6],[3,0,3,6],[308,0,308,4],[309,0,309,4],[309,5,309,6],[310,0,310,4],[311,0,311,4]]}
["UNIT PRICE WORK"]
[{"$f":"UPPER('Project Manual Form'!E7)","v":"0"}]
[{"$f":"CONCATENATE(\"CONTRACT NO. \",'Project Manual Form'!E6)","v":"CONTRACT NO. "}]
["CITY OF CEDAR RAPIDS, IOWA"]
[]
["Column1","Column2","Column3","Column4","Column5","UNIT PRICE BID (Numbers)","EXTENSION"]
[null,null,null,null,null,null,{"$f":"_500A[[#This Row],[Column4]]*_500A[[#This Row],[UNIT PRICE BID (Numbers)]]","v":0},null,"Project Manual Assemblers"]
[null,null,null,null,null,null,{"$f":"_500A[[#This Row],[Column4]]*_500A[[#This Row],[UNIT PRICE BID (Numbers)]]","v":0},null,"This sheet is used post-bid only, and is not part of the Project Manual"]
[null,null,null,null,null,null,{"$f":"_500A[[#This Row],[Column4]]*_500A[[#This Row],[UNIT PRICE BID (Numbers)]]","v":0}]
[null,null,null,null,null,null,{"$f":"_500A[[#This Row],[Column4]]*_500A[[#This Row],[UNIT PRICE BID (Numbers)]]","v":0},null,"Construction Contract Coordinator"]
[null,null,null,null,null,null,{"$f":"_500A[[#This Row],[Column4]]*_500A[[#This Row],[UNIT PRICE BID (Numbers)]]","v":0},null,"The bid items and quantities on this page are pulled from the EOPC worksheet. To get this page to match"]
[null,null,null,null,null,null,{"$f":"_500A[[#This Row],[Column4]]*_500A[[#This Row],[UNIT PRICE BID (Numbers)]]","v":0},null,"EOPC, go to Data > Show Queries. Click on the Refresh symbol next to the 500A worksheet listing."]
[null,null,null,null,null,null,{"$f":"_500A[[#This Row],[Column4]]*_500A[[#This Row],[UNIT PRICE BID (Numbers)]]","v":0}]
[null,null,null,null,null,null,{"$f":"_500A[[#This Row],[Column4]]*_500A[[#This Row],[UNIT PRICE BID (Numbers)]]","v":0}]
[null,null,null,null,null,null,{"$f":"_500A[[#This Row],[Column4]]*_500A[[#This Row],[UNIT PRICE BID (Numbers)]]","v":0}]
[null,null,null,null,null,null,{"$f":"_500A[[#This Row],[Column4]]*_500A[[#This Row],[UNIT PRICE BID (Numbers)]]","v":0}]
[null,null,null,null,null,null,{"$f":"_500A[[#This Row],[Column4]]*_500A[[#This Row],[UNIT PRICE BID (Numbers)]]","v":0}]
[null,null,null,null,null,null,{"$f":"_500A[[#This Row],[Column4]]*_500A[[#This Row],[UNIT PRICE BID (Numbers)]]","v":0}]
[null,null,null,null,null,null,{"$f":"_500A[[#This Row],[Column4]]*_500A[[#This Row],[UNIT PRICE BID (Numbers)]]","v":0}]
[null,null,null,null,null,null,{"$f":"_500A[[#This Row],[Column4]]*_500A[[#This Row],[UNIT PRICE BID (Numbers)]]","v":0}]
[null,null,null,null,null,null,{"$f":"_500A[[#This Row],[Column4]]*_500A[[#This Row],[UNIT PRICE BID (Numbers)]]","v":0}]
[null,null,null,null,null,null,{"$f":"_500A[[#This Row],[Column4]]*_500A[[#This Row],[UNIT PRICE BID (Numbers)]]","v":0}]
[null,null,null,null,null,null,{"$f":"_500A[[#This Row],[Column4]]*_500A[[#This Row],[UNIT PRICE BID (Numbers)]]","v":0}]
[null,null,null,null,null,null,{"$f":"_500A[[#This Row],[Column4]]*_500A[[#This Row],[UNIT PRICE BID (Numbers)]]","v":0}]
[null,null,null,null,null,null,{"$f":"_500A[[#This Row],[Column4]]*_500A[[#This Row],[UNIT PRICE BID (Numbers)]]","v":0}]
[null,null,null,null,null,null,{"$f":"_500A[[#This Row],[Column4]]*_500A[[#This Row],[UNIT PRICE BID (Numbers)]]","v":0}]
[null,null,null,null,null,null,{"$f":"_500A[[#This Row],[Column4]]*_500A[[#This Row],[UNIT PRICE BID (Numbers)]]","v":0}]
[null,null,null,null,null,null,{"$f":"_500A[[#This Row],[Column4]]*_500A[[#This Row],[UNIT PRICE BID (Numbers)]]","v":0}]
[null,null,null,null,null,null,{"$f":"_500A[[#This Row],[Column4]]*_500A[[#This Row],[UNIT PRICE BID (Numbers)]]","v":0}]
[null,null,null,null,null,null,{"$f":"_500A[[#This Row],[Column4]]*_500A[[#This Row],[UNIT PRICE BID (Numbers)]]","v":0}]
[null,null,null,null,null,null,{"$f":"_500A[[#This Row],[Column4]]*_500A[[#This Row],[UNIT PRICE BID (Numbers)]]","v":0}]
[null,null,null,null,null,null,{"$f":"_500A[[#This Row],[Column4]]*_500A[[#This Row],[UNIT PRICE BID (Numbers)]]","v":0}]
[null,null,null,null,null,null,{"$f":"_500A[[#This Row],[Column4]]*_500A[[#This Row],[UNIT PRICE BID (Numbers)]]","v":0}]
[null,null,null,null,null,null,{"$f":"_500A[[#This Row],[Column4]]*_500A[[#This Row],[UNIT PRICE BID (Numbers)]]","v":0}]
[null,null,null,null,null,null,{"$f":"_500A[[#This Row],[Column4]]*_500A[[#This Row],[UNIT PRICE BID (Numbers)]]","v":0}]
[null,null,null,null,null,null,{"$f":"_500A[[#This Row],[Column4]]*_500A[[#This Row],[UNIT PRICE BID (Numbers)]]","v":0}]
[null,null,null,null,null,null,{"$f":"_500A[[#This Row],[Column4]]*_500A[[#This Row],[UNIT PRICE BID (Numbers)]]","v":0}]
[null,null,null,null,null,null,{"$f":"_500A[[#This Row],[Column4]]*_500A[[#This Row],[UNIT PRICE BID (Numbers)]]","v":0}]
[null,null,null,null,null,null,{"$f":"_500A[[#This Row],[Column4]]*_500A[[#This Row],[UNIT PRICE BID (Numbers)]]","v":0}]
[null,null,null,null,null,null,{"$f":"_500A[[#This Row],[Column4]]*_500A[[#This Row],[UNIT PRICE BID (Numbers)]]","v":0}]
[null,null,null,null,null,null,{"$f":"_500A[[#This Row],[Column4]]*_500A[[#This Row],[UNIT PRICE BID (Numbers)]]","v":0}]
[null,null,null,null,null,null,{"$f":"_500A[[#This Row],[Column4]]*_500A[[#This Row],[UNIT PRICE BID (Numbers)]]","v":0}]
[null,null,null,null,null,null,{"$f":"_500A[[#This Row],[Column4]]*_500A[[#This Row],[UNIT PRICE BID (Numbers)]]","v":0}]
[null,null,null,null,null,null,{"$f":"_500A[[#This Row],[Column4]]*_500A[[#This Row],[UNIT PRICE BID (Numbers)]]","v":0}]
[null,null,null,null,null,null,{"$f":"_500A[[#This Row],[Column4]]*_500A[[#This Row],[UNIT PRICE BID (Numbers)]]","v":0}]
[null,null,null,null,null,null,{"$f":"_500A[[#This Row],[Column4]]*_500A[[#This Row],[UNIT PRICE BID (Numbers)]]","v":0}]
[null,null,null,null,null,null,{"$f":"_500A[[#This Row],[Column4]]*_500A[[#This Row],[UNIT PRICE BID (Numbers)]]","v":0}]
[null,null,null,null,null,null,{"$f":"_500A[[#This Row],[Column4]]*_500A[[#This Row],[UNIT PRICE BID (Numbers)]]","v":0}]
[null,null,null,null,null,null,{"$f":"_500A[[#This Row],[Column4]]*_500A[[#This Row],[UNIT PRICE BID (Numbers)]]","v":0}]
[null,null,null,null,null,null,{"$f":"_500A[[#This Row],[Column4]]*_500A[[#This Row],[UNIT PRICE BID (Numbers)]]","v":0}]
[null,null,null,null,null,null,{"$f":"_500A[[#This Row],[Column4]]*_500A[[#This Row],[UNIT PRICE BID (Numbers)]]","v":0}]
[null,null,null,null,null,null,{"$f":"_500A[[#This Row],[Column4]]*_500A[[#This Row],[UNIT PRICE BID (Numbers)]]","v":0}]
[null,null,null,null,null,null,{"$f":"_500A[[#This Row],[Column4]]*_500A[[#This Row],[UNIT PRICE BID (Numbers)]]","v":0}]
[null,null,null,null,null,null,{"$f":"_500A[[#This Row],[Column4]]*_500A[[#This Row],[UNIT PRICE BID (Numbers)]]","v":0}]
[null,null,null,null,null,null,{"$f":"_500A[[#This Row],[Column4]]*_500A[[#This Row],[UNIT PRICE BID (Numbers)]]","v":0}]
[null,null,null,null,null,null,{"$f":"_500A[[#This Row],[Column4]]*_500A[[#This Row],[UNIT PRICE BID (Numbers)]]","v":0}]
[null,null,null,null,null,null,{"$f":"_500A[[#This Row],[Column4]]*_500A[[#This Row],[UNIT PRICE BID (Numbers)]]","v":0}]
[null,null,null,null,null,null,{"$f":"_500A[[#This Row],[Column4]]*_500A[[#This Row],[UNIT PRICE BID (Numbers)]]","v":0}]
[null,null,null,null,null,null,{"$f":"_500A[[#This Row],[Column4]]*_500A[[#This Row],[UNIT PRICE BID (Numbers)]]","v":0}]
[null,null,null,null,null,null,{"$f":"_500A[[#This Row],[Column4]]*_500A[[#This Row],[UNIT PRICE BID (Numbers)]]","v":0}]
[null,null,null,null,null,null,{"$f":"_500A[[#This Row],[Column4]]*_500A[[#This Row],[UNIT PRICE BID (Numbers)]]","v":0}]
[null,null,null,null,null,null,{"$f":"_500A[[#This Row],[Column4]]*_500A[[#This Row],[UNIT PRICE BID (Numbers)]]","v":0}]
[null,null,null,null,null,null,{"$f":"_500A[[#This Row],[Column4]]*_500A[[#This Row],[UNIT PRICE BID (Numbers)]]","v":0}]
[null,null,null,null,null,null,{"$f":"_500A[[#This Row],[Column4]]*_500A[[#This Row],[UNIT PRICE BID (Numbers)]]","v":0}]
[null,null,null,null,null,null,{"$f":"_500A[[#This Row],[Column4]]*_500A[[#This Row],[UNIT PRICE BID (Numbers)]]","v":0}]
[null,null,null,null,null,null,{"$f":"_500A[[#This Row],[Column4]]*_500A[[#This Row],[UNIT PRICE BID (Numbers)]]","v":0}]
[null,null,null,null,null,null,{"$f":"_500A[[#This Row],[Column4]]*_500A[[#This Row],[UNIT PRICE BID (Numbers)]]","v":0}]
[null,null,null,null,null,null,{"$f":"_500A[[#This Row],[Column4]]*_500A[[#This Row],[UNIT PRICE BID (Numbers)]]","v":0}]
[null,null,null,null,null,null,{"$f":"_500A[[#This Row],[Column4]]*_500A[[#This Row],[UNIT PRICE BID (Numbers)]]","v":0}]
[null,null,null,null,null,null,{"$f":"_500A[[#This Row],[Column4]]*_500A[[#This Row],[UNIT PRICE BID (Numbers)]]","v":0}]
[null,null,null,null,null,null,{"$f":"_500A[[#This Row],[Column4]]*_500A[[#This Row],[UNIT PRICE BID (Numbers)]]","v":0}]
[null,null,null,null,null,null,{"$f":"_500A[[#This Row],[Column4]]*_500A[[#This Row],[UNIT PRICE BID (Numbers)]]","v":0}]
[null,null,null,null,null,null,{"$f":"_500A[[#This Row],[Column4]]*_500A[[#This Row],[UNIT PRICE BID (Numbers)]]","v":0}]
[null,null,null,null,null,null,{"$f":"_500A[[#This Row],[Column4]]*_500A[[#This Row],[UNIT PRICE BID (Numbers)]]","v":0}]
[null,null,null,null,null,null,{"$f":"_500A[[#This Row],[Column4]]*_500A[[#This Row],[UNIT PRICE BID (Numbers)]]","v":0}]
[null,null,null,null,null,null,{"$f":"_500A[[#This Row],[Column4]]*_500A[[#This Row],[UNIT PRICE BID (Numbers)]]","v":0}]
[null,null,null,null,null,null,{"$f":"_500A[[#This Row],[Column4]]*_500A[[#This Row],[UNIT PRICE BID (Numbers)]]","v":0}]
[null,null,null,null,null,null,{"$f":"_500A[[#This Row],[Column4]]*_500A[[#This Row],[UNIT PRICE BID (Numbers)]]","v":0}]
[null,null,null,null,null,null,{"$f":"_500A[[#This Row],[Column4]]*_500A[[#This Row],[UNIT PRICE BID (Numbers)]]","v":0}]
[null,null,null,null,null,null,{"$f":"_500A[[#This Row],[Column4]]*_500A[[#This Row],[UNIT PRICE BID (Numbers)]]","v":0}]
[null,null,null,null,null,null,{"$f":"_500A[[#This Row],[Column4]]*_500A[[#This Row],[UNIT PRICE BID (Numbers)]]","v":0}]
[null,null,null,null,null,null,{"$f":"_500A[[#This Row],[Column4]]*_500A[[#This Row],[UNIT PRICE BID (Numbers)]]","v":0}]
[null,null,null,null,null,null,{"$f":"_500A[[#This Row],[Column4]]*_500A[[#This Row],[UNIT PRICE BID (Numbers)]]","v":0}]
[null,null,null,null,null,null,{"$f":"_500A[[#This Row],[Column4]]*_500A[[#This Row],[UNIT PRICE BID (Numbers)]]","v":0}]
[null,null,null,null,null,null,{"$f":"_500A[[#This Row],[Column4]]*_500A[[#This Row],[UNIT PRICE BID (Numbers)]]","v":0}]
[null,null,null,null,null,null,{"$f":"_500A[[#This Row],[Column4]]*_500A[[#This Row],[UNIT PRICE BID (Numbers)]]","v":0}]
[null,null,null,null,null,null,{"$f":"_500A[[#This Row],[Column4]]*_500A[[#This Row],[UNIT PRICE BID (Numbers)]]","v":0}]
[null,null,null,null,null,null,{"$f":"_500A[[#This Row],[Column4]]*_500A[[#This Row],[UNIT PRICE BID (Numbers)]]","v":0}]
[null,null,null,null,null,null,{"$f":"_500A[[#This Row],[Column4]]*_500A[[#This Row],[UNIT PRICE BID (Numbers)]]","v":0}]
[null,null,null,null,null,null,{"$f":"_500A[[#This Row],[Column4]]*_500A[[#This Row],[UNIT PRICE BID (Numbers)]]","v":0}]
[null,null,null,null,null,null,{"$f":"_500A[[#This Row],[Column4]]*_500A[[#This Row],[UNIT PRICE BID (Numbers)]]","v":0}]
[null,null,null,null,null,null,{"$f":"_500A[[#This Row],[Column4]]*_500A[[#This Row],[UNIT PRICE BID (Numbers)]]","v":0}]
[null,null,null,null,null,null,{"$f":"_500A[[#This Row],[Column4]]*_500A[[#This Row],[UNIT PRICE BID (Numbers)]]","v":0}]
[null,null,null,null,null,null,{"$f":"_500A[[#This Row],[Column4]]*_500A[[#This Row],[UNIT PRICE BID (Numbers)]]","v":0}]
[null,null,null,null,null,null,{"$f":"_500A[[#This Row],[Column4]]*_500A[[#This Row],[UNIT PRICE BID (Numbers)]]","v":0}]
[null,null,null,null,null,null,{"$f":"_500A[[#This Row],[Column4]]*_500A[[#This Row],[UNIT PRICE BID (Numbers)]]","v":0}]
[null,null,null,null,null,null,{"$f":"_500A[[#This Row],[Column4]]*_500A[[#This Row],[UNIT PRICE BID (Numbers)]]","v":0}]
[null,null,null,null,null,null,{"$f":"_500A[[#This Row],[Column4]]*_500A[[#This Row],[UNIT PRICE BID (Numbers)]]","v":0}]
[null,null,null,null,null,null,{"$f":"_500A[[#This Row],[Column4]]*_500A[[#This Row],[UNIT PRICE BID (Numbers)]]","v":0}]
[null,null,null,null,null,null,{"$f":"_500A[[#This Row],[Column4]]*_500A[[#This Row],[UNIT PRICE BID (Numbers)]]","v":0}]
[null,null,null,null,null,null,{"$f":"_500A[[#This Row],[Column4]]*_500A[[#This Row],[UNIT PRICE BID (Numbers)]]","v":0}]
[null,null,null,null,null,null,{"$f":"_500A[[#This Row],[Column4]]*_500A[[#This Row],[UNIT PRICE BID (Numbers)]]","v":0}]
[null,null,null,null,null,null,{"$f":"_500A[[#This Row],[Column4]]*_500A[[#This Row],[UNIT PRICE BID (Numbers)]]","v":0}]
[null,null,null,null,null,null,{"$f":"_500A[[#This Row],[Column4]]*_500A[[#This Row],[UNIT PRICE BID (Numbers)]]","v":0}]
[null,null,null,null,null,null,{"$f":"_500A[[#This Row],[Column4]]*_500A[[#This Row],[UNIT PRICE BID (Numbers)]]","v":0}]
[null,null,null,null,null,null,{"$f":"_500A[[#This Row],[Column4]]*_500A[[#This Row],[UNIT PRICE BID (Numbers)]]","v":0}]
[null,null,null,null,null,null,{"$f":"_500A[[#This Row],[Column4]]*_500A[[#This Row],[UNIT PRICE BID (Numbers)]]","v":0}]
[null,null,null,null,null,null,{"$f":"_500A[[#This Row],[Column4]]*_500A[[#This Row],[UNIT PRICE BID (Numbers)]]","v":0}]
[null,null,null,null,null,null,{"$f":"_500A[[#This Row],[Column4]]*_500A[[#This Row],[UNIT PRICE BID (Numbers)]]","v":0}]
[null,null,null,null,null,null,{"$f":"_500A[[#This Row],[Column4]]*_500A[[#This Row],[UNIT PRICE BID (Numbers)]]","v":0}]
[null,null,null,null,null,null,{"$f":"_500A[[#This Row],[Column4]]*_500A[[#This Row],[UNIT PRICE BID (Numbers)]]","v":0}]
[null,null,null,null,null,null,{"$f":"_500A[[#This Row],[Column4]]*_500A[[#This Row],[UNIT PRICE BID (Numbers)]]","v":0}]
[null,null,null,null,null,null,{"$f":"_500A[[#This Row],[Column4]]*_500A[[#This Row],[UNIT PRICE BID (Numbers)]]","v":0}]
[null,null,null,null,null,null,{"$f":"_500A[[#This Row],[Column4]]*_500A[[#This Row],[UNIT PRICE BID (Numbers)]]","v":0}]
[null,null,null,null,null,null,{"$f":"_500A[[#This Row],[Column4]]*_500A[[#This Row],[UNIT PRICE BID (Numbers)]]","v":0}]
[null,null,null,null,null,null,{"$f":"_500A[[#This Row],[Column4]]*_500A[[#This Row],[UNIT PRICE BID (Numbers)]]","v":0}]
[null,null,null,null,null,null,{"$f":"_500A[[#This Row],[Column4]]*_500A[[#This Row],[UNIT PRICE BID (Numbers)]]","v":0}]
[null,null,null,null,null,null,{"$f":"_500A[[#This Row],[Column4]]*_500A[[#This Row],[UNIT PRICE BID (Numbers)]]","v":0}]
[null,null,null,null,null,null,{"$f":"_500A[[#This Row],[Column4]]*_500A[[#This Row],[UNIT PRICE BID (Numbers)]]","v":0}]
[null,null,null,null,null,null,{"$f":"_500A[[#This Row],[Column4]]*_500A[[#This Row],[UNIT PRICE BID (Numbers)]]","v":0}]
[null,null,null,null,null,null,{"$f":"_500A[[#This Row],[Column4]]*_500A[[#This Row],[UNIT PRICE BID (Numbers)]]","v":0}]
[null,null,null,null,null,null,{"$f":"_500A[[#This Row],[Column4]]*_500A[[#This Row],[UNIT PRICE BID (Numbers)]]","v":0}]
[null,null,null,null,null,null,{"$f":"_500A[[#This Row],[Column4]]*_500A[[#This Row],[UNIT PRICE BID (Numbers)]]","v":0}]
[null,null,null,null,null,null,{"$f":"_500A[[#This Row],[Column4]]*_500A[[#This Row],[UNIT PRICE BID (Numbers)]]","v":0}]
[null,null,null,null,null,null,{"$f":"_500A[[#This Row],[Column4]]*_500A[[#This Row],[UNIT PRICE BID (Numbers)]]","v":0}]
[null,null,null,null,null,null,{"$f":"_500A[[#This Row],[Column4]]*_500A[[#This Row],[UNIT PRICE BID (Numbers)]]","v":0}]
[null,null,null,null,null,null,{"$f":"_500A[[#This Row],[Column4]]*_500A[[#This Row],[UNIT PRICE BID (Numbers)]]","v":0}]
[null,null,null,null,null,null,{"$f":"_500A[[#This Row],[Column4]]*_500A[[#This Row],[UNIT PRICE BID (Numbers)]]","v":0}]
[null,null,null,null,null,null,{"$f":"_500A[[#This Row],[Column4]]*_500A[[#This Row],[UNIT PRICE BID (Numbers)]]","v":0}]
[null,null,null,null,null,null,{"$f":"_500A[[#This Row],[Column4]]*_500A[[#This Row],[UNIT PRICE BID (Numbers)]]","v":0}]
[null,null,null,null,null,null,{"$f":"_500A[[#This Row],[Column4]]*_500A[[#This Row],[UNIT PRICE BID (Numbers)]]","v":0}]
[null,null,null,null,null,null,{"$f":"_500A[[#This Row],[Column4]]*_500A[[#This Row],[UNIT PRICE BID (Numbers)]]","v":0}]
[null,null,null,null,null,null,{"$f":"_500A[[#This Row],[Column4]]*_500A[[#This Row],[UNIT PRICE BID (Numbers)]]","v":0}]
[null,null,null,null,null,null,{"$f":"_500A[[#This Row],[Column4]]*_500A[[#This Row],[UNIT PRICE BID (Numbers)]]","v":0}]
[null,null,null,null,null,null,{"$f":"_500A[[#This Row],[Column4]]*_500A[[#This Row],[UNIT PRICE BID (Numbers)]]","v":0}]
[null,null,null,null,null,null,{"$f":"_500A[[#This Row],[Column4]]*_500A[[#This Row],[UNIT PRICE BID (Numbers)]]","v":0}]
[null,null,null,null,null,null,{"$f":"_500A[[#This Row],[Column4]]*_500A[[#This Row],[UNIT PRICE BID (Numbers)]]","v":0}]
[null,null,null,null,null,null,{"$f":"_500A[[#This Row],[Column4]]*_500A[[#This Row],[UNIT PRICE BID (Numbers)]]","v":0}]
[null,null,null,null,null,null,{"$f":"_500A[[#This Row],[Column4]]*_500A[[#This Row],[UNIT PRICE BID (Numbers)]]","v":0}]
[null,null,null,null,null,null,{"$f":"_500A[[#This Row],[Column4]]*_500A[[#This Row],[UNIT PRICE BID (Numbers)]]","v":0}]
[null,null,null,null,null,null,{"$f":"_500A[[#This Row],[Column4]]*_500A[[#This Row],[UNIT PRICE BID (Numbers)]]","v":0}]
[null,null,null,null,null,null,{"$f":"_500A[[#This Row],[Column4]]*_500A[[#This Row],[UNIT PRICE BID (Numbers)]]","v":0}]
[null,null,null,null,null,null,{"$f":"_500A[[#This Row],[Column4]]*_500A[[#This Row],[UNIT PRICE BID (Numbers)]]","v":0}]
[null,null,null,null,null,null,{"$f":"_500A[[#This Row],[Column4]]*_500A[[#This Row],[UNIT PRICE BID (Numbers)]]","v":0}]
[null,null,null,null,null,null,{"$f":"_500A[[#This Row],[Column4]]*_500A[[#This Row],[UNIT PRICE BID (Numbers)]]","v":0}]
[null,null,null,null,null,null,{"$f":"_500A[[#This Row],[Column4]]*_500A[[#This Row],[UNIT PRICE BID (Numbers)]]","v":0}]
[null,null,null,null,null,null,{"$f":"_500A[[#This Row],[Column4]]*_500A[[#This Row],[UNIT PRICE BID (Numbers)]]","v":0}]
[null,null,null,null,null,null,{"$f":"_500A[[#This Row],[Column4]]*_500A[[#This Row],[UNIT PRICE BID (Numbers)]]","v":0}]
[null,null,null,null,null,null,{"$f":"_500A[[#This Row],[Column4]]*_500A[[#This Row],[UNIT PRICE BID (Numbers)]]","v":0}]
[null,null,null,null,null,null,{"$f":"_500A[[#This Row],[Column4]]*_500A[[#This Row],[UNIT PRICE BID (Numbers)]]","v":0}]
[null,null,null,null,null,null,{"$f":"_500A[[#This Row],[Column4]]*_500A[[#This Row],[UNIT PRICE BID (Numbers)]]","v":0}]
[null,null,null,null,null,null,{"$f":"_500A[[#This Row],[Column4]]*_500A[[#This Row],[UNIT PRICE BID (Numbers)]]","v":0}]
[null,null,null,null,null,null,{"$f":"_500A[[#This Row],[Column4]]*_500A[[#This Row],[UNIT PRICE BID (Numbers)]]","v":0}]
[null,null,null,null,null,null,{"$f":"_500A[[#This Row],[Column4]]*_500A[[#This Row],[UNIT PRICE BID (Numbers)]]","v":0}]
[null,null,null,null,null,null,{"$f":"_500A[[#This Row],[Column4]]*_500A[[#This Row],[UNIT PRICE BID (Numbers)]]","v":0}]
[null,null,null,null,null,null,{"$f":"_500A[[#This Row],[Column4]]*_500A[[#This Row],[UNIT PRICE BID (Numbers)]]","v":0}]
[null,null,null,null,null,null,{"$f":"_500A[[#This Row],[Column4]]*_500A[[#This Row],[UNIT PRICE BID (Numbers)]]","v":0}]
[null,null,null,null,null,null,{"$f":"_500A[[#This Row],[Column4]]*_500A[[#This Row],[UNIT PRICE BID (Numbers)]]","v":0}]
[null,null,null,null,null,null,{"$f":"_500A[[#This Row],[Column4]]*_500A[[#This Row],[UNIT PRICE BID (Numbers)]]","v":0}]
[null,null,null,null,null,null,{"$f":"_500A[[#This Row],[Column4]]*_500A[[#This Row],[UNIT PRICE BID (Numbers)]]","v":0}]
[null,null,null,null,null,null,{"$f":"_500A[[#This Row],[Column4]]*_500A[[#This Row],[UNIT PRICE BID (Numbers)]]","v":0}]
[null,null,null,null,null,null,{"$f":"_500A[[#This Row],[Column4]]*_500A[[#This Row],[UNIT PRICE BID (Numbers)]]","v":0}]
[null,null,null,null,null,null,{"$f":"_500A[[#This Row],[Column4]]*_500A[[#This Row],[UNIT PRICE BID (Numbers)]]","v":0}]
[null,null,null,null,null,null,{"$f":"_500A[[#This Row],[Column4]]*_500A[[#This Row],[UNIT PRICE BID (Numbers)]]","v":0}]
[null,null,null,null,null,null,{"$f":"_500A[[#This Row],[Column4]]*_500A[[#This Row],[UNIT PRICE BID (Numbers)]]","v":0}]
[null,null,null,null,null,null,{"$f":"_500A[[#This Row],[Column4]]*_500A[[#This Row],[UNIT PRICE BID (Numbers)]]","v":0}]
[null,null,null,null,null,null,{"$f":"_500A[[#This Row],[Column4]]*_500A[[#This Row],[UNIT PRICE BID (Numbers)]]","v":0}]
[null,null,null,null,null,null,{"$f":"_500A[[#This Row],[Column4]]*_500A[[#This Row],[UNIT PRICE BID (Numbers)]]","v":0}]
[null,null,null,null,null,null,{"$f":"_500A[[#This Row],[Column4]]*_500A[[#This Row],[UNIT PRICE BID (Numbers)]]","v":0}]
[null,null,null,null,null,null,{"$f":"_500A[[#This Row],[Column4]]*_500A[[#This Row],[UNIT PRICE BID (Numbers)]]","v":0}]
[null,null,null,null,null,null,{"$f":"_500A[[#This Row],[Column4]]*_500A[[#This Row],[UNIT PRICE BID (Numbers)]]","v":0}]
[null,null,null,null,null,null,{"$f":"_500A[[#This Row],[Column4]]*_500A[[#This Row],[UNIT PRICE BID (Numbers)]]","v":0}]
[null,null,null,null,null,null,{"$f":"_500A[[#This Row],[Column4]]*_500A[[#This Row],[UNIT PRICE BID (Numbers)]]","v":0}]
[null,null,null,null,null,null,{"$f":"_500A[[#This Row],[Column4]]*_500A[[#This Row],[UNIT PRICE BID (Numbers)]]","v":0}]
[null,null,null,null,null,null,{"$f":"_500A[[#This Row],[Column4]]*_500A[[#This Row],[UNIT PRICE BID (Numbers)]]","v":0}]
[null,null,null,null,null,null,{"$f":"_500A[[#This Row],[Column4]]*_500A[[#This Row],[UNIT PRICE BID (Numbers)]]","v":0}]
[null,null,null,null,null,null,{"$f":"_500A[[#This Row],[Column4]]*_500A[[#This Row],[UNIT PRICE BID (Numbers)]]","v":0}]
[null,null,null,null,null,null,{"$f":"_500A[[#This Row],[Column4]]*_500A[[#This Row],[UNIT PRICE BID (Numbers)]]","v":0}]
[null,null,null,null,null,null,{"$f":"_500A[[#This Row],[Column4]]*_500A[[#This Row],[UNIT PRICE BID (Numbers)]]","v":0}]
[null,null,null,null,null,null,{"$f":"_500A[[#This Row],[Column4]]*_500A[[#This Row],[UNIT PRICE BID (Numbers)]]","v":0}]
[null,null,null,null,null,null,{"$f":"_500A[[#This Row],[Column4]]*_500A[[#This Row],[UNIT PRICE BID (Numbers)]]","v":0}]
[null,null,null,null,null,null,{"$f":"_500A[[#This Row],[Column4]]*_500A[[#This Row],[UNIT PRICE BID (Numbers)]]","v":0}]
[null,null,null,null,null,null,{"$f":"_500A[[#This Row],[Column4]]*_500A[[#This Row],[UNIT PRICE BID (Numbers)]]","v":0}]
[null,null,null,null,null,null,{"$f":"_500A[[#This Row],[Column4]]*_500A[[#This Row],[UNIT PRICE BID (Numbers)]]","v":0}]
[null,null,null,null,null,null,{"$f":"_500A[[#This Row],[Column4]]*_500A[[#This Row],[UNIT PRICE BID (Numbers)]]","v":0}]
[null,null,null,null,null,null,{"$f":"_500A[[#This Row],[Column4]]*_500A[[#This Row],[UNIT PRICE BID (Numbers)]]","v":0}]
[null,null,null,null,null,null,{"$f":"_500A[[#This Row],[Column4]]*_500A[[#This Row],[UNIT PRICE BID (Numbers)]]","v":0}]
[null,null,null,null,null,null,{"$f":"_500A[[#This Row],[Column4]]*_500A[[#This Row],[UNIT PRICE BID (Numbers)]]","v":0}]
[null,null,null,null,null,null,{"$f":"_500A[[#This Row],[Column4]]*_500A[[#This Row],[UNIT PRICE BID (Numbers)]]","v":0}]
[null,null,null,null,null,null,{"$f":"_500A[[#This Row],[Column4]]*_500A[[#This Row],[UNIT PRICE BID (Numbers)]]","v":0}]
[null,null,null,null,null,null,{"$f":"_500A[[#This Row],[Column4]]*_500A[[#This Row],[UNIT PRICE BID (Numbers)]]","v":0}]
[null,null,null,null,null,null,{"$f":"_500A[[#This Row],[Column4]]*_500A[[#This Row],[UNIT PRICE BID (Numbers)]]","v":0}]
[null,null,null,null,null,null,{"$f":"_500A[[#This Row],[Column4]]*_500A[[#This Row],[UNIT PRICE BID (Numbers)]]","v":0}]
[null,null,null,null,null,null,{"$f":"_500A[[#This Row],[Column4]]*_500A[[#This Row],[UNIT PRICE BID (Numbers)]]","v":0}]
[null,null,null,null,null,null,{"$f":"_500A[[#This Row],[Column4]]*_500A[[#This Row],[UNIT PRICE BID (Numbers)]]","v":0}]
[null,null,null,null,null,null,{"$f":"_500A[[#This Row],[Column4]]*_500A[[#This Row],[UNIT PRICE BID (Numbers)]]","v":0}]
[null,null,null,null,null,null,{"$f":"_500A[[#This Row],[Column4]]*_500A[[#This Row],[UNIT PRICE BID (Numbers)]]","v":0}]
[null,null,null,null,null,null,{"$f":"_500A[[#This Row],[Column4]]*_500A[[#This Row],[UNIT PRICE BID (Numbers)]]","v":0}]
[null,null,null,null,null,null,{"$f":"_500A[[#This Row],[Column4]]*_500A[[#This Row],[UNIT PRICE BID (Numbers)]]","v":0}]
[null,null,null,null,null,null,{"$f":"_500A[[#This Row],[Column4]]*_500A[[#This Row],[UNIT PRICE BID (Numbers)]]","v":0}]
[null,null,null,null,null,null,{"$f":"_500A[[#This Row],[Column4]]*_500A[[#This Row],[UNIT PRICE BID (Numbers)]]","v":0}]
[null,null,null,null,null,null,{"$f":"_500A[[#This Row],[Column4]]*_500A[[#This Row],[UNIT PRICE BID (Numbers)]]","v":0}]
[null,null,null,null,null,null,{"$f":"_500A[[#This Row],[Column4]]*_500A[[#This Row],[UNIT PRICE BID (Numbers)]]","v":0}]
[null,null,null,null,null,null,{"$f":"_500A[[#This Row],[Column4]]*_500A[[#This Row],[UNIT PRICE BID (Numbers)]]","v":0}]
[null,null,null,null,null,null,{"$f":"_500A[[#This Row],[Column4]]*_500A[[#This Row],[UNIT PRICE BID (Numbers)]]","v":0}]
[null,null,null,null,null,null,{"$f":"_500A[[#This Row],[Column4]]*_500A[[#This Row],[UNIT PRICE BID (Numbers)]]","v":0}]
[null,null,null,null,null,null,{"$f":"_500A[[#This Row],[Column4]]*_500A[[#This Row],[UNIT PRICE BID (Numbers)]]","v":0}]
[null,null,null,null,null,null,{"$f":"_500A[[#This Row],[Column4]]*_500A[[#This Row],[UNIT PRICE BID (Numbers)]]","v":0}]
[null,null,null,null,null,null,{"$f":"_500A[[#This Row],[Column4]]*_500A[[#This Row],[UNIT PRICE BID (Numbers)]]","v":0}]
[null,null,null,null,null,null,{"$f":"_500A[[#This Row],[Column4]]*_500A[[#This Row],[UNIT PRICE BID (Numbers)]]","v":0}]
[null,null,null,null,null,null,{"$f":"_500A[[#This Row],[Column4]]*_500A[[#This Row],[UNIT PRICE BID (Numbers)]]","v":0}]
[null,null,null,null,null,null,{"$f":"_500A[[#This Row],[Column4]]*_500A[[#This Row],[UNIT PRICE BID (Numbers)]]","v":0}]
[null,null,null,null,null,null,{"$f":"_500A[[#This Row],[Column4]]*_500A[[#This Row],[UNIT PRICE BID (Numbers)]]","v":0}]
[null,null,null,null,null,null,{"$f":"_500A[[#This Row],[Column4]]*_500A[[#This Row],[UNIT PRICE BID (Numbers)]]","v":0}]
[null,null,null,null,null,null,{"$f":"_500A[[#This Row],[Column4]]*_500A[[#This Row],[UNIT PRICE BID (Numbers)]]","v":0}]
[null,null,null,null,null,null,{"$f":"_500A[[#This Row],[Column4]]*_500A[[#This Row],[UNIT PRICE BID (Numbers)]]","v":0}]
[null,null,null,null,null,null,{"$f":"_500A[[#This Row],[Column4]]*_500A[[#This Row],[UNIT PRICE BID (Numbers)]]","v":0}]
[null,null,null,null,null,null,{"$f":"_500A[[#This Row],[Column4]]*_500A[[#This Row],[UNIT PRICE BID (Numbers)]]","v":0}]
[null,null,null,null,null,null,{"$f":"_500A[[#This Row],[Column4]]*_500A[[#This Row],[UNIT PRICE BID (Numbers)]]","v":0}]
[null,null,null,null,null,null,{"$f":"_500A[[#This Row],[Column4]]*_500A[[#This Row],[UNIT PRICE BID (Numbers)]]","v":0}]
[null,null,null,null,null,null,{"$f":"_500A[[#This Row],[Column4]]*_500A[[#This Row],[UNIT PRICE BID (Numbers)]]","v":0}]
[null,null,null,null,null,null,{"$f":"_500A[[#This Row],[Column4]]*_500A[[#This Row],[UNIT PRICE BID (Numbers)]]","v":0}]
[null,null,null,null,null,null,{"$f":"_500A[[#This Row],[Column4]]*_500A[[#This Row],[UNIT PRICE BID (Numbers)]]","v":0}]
[null,null,null,null,null,null,{"$f":"_500A[[#This Row],[Column4]]*_500A[[#This Row],[UNIT PRICE BID (Numbers)]]","v":0}]
[null,null,null,null,null,null,{"$f":"_500A[[#This Row],[Column4]]*_500A[[#This Row],[UNIT PRICE BID (Numbers)]]","v":0}]
[null,null,null,null,null,null,{"$f":"_500A[[#This Row],[Column4]]*_500A[[#This Row],[UNIT PRICE BID (Numbers)]]","v":0}]
[null,null,null,null,null,null,{"$f":"_500A[[#This Row],[Column4]]*_500A[[#This Row],[UNIT PRICE BID (Numbers)]]","v":0}]
[null,null,null,null,null,null,{"$f":"_500A[[#This Row],[Column4]]*_500A[[#This Row],[UNIT PRICE BID (Numbers)]]","v":0}]
[null,null,null,null,null,null,{"$f":"_500A[[#This Row],[Column4]]*_500A[[#This Row],[UNIT PRICE BID (Numbers)]]","v":0}]
[null,null,null,null,null,null,{"$f":"_500A[[#This Row],[Column4]]*_500A[[#This Row],[UNIT PRICE BID (Numbers)]]","v":0}]
[null,null,null,null,null,null,{"$f":"_500A[[#This Row],[Column4]]*_500A[[#This Row],[UNIT PRICE BID (Numbers)]]","v":0}]
[null,null,null,null,null,null,{"$f":"_500A[[#This Row],[Column4]]*_500A[[#This Row],[UNIT PRICE BID (Numbers)]]","v":0}]
[null,null,null,null,null,null,{"$f":"_500A[[#This Row],[Column4]]*_500A[[#This Row],[UNIT PRICE BID (Numbers)]]","v":0}]
[null,null,null,null,null,null,{"$f":"_500A[[#This Row],[Column4]]*_500A[[#This Row],[UNIT PRICE BID (Numbers)]]","v":0}]
[null,null,null,null,null,null,{"$f":"_500A[[#This Row],[Column4]]*_500A[[#This Row],[UNIT PRICE BID (Numbers)]]","v":0}]
[null,null,null,null,null,null,{"$f":"_500A[[#This Row],[Column4]]*_500A[[#This Row],[UNIT PRICE BID (Numbers)]]","v":0}]
[null,null,null,null,null,null,{"$f":"_500A[[#This Row],[Column4]]*_500A[[#This Row],[UNIT PRICE BID (Numbers)]]","v":0}]
[null,null,null,null,null,null,{"$f":"_500A[[#This Row],[Column4]]*_500A[[#This Row],[UNIT PRICE BID (Numbers)]]","v":0}]
[null,null,null,null,null,null,{"$f":"_500A[[#This Row],[Column4]]*_500A[[#This Row],[UNIT PRICE BID (Numbers)]]","v":0}]
[null,null,null,null,null,null,{"$f":"_500A[[#This Row],[Column4]]*_500A[[#This Row],[UNIT PRICE BID (Numbers)]]","v":0}]
[null,null,null,null,null,null,{"$f":"_500A[[#This Row],[Column4]]*_500A[[#This Row],[UNIT PRICE BID (Numbers)]]","v":0}]
[null,null,null,null,null,null,{"$f":"_500A[[#This Row],[Column4]]*_500A[[#This Row],[UNIT PRICE BID (Numbers)]]","v":0}]
[null,null,null,null,null,null,{"$f":"_500A[[#This Row],[Column4]]*_500A[[#This Row],[UNIT PRICE BID (Numbers)]]","v":0}]
[null,null,null,null,null,null,{"$f":"_500A[[#This Row],[Column4]]*_500A[[#This Row],[UNIT PRICE BID (Numbers)]]","v":0}]
[null,null,null,null,null,null,{"$f":"_500A[[#This Row],[Column4]]*_500A[[#This Row],[UNIT PRICE BID (Numbers)]]","v":0}]
[null,null,null,null,null,null,{"$f":"_500A[[#This Row],[Column4]]*_500A[[#This Row],[UNIT PRICE BID (Numbers)]]","v":0}]
[null,null,null,null,null,null,{"$f":"_500A[[#This Row],[Column4]]*_500A[[#This Row],[UNIT PRICE BID (Numbers)]]","v":0}]
[null,null,null,null,null,null,{"$f":"_500A[[#This Row],[Column4]]*_500A[[#This Row],[UNIT PRICE BID (Numbers)]]","v":0}]
[null,null,null,null,null,null,{"$f":"_500A[[#This Row],[Column4]]*_500A[[#This Row],[UNIT PRICE BID (Numbers)]]","v":0}]
[null,null,null,null,null,null,{"$f":"_500A[[#This Row],[Column4]]*_500A[[#This Row],[UNIT PRICE BID (Numbers)]]","v":0}]
[null,null,null,null,null,null,{"$f":"_500A[[#This Row],[Column4]]*_500A[[#This Row],[UNIT PRICE BID (Numbers)]]","v":0}]
[null,null,null,null,null,null,{"$f":"_500A[[#This Row],[Column4]]*_500A[[#This Row],[UNIT PRICE BID (Numbers)]]","v":0}]
[null,null,null,null,null,null,{"$f":"_500A[[#This Row],[Column4]]*_500A[[#This Row],[UNIT PRICE BID (Numbers)]]","v":0}]
[null,null,null,null,null,null,{"$f":"_500A[[#This Row],[Column4]]*_500A[[#This Row],[UNIT PRICE BID (Numbers)]]","v":0}]
[null,null,null,null,null,null,{"$f":"_500A[[#This Row],[Column4]]*_500A[[#This Row],[UNIT PRICE BID (Numbers)]]","v":0}]
[null,null,null,null,null,null,{"$f":"_500A[[#This Row],[Column4]]*_500A[[#This Row],[UNIT PRICE BID (Numbers)]]","v":0}]
[null,null,null,null,null,null,{"$f":"_500A[[#This Row],[Column4]]*_500A[[#This Row],[UNIT PRICE BID (Numbers)]]","v":0}]
[null,null,null,null,null,null,{"$f":"_500A[[#This Row],[Column4]]*_500A[[#This Row],[UNIT PRICE BID (Numbers)]]","v":0}]
[null,null,null,null,null,null,{"$f":"_500A[[#This Row],[Column4]]*_500A[[#This Row],[UNIT PRICE BID (Numbers)]]","v":0}]
[null,null,null,null,null,null,{"$f":"_500A[[#This Row],[Column4]]*_500A[[#This Row],[UNIT PRICE BID (Numbers)]]","v":0}]
[null,null,null,null,null,null,{"$f":"_500A[[#This Row],[Column4]]*_500A[[#This Row],[UNIT PRICE BID (Numbers)]]","v":0}]
[null,null,null,null,null,null,{"$f":"_500A[[#This Row],[Column4]]*_500A[[#This Row],[UNIT PRICE BID (Numbers)]]","v":0}]
[null,null,null,null,null,null,{"$f":"_500A[[#This Row],[Column4]]*_500A[[#This Row],[UNIT PRICE BID (Numbers)]]","v":0}]
[null,null,null,null,null,null,{"$f":"_500A[[#This Row],[Column4]]*_500A[[#This Row],[UNIT PRICE BID (Numbers)]]","v":0}]
[null,null,null,null,null,null,{"$f":"_500A[[#This Row],[Column4]]*_500A[[#This Row],[UNIT PRICE BID (Numbers)]]","v":0}]
[null,null,null,null,null,null,{"$f":"_500A[[#This Row],[Column4]]*_500A[[#This Row],[UNIT PRICE BID (Numbers)]]","v":0}]
[null,null,null,null,null,null,{"$f":"_500A[[#This Row],[Column4]]*_500A[[#This Row],[UNIT PRICE BID (Numbers)]]","v":0}]
[null,null,null,null,null,null,{"$f":"_500A[[#This Row],[Column4]]*_500A[[#This Row],[UNIT PRICE BID (Numbers)]]","v":0}]
[null,null,null,null,null,null,{"$f":"_500A[[#This Row],[Column4]]*_500A[[#This Row],[UNIT PRICE BID (Numbers)]]","v":0}]
[null,null,null,null,null,null,{"$f":"_500A[[#This Row],[Column4]]*_500A[[#This Row],[UNIT PRICE BID (Numbers)]]","v":0}]
[null,null,null,null,null,null,{"$f":"_500A[[#This Row],[Column4]]*_500A[[#This Row],[UNIT PRICE BID (Numbers)]]","v":0}]
[null,null,null,null,null,null,{"$f":"_500A[[#This Row],[Column4]]*_500A[[#This Row],[UNIT PRICE BID (Numbers)]]","v":0}]
[null,null,null,null,null,null,{"$f":"_500A[[#This Row],[Column4]]*_500A[[#This Row],[UNIT PRICE BID (Numbers)]]","v":0}]
[null,null,null,null,null,null,{"$f":"_500A[[#This Row],[Column4]]*_500A[[#This Row],[UNIT PRICE BID (Numbers)]]","v":0}]
[null,null,null,null,null,null,{"$f":"_500A[[#This Row],[Column4]]*_500A[[#This Row],[UNIT PRICE BID (Numbers)]]","v":0}]
[null,null,null,null,null,null,{"$f":"_500A[[#This Row],[Column4]]*_500A[[#This Row],[UNIT PRICE BID (Numbers)]]","v":0}]
[null,null,null,null,null,null,{"$f":"_500A[[#This Row],[Column4]]*_500A[[#This Row],[UNIT PRICE BID (Numbers)]]","v":0}]
[null,null,null,null,null,null,{"$f":"_500A[[#This Row],[Column4]]*_500A[[#This Row],[UNIT PRICE BID (Numbers)]]","v":0}]
[null,null,null,null,null,null,{"$f":"_500A[[#This Row],[Column4]]*_500A[[#This Row],[UNIT PRICE BID (Numbers)]]","v":0}]
[null,null,null,null,null,null,{"$f":"_500A[[#This Row],[Column4]]*_500A[[#This Row],[UNIT PRICE BID (Numbers)]]","v":0}]
[null,null,null,null,null,null,{"$f":"_500A[[#This Row],[Column4]]*_500A[[#This Row],[UNIT PRICE BID (Numbers)]]","v":0}]
[null,null,null,null,null,null,{"$f":"_500A[[#This Row],[Column4]]*_500A[[#This Row],[UNIT PRICE BID (Numbers)]]","v":0}]
[null,null,null,null,null,null,{"$f":"_500A[[#This Row],[Column4]]*_500A[[#This Row],[UNIT PRICE BID (Numbers)]]","v":0}]
[null,null,null,null,null,null,{"$f":"_500A[[#This Row],[Column4]]*_500A[[#This Row],[UNIT PRICE BID (Numbers)]]","v":0}]
[null,null,null,null,null,null,{"$f":"_500A[[#This Row],[Column4]]*_500A[[#This Row],[UNIT PRICE BID (Numbers)]]","v":0}]
[null,null,null,null,null,null,{"$f":"_500A[[#This Row],[Column4]]*_500A[[#This Row],[UNIT PRICE BID (Numbers)]]","v":0}]
[null,null,null,null,null,null,{"$f":"_500A[[#This Row],[Column4]]*_500A[[#This Row],[UNIT PRICE BID (Numbers)]]","v":0}]
[null,null,null,null,null,null,{"$f":"_500A[[#This Row],[Column4]]*_500A[[#This Row],[UNIT PRICE BID (Numbers)]]","v":0}]
[null,null,null,null,null,null,{"$f":"_500A[[#This Row],[Column4]]*_500A[[#This Row],[UNIT PRICE BID (Numbers)]]","v":0}]
[null,null,null,null,null,null,{"$f":"_500A[[#This Row],[Column4]]*_500A[[#This Row],[UNIT PRICE BID (Numbers)]]","v":0}]
[null,null,null,null,null,null,{"$f":"_500A[[#This Row],[Column4]]*_500A[[#This Row],[UNIT PRICE BID (Numbers)]]","v":0}]
[null,null,null,null,null,null,{"$f":"_500A[[#This Row],[Column4]]*_500A[[#This Row],[UNIT PRICE BID (Numbers)]]","v":0}]
[null,null,null,null,null,null,{"$f":"_500A[[#This Row],[Column4]]*_500A[[#This Row],[UNIT PRICE BID (Numbers)]]","v":0}]
[null,null,null,null,null,null,{"$f":"_500A[[#This Row],[Column4]]*_500A[[#This Row],[UNIT PRICE BID (Numbers)]]","v":0}]
[null,null,null,null,null,null,{"$f":"_500A[[#This Row],[Column4]]*_500A[[#This Row],[UNIT PRICE BID (Numbers)]]","v":0}]
[null,null,null,null,null,null,{"$f":"_500A[[#This Row],[Column4]]*_500A[[#This Row],[UNIT PRICE BID (Numbers)]]","v":0}]
[null,null,null,null,null,null,{"$f":"_500A[[#This Row],[Column4]]*_500A[[#This Row],[UNIT PRICE BID (Numbers)]]","v":0}]
[null,null,null,null,null,null,{"$f":"_500A[[#This Row],[Column4]]*_500A[[#This Row],[UNIT PRICE BID (Numbers)]]","v":0}]
[null,null,null,null,null,null,{"$f":"_500A[[#This Row],[Column4]]*_500A[[#This Row],[UNIT PRICE BID (Numbers)]]","v":0}]
[null,null,null,null,null,null,{"$f":"_500A[[#This Row],[Column4]]*_500A[[#This Row],[UNIT PRICE BID (Numbers)]]","v":0}]
[null,null,null,null,null,null,{"$f":"_500A[[#This Row],[Column4]]*_500A[[#This Row],[UNIT PRICE BID (Numbers)]]","v":0}]
[null,null,null,null,null,null,{"$f":"_500A[[#This Row],[Column4]]*_500A[[#This Row],[UNIT PRICE BID (Numbers)]]","v":0}]
[null,null,null,null,null,null,{"$f":"_500A[[#This Row],[Column4]]*_500A[[#This Row],[UNIT PRICE BID (Numbers)]]","v":0}]
[null,null,null,null,null,null,{"$f":"_500A[[#This Row],[Column4]]*_500A[[#This Row],[UNIT PRICE BID (Numbers)]]","v":0}]
[null,null,null,null,null,null,{"$f":"_500A[[#This Row],[Column4]]*_500A[[#This Row],[UNIT PRICE BID (Numbers)]]","v":0}]
[null,null,null,null,null,null,{"$f":"_500A[[#This Row],[Column4]]*_500A[[#This Row],[UNIT PRICE BID (Numbers)]]","v":0}]
[]
[]
["TOTAL BID "]
[{"$f":"\"COMPUTED TOTAL BID CONTRACT NO. \"&'Project Manual Form'!E6","v":"COMPUTED TOTAL BID CONTRACT NO. "},null,null,null,null,{"$f":"\"(ITEMS 1 THROUGH \"&ROWS(_500A[])&\")\"","v":"(ITEMS 1 THROUGH 300)"}]
[null,null,null,null,null,null,{"$f":"SUM(D311*F311)","v":0}]
["(Words)",null,null,null,null,null,"(Numbers)"]
[]
["Estimated quantities are not guaranteed, and determinations of actual quantities and classifications are to be made by ENGINEER."]
[]
[]
["ALTERNATE BID",null,null,null,null,null,null,null,"< Delete if 300-B wasn't used"]
[{"$f":"UPPER('Project Manual Form'!E7)","v":"0"}]
[{"$f":"\"CONTRACT NO. \"&'Project Manual Form'!E6","v":"CONTRACT NO. "}]
["CITY OF CEDAR RAPIDS, IOWA"]
[]
["[     ]",null,null,null,null,null,{"$f":"$F322*D322","v":0}]
["[     ]",null,null,null,null,null,0]
["[     ]",null,null,null,null,null,0]
["[     ]",null,null,null,null,null,0]
["[     ]",null,null,null,null,null,0]
["[     ]",null,null,null,null,null,0]
["[     ]",null,null,null,null,null,0]
["[     ]",null,null,null,null,null,0]
["[     ]",null,null,null,null,null,0]
["[     ]",null,null,null,null,null,0]
[]
[]
["TOTAL OF ALL UNIT PRICES:"]
[]
[null,null,null,null,"Dollars",null,{"$f":"$F336*D336","v":0}]
["(Words)",null,null,null,null,null,"(Numbers)"]
[]
[]
[]
[]
[]
[]
[]
[]
[]
[]
[]
[]
[]
[]
[]
[]
[]
[]
[]
[]
[]
[]
[]
[]
[]
[]
[]
[]
[]
[]
[]
[]
[]
[]
[]
[]
[]
[]
[]
[]
[]
[]
[]
["TOTAL BID "]
[{"$f":"\"COMPUTED TOTAL BID CONTRACT NO. \"&'Project Manual Form'!E6","v":"COMPUTED TOTAL BID CONTRACT NO. "}]
[]
["(Words)"]
[]
[]
["ALTERNATE BID"]
[{"$f":"UPPER('Project Manual Form'!E7)","v":"0"}]
[{"$f":"\"CONTRACT NO. \"&'Project Manual Form'!E6","v":"CONTRACT NO. "}]
["CITY OF CEDAR RAPIDS, IOWA"]
[]
["[     ]"]
["[     ]"]
["[     ]"]
["[     ]"]
["[     ]"]
["[     ]"]
["[     ]"]
["[     ]"]
["[     ]"]
["[     ]"]
[]
[]
["TOTAL OF ALL UNIT PRICES:"]
[]
[null,null,null,null,"Dollars"]
["(Words)"]
[]
["Estimated quantities are not guaranteed, and determinations of actual quantities and classifications are to be made by ENGINEER."]

{"sheet":"500-B","index":23,"n_rows":37,"n_cols":12,"rows_kept":37,"cut":false,"hidden":false,"merged":[[5,5,5,6],[35,0,35,9],[1,0,1,9],[2,0,2,9]]}
["ACCEPTED SUPPLEMENTAL UNIT PRICE WORK ITEMS"]
[{"$f":"UPPER('Project Manual Form'!E7)","v":"0"}]
[{"$f":"CONCATENATE(\"CONTRACT NO. \",'Project Manual Form'!E6)","v":"CONTRACT NO. "},null,null,null,null,null,null,null,null,null,null,"Preparer: 500-B is only necessary if 300-C is used."]
["CITY OF CEDAR RAPIDS, IOWA"]
[]
["ITEM "]
["NO.","DESCRIPTION",null,"UNIT"]
[]
["1.",null,null,null,null,null,null,"Dollars","$"]
[null,null,null,null,null,"(Words)",null,null,null,"(Numbers)"]
[]
["2.",null,null,null,null,null,null,"Dollars","$"]
[null,null,null,null,null,"(Words)",null,null,null,"(Numbers)"]
[]
["3.",null,null,null,null,null,null,"Dollars","$"]
[null,null,null,null,null,"(Words)",null,null,null,"(Numbers)"]
[]
["4.",null,null,null,null,null,null,"Dollars","$"]
[null,null,null,null,null,"(Words)",null,null,null,"(Numbers)"]
[]
["5.",null,null,null,null,null,null,"Dollars","$"]
[null,null,null,null,null,"(Words)",null,null,null,"(Numbers)"]
[]
["6.",null,null,null,null,null,null,"Dollars","$"]
[null,null,null,null,null,"(Words)",null,null,null,"(Numbers)"]
[]
["7.",null,null,null,null,null,null,"Dollars","$"]
[null,null,null,null,null,"(Words)",null,null,null,"(Numbers)"]
[]
["8.",null,null,null,null,null,null,"Dollars","$"]
[null,null,null,null,null,"(Words)",null,null,null,"(Numbers)"]
[]
["9.",null,null,null,null,null,null,"Dollars","$"]
[null,null,null,null,null,"(Words)",null,null,null,"(Numbers)"]
[]
["NOTE:  THE ENTIRE DOCUMENT MUST BE SUBMITTED AS THE BID.  DO NOT SEPARATE BID PAGES FROM THE "]
["PAGES FROM THE BOUND DOCUMENT."]

{"sheet":"Handover Report","index":24,"n_rows":164,"n_cols":9,"rows_kept":164,"cut":false,"hidden":false,"merged":[[8,0,8,6],[9,0,9,6],[13,0,13,6],[14,0,14,6],[18,0,18,6],[19,0,19,6],[0,0,0,6],[1,0,1,6],[3,2,3,6],[4,2,4,6],[6,0,6,6],[7,0,7,6],[38,0,38,6],[39,0,39,6],[40,0,40,6],[43,0,43,6],[45,3,45,6],[48,3,48,6],[23,0,23,6],[24,0,24,6],[28,0,28,6],[29,0,29,6],[33,0,33,6],[34,0,34,6],[62,0,62,6],[65,0,65,6],[68,0,68,6],[70,0,70,6],[74,0,74,6],[75,0,75,6],[49,3,49,6],[50,3,50,6],[51,3,51,6],[53,3,53,6],[56,0,56,6],[59,0,59,6],[76,0,76,6],[76,8,76,15],[79,0,79,6],[82,3,82,4],[82,5,82,6],[83,3,83,4],[83,5,83,6],[83,8,87,15],[84,3,84,4],[84,5,84,6],[91,3,91,4],[91,5,91,6],[91,8,93,15],[92,3,92,4],[92,5,92,6],[93,2,93,6],[85,3,85,4],[85,5,85,6],[86,3,86,4],[86,5,86,6],[87,3,87,4],[87,5,87,6],[101,3,101,4],[101,5,101,6],[101,8,102,15],[102,3,102,4],[102,5,102,6],[103,2,103,6],[96,3,96,4],[96,5,96,6],[96,8,98,15],[97,3,97,4],[97,5,97,6],[98,2,98,6],[111,3,111,4],[111,5,111,6],[111,8,113,15],[112,3,112,4],[112,5,112,6],[113,2,113,6],[106,3,106,4],[106,5,106,6],[106,8,108,15],[107,3,107,4],[107,5,107,6],[108,2,108,6],[121,3,121,4],[121,5,121,6],[122,3,122,4],[122,5,122,6],[123,2,123,6],[124,2,124,6],[116,3,116,4],[116,5,116,6],[116,8,118,15],[117,3,117,4],[117,5,117,6],[118,2,118,6],[130,1,130,2],[130,3,130,4],[130,5,130,6],[131,1,131,2],[131,3,131,4],[131,5,131,6],[128,1,128,2],[128,3,128,4],[128,5,128,6],[129,1,129,2],[129,3,129,4],[129,5,129,6],[137,0,137,6],[138,0,138,6],[143,1,143,6],[145,3,145,6],[150,8,150,15],[155,1,155,6],[132,1,132,2],[132,3,132,4],[132,5,132,6],[133,1,133,2],[133,3,133,4],[133,5,133,6],[162,1,162,2],[162,3,162,6],[163,1,163,2],[163,3,163,6],[164,1,164,2],[164,3,164,6],[158,8,161,15],[159,1,159,2],[159,3,159,6],[160,1,160,2],[160,3,160,6],[161,1,161,2],[161,3,161,6]]}
["MAINTENANCE HANDOVER REPORT"]
["Complete After Contractor Punchlist is Finished"]
[]
["PROJECT NAME",null,{"$f":"'CIP Statement Form'!E11","v":0}]
["CONTRACT NO.",null,{"$f":"'Project Manual Form'!E6","v":0}]
[]
["SIGN-OFFS"]
["Construction Project Manager",null,null,null,null,null,null,null,"Instructions for digitally signing"]
["The project is substantially complete. The contractor's punchlist items have been addressed. The",null,null,null,null,null,null,null," - Type your name into the appropriate field"]
["public improvements are ready to be taken over by Public Works Maintenance.",null,null,null,null,null,null,null," - Use the mouse to select the cell you typed your name into"]
[null,"Signed By",null,"Date",null,null,null,null," - In the ribbon up top, click on \"Review\" and choose \"New Comment\""]
[null,null,null,null,null,null,null,null," - Type \"verified\" into the comment. Comments carry your name as a tag, which is not easy to falsify."]
["Design Project Manager"]
["I have conducted a post-construction review with the Construction PM, identifed the maintenance"]
["requirements for these improvements, and drawn attention to remaining concerns in this report."]
[null,"Signed By",null,"Date"]
[]
["GIS Specialist"]
["I have received this report, and a copy of the As-Builts from the Construction PM. I have updated"]
["the appropriate infrastructure and maintenance responsibility layers in GIS."]
[null,"Signed By",null,"Date"]
[]
["Public Works Quadrant Supervisor / Designee"]
["I have met with the Design PM, and am in receipt of the Handover Report. Streets Maintenance"]
["has assumed responsibility for surface improvements, except where noted below."]
[null,"Signed By",null,"Date"]
[]
["Sewer Operations Supervisor / Designee"]
["I have met with the Design PM, reviewed the scope of work performed with the"]
["project, and identified maintenance needs for this area moving forward."]
[null,"Signed By",null,"Date"]
[]
["City Arborist / Designee"]
["I have met with the Design PM, reviewed the list of trees planted with the project, and identified"]
["areas where additional trees should be planted through an annual planting contract."]
[null,"Signed By",null,"Date"]
[]
[]
["PROJECT INFORMATION"]
["Project Description"]
[{"$f":"'Project Manual Form'!E10","v":0}]
[]
["Project Limits"]
[{"$f":"'Project Manual Form'!E9","v":0}]
[]
["Substantial Completion Date"]
[]
["Project Staff"]
[null,"Design Project Manager"]
[null,"Construction Project Manager"]
[null,"Construction Inspector"]
[null,"Prime Contractor"]
[]
["Maintenance Bond Expiration Date:"]
[]
["Remaining Construction Issues (Describe)"]
[]
[]
["Remaining Property Owner Issues (Describe)"]
[]
[]
["Experimental / Unusual Products or Techniques Used in Project (Describe)"]
[]
[]
["Structures Abandoned in Place by Project (Describe)"]
[]
[]
["Location of Construction Plans, Addenda and Post-Bid Design Changes (Network Folder)"]
[]
["Location of As-Builts (Direct Link to PDF)"]
[]
[]
[]
[]
["MAINTENANCE REQUIREMENTS AND ASSIGNMENTS"]
["Specialized Maintenance Requirements"]
[null,null,null,null,null,null,null,null,"E.g. permeable pavement vacuuming, parking meter pucks, removable speed bumps, and other improvements which are location-specific, unusual, or infrequently maintained.\n\nDo not list routine requirements such as crack sealing or line painting."]
[]
["Location of Shop Drawings (Network Link)"]
[]
[]
["Products and Materials Which May Need to be Matched in the Future"]
[null,"Item","Product Name and Vendor","Color",null,"Other Info"]
[null,null,null,null,null,null,null,null,"E.g. paver bricks, bicycle racks, planters, durable traffic markings, tree grates, etc"]
[]
[]
[]
[]
[]
["Responsibility Assignments"]
["Mowing",null,"N/A"]
[null,"Change:","Add","Remove",null,"Modify",null,null,"Private property owners are assumed to be responsible for lawn mowing in the ROW adjacent to their property unless otherwise noted. Medians with grass should ideally be assigned to a neighborhood or business association."]
[null,"Responsibility:","City","County",null,"Private"]
[null,"Describe:"]
[]
["Snow Removal",null,"N/A"]
[null,"Change:","Add","Remove",null,"Modify",null,null,"Private property owners are responsible for clearing a 4 foot width of sidewalk and trail adjacent to their property. Parks is responsible for clearing recreational trails. Recreational trail adjacent to private property should be marked as a Parks responsibility in GIS (they will eventually come through with Bombers). There are a small number of locations where the City clears sidewalk which was forced to be built against the back of curb due to limited ROW space."]
[null,"Responsibility:","City","County",null,"Private"]
[null,"Describe:"]
[]
["Flood Control",null,"N/A"]
[null,"Change:","Add","Remove",null,"Modify",null,null,"All changes should be included as updates to the Flood Control Response Manual."]
[null,"Responsibility:","City",null,null,"Private"]
[null,"Describe:"]
[]
["ROW Landscaping",null,"N/A"]
[null,"Change:","Add","Remove",null,"Modify",null,null,"The City does not have many resources available for maintaining landscaping in medians, center islands, planters or the ROW. Wherever possible, responsibility for this type of maintenance should be assigned to the adjacent property owners, a business association or community group."]
[null,"Responsibility:","City","County",null,"Private"]
[null,"Describe:"]
[]
["Retaining Walls",null,"N/A"]
[null,"Change:","Add","Remove",null,"Modify",null,null,"Retaining walls up to four feet tall in height, whether they are placed on private land or in the ROW, are the responsibility of the adjacent property owner. The City will accept responsibility for retaining walls greater than four feet of height placed in the ROW if it was installed with a public improvements project. Privately built retaining walls of any height are the property owner's responsibility. If there is a retaining wall of considerable size which one day may become a liability to the public, attempt to obtain a maintenance agreement with the adjacent property owner if this was not done during design."]
[null,"Responsibility:","City","County",null,"Private"]
[null,"Describe:"]
[]
["Stormwater BMPs",null,"N/A"]
[null,"Change:","Add","Remove",null,"Modify",null,null,"Wherever possible, upkeep should be assigned to the adjacent property owner, or to a business/neighborhood organization. If this is not possible, alert Sewer Maintenance to the added facility, and its maintenance needs."]
[null,"Responsibility:","Parks                     Sewer Ops","County",null,"Private"]
[null,"Describe:"]
[]
["28E Agreements",null,"N/A"]
[null,"Change:","Add","Remove",null,"Modify"]
[null,"Responsibility:","Municipality","County",null,"School"]
[null,"Council Reso #:"]
[null,"Describe:"]
[]
["Maintenance Agreements"]
[null,"Agreements, if any, have been executed, Recorded, and put through Council"]
[null,"Location",null,"Maintenance Type",null,"Reso #"]
[]
[]
[]
[]
[]
[]
[]
[]
["FORESTRY REQUIREMENTS"]
["Trees Planted with Project"]
[]
[null,"          Check here if no trees were planted with the project"]
[]
[null,"Location(s) of Trees Planted by Contractor (Describe Briefly)"]
[]
[]
[null,"Contractor Responsibility for Watering Ends On:"]
[null,"Warranty Coverage Ends On:"]
[]
["Annual Tree Planting Contract Needs"]
[]
[null,"          Check here if tree planting has already occurred",null,null,null,null,null,null,"Forestry may add trees at its discretion at a later time"]
[null,"          The location of underground/overhead utilities has been disclosed to Forestry for the"]
[null,null,"purposes of tree selection and placement."]
[]
["Additional Tree Plantings Requested by Designer (Describe)"]
[]
[]
["Property Owner Requests"]
[null,"During the development of the project, property owners made the following requests:",null,null,null,null,null,null,"Forestry is open to receiving requests, but is not beholden to them. Property owners may exercise more control over the type of tree and placement by purchasing and planting trees at their own cost. Approval for doing so is subject to the list of allowable tree species and location requirements. See link below."]
[null,"Location",null,"Tree Variety / Placement Request"]
[]
[]
[]
[null,null,null,null,null,null,null,null,"https://www.cedar-rapids.org/residents/parks_and_recreation/tree_planting.php"]

{"sheet":"Mail Merge This Tab","index":25,"n_rows":2,"n_cols":178,"rows_kept":2,"cut":false,"hidden":false,"merged":[]}
["1_Year","1_ProjName","1_ProjNum","1_FirmName","1_FirmMailLine1","1_FirmMailLine2","1_FileDate","1_ExtraSigLin","TOC_BidForms","TOC_110DelPrompt","TOC_430DelPrompt","TOC_610DelPrompt","TOC_620DelPrompt","TOC_630DelPrompt","TOC_1000DelPrompt","5_ProjName","5_ProjNum","5_ProfType","5_ProfName","5_ProfLic","5_ProfRenDate","100_Title","100_ProjName","100_ProjNum","100_WorkDesLoc","100_EOPC","100_BidType","100_EarlyStart","100_LateStart","100_Milestones","100_FinCompl","100_BidOpenInfo","100_PreBidHead","100_PreBidBody","100_FirmName","100_FirmMailLine1","100_FirmMailLine2","100_FirmPhone","100_BondsHead","100_BondsBody","100_FedAffirmAct","100_FedWageReq","100_AssessHead","100_AssessBody1","100_AssessBody2","100_CouncilOrder1","100_CouncilOrder2","100_CouncilOrder3","100_CouncilOrder4","100_CouncilOrder5","110_ProjName","110_ProjDesc","110_ProjLoc","110_ProjNum","110_CouncilTime","110_PublicHearing","110_ProjNameNoCaps","110_EOPC","110_FileDate","110_PublicationDate","110_DeletionPrompt","200_ContactName","200_ContactOrg","200_ContactMailLine","200_ContactCityStZIP","200_ContactEmail","200_BidSecDelPrompt","200_AttachList","300_ProjName","300_ProjNum","410_AttachDeletePrompt","410_AddAttachList","430_BidBondDelete?","500_ProjNameCaps","500_ProjNum","500_ProjName","500_ProjDesc","500_ProjLoc","500_ProjAdmin","500_OverallEarlyStart","500_OverallLateStart","500_OverallDays","500_OverallMotive","500_OverallClosures","500_Ph1Name","500_Ph1Desc","500_Ph1EarlyStart","500_Ph1LateStart","500_Ph1Days","500_Ph1Motive","500_Ph1Closures","500_Ph2Name","500_Ph2Desc","500_Ph2EarlyStart","500_Ph2LateStart","500_Ph2Days","500_Ph2Motive","500_Ph2Closures","500_Ph3Name","500_Ph3Desc","500_Ph3EarlyStart","500_Ph3LateStart","500_Ph3Days","500_Ph3Motive","500_Ph3Closures","500_Ph4Name","500_Ph4Desc","500_Ph4EarlyStart","500_Ph4LateStart","500_Ph4Days","500_Ph4Motive","500_Ph4Closures","500_Ph5Name","500_Ph5Desc","500_Ph5EarlyStart","500_Ph5LateStart","500_Ph5Days","500_Ph5Motive","500_Ph5Closures","500_Ph6Name","500_Ph6Desc","500_Ph6EarlyStart","500_Ph6LateStart","500_Ph6Days","500_Ph6Motive","500_Ph6Closures","500_Ph7Name","500_Ph7Desc","500_Ph7EarlyStart","500_Ph7LateStart","500_Ph7Days","500_Ph7Motive","500_Ph7Closures","500_Ph8Name","500_Ph8Desc","500_Ph8EarlyStart","500_Ph8LateStart","500_Ph8Days","500_Ph8Motive","500_Ph8Closures","500_Ph9Name","500_Ph9Desc","500_Ph9EarlyStart","500_Ph9LateStart","500_Ph9Days","500_Ph9Motive","500_Ph9Closures","500_Ph10Name","500_Ph10Desc","500_Ph10EarlyStart","500_Ph10LateStart","500_Ph10Days","500_Ph10Motive","500_Ph10Closures","500_Milestone1DateDesc","500_Milestone1Motiv","500_Milestone2DateDesc","500_Milestone2Motiv","500_Milestone3DateDesc","500_Milestone3Motiv","500_LDDelete","500_IDDelete","500_Art6-BidProj","500_Art6-RFQ","500_CD3","500_CD4","500_CD5","500_CD6","500_CD7","500_BidExhibit","500_AttachList","610_DeletePrompt","620_DeletePrompt","630_DeletePrompt","630_BondLength","800_BondLength","800_AddInsur","1000_DelPrompt"]
[{"$f":"'Project Manual Form'!E35","v":0},{"$f":"UPPER('Project Manual Form'!E7)","v":"0"},{"$f":"'Project Manual Form'!E6","v":0},{"$f":"UPPER('Project Manual Form'!E37)","v":""},{"$f":"UPPER('Project Manual Form'!E38)","v":""},{"$f":"UPPER('Project Manual Form'!E39)","v":""},{"$f":"UPPER('Project Manual Form'!E85)","v":""},{"$f":"'Project Manual Form'!E519","v":"NOT USED - REMOVE EXTRA SIGNATURE LINE"},{"$f":"'Project Manual Form'!E488","v":"00300-A"},{"$f":"'Project Manual Form'!E66","v":""},{"$f":"'Project Manual Form'!E67","v":""},{"$f":"'Project Manual Form'!E74","v":""},{"$f":"'Project Manual Form'!E75","v":""},{"$f":"'Project Manual Form'!E76","v":""},{"$f":"'Project Manual Form'!E483","v":""},{"$f":"UPPER('Project Manual Form'!E7)","v":"0"},{"$f":"'Project Manual Form'!E6","v":0},{"$f":"'Project Manual Form'!E43","v":"Choose One"},{"$f":"'Project Manual Form'!E44","v":0},{"$f":"'Project Manual Form'!E45","v":0},{"$f":"'Project Manual Form'!E46","v":0},{"$f":"'Project Manual Form'!E61","v":""},{"$f":"UPPER('Project Manual Form'!E7)","v":"0"},{"$f":"'Project Manual Form'!E6","v":0},{"$f":"'Project Manual Form'!H8","v":"Enter values for EOPC, Project Locations and Scope of Work to generate a description"},{"$f":"'Project Manual Form'!E60","v":"0"},{"$f":"'Project Manual Form'!E486","v":"Choose One"},{"$f":"'Project Manual Form'!E435","v":"Upon Receipt of Notice to Proceed"},{"$f":"'Project Manual Form'!E436","v":"N/A"},{"$f":"'Project Manual Form'!E470","v":"None"},{"$f":"'Project Manual Form'!E437","v":"Choose One - "},{"$f":"'Project Manual Form'!E117","v":"Bids shall be submitted to the City's IonWave website (http://citycrbids.ionwave.net) before  on January 0, 1900. Bids must be completed and submitted by this time, or the website will not accept your submission. The bids will be accessed online, opened and read aloud at  on January 0, 1900 remotely via teleconference. To listen, dial 319-286-5098 and enter the participant number 695-1742. The teleconference will become available approximately 10 minutes prior to the submission deadline."},{"$f":"'Project Manual Form'!E480","v":"Pre-Bid Conference"},{"$f":"'Project Manual Form'!E481","v":""},{"$f":"'Project Manual Form'!E37","v":0},{"$f":"'Project Manual Form'!E38","v":0},{"$f":"'Project Manual Form'!E39","v":0},{"$f":"'Project Manual Form'!E40","v":0},{"$f":"'Project Manual Form'!E63","v":""},{"$f":"'Project Manual Form'!E64","v":""},{"$f":"'Project Manual Form'!E491","v":""},{"$f":"'Project Manual Form'!E508","v":""},{"$f":"'Project Manual Form'!E511","v":""},{"$f":"'Project Manual Form'!E512","v":""},{"$f":"'Project Manual Form'!E513","v":""},{"$f":"'Project Manual Form'!E93","v":""},{"$f":"'Project Manual Form'!E94","v":""},{"$f":"'Project Manual Form'!E95","v":""},{"$f":"'Project Manual Form'!E96","v":""},{"$f":"'Project Manual Form'!E97","v":""},{"$f":"UPPER('Project Manual Form'!E7)","v":"0"},{"$f":"UPPER('Project Manual Form'!E56)","v":"0"},{"$f":"UPPER('Project Manual Form'!E54)","v":"0"},{"$f":"'Project Manual Form'!E6","v":0},{"$f":"'Project Manual Form'!E111","v":"Choose One"},{"$f":"'Project Manual Form'!E112","v":"0th day of January, 1900"},{"$f":"'Project Manual Form'!E7","v":0},{"$f":"'Project Manual Form'!E60","v":"0"},{"$f":"'Project Manual Form'!E85","v":""},{"$f":"'Project Manual Form'!E104","v":"0th day of January, 1900"},{"$f":"'Project Manual Form'!E66","v":""},{"$f":"'Project Manual Form'!E48","v":0},{"$f":"'Project Manual Form'!E49","v":0},{"$f":"'Project Manual Form'!E50","v":0},{"$f":"'Project Manual Form'!E51","v":0},{"$f":"'Project Manual Form'!E52","v":0},{"$f":"'Project Manual Form'!E65","v":"Bid Security not required. Replace 4.01 with 'Not Used'"},{"$f":"'Project Manual Form'!E506","v":"Bidder Status Form"},{"$f":"UPPER('Project Manual Form'!E7)","v":"0"},{"$f":"'Project Manual Form'!E6","v":0},{"$f":"'Project Manual Form'!E502","v":"No Additional Attachments - Delete This Page"},{"$f":"'Project Manual Form'!E504","v":""},{"$f":"'Project Manual Form'!E67","v":""},{"$f":"UPPER('Project Manual Form'!E7)","v":"0"},{"$f":"'Project Manual Form'!E6","v":0},{"$f":"'Project Manual Form'!E7","v":0},{"$f":"'Project Manual Form'!E56","v":0},{"$f":"'Project Manual Form'!E54","v":0},{"$f":"'Project Manual Form'!E53","v":"City of Cedar Rapids Public Works Department"},{"$f":"'Project Manual Form'!E123","v":"Upon Receipt of Notice to Proceed"},{"$f":"'Project Manual Form'!E124","v":"N/A"},{"$f":"'Project Manual Form'!H125","v":""},{"$f":"'Project Manual Form'!H135","v":""},{"$f":"'Project Manual Form'!H130","v":""},{"$f":"'Project Manual Form'!E152","v":"Not Used, Delete This Phase"},{"$f":"'Project Manual Form'!E153","v":0},{"$f":"'Project Manual Form'!E154","v":0},{"$f":"'Project Manual Form'!E155","v":0},{"$f":"'Project Manual Form'!H153","v":""},{"$f":"'Project Manual Form'!H157","v":""},{"$f":"'Project Manual Form'!H161","v":""},{"$f":"'Project Manual Form'!E180","v":"Not Used - Delete This Phase"},{"$f":"'Project Manual Form'!E181","v":0},{"$f":"'Project Manual Form'!E182","v":0},{"$f":"'Project Manual Form'!E183","v":0},{"$f":"'Project Manual Form'!H181","v":""},{"$f":"'Project Manual Form'!H185","v":""},{"$f":"'Project Manual Form'!H189","v":""},{"$f":"'Project Manual Form'!E208","v":"Not Used - Delete This Phase"},{"$f":"'Project Manual Form'!E209","v":0},{"$f":"'Project Manual Form'!E210","v":0},{"$f":"'Project Manual Form'!E211","v":0},{"$f":"'Project Manual Form'!H208","v":""},{"$f":"'Project Manual Form'!H212","v":""},{"$f":"'Project Manual Form'!H216","v":""},{"$f":"'Project Manual Form'!E236","v":"Not Used - Delete This Phase"},{"$f":"'Project Manual Form'!E237","v":0},{"$f":"'Project Manual Form'!E238","v":0},{"$f":"'Project Manual Form'!E239","v":0},{"$f":"'Project Manual Form'!H236","v":""},{"$f":"'Project Manual Form'!H240","v":""},{"$f":"'Project Manual Form'!H244","v":""},{"$f":"'Project Manual Form'!E264","v":"Not Used - Delete This Phase"},{"$f":"'Project Manual Form'!E265","v":0},{"$f":"'Project Manual Form'!E266","v":0},{"$f":"'Project Manual Form'!E267","v":0},{"$f":"'Project Manual Form'!H264","v":""},{"$f":"'Project Manual Form'!H268","v":""},{"$f":"'Project Manual Form'!H272","v":""},{"$f":"'Project Manual Form'!E292","v":"Not Used - Delete This Phase"},{"$f":"'Project Manual Form'!E293","v":0},{"$f":"'Project Manual Form'!E294","v":0},{"$f":"'Project Manual Form'!E295","v":0},{"$f":"'Project Manual Form'!H292","v":""},{"$f":"'Project Manual Form'!H296","v":""},{"$f":"'Project Manual Form'!H300","v":""},{"$f":"'Project Manual Form'!E320","v":"Not Used - Delete This Phase"},{"$f":"'Project Manual Form'!E321","v":0},{"$f":"'Project Manual Form'!E322","v":0},{"$f":"'Project Manual Form'!E323","v":0},{"$f":"'Project Manual Form'!H320","v":""},{"$f":"'Project Manual Form'!H324","v":""},{"$f":"'Project Manual Form'!H328","v":""},{"$f":"'Project Manual Form'!E348","v":"Not Used - Delete This Phase"},{"$f":"'Project Manual Form'!E349","v":0},{"$f":"'Project Manual Form'!E350","v":0},{"$f":"'Project Manual Form'!E351","v":0},{"$f":"'Project Manual Form'!H348","v":""},{"$f":"'Project Manual Form'!H352","v":""},{"$f":"'Project Manual Form'!H356","v":""},{"$f":"'Project Manual Form'!E376","v":"Not Used - Delete This Phase"},{"$f":"'Project Manual Form'!E377","v":0},{"$f":"'Project Manual Form'!E378","v":0},{"$f":"'Project Manual Form'!E379","v":0},{"$f":"'Project Manual Form'!H376","v":""},{"$f":"'Project Manual Form'!H380","v":""},{"$f":"'Project Manual Form'!H384","v":""},{"$f":"'Project Manual Form'!E404","v":"Not Used - Delete This Phase"},{"$f":"'Project Manual Form'!E405","v":0},{"$f":"'Project Manual Form'!E406","v":0},{"$f":"'Project Manual Form'!E407","v":0},{"$f":"'Project Manual Form'!H404","v":""},{"$f":"'Project Manual Form'!H408","v":""},{"$f":"'Project Manual Form'!H412","v":""},{"$f":"CONCATENATE(\"(\",'Project Manual Form'!E445,\") - \",'Project Manual Form'!E446)","v":"() - "},{"$f":"'Project Manual Form'!H445","v":""},{"$f":"CONCATENATE(\"(\",'Project Manual Form'!E454,\") - \",'Project Manual Form'!E455)","v":"() - "},{"$f":"'Project Manual Form'!H453","v":""},{"$f":"CONCATENATE(\"(\",'Project Manual Form'!E463,\") - \",'Project Manual Form'!E464)","v":"() - "},{"$f":"'Project Manual Form'!H462","v":""},{"$f":"'Project Manual Form'!E432","v":"Not Used - Delete Liquidated Damages Section"},{"$f":"'Project Manual Form'!E434","v":"Not Used - Delete Incentives/Disincentives Section"},{"$f":"'Project Manual Form'!E68","v":""},{"$f":"'Project Manual Form'!E69","v":""},{"$f":"'Project Manual Form'!E70","v":""},{"$f":"'Project Manual Form'!E71","v":""},{"$f":"'Project Manual Form'!E72","v":""},{"$f":"'Project Manual Form'!E73","v":""},{"$f":"'Project Manual Form'!E484","v":""},{"$f":"'Project Manual Form'!E489","v":"00300-A"},{"$f":"'Project Manual Form'!E506","v":"Bidder Status Form"},{"$f":"'Project Manual Form'!E74","v":""},{"$f":"'Project Manual Form'!E75","v":""},{"$f":"'Project Manual Form'!E76","v":""},{"$f":"'Project Manual Form'!E520","v":"Choose One"},{"$f":"'Project Manual Form'!E520","v":"Choose One"},{"$f":"'Project Manual Form'!E531","v":""},{"$f":"'Project Manual Form'!E483","v":""}]

{"sheet":"Validation Fields","index":26,"n_rows":200,"n_cols":35,"rows_kept":200,"cut":false,"hidden":false,"merged":[]}
["Choose One","Choose One","Choose One","Choose One","Choose One","Choose One","Choose One","Choose One","Choose One","Choose One","Choose One","Choose One","Choose One","Choose One","Choose One","Choose One","00100 Bond Paragraph","00100 Bid Opening Info","00100 Pre-Bid Conference","00100 Bid Doc Locations","00100 Fed Affirmative Action","00100 Special Assessments","00200 15.01 Affirmative Action","00300 Bid Submission Location","Choose One","00800 Incentive/Disincentive","00800 No Excuse Incentive","Unit Price","Unit Price / 0.01","Integer Test","Choose one:","Choose one:",null,"Choose One:","Choose One:"]
["Yes","Completion Date","No","Not Applicable","Unit Price","one","Not Applicable","$1,000,000 (Minor Projects)","Not Applicable","I have reviewed the completed Project Manual for input and formatting errors, corrected what I was able to fix, and made City staff aware of what I was unable to address.",2016,"1st","January","11:00 a.m.","12:00 p.m. Noon","Architect","The successful bidder shall be required to provide performance and payment bonds, each in the amount of 100 percent of the Contract Price.","Bids must be completed and submitted by this time, or the website will not accept your submission. The bids will be accessed online, opened and read aloud at ","A pre-Bid conference has not been scheduled for this Project.","City of Cedar Rapids","The Successful Bidder shall submit a written affirmative action program to the City unless already having an approved Affirmative Action program on file with the City.  The City will not process payment requests until the affirmative action program is approved by the City.  Failure to comply with this requirement may be deemed cause for contract termination.","Cash shall be derived from special assessments not pledged to the payment of special assessment bonds, from the sale of special assessment bonds to be issued in accordance with Chapter 384 of the Code of Iowa, as amended, and in anticipation of the collection of said special assessments.  An estimate of special assessments is on file with the City Clerk. Special Assessment bonds to be sold by the City shall not be less than the par value thereof plus accrued interest.","If the CONTRACTOR does not have a current approved Equal Employment Opportunity Certificate on file with the City of Cedar Rapids (Certificate valid for one year), the CONTRACTOR to whom the Contract is awarded shall submit a written Affirmative Action Program to the City of Cedar Rapids.  This Affirmative Action plan shall be submitted a minimum of one month in advance of the CONTRACTOR’s first Application for Payment submittal.  The CONTRACTOR shall not submit the first Application for Payment until receiving approval from the Equal Employment Opportunity Officer.  Delays in submitting an acceptable Affirmative Action Program will not be considered as reasons for extension of the Contract completion date.  The model for an Affirmative Action Program is available at the Equal Employment Opportunity Officer’s office.","City of Cedar Rapids\nOffice of the City Clerk\n101 First Street SE\nCedar Rapids, IA 52401","Liquidated Damages"," - An incentive will be applied at a daily rate of "," - The CONTRACTOR will be paid a “No Excuse Completion Incentive” of ",{"$f":"#REF!","v":{"$error":"#REF!"}},{"$f":"AB2/0.01","v":{"$error":"#REF!"}},{"$f":"INT(AC2)=AC2","v":{"$error":"#REF!"}},"StrengthenCR Goal 1: Support existing and new neighborhood associations through the development of Neighborhood Action Plans.","Yes, needed",null,0,"City Staff"]
["No","Calendar Days","Yes - Working Day","Yes","Lump Sum","two","Within Project Manual","$2,000,000 (Default)","Completion Date",null,2017,"2nd","February","12:00 p.m. Noon","4:00 p.m.","Architects","Each bidder shall accompany its bid with bid security as defined in Iowa Code Section 26.8, as security that the successful bidder will enter into a contract for the work bid upon and will furnish after the award of contract a corporate surety bond, in a form acceptable to the Jurisdiction, for the faithful performance of the contract, in an amount equal to one hundred percent (100%) of the amount of the contract.  The bidder’s security shall be in the amount of five percent (5 %) of the bid and shall be in the form of a cashier’s check or a certified check drawn on an FDIC insured bank in Iowa or on an FDIC insured bank chartered under the laws of the United States; or a certified share draft drawn on a credit union in Iowa or chartered under the laws of the United States; or a bid bond on the form provided in the contract documents executed by a corporation authorized to contract as a surety in the State of Iowa. Bid security, other than said bid bond, shall be made payable to the City of Cedar Rapids. The bid shall contain no condition except as provided in the specifications.",null,"A pre-Bid conference will be held at","Office of the City Clerk",null,"Cash shall be derived from special assessments not pledged to the payment of special assessment bonds, from the sale of special assessment bonds to be issued in accordance with Chapter 364 of the Code of Iowa, as amended, and in anticipation of the collection of said special assessments. Special Assessment bonds to be sold by the City shall not be less than the par value thereof plus accrued interest.","NOT USED - DELETE 15.01 B","Cedar Rapids Public Works Department\n500 15th Ave SW\nCedar Rapids, IA 52404","Incentive"," - A disincentive will be applied at a daily rate of "," for final completion of construction occurring on or before ",{"$f":"#REF!","v":{"$error":"#REF!"}},{"$f":"AB3/0.01","v":{"$error":"#REF!"}},{"$f":"INT(AC3)=AC3","v":{"$error":"#REF!"}},"StrengthenCR Goal 2: Improve the quality and identity of neighborhoods and key corridors.","No, not needed",null,1,"Consultant"]
[null,"Working Days","Yes - Calendar Day","No",null,"four","City Services Center - 500 15th Ave SW in Cedar Rapids, IA","Other (Specify Below)","Calendar Days",null,2018,"3rd","March",null,null,"Engineer",null,null,"Representatives of OWNER and ENGINEER will be present to discuss the Project.  Bidders are encouraged to attend and participate in the conference.  ENGINEER will transmit to all prospective Bidders of record such Addenda as ENGINEER considers necessary in response to questions arising at the conference.  Oral statements may not be relied upon and will not be binding or legally effective.","1st Floor, City Hall",null,"If no bids are received for the special assessment bonds at public sale, the bonds may bear interest at the highest rate of interest permitted by law to be paid on the special assessments on the date of levy.  If construction warrants or City cash funds are used during construction in making progress payments, such warrants or cash payments shall be exchanged for the bonds.  If no legal bids are received at public sale of special assessment bonds for the Project, the City may rely on this provision of the Code and reserves the right to do so.\n",null,null,"Incentive/Disincentive"," - An incentive/disincentive will be applied at a daily rate of ",".  If final completion occurs after this date, a daily disincentive of ",{"$f":"#REF!","v":{"$error":"#REF!"}},{"$error":"#REF!"},{"$error":"#REF!"},"StrengthenCR Goal 3: Adopt policies that create choices in housing types and prices throughout the city.",null,null,2]
[null,"Not Applicable - Early/Late Starts Only",null,null,null,null,null,null,"Working Days",null,2019,"4th","April",null,null,"Engineers",null,null,"A MANDATORY pre-bid conference will be held at","101 First Street SE",null,null,null,null,"No Excuse Completion Incentive"," to determine an incentive payment for use of less than the allowed number of days."," will be assessed for each day that the CONTRACTOR is late.  No delay will be considered as justification to modify the final completion date.  Incentive will be paid at time of final payment.",{"$f":"#REF!","v":{"$error":"#REF!"}},{"$error":"#REF!"},{"$error":"#REF!"},"StrengthenCR Goal 4: Create a city that is affordable and accessible to all members of the community.",null,null,3]
[null,null,null,null,null,null,null,null,null,null,2020,"5th","May",null,null,"Professionals",null,null,"All prospective Bidders intending to bid on the project are required to attend.  Pre-bid conference attendance is mandatory in order for a Bidder to be considered responsive.  Submitted Bids from Bidders who arrive at the pre-bid conference more than five minutes after the pre-bid conference start time, or who do not attend the entire conference, or who did not attend, will be considered non-responsive and will not be opened.","Cedar Rapids, IA  52401",null,null,null,null,"No Excuse Completion Disincentive"," to determine a disincentive payment (no maximum) for use of more than the allowed number of days.",null,{"$f":"#REF!","v":{"$error":"#REF!"}},{"$error":"#REF!"},{"$error":"#REF!"},"GrowCR Goal 1: Encourage mixed-use and infill development.",null,null,4]
[null,null,null,null,null,null,null,null,null,null,2021,"6th","June",null,null,"Landscape Architect",null,null,"A MANDATORY pre-bid conference for all prospective Bidders intending to bid on the project is scheduled for","Ph. 319 286-5060",null,null,null,null,"No Excuse Completion Incentive/Disincentive"," to determine an incentive payment for use of less than the allowed number of days, and to determine a disincentive assessment (no maximum) for use of more than the allowed number of days.  ",null,{"$f":"#REF!","v":{"$error":"#REF!"}},{"$error":"#REF!"},{"$error":"#REF!"},"GrowCR Goal 2: Manage growth.",null,null,5]
[null,null,null,null,null,null,null,null,null,null,2022,"7th","July",null,null,null,null,null,"Pre-bid conference attendance is mandatory in order for a Bidder to be considered responsive.  Submitted Bids from those who arrive at the pre-bid conference more than five minutes after the pre-bid conference start time, or who do not attend the entire conference, or who did not attend, will be considered non-responsive. ENGINEER will transmit to all prospective Bidders of record such Addenda as ENGINEER considers necessary in response to questions arising at the conference.  Oral statements may not be relied upon and will not be binding or legally effective.","cityclerk@cedar-rapids.org",null,null,null,null,null,"Incentive will be paid at time of final payment.",null,{"$f":"#REF!","v":{"$error":"#REF!"}},{"$error":"#REF!"},{"$error":"#REF!"},"GrowCR Goal 3: Connect growing areas to existing neighborhoods.",null,null,6]
[null,null,null,null,null,null,null,null,null,null,2023,"8th","August",null,null,null,null,null,null,null,null,null,null,null,null,"Disincentive will be assessed at the time of monthly pay applications that cover any period during which allowable days were exceeded.",null,{"$f":"#REF!","v":{"$error":"#REF!"}},{"$error":"#REF!"},{"$error":"#REF!"},"GrowCR Goal 4: Communicate and collaborate with regional partners.",null,null,7]
[null,null,null,null,null,null,null,null,null,null,2024,"9th","September",null,null,null,null,null,null,null,null,null,null,null,null,"Incentive will be paid at time of final payment. Disincentive will be assessed at the time of monthly pay applications that cover any period during which allowable days were exceeded.",null,{"$f":"#REF!","v":{"$error":"#REF!"}},{"$error":"#REF!"},{"$error":"#REF!"},"GreenCR Goal 1: Be stewards for the environment, promoting economic and social growth, while restoring the relationship between the city and the natural environment.",null,null,8]
[null,null,null,null,null,null,null,null,null,null,2025,"10th","October",null,null,null,null,null,null,null,null,null,null,null,null,null,null,{"$f":"#REF!","v":{"$error":"#REF!"}},{"$error":"#REF!"},{"$error":"#REF!"},"GreenCR Goal 2: Have the best parks, recreation and trails system in the region.",null,null,9]
[null,null,null,null,null,null,null,null,null,null,2026,"11th","November",null,null,null,null,null,null,null,null,null,null,null,null,null,null,{"$f":"#REF!","v":{"$error":"#REF!"}},{"$error":"#REF!"},{"$error":"#REF!"},"GreenCR Goal 3: Lead in energy conservation and innovation.",null,null,10]
[null,null,null,null,null,null,null,null,null,null,2027,"12th","December",null,null,null,null,null,null,null,null,null,null,null,null,null,null,{"$f":"#REF!","v":{"$error":"#REF!"}},{"$error":"#REF!"},{"$error":"#REF!"},"ConnectCR Goal 1: Provide choices for all transportation users, inter- and intra-city.",null,null,11]
[null,null,null,null,null,null,null,null,null,null,2028,"13th",null,null,null,null,null,null,null,null,null,null,null,null,null,null,null,{"$f":"#REF!","v":{"$error":"#REF!"}},{"$error":"#REF!"},{"$error":"#REF!"},"ConnectCR Goal 2: Build a complete network of connected streets.",null,null,12]
[null,null,null,null,null,null,null,null,null,null,2029,"14th",null,null,null,null,null,null,null,null,null,null,null,null,null,null,null,{"$f":"#REF!","v":{"$error":"#REF!"}},{"$error":"#REF!"},{"$error":"#REF!"},"ConnectCR Goal 3: Establish a network of complete streets.",null,null,13]
[null,null,null,null,null,null,null,null,null,null,2030,"15th",null,null,null,null,null,null,null,null,null,null,null,null,null,null,null,{"$f":"#REF!","v":{"$error":"#REF!"}},{"$error":"#REF!"},{"$error":"#REF!"},"ConnectCR Goal 4: Improve the function and appearance of our key corridors.",null,null,14]
[null,null,null,null,null,null,null,null,null,null,2031,"16th",null,null,null,null,null,null,null,null,null,null,null,null,null,null,null,{"$f":"#REF!","v":{"$error":"#REF!"}},{"$error":"#REF!"},{"$error":"#REF!"},"ConnectCR Goal 5: Support the development of an effective, regional, multimodal transportation system.",null,null,15]
[null,null,null,null,null,null,null,null,null,null,2032,"17th",null,null,null,null,null,null,null,null,null,null,null,null,null,null,null,{"$f":"#REF!","v":{"$error":"#REF!"}},{"$error":"#REF!"},{"$error":"#REF!"},"InvestCR Goal 1: Expand economic development efforts to support business and workforce growth, market Cedar Rapids, and engage regional partners.",null,null,16]
[null,null,null,null,null,null,null,null,null,null,2033,"18th",null,null,null,null,null,null,null,null,null,null,null,null,null,null,null,{"$f":"#REF!","v":{"$error":"#REF!"}},{"$error":"#REF!"},{"$error":"#REF!"},"InvestCR Goal 2: Cultivate a skilled workforce by providing cutting-edge training and recruiting talented workers.",null,null,17]
[null,null,null,null,null,null,null,null,null,null,2034,"19th",null,null,null,null,null,null,null,null,null,null,null,null,null,null,null,{"$f":"#REF!","v":{"$error":"#REF!"}},{"$error":"#REF!"},{"$error":"#REF!"},"InvestCR Goal 3: Reinvest in the city's business corridors and districts.",null,null,18]
[null,null,null,null,null,null,null,null,null,null,2035,"20th",null,null,null,null,null,null,null,null,null,null,null,null,null,null,null,{"$f":"#REF!","v":{"$error":"#REF!"}},{"$error":"#REF!"},{"$error":"#REF!"},"InvestCR Goal 4: Grow a sustainable, diverse economy by supporting businesses, fostering entrepreneurism, and targeting industry-specific growth.",null,null,19]
[null,null,null,null,null,null,null,null,null,null,2036,"21st",null,null,null,null,null,null,null,null,null,null,null,null,null,null,null,{"$f":"#REF!","v":{"$error":"#REF!"}},{"$error":"#REF!"},{"$error":"#REF!"},"ProtectCR Goal 1: Protect Cedar Rapids from flooding and other hazards.",null,null,20]
[null,null,null,null,null,null,null,null,null,null,2037,"22nd",null,null,null,null,null,null,null,null,null,null,null,null,null,null,null,{"$f":"#REF!","v":{"$error":"#REF!"}},{"$error":"#REF!"},{"$error":"#REF!"},"ProtectCR Goal 2: Manage growth and development to balance costs and serviceability to neighborhoods."]
[null,null,null,null,null,null,null,null,null,null,2038,"23rd",null,null,null,null,null,null,null,null,null,null,null,null,null,null,null,{"$f":"#REF!","v":{"$error":"#REF!"}},{"$error":"#REF!"},{"$error":"#REF!"},"ProtectCR Goal 3: Maintain and provide quality services to the community."]
[null,null,null,null,null,null,null,null,null,null,2039,"24th",null,null,null,null,null,null,null,null,null,null,null,null,null,null,null,{"$f":"#REF!","v":{"$error":"#REF!"}},{"$error":"#REF!"},{"$error":"#REF!"},"ProtectCR Goal 4: Demonstrate best practices in building construction."]
[null,null,null,null,null,null,null,null,null,null,2040,"25th",null,null,null,null,null,null,null,null,null,null,null,null,null,null,null,{"$f":"#REF!","v":{"$error":"#REF!"}},{"$error":"#REF!"},{"$error":"#REF!"}]
[null,null,null,null,null,null,null,null,null,null,2041,"26th",null,null,null,null,null,null,null,null,null,null,null,null,null,null,null,{"$f":"#REF!","v":{"$error":"#REF!"}},{"$error":"#REF!"},{"$error":"#REF!"}]
[null,null,null,null,null,null,null,null,null,null,2042,"27th",null,null,null,null,null,null,null,null,null,null,null,null,null,null,null,{"$f":"#REF!","v":{"$error":"#REF!"}},{"$error":"#REF!"},{"$error":"#REF!"}]
[null,null,null,null,null,null,null,null,null,null,2043,"28th",null,null,null,null,null,null,null,null,null,null,null,null,null,null,null,{"$f":"#REF!","v":{"$error":"#REF!"}},{"$error":"#REF!"},{"$error":"#REF!"}]
[null,null,null,null,null,null,null,null,null,null,2044,"29th",null,null,null,null,null,null,null,null,null,null,null,null,null,null,null,{"$f":"#REF!","v":{"$error":"#REF!"}},{"$error":"#REF!"},{"$error":"#REF!"}]
[null,null,null,null,null,null,null,null,null,null,2045,"30th",null,null,null,null,null,null,null,null,null,null,null,null,null,null,null,{"$f":"#REF!","v":{"$error":"#REF!"}},{"$error":"#REF!"},{"$error":"#REF!"}]
[null,null,null,{"$f":"IF(D29<25000,\"\",(IF(D29<77000,'Validation Fields'!Q2,\"\")))","v":""},null,null,null,null,null,null,2046,"31st",null,null,null,null,null,null,null,null,null,null,null,null,null,null,null,{"$f":"#REF!","v":{"$error":"#REF!"}},{"$error":"#REF!"},{"$error":"#REF!"}]
[null,null,null,null,null,null,null,null,null,null,2047,null,null,null,null,null,null,null,null,null,null,null,null,null,null,null,null,{"$f":"#REF!","v":{"$error":"#REF!"}},{"$error":"#REF!"},{"$error":"#REF!"}]
[null,null,null,null,null,null,null,null,null,null,2048,null,null,null,null,null,null,null,null,null,null,null,null,null,null,null,null,{"$f":"#REF!","v":{"$error":"#REF!"}},{"$error":"#REF!"},{"$error":"#REF!"}]
[null,null,null,null,null,null,null,null,null,null,2049,null,null,null,null,null,null,null,null,null,null,null,null,null,null,null,null,{"$f":"#REF!","v":{"$error":"#REF!"}},{"$error":"#REF!"},{"$error":"#REF!"}]
[null,null,null,null,null,null,null,null,null,null,2050,null,null,null,null,null,null,null,null,null,null,null,null,null,null,null,null,{"$f":"#REF!","v":{"$error":"#REF!"}},{"$error":"#REF!"},{"$error":"#REF!"}]
[null,null,null,null,null,null,null,null,null,null,null,null,null,null,null,null,null,null,null,null,null,null,null,null,null,null,null,{"$f":"#REF!","v":{"$error":"#REF!"}},{"$error":"#REF!"},{"$error":"#REF!"}]
[null,null,null,null,null,null,null,null,null,null,null,null,null,null,null,null,null,null,null,null,null,null,null,null,null,null,null,{"$f":"#REF!","v":{"$error":"#REF!"}},{"$error":"#REF!"},{"$error":"#REF!"}]
[null,null,null,null,null,null,null,null,null,null,null,null,null,null,null,null,null,null,null,null,null,null,null,null,null,null,null,{"$f":"#REF!","v":{"$error":"#REF!"}},{"$error":"#REF!"},{"$error":"#REF!"}]
[null,null,null,null,null,null,null,null,null,null,null,null,null,null,null,null,null,null,null,null,null,null,null,null,null,null,null,{"$f":"#REF!","v":{"$error":"#REF!"}},{"$error":"#REF!"},{"$error":"#REF!"}]
[null,null,null,null,null,null,null,null,null,null,null,null,null,null,null,null,null,null,null,null,null,null,null,null,null,null,null,{"$f":"#REF!","v":{"$error":"#REF!"}},{"$error":"#REF!"},{"$error":"#REF!"}]
[null,null,null,null,null,null,null,null,null,null,null,null,null,null,null,null,null,null,null,null,null,null,null,null,null,null,null,{"$f":"#REF!","v":{"$error":"#REF!"}},{"$error":"#REF!"},{"$error":"#REF!"}]
[null,null,null,null,null,null,null,null,null,null,null,null,null,null,null,null,null,null,null,null,null,null,null,null,null,null,null,{"$f":"#REF!","v":{"$error":"#REF!"}},{"$error":"#REF!"},{"$error":"#REF!"}]
[null,null,null,null,null,null,null,null,null,null,null,null,null,null,null,null,null,null,null,null,null,null,null,null,null,null,null,{"$f":"#REF!","v":{"$error":"#REF!"}},{"$error":"#REF!"},{"$error":"#REF!"}]
[null,null,null,null,null,null,null,null,null,null,null,null,null,null,null,null,null,null,null,null,null,null,null,null,null,null,null,{"$f":"#REF!","v":{"$error":"#REF!"}},{"$error":"#REF!"},{"$error":"#REF!"}]
[null,null,null,null,null,null,null,null,null,null,null,null,null,null,null,null,null,null,null,null,null,null,null,null,null,null,null,{"$f":"#REF!","v":{"$error":"#REF!"}},{"$error":"#REF!"},{"$error":"#REF!"}]
[null,null,null,null,null,null,null,null,null,null,null,null,null,null,null,null,null,null,null,null,null,null,null,null,null,null,null,{"$f":"#REF!","v":{"$error":"#REF!"}},{"$error":"#REF!"},{"$error":"#REF!"}]
[null,null,null,null,null,null,null,null,null,null,null,null,null,null,null,null,null,null,null,null,null,null,null,null,null,null,null,{"$f":"#REF!","v":{"$error":"#REF!"}},{"$error":"#REF!"},{"$error":"#REF!"}]
[null,null,null,null,null,null,null,null,null,null,null,null,null,null,null,null,null,null,null,null,null,null,null,null,null,null,null,{"$f":"#REF!","v":{"$error":"#REF!"}},{"$error":"#REF!"},{"$error":"#REF!"}]
[null,null,null,null,null,null,null,null,null,null,null,null,null,null,null,null,null,null,null,null,null,null,null,null,null,null,null,{"$f":"#REF!","v":{"$error":"#REF!"}},{"$error":"#REF!"},{"$error":"#REF!"}]
[null,null,null,null,null,null,null,null,null,null,null,null,null,null,null,null,null,null,null,null,null,null,null,null,null,null,null,{"$f":"#REF!","v":{"$error":"#REF!"}},{"$error":"#REF!"},{"$error":"#REF!"}]
[null,null,null,null,null,null,null,null,null,null,null,null,null,null,null,null,null,null,null,null,null,null,null,null,null,null,null,{"$f":"#REF!","v":{"$error":"#REF!"}},{"$error":"#REF!"},{"$error":"#REF!"}]
[null,null,null,null,null,null,null,null,null,null,null,null,null,null,null,null,null,null,null,null,null,null,null,null,null,null,null,{"$f":"#REF!","v":{"$error":"#REF!"}},{"$error":"#REF!"},{"$error":"#REF!"}]
[null,null,null,null,null,null,null,null,null,null,null,null,null,null,null,null,null,null,null,null,null,null,null,null,null,null,null,{"$f":"#REF!","v":{"$error":"#REF!"}},{"$error":"#REF!"},{"$error":"#REF!"}]
[null,null,null,null,null,null,null,null,null,null,null,null,null,null,null,null,null,null,null,null,null,null,null,null,null,null,null,{"$f":"#REF!","v":{"$error":"#REF!"}},{"$error":"#REF!"},{"$error":"#REF!"}]
[null,null,null,null,null,null,null,null,null,null,null,null,null,null,null,null,null,null,null,null,null,null,null,null,null,null,null,{"$f":"#REF!","v":{"$error":"#REF!"}},{"$error":"#REF!"},{"$error":"#REF!"}]
[null,null,null,null,null,null,null,null,null,null,null,null,null,null,null,null,null,null,null,null,null,null,null,null,null,null,null,{"$f":"#REF!","v":{"$error":"#REF!"}},{"$error":"#REF!"},{"$error":"#REF!"}]
[null,null,null,null,null,null,null,null,null,null,null,null,null,null,null,null,null,null,null,null,null,null,null,null,null,null,null,{"$f":"#REF!","v":{"$error":"#REF!"}},{"$error":"#REF!"},{"$error":"#REF!"}]
[null,null,null,null,null,null,null,null,null,null,null,null,null,null,null,null,null,null,null,null,null,null,null,null,null,null,null,{"$f":"#REF!","v":{"$error":"#REF!"}},{"$error":"#REF!"},{"$error":"#REF!"}]
[null,null,null,null,null,null,null,null,null,null,null,null,null,null,null,null,null,null,null,null,null,null,null,null,null,null,null,{"$f":"#REF!","v":{"$error":"#REF!"}},{"$error":"#REF!"},{"$error":"#REF!"}]
[null,null,null,null,null,null,null,null,null,null,null,null,null,null,null,null,null,null,null,null,null,null,null,null,null,null,null,{"$f":"#REF!","v":{"$error":"#REF!"}},{"$error":"#REF!"},{"$error":"#REF!"}]
[null,null,null,null,null,null,null,null,null,null,null,null,null,null,null,null,null,null,null,null,null,null,null,null,null,null,null,{"$f":"#REF!","v":{"$error":"#REF!"}},{"$error":"#REF!"},{"$error":"#REF!"}]
[null,null,null,null,null,null,null,null,null,null,null,null,null,null,null,null,null,null,null,null,null,null,null,null,null,null,null,{"$f":"#REF!","v":{"$error":"#REF!"}},{"$error":"#REF!"},{"$error":"#REF!"}]
[null,null,null,null,null,null,null,null,null,null,null,null,null,null,null,null,null,null,null,null,null,null,null,null,null,null,null,{"$f":"#REF!","v":{"$error":"#REF!"}},{"$error":"#REF!"},{"$error":"#REF!"}]
[null,null,null,null,null,null,null,null,null,null,null,null,null,null,null,null,null,null,null,null,null,null,null,null,null,null,null,{"$f":"#REF!","v":{"$error":"#REF!"}},{"$error":"#REF!"},{"$error":"#REF!"}]
[null,null,null,null,null,null,null,null,null,null,null,null,null,null,null,null,null,null,null,null,null,null,null,null,null,null,null,{"$f":"#REF!","v":{"$error":"#REF!"}},{"$error":"#REF!"},{"$error":"#REF!"}]
[null,null,null,null,null,null,null,null,null,null,null,null,null,null,null,null,null,null,null,null,null,null,null,null,null,null,null,{"$f":"#REF!","v":{"$error":"#REF!"}},{"$f":"AB67/0.01","v":{"$error":"#REF!"}},{"$f":"INT(AC67)=AC67","v":{"$error":"#REF!"}}]
[null,null,null,null,null,null,null,null,null,null,null,null,null,null,null,null,null,null,null,null,null,null,null,null,null,null,null,{"$f":"#REF!","v":{"$error":"#REF!"}},{"$error":"#REF!"},{"$error":"#REF!"}]
[null,null,null,null,null,null,null,null,null,null,null,null,null,null,null,null,null,null,null,null,null,null,null,null,null,null,null,{"$f":"#REF!","v":{"$error":"#REF!"}},{"$error":"#REF!"},{"$error":"#REF!"}]
[null,null,null,null,null,null,null,null,null,null,null,null,null,null,null,null,null,null,null,null,null,null,null,null,null,null,null,{"$f":"#REF!","v":{"$error":"#REF!"}},{"$error":"#REF!"},{"$error":"#REF!"}]
[null,null,null,null,null,null,null,null,null,null,null,null,null,null,null,null,null,null,null,null,null,null,null,null,null,null,null,{"$f":"#REF!","v":{"$error":"#REF!"}},{"$error":"#REF!"},{"$error":"#REF!"}]
[null,null,null,null,null,null,null,null,null,null,null,null,null,null,null,null,null,null,null,null,null,null,null,null,null,null,null,{"$f":"#REF!","v":{"$error":"#REF!"}},{"$error":"#REF!"},{"$error":"#REF!"}]
[null,null,null,null,null,null,null,null,null,null,null,null,null,null,null,null,null,null,null,null,null,null,null,null,null,null,null,{"$f":"#REF!","v":{"$error":"#REF!"}},{"$error":"#REF!"},{"$error":"#REF!"}]
[null,null,null,null,null,null,null,null,null,null,null,null,null,null,null,null,null,null,null,null,null,null,null,null,null,null,null,{"$f":"#REF!","v":{"$error":"#REF!"}},{"$error":"#REF!"},{"$error":"#REF!"}]
[null,null,null,null,null,null,null,null,null,null,null,null,null,null,null,null,null,null,null,null,null,null,null,null,null,null,null,{"$f":"#REF!","v":{"$error":"#REF!"}},{"$error":"#REF!"},{"$error":"#REF!"}]
[null,null,null,null,null,null,null,null,null,null,null,null,null,null,null,null,null,null,null,null,null,null,null,null,null,null,null,{"$f":"#REF!","v":{"$error":"#REF!"}},{"$error":"#REF!"},{"$error":"#REF!"}]
[null,null,null,null,null,null,null,null,null,null,null,null,null,null,null,null,null,null,null,null,null,null,null,null,null,null,null,{"$f":"#REF!","v":{"$error":"#REF!"}},{"$error":"#REF!"},{"$error":"#REF!"}]
[null,null,null,null,null,null,null,null,null,null,null,null,null,null,null,null,null,null,null,null,null,null,null,null,null,null,null,{"$f":"#REF!","v":{"$error":"#REF!"}},{"$error":"#REF!"},{"$error":"#REF!"}]
[null,null,null,null,null,null,null,null,null,null,null,null,null,null,null,null,null,null,null,null,null,null,null,null,null,null,null,{"$f":"#REF!","v":{"$error":"#REF!"}},{"$error":"#REF!"},{"$error":"#REF!"}]
[null,null,null,null,null,null,null,null,null,null,null,null,null,null,null,null,null,null,null,null,null,null,null,null,null,null,null,{"$f":"#REF!","v":{"$error":"#REF!"}},{"$error":"#REF!"},{"$error":"#REF!"}]
[null,null,null,null,null,null,null,null,null,null,null,null,null,null,null,null,null,null,null,null,null,null,null,null,null,null,null,{"$f":"#REF!","v":{"$error":"#REF!"}},{"$error":"#REF!"},{"$error":"#REF!"}]
[null,null,null,null,null,null,null,null,null,null,null,null,null,null,null,null,null,null,null,null,null,null,null,null,null,null,null,{"$f":"#REF!","v":{"$error":"#REF!"}},{"$error":"#REF!"},{"$error":"#REF!"}]
[null,null,null,null,null,null,null,null,null,null,null,null,null,null,null,null,null,null,null,null,null,null,null,null,null,null,null,{"$f":"#REF!","v":{"$error":"#REF!"}},{"$error":"#REF!"},{"$error":"#REF!"}]
[null,null,null,null,null,null,null,null,null,null,null,null,null,null,null,null,null,null,null,null,null,null,null,null,null,null,null,{"$f":"#REF!","v":{"$error":"#REF!"}},{"$error":"#REF!"},{"$error":"#REF!"}]
[null,null,null,null,null,null,null,null,null,null,null,null,null,null,null,null,null,null,null,null,null,null,null,null,null,null,null,{"$f":"#REF!","v":{"$error":"#REF!"}},{"$error":"#REF!"},{"$error":"#REF!"}]
[null,null,null,null,null,null,null,null,null,null,null,null,null,null,null,null,null,null,null,null,null,null,null,null,null,null,null,{"$f":"#REF!","v":{"$error":"#REF!"}},{"$error":"#REF!"},{"$error":"#REF!"}]
[null,null,null,null,null,null,null,null,null,null,null,null,null,null,null,null,null,null,null,null,null,null,null,null,null,null,null,{"$f":"#REF!","v":{"$error":"#REF!"}},{"$error":"#REF!"},{"$error":"#REF!"}]
[null,null,null,null,null,null,null,null,null,null,null,null,null,null,null,null,null,null,null,null,null,null,null,null,null,null,null,{"$f":"#REF!","v":{"$error":"#REF!"}},{"$error":"#REF!"},{"$error":"#REF!"}]
[null,null,null,null,null,null,null,null,null,null,null,null,null,null,null,null,null,null,null,null,null,null,null,null,null,null,null,{"$f":"#REF!","v":{"$error":"#REF!"}},{"$error":"#REF!"},{"$error":"#REF!"}]
[null,null,null,null,null,null,null,null,null,null,null,null,null,null,null,null,null,null,null,null,null,null,null,null,null,null,null,{"$f":"#REF!","v":{"$error":"#REF!"}},{"$error":"#REF!"},{"$error":"#REF!"}]
[null,null,null,null,null,null,null,null,null,null,null,null,null,null,null,null,null,null,null,null,null,null,null,null,null,null,null,{"$f":"#REF!","v":{"$error":"#REF!"}},{"$error":"#REF!"},{"$error":"#REF!"}]
[null,null,null,null,null,null,null,null,null,null,null,null,null,null,null,null,null,null,null,null,null,null,null,null,null,null,null,{"$f":"#REF!","v":{"$error":"#REF!"}},{"$error":"#REF!"},{"$error":"#REF!"}]
[null,null,null,null,null,null,null,null,null,null,null,null,null,null,null,null,null,null,null,null,null,null,null,null,null,null,null,{"$f":"#REF!","v":{"$error":"#REF!"}},{"$error":"#REF!"},{"$error":"#REF!"}]
[null,null,null,null,null,null,null,null,null,null,null,null,null,null,null,null,null,null,null,null,null,null,null,null,null,null,null,{"$f":"#REF!","v":{"$error":"#REF!"}},{"$error":"#REF!"},{"$error":"#REF!"}]
[null,null,null,null,null,null,null,null,null,null,null,null,null,null,null,null,null,null,null,null,null,null,null,null,null,null,null,{"$f":"#REF!","v":{"$error":"#REF!"}},{"$error":"#REF!"},{"$error":"#REF!"}]
[null,null,null,null,null,null,null,null,null,null,null,null,null,null,null,null,null,null,null,null,null,null,null,null,null,null,null,{"$f":"#REF!","v":{"$error":"#REF!"}},{"$error":"#REF!"},{"$error":"#REF!"}]
[null,null,null,null,null,null,null,null,null,null,null,null,null,null,null,null,null,null,null,null,null,null,null,null,null,null,null,{"$f":"#REF!","v":{"$error":"#REF!"}},{"$error":"#REF!"},{"$error":"#REF!"}]
[null,null,null,null,null,null,null,null,null,null,null,null,null,null,null,null,null,null,null,null,null,null,null,null,null,null,null,{"$f":"#REF!","v":{"$error":"#REF!"}},{"$error":"#REF!"},{"$error":"#REF!"}]
[null,null,null,null,null,null,null,null,null,null,null,null,null,null,null,null,null,null,null,null,null,null,null,null,null,null,null,{"$f":"#REF!","v":{"$error":"#REF!"}},{"$error":"#REF!"},{"$error":"#REF!"}]
[null,null,null,null,null,null,null,null,null,null,null,null,null,null,null,null,null,null,null,null,null,null,null,null,null,null,null,{"$f":"#REF!","v":{"$error":"#REF!"}},{"$error":"#REF!"},{"$error":"#REF!"}]
[null,null,null,null,null,null,null,null,null,null,null,null,null,null,null,null,null,null,null,null,null,null,null,null,null,null,null,{"$f":"#REF!","v":{"$error":"#REF!"}},{"$error":"#REF!"},{"$error":"#REF!"}]
[null,null,null,null,null,null,null,null,null,null,null,null,null,null,null,null,null,null,null,null,null,null,null,null,null,null,null,{"$f":"#REF!","v":{"$error":"#REF!"}},{"$error":"#REF!"},{"$error":"#REF!"}]
[null,null,null,null,null,null,null,null,null,null,null,null,null,null,null,null,null,null,null,null,null,null,null,null,null,null,null,{"$f":"#REF!","v":{"$error":"#REF!"}},{"$error":"#REF!"},{"$error":"#REF!"}]
[null,null,null,null,null,null,null,null,null,null,null,null,null,null,null,null,null,null,null,null,null,null,null,null,null,null,null,{"$f":"#REF!","v":{"$error":"#REF!"}},{"$error":"#REF!"},{"$error":"#REF!"}]
[null,null,null,null,null,null,null,null,null,null,null,null,null,null,null,null,null,null,null,null,null,null,null,null,null,null,null,{"$f":"#REF!","v":{"$error":"#REF!"}},{"$error":"#REF!"},{"$error":"#REF!"}]
[null,null,null,null,null,null,null,null,null,null,null,null,null,null,null,null,null,null,null,null,null,null,null,null,null,null,null,{"$f":"#REF!","v":{"$error":"#REF!"}},{"$error":"#REF!"},{"$error":"#REF!"}]
[null,null,null,null,null,null,null,null,null,null,null,null,null,null,null,null,null,null,null,null,null,null,null,null,null,null,null,{"$f":"#REF!","v":{"$error":"#REF!"}},{"$error":"#REF!"},{"$error":"#REF!"}]
[null,null,null,null,null,null,null,null,null,null,null,null,null,null,null,null,null,null,null,null,null,null,null,null,null,null,null,{"$f":"#REF!","v":{"$error":"#REF!"}},{"$error":"#REF!"},{"$error":"#REF!"}]
[null,null,null,null,null,null,null,null,null,null,null,null,null,null,null,null,null,null,null,null,null,null,null,null,null,null,null,{"$f":"#REF!","v":{"$error":"#REF!"}},{"$error":"#REF!"},{"$error":"#REF!"}]
[null,null,null,null,null,null,null,null,null,null,null,null,null,null,null,null,null,null,null,null,null,null,null,null,null,null,null,{"$f":"#REF!","v":{"$error":"#REF!"}},{"$error":"#REF!"},{"$error":"#REF!"}]
[null,null,null,null,null,null,null,null,null,null,null,null,null,null,null,null,null,null,null,null,null,null,null,null,null,null,null,{"$f":"#REF!","v":{"$error":"#REF!"}},{"$error":"#REF!"},{"$error":"#REF!"}]
[null,null,null,null,null,null,null,null,null,null,null,null,null,null,null,null,null,null,null,null,null,null,null,null,null,null,null,{"$f":"#REF!","v":{"$error":"#REF!"}},{"$error":"#REF!"},{"$error":"#REF!"}]
[null,null,null,null,null,null,null,null,null,null,null,null,null,null,null,null,null,null,null,null,null,null,null,null,null,null,null,{"$f":"#REF!","v":{"$error":"#REF!"}},{"$error":"#REF!"},{"$error":"#REF!"}]
[null,null,null,null,null,null,null,null,null,null,null,null,null,null,null,null,null,null,null,null,null,null,null,null,null,null,null,{"$f":"#REF!","v":{"$error":"#REF!"}},{"$error":"#REF!"},{"$error":"#REF!"}]
[null,null,null,null,null,null,null,null,null,null,null,null,null,null,null,null,null,null,null,null,null,null,null,null,null,null,null,{"$f":"#REF!","v":{"$error":"#REF!"}},{"$error":"#REF!"},{"$error":"#REF!"}]
[null,null,null,null,null,null,null,null,null,null,null,null,null,null,null,null,null,null,null,null,null,null,null,null,null,null,null,{"$f":"#REF!","v":{"$error":"#REF!"}},{"$error":"#REF!"},{"$error":"#REF!"}]
[null,null,null,null,null,null,null,null,null,null,null,null,null,null,null,null,null,null,null,null,null,null,null,null,null,null,null,{"$f":"#REF!","v":{"$error":"#REF!"}},{"$error":"#REF!"},{"$error":"#REF!"}]
[null,null,null,null,null,null,null,null,null,null,null,null,null,null,null,null,null,null,null,null,null,null,null,null,null,null,null,{"$f":"#REF!","v":{"$error":"#REF!"}},{"$error":"#REF!"},{"$error":"#REF!"}]
[null,null,null,null,null,null,null,null,null,null,null,null,null,null,null,null,null,null,null,null,null,null,null,null,null,null,null,{"$f":"#REF!","v":{"$error":"#REF!"}},{"$error":"#REF!"},{"$error":"#REF!"}]
[null,null,null,null,null,null,null,null,null,null,null,null,null,null,null,null,null,null,null,null,null,null,null,null,null,null,null,{"$f":"#REF!","v":{"$error":"#REF!"}},{"$error":"#REF!"},{"$error":"#REF!"}]
[null,null,null,null,null,null,null,null,null,null,null,null,null,null,null,null,null,null,null,null,null,null,null,null,null,null,null,{"$f":"#REF!","v":{"$error":"#REF!"}},{"$error":"#REF!"},{"$error":"#REF!"}]
[null,null,null,null,null,null,null,null,null,null,null,null,null,null,null,null,null,null,null,null,null,null,null,null,null,null,null,{"$f":"#REF!","v":{"$error":"#REF!"}},{"$error":"#REF!"},{"$error":"#REF!"}]
[null,null,null,null,null,null,null,null,null,null,null,null,null,null,null,null,null,null,null,null,null,null,null,null,null,null,null,{"$f":"#REF!","v":{"$error":"#REF!"}},{"$error":"#REF!"},{"$error":"#REF!"}]
[null,null,null,null,null,null,null,null,null,null,null,null,null,null,null,null,null,null,null,null,null,null,null,null,null,null,null,{"$f":"#REF!","v":{"$error":"#REF!"}},{"$error":"#REF!"},{"$error":"#REF!"}]
[null,null,null,null,null,null,null,null,null,null,null,null,null,null,null,null,null,null,null,null,null,null,null,null,null,null,null,{"$f":"#REF!","v":{"$error":"#REF!"}},{"$error":"#REF!"},{"$error":"#REF!"}]
[null,null,null,null,null,null,null,null,null,null,null,null,null,null,null,null,null,null,null,null,null,null,null,null,null,null,null,{"$f":"#REF!","v":{"$error":"#REF!"}},{"$error":"#REF!"},{"$error":"#REF!"}]
[null,null,null,null,null,null,null,null,null,null,null,null,null,null,null,null,null,null,null,null,null,null,null,null,null,null,null,{"$f":"#REF!","v":{"$error":"#REF!"}},{"$error":"#REF!"},{"$error":"#REF!"}]
[null,null,null,null,null,null,null,null,null,null,null,null,null,null,null,null,null,null,null,null,null,null,null,null,null,null,null,{"$f":"#REF!","v":{"$error":"#REF!"}},{"$error":"#REF!"},{"$error":"#REF!"}]
[null,null,null,null,null,null,null,null,null,null,null,null,null,null,null,null,null,null,null,null,null,null,null,null,null,null,null,{"$f":"#REF!","v":{"$error":"#REF!"}},{"$error":"#REF!"},{"$error":"#REF!"}]
[null,null,null,null,null,null,null,null,null,null,null,null,null,null,null,null,null,null,null,null,null,null,null,null,null,null,null,{"$f":"#REF!","v":{"$error":"#REF!"}},{"$error":"#REF!"},{"$error":"#REF!"}]
[null,null,null,null,null,null,null,null,null,null,null,null,null,null,null,null,null,null,null,null,null,null,null,null,null,null,null,{"$f":"#REF!","v":{"$error":"#REF!"}},{"$f":"AB131/0.01","v":{"$error":"#REF!"}},{"$f":"INT(AC131)=AC131","v":{"$error":"#REF!"}}]
[null,null,null,null,null,null,null,null,null,null,null,null,null,null,null,null,null,null,null,null,null,null,null,null,null,null,null,{"$f":"#REF!","v":{"$error":"#REF!"}},{"$error":"#REF!"},{"$error":"#REF!"}]
[null,null,null,null,null,null,null,null,null,null,null,null,null,null,null,null,null,null,null,null,null,null,null,null,null,null,null,{"$f":"#REF!","v":{"$error":"#REF!"}},{"$error":"#REF!"},{"$error":"#REF!"}]
[null,null,null,null,null,null,null,null,null,null,null,null,null,null,null,null,null,null,null,null,null,null,null,null,null,null,null,{"$f":"#REF!","v":{"$error":"#REF!"}},{"$error":"#REF!"},{"$error":"#REF!"}]
[null,null,null,null,null,null,null,null,null,null,null,null,null,null,null,null,null,null,null,null,null,null,null,null,null,null,null,{"$f":"#REF!","v":{"$error":"#REF!"}},{"$error":"#REF!"},{"$error":"#REF!"}]
[null,null,null,null,null,null,null,null,null,null,null,null,null,null,null,null,null,null,null,null,null,null,null,null,null,null,null,{"$f":"#REF!","v":{"$error":"#REF!"}},{"$error":"#REF!"},{"$error":"#REF!"}]
[null,null,null,null,null,null,null,null,null,null,null,null,null,null,null,null,null,null,null,null,null,null,null,null,null,null,null,{"$f":"#REF!","v":{"$error":"#REF!"}},{"$error":"#REF!"},{"$error":"#REF!"}]
[null,null,null,null,null,null,null,null,null,null,null,null,null,null,null,null,null,null,null,null,null,null,null,null,null,null,null,{"$f":"#REF!","v":{"$error":"#REF!"}},{"$error":"#REF!"},{"$error":"#REF!"}]
[null,null,null,null,null,null,null,null,null,null,null,null,null,null,null,null,null,null,null,null,null,null,null,null,null,null,null,{"$f":"#REF!","v":{"$error":"#REF!"}},{"$error":"#REF!"},{"$error":"#REF!"}]
[null,null,null,null,null,null,null,null,null,null,null,null,null,null,null,null,null,null,null,null,null,null,null,null,null,null,null,{"$f":"#REF!","v":{"$error":"#REF!"}},{"$error":"#REF!"},{"$error":"#REF!"}]
[null,null,null,null,null,null,null,null,null,null,null,null,null,null,null,null,null,null,null,null,null,null,null,null,null,null,null,{"$f":"#REF!","v":{"$error":"#REF!"}},{"$error":"#REF!"},{"$error":"#REF!"}]
[null,null,null,null,null,null,null,null,null,null,null,null,null,null,null,null,null,null,null,null,null,null,null,null,null,null,null,{"$f":"#REF!","v":{"$error":"#REF!"}},{"$error":"#REF!"},{"$error":"#REF!"}]
[null,null,null,null,null,null,null,null,null,null,null,null,null,null,null,null,null,null,null,null,null,null,null,null,null,null,null,{"$f":"#REF!","v":{"$error":"#REF!"}},{"$error":"#REF!"},{"$error":"#REF!"}]
[null,null,null,null,null,null,null,null,null,null,null,null,null,null,null,null,null,null,null,null,null,null,null,null,null,null,null,{"$f":"#REF!","v":{"$error":"#REF!"}},{"$error":"#REF!"},{"$error":"#REF!"}]
[null,null,null,null,null,null,null,null,null,null,null,null,null,null,null,null,null,null,null,null,null,null,null,null,null,null,null,{"$f":"#REF!","v":{"$error":"#REF!"}},{"$error":"#REF!"},{"$error":"#REF!"}]
[null,null,null,null,null,null,null,null,null,null,null,null,null,null,null,null,null,null,null,null,null,null,null,null,null,null,null,{"$f":"#REF!","v":{"$error":"#REF!"}},{"$error":"#REF!"},{"$error":"#REF!"}]
[null,null,null,null,null,null,null,null,null,null,null,null,null,null,null,null,null,null,null,null,null,null,null,null,null,null,null,{"$f":"#REF!","v":{"$error":"#REF!"}},{"$error":"#REF!"},{"$error":"#REF!"}]
[null,null,null,null,null,null,null,null,null,null,null,null,null,null,null,null,null,null,null,null,null,null,null,null,null,null,null,{"$f":"#REF!","v":{"$error":"#REF!"}},{"$error":"#REF!"},{"$error":"#REF!"}]
[null,null,null,null,null,null,null,null,null,null,null,null,null,null,null,null,null,null,null,null,null,null,null,null,null,null,null,{"$f":"#REF!","v":{"$error":"#REF!"}},{"$error":"#REF!"},{"$error":"#REF!"}]
[null,null,null,null,null,null,null,null,null,null,null,null,null,null,null,null,null,null,null,null,null,null,null,null,null,null,null,{"$f":"#REF!","v":{"$error":"#REF!"}},{"$error":"#REF!"},{"$error":"#REF!"}]
[null,null,null,null,null,null,null,null,null,null,null,null,null,null,null,null,null,null,null,null,null,null,null,null,null,null,null,{"$f":"#REF!","v":{"$error":"#REF!"}},{"$error":"#REF!"},{"$error":"#REF!"}]
[null,null,null,null,null,null,null,null,null,null,null,null,null,null,null,null,null,null,null,null,null,null,null,null,null,null,null,{"$f":"#REF!","v":{"$error":"#REF!"}},{"$error":"#REF!"},{"$error":"#REF!"}]
[null,null,null,null,null,null,null,null,null,null,null,null,null,null,null,null,null,null,null,null,null,null,null,null,null,null,null,{"$f":"#REF!","v":{"$error":"#REF!"}},{"$error":"#REF!"},{"$error":"#REF!"}]
[null,null,null,null,null,null,null,null,null,null,null,null,null,null,null,null,null,null,null,null,null,null,null,null,null,null,null,{"$f":"#REF!","v":{"$error":"#REF!"}},{"$error":"#REF!"},{"$error":"#REF!"}]
[null,null,null,null,null,null,null,null,null,null,null,null,null,null,null,null,null,null,null,null,null,null,null,null,null,null,null,{"$f":"#REF!","v":{"$error":"#REF!"}},{"$error":"#REF!"},{"$error":"#REF!"}]
[null,null,null,null,null,null,null,null,null,null,null,null,null,null,null,null,null,null,null,null,null,null,null,null,null,null,null,{"$f":"#REF!","v":{"$error":"#REF!"}},{"$error":"#REF!"},{"$error":"#REF!"}]
[null,null,null,null,null,null,null,null,null,null,null,null,null,null,null,null,null,null,null,null,null,null,null,null,null,null,null,{"$f":"#REF!","v":{"$error":"#REF!"}},{"$error":"#REF!"},{"$error":"#REF!"}]
[null,null,null,null,null,null,null,null,null,null,null,null,null,null,null,null,null,null,null,null,null,null,null,null,null,null,null,{"$f":"#REF!","v":{"$error":"#REF!"}},{"$error":"#REF!"},{"$error":"#REF!"}]
[null,null,null,null,null,null,null,null,null,null,null,null,null,null,null,null,null,null,null,null,null,null,null,null,null,null,null,{"$f":"#REF!","v":{"$error":"#REF!"}},{"$error":"#REF!"},{"$error":"#REF!"}]
[null,null,null,null,null,null,null,null,null,null,null,null,null,null,null,null,null,null,null,null,null,null,null,null,null,null,null,{"$f":"#REF!","v":{"$error":"#REF!"}},{"$error":"#REF!"},{"$error":"#REF!"}]
[null,null,null,null,null,null,null,null,null,null,null,null,null,null,null,null,null,null,null,null,null,null,null,null,null,null,null,{"$f":"#REF!","v":{"$error":"#REF!"}},{"$error":"#REF!"},{"$error":"#REF!"}]
[null,null,null,null,null,null,null,null,null,null,null,null,null,null,null,null,null,null,null,null,null,null,null,null,null,null,null,{"$f":"#REF!","v":{"$error":"#REF!"}},{"$error":"#REF!"},{"$error":"#REF!"}]
[null,null,null,null,null,null,null,null,null,null,null,null,null,null,null,null,null,null,null,null,null,null,null,null,null,null,null,{"$f":"#REF!","v":{"$error":"#REF!"}},{"$error":"#REF!"},{"$error":"#REF!"}]
[null,null,null,null,null,null,null,null,null,null,null,null,null,null,null,null,null,null,null,null,null,null,null,null,null,null,null,{"$f":"#REF!","v":{"$error":"#REF!"}},{"$error":"#REF!"},{"$error":"#REF!"}]
[null,null,null,null,null,null,null,null,null,null,null,null,null,null,null,null,null,null,null,null,null,null,null,null,null,null,null,{"$f":"#REF!","v":{"$error":"#REF!"}},{"$error":"#REF!"},{"$error":"#REF!"}]
[null,null,null,null,null,null,null,null,null,null,null,null,null,null,null,null,null,null,null,null,null,null,null,null,null,null,null,{"$f":"#REF!","v":{"$error":"#REF!"}},{"$error":"#REF!"},{"$error":"#REF!"}]
[null,null,null,null,null,null,null,null,null,null,null,null,null,null,null,null,null,null,null,null,null,null,null,null,null,null,null,{"$f":"#REF!","v":{"$error":"#REF!"}},{"$error":"#REF!"},{"$error":"#REF!"}]
[null,null,null,null,null,null,null,null,null,null,null,null,null,null,null,null,null,null,null,null,null,null,null,null,null,null,null,{"$f":"#REF!","v":{"$error":"#REF!"}},{"$error":"#REF!"},{"$error":"#REF!"}]
[null,null,null,null,null,null,null,null,null,null,null,null,null,null,null,null,null,null,null,null,null,null,null,null,null,null,null,{"$f":"#REF!","v":{"$error":"#REF!"}},{"$error":"#REF!"},{"$error":"#REF!"}]
[null,null,null,null,null,null,null,null,null,null,null,null,null,null,null,null,null,null,null,null,null,null,null,null,null,null,null,{"$f":"#REF!","v":{"$error":"#REF!"}},{"$error":"#REF!"},{"$error":"#REF!"}]
[null,null,null,null,null,null,null,null,null,null,null,null,null,null,null,null,null,null,null,null,null,null,null,null,null,null,null,{"$f":"#REF!","v":{"$error":"#REF!"}},{"$error":"#REF!"},{"$error":"#REF!"}]
[null,null,null,null,null,null,null,null,null,null,null,null,null,null,null,null,null,null,null,null,null,null,null,null,null,null,null,{"$f":"#REF!","v":{"$error":"#REF!"}},{"$error":"#REF!"},{"$error":"#REF!"}]
[null,null,null,null,null,null,null,null,null,null,null,null,null,null,null,null,null,null,null,null,null,null,null,null,null,null,null,{"$f":"#REF!","v":{"$error":"#REF!"}},{"$error":"#REF!"},{"$error":"#REF!"}]
[null,null,null,null,null,null,null,null,null,null,null,null,null,null,null,null,null,null,null,null,null,null,null,null,null,null,null,{"$f":"#REF!","v":{"$error":"#REF!"}},{"$error":"#REF!"},{"$error":"#REF!"}]
[null,null,null,null,null,null,null,null,null,null,null,null,null,null,null,null,null,null,null,null,null,null,null,null,null,null,null,{"$f":"#REF!","v":{"$error":"#REF!"}},{"$error":"#REF!"},{"$error":"#REF!"}]
[null,null,null,null,null,null,null,null,null,null,null,null,null,null,null,null,null,null,null,null,null,null,null,null,null,null,null,{"$f":"#REF!","v":{"$error":"#REF!"}},{"$error":"#REF!"},{"$error":"#REF!"}]
[null,null,null,null,null,null,null,null,null,null,null,null,null,null,null,null,null,null,null,null,null,null,null,null,null,null,null,{"$f":"#REF!","v":{"$error":"#REF!"}},{"$error":"#REF!"},{"$error":"#REF!"}]
[null,null,null,null,null,null,null,null,null,null,null,null,null,null,null,null,null,null,null,null,null,null,null,null,null,null,null,{"$f":"#REF!","v":{"$error":"#REF!"}},{"$error":"#REF!"},{"$error":"#REF!"}]
[null,null,null,null,null,null,null,null,null,null,null,null,null,null,null,null,null,null,null,null,null,null,null,null,null,null,null,{"$f":"#REF!","v":{"$error":"#REF!"}},{"$error":"#REF!"},{"$error":"#REF!"}]
[null,null,null,null,null,null,null,null,null,null,null,null,null,null,null,null,null,null,null,null,null,null,null,null,null,null,null,{"$f":"#REF!","v":{"$error":"#REF!"}},{"$error":"#REF!"},{"$error":"#REF!"}]
[null,null,null,null,null,null,null,null,null,null,null,null,null,null,null,null,null,null,null,null,null,null,null,null,null,null,null,{"$f":"#REF!","v":{"$error":"#REF!"}},{"$error":"#REF!"},{"$error":"#REF!"}]
[null,null,null,null,null,null,null,null,null,null,null,null,null,null,null,null,null,null,null,null,null,null,null,null,null,null,null,{"$f":"#REF!","v":{"$error":"#REF!"}},{"$error":"#REF!"},{"$error":"#REF!"}]
[null,null,null,null,null,null,null,null,null,null,null,null,null,null,null,null,null,null,null,null,null,null,null,null,null,null,null,{"$f":"#REF!","v":{"$error":"#REF!"}},{"$error":"#REF!"},{"$error":"#REF!"}]
[null,null,null,null,null,null,null,null,null,null,null,null,null,null,null,null,null,null,null,null,null,null,null,null,null,null,null,{"$f":"#REF!","v":{"$error":"#REF!"}},{"$error":"#REF!"},{"$error":"#REF!"}]
[null,null,null,null,null,null,null,null,null,null,null,null,null,null,null,null,null,null,null,null,null,null,null,null,null,null,null,{"$f":"#REF!","v":{"$error":"#REF!"}},{"$error":"#REF!"},{"$error":"#REF!"}]
[null,null,null,null,null,null,null,null,null,null,null,null,null,null,null,null,null,null,null,null,null,null,null,null,null,null,null,{"$f":"#REF!","v":{"$error":"#REF!"}},{"$error":"#REF!"},{"$error":"#REF!"}]
[null,null,null,null,null,null,null,null,null,null,null,null,null,null,null,null,null,null,null,null,null,null,null,null,null,null,null,{"$f":"#REF!","v":{"$error":"#REF!"}},{"$error":"#REF!"},{"$error":"#REF!"}]
[null,null,null,null,null,null,null,null,null,null,null,null,null,null,null,null,null,null,null,null,null,null,null,null,null,null,null,{"$f":"#REF!","v":{"$error":"#REF!"}},{"$error":"#REF!"},{"$error":"#REF!"}]
[null,null,null,null,null,null,null,null,null,null,null,null,null,null,null,null,null,null,null,null,null,null,null,null,null,null,null,{"$f":"#REF!","v":{"$error":"#REF!"}},{"$error":"#REF!"},{"$error":"#REF!"}]
[null,null,null,null,null,null,null,null,null,null,null,null,null,null,null,null,null,null,null,null,null,null,null,null,null,null,null,{"$f":"#REF!","v":{"$error":"#REF!"}},{"$error":"#REF!"},{"$error":"#REF!"}]
[null,null,null,null,null,null,null,null,null,null,null,null,null,null,null,null,null,null,null,null,null,null,null,null,null,null,null,{"$f":"#REF!","v":{"$error":"#REF!"}},{"$error":"#REF!"},{"$error":"#REF!"}]
[null,null,null,null,null,null,null,null,null,null,null,null,null,null,null,null,null,null,null,null,null,null,null,null,null,null,null,{"$f":"#REF!","v":{"$error":"#REF!"}},{"$error":"#REF!"},{"$error":"#REF!"}]
[null,null,null,null,null,null,null,null,null,null,null,null,null,null,null,null,null,null,null,null,null,null,null,null,null,null,null,{"$f":"#REF!","v":{"$error":"#REF!"}},{"$error":"#REF!"},{"$error":"#REF!"}]
[null,null,null,null,null,null,null,null,null,null,null,null,null,null,null,null,null,null,null,null,null,null,null,null,null,null,null,{"$f":"#REF!","v":{"$error":"#REF!"}},{"$error":"#REF!"},{"$error":"#REF!"}]
[null,null,null,null,null,null,null,null,null,null,null,null,null,null,null,null,null,null,null,null,null,null,null,null,null,null,null,{"$f":"#REF!","v":{"$error":"#REF!"}},{"$f":"AB195/0.01","v":{"$error":"#REF!"}},{"$f":"INT(AC195)=AC195","v":{"$error":"#REF!"}}]
[null,null,null,null,null,null,null,null,null,null,null,null,null,null,null,null,null,null,null,null,null,null,null,null,null,null,null,{"$f":"#REF!","v":{"$error":"#REF!"}},{"$error":"#REF!"},{"$error":"#REF!"}]
[null,null,null,null,null,null,null,null,null,null,null,null,null,null,null,null,null,null,null,null,null,null,null,null,null,null,null,{"$f":"#REF!","v":{"$error":"#REF!"}},{"$error":"#REF!"},{"$error":"#REF!"}]
[null,null,null,null,null,null,null,null,null,null,null,null,null,null,null,null,null,null,null,null,null,null,null,null,null,null,null,{"$f":"#REF!","v":{"$error":"#REF!"}},{"$error":"#REF!"},{"$error":"#REF!"}]
[null,null,null,null,null,null,null,null,null,null,null,null,null,null,null,null,null,null,null,null,null,null,null,null,null,null,null,{"$f":"#REF!","v":{"$error":"#REF!"}},{"$error":"#REF!"},{"$error":"#REF!"}]
[null,null,null,null,null,null,null,null,null,null,null,null,null,null,null,null,null,null,null,null,null,null,null,null,null,null,null,{"$f":"#REF!","v":{"$error":"#REF!"}},{"$error":"#REF!"},{"$error":"#REF!"}]

{"sheet":"Update History","index":27,"n_rows":71,"n_cols":2,"rows_kept":71,"cut":false,"hidden":false,"merged":[]}
["Revision Date","Updates"]
["2017-10-10","Added an auto-fill line to convert the EOPC from a number to text, and used this to auto-populate the EOPC in Sections 00100 and 00110. Without this, the number appears without comma separators"]
[null,"Added preparer directions to 00300-A/B/C and 00500-A/B"]
[null,"Fixed problem with Assessment paragraph autofill in section 00100."]
[null,"Added footer information to 00300-A and 00500-A"]
[null,"Added Excel formulas to automate conversion of MM/DD/YYYY format numbers into DDst day of MM, YYYY format"]
[null,"Added formulas so that if a particular feature isn't used, the secondary and tertiary options are auto-filled as not being used either (e.g. milestones, closure incentives/disincentives)"]
[null,"Reformatted Section 00300-A and 00500-A"]
["2017-10-24","Colorized the cells where information entry is desired in \"Rec to File and Award\" and \"Project Manual Form\" tabs"]
[null,"Added \"Quick View\" tab and \"Sign-Off Sheet\" tab"]
[null,"Added Navigation links to \"Project Manual Form\""]
[null,"Corrected formatting problems in \"Rec to File and Award\""]
[null,"Added 'Missing Info' prompt to \"Rec to File and Award\""]
["2017-11-28","Added a merge field to delete 00800 6.03D in cases where FTA isn't used"]
[null,"Reformatted the page numbering in 00300-A and 00500-A so that multi-page bid sheets can match book numbering"]
["2018-01-31","Updated Council meeting times. Effective March 2018, the second meeting of the month will start at 5:30pm"]
[null,"Updated online planroom information. Effective February 1, 2018, plans may be accessed only through www.cedarrapidsplanroom.com"]
[null,"Removed the Clerk as a place where copies of bid plans may be viewed. They no longer retain paper copies."]
[null,"Changed language in section 00100 regarding the availability of Metro Specs in print. They are available only online, and are not available for purchase in print."]
[null,"Set the Print Area for the Rec to File and Award tab so that it's easier to print out into paper."]
["2018-03-20","Updated Targeted Small Business related information with new language provided by DOT"]
[null,"Added merge fields in 00200 and 00300 to prompt paragraph deletions in the event the contract is an RFQ"]
[null,"Expanded upon directions for doing the Mail Merge"]
[null,"Minor formatting adjustments"]
["2018-05-08","Bids may now be received via email for Quote jobs only. Added to the list of choices for how to receive bids."]
[null,"Made spelling and reference error corrections in the Project Manual Front End Doc template"]
[null,"Enabled Wrap Text for most Project Manual Form fields"]
[null,"Fixed title section for 00410 Attachment XIII in the Project Manual Front End Doc template"]
["2018-06-14","When the estimated cost falls below the bid threshold, user will be prompted to enter \"Not Used\" in Section 00200, Article 8"]
[null,"Added a deletion prompt to 00800 18.02 when Closure Days are not used"]
[null,"Added merge fields affected by whether an Alternate Bid Form is used"]
[null,"Changed Project Manual Form fields auto-populated from Rec to File from blue to grey to encourage making changes in the Rec to File"]
["2018-11-21","Updated website links pertaining to Targeted Small Businesses information in Front End Document"]
["2019-02-27","Updated bid location and opening info. Effective 4/1/19, sealed bids shall be received and opened at the City Services Center instead of the Office of the City Clerk."]
["2019-03-22","Project Development Guide and Front End documents updated to be compatible with SUDAS and the Cedar Rapids Supplement to SUDAS. Several changes, summarized below:"]
[null,"\"Rec to File\" broken apart into \"CIP Statement Form,\" \"Rec to File\" and \"Rec to Award\""]
[null,"The EOPC now provides a recommended funding amount to reserve for construction administration, inspection and internal design, where applicable"]
[null,"CIP Statement Form now includes preliminary planning checklist"]
[null,"Project Manual Form significantly altered to support new Front End doc. Selection fields have been consolidated, particularly for phase information, disincentives/incentives (called \"Motivation\") and milestone information. There are now fewer inputs for Bid Attachment Forms and Insurance requirements, as many of these are addressed in SUDAS and the Supplement."]
[null,"Filters added to Project Manual Form to manage the viewable amount of information."]
[null,"Mail merge tab updated to reflect new Front End doc"]
["2019-12-17","Converted \"Directions\" worksheet into \"Menu,\" which shows the expected workflow, with clickable links to related sections, and additional errata. Directions for updating PDG separated out."]
[null,"Made the checkboxes and inputs in the CIP Statement Form functional. Info entered here now affects subsequent worksheets."]
[null,"Added design plan checklists (Prelim Checklist, Intermed Checklist, Final Checklist)"]
[null,"Added review comments pages for each plan submission (Prelim Comments, Intermed Comments, Final Comments)"]
[null,"Updated Rec to File. Internal design percentage now maxes out at 9%. Rearranged position of Construction Contingency to reflect it's relationship to EOPC, only."]
[null,"Updates to Project Manual include: Moved core information and project manual schedule information from the CIP Statement Form into the PMF, added manual override functions to add "]
[null,"   flexibility to Project Description and Location, as well as Phase information, added an option to have Early/Start Dates Only with no incentives/disincentives in Phases."]
[null,"Updated Rec to Award to reflect changes in Rec to File, fixed erroneous formulas, took out auto-populate cells which brought forward Rec to File information."]
[null,"Added navigational macros which link the Menu to all relevant worksheets, and vice versa"]
[null,"Added \"Report a Bug\" macro"]
["2020-04-23","Made minor fixes to 12/17/2019 version based on feedback from users"]
["2020-12-10","Added EOPC worksheet, which is the basis for auto-filling information in Rec to File, 300A, 300A-Funding, Rec to Award and 500A"]
[null,"Updated 300A to use a Table query rather than a straight spreadsheet so that the Item Number, Name, Unit and Quantity can be exactly the same as appears in EOPC (with query refresh)"]
[null,"Rearranged Rec to File and Rec to Award to provide more funding divisions if needed, redid the layout of the tables, and improved connectivity with EOPC to reduce the need for retyping info"]
[null,"Made minor changes to Sign-Off Sheet, adding instructions for \"digital signatures\""]
[null,"Finished Project Manual no longer requires 500A to be included in print documents"]
[null,"Reformated the Prelim, Intermediate and Final Comments tabs to improve ease of use"]
[null,"Improved formatting of Project Manual Front End Docs template"]
[null,"Additional minor fixes based on user feedback"]
[null,"Added tutorial videos, accessible via buttons in the Menu page, and at the top of each applicable worksheet"]
["2021-03-12","Adapted PDG and Project Manual Front End Docs templates to language suited for switching to the IonWave electronic bidding system (Project Manual changes affected sections 00100, 00200,"]
[null,"   00300, 00300-A (eliminated), 00410 (eliminated all but Bidder Status Form), and 00500. Worksheets titled 00300-A Reference, IonWave Importer, and Bid Docs Checklist added to PDG)"]
[null,"Updated Design Checklists to reflect changes to SUDAS and the Cedar Rapids Supplement to SUDAS"]
[null,"Added quality of life improvements to Project Manual Form, including the insertion of additional incentive/disincentive options for Milestones, elimination of redundant information"]
[null,"Minor updates and formatting adjustments to other worksheets based on user feedback"]
["2021-06-15","Minor updates to Project Manual Front End Docs to reflect changes in City Clerk and COVID protocols"]
["2022-01-14","Added the Handover Report worksheet"]
[null,"Added funding source lines to Rec to File and Rec to Award"]
[null,"Fixed incorrect cell linkages on Mail Merge this Tab"]
["2022-04-08","Changed Project Manual Form Row 38 to state \"Latest SUDAS Editions\" instead of specifying a year - per Ben Worrell, Utilities Manager"]

{"sheet":"How to Update PDG","index":28,"n_rows":15,"n_cols":3,"rows_kept":15,"cut":false,"hidden":false,"merged":[[1,1,1,2],[7,1,7,2]]}
["Updating the Project Development Guide"]
[null,"To troubleshoot individual outputs into the mail merge document:"]
[null,"◊","Open the template for the current Project Manual Front End Doc and identify which merge code(s) is the problem (e.g. \"M_1_Year\")"]
[null,"◊","Go to the tab in this document entitled \"Mail Merge This Tab\" and find the merge code. They are ordered by PMF section."]
[null,"◊","Click on the cell which is being populated. Take note which cell is being referenced in the \"Project Manual Form\" tab."]
[null,"◊","Find that cell in the \"Project Manual Form\" tab. It is likely hidden between input cells. Manage the filter function to reveal the appropriate cell."]
[null,"◊","If the change made would be valuable to all projects, not just the individual project you're making changes for, send a request to Admin staff to make the change permanent in the PDG template."]
[null,"Commonly used formulas in this document:"]
[null,"◊","If-Then Statements. The formula follows the general form \"=if(condition,output if true,output if false)\". For example, =if(G2>76999,\"This is a bid contract\",\"This is an RFQ Contract\"). In this example, let's say cell G2 is the EOPC of the project. If G2 has a value greater than $76,999, Excel will output the text string \"This is a bid contract\". If G2 has a value of $76,999 or less, it will give the message \"This is an RFQ Contract\"."]
[null,"◊","If-Then-Else Statements / Nested If-Then Statements. You can couch If-Then statements as many times as you'd like to try and account for several different conditions which would affect an output. These follow the general form \"=if(condition,output if true,if(alternate condition if the first isn't true,output if this second condition is true,output for all other conditions))\". Continuing the above example, \"=if(G2>76999,\"This is a bid contract\",if(G2>24999,\"This is an RFQ Contract\",\"This is an RFQ Contract and Bid Bonds are not required\")). This formula makes it so that if the EOPC is $67k or greater, it will still be listed as a bid contract, but adds the wrinkle that if it is less than $25,000, it is not only an RFQ contract, but also one that doesn't require Bid Bonds. Therefore there are three possible outcomes instead of just two depending on the value of cell G2."]
[null,"◊","Logic Tests. When specifying conditions in If-Then Statements, you can use the following:  =  means \"equals\", < means \"is less than\", > means \"is greater than\", <= means \"is less than or equal to\", >=  means \"is greater than or equal to\", <> means \"does not equal\"."]
[null,"◊","Combining Cells. If you want to combine the output of several cells into one cell, you can achieve this by using a formula of the general form \"=cell/text string 1&cell/text string 2&cell/text string 3\". For example, \"=C2&\" and \"&C3\". If C2 had a value of \"Red\" and C3 had a value of \"Blue\", that formula would combine them together to read as \"Red and Blue\". You can combine both cells and text strings (phrases couched between parenthetical marks) in this way. There is no limit to the number of cells and text strings you can tie together, but there is a limit to the number of characters allowed in each formula."]
[null,"◊","Carriage Return. In Excel, the code for a carriage return is \"char(10)\" (without quotation marks)."]
[null,"◊","Concatenate. When you want to piece together large pieces of text, concatenate becomes necessary. \"Concatenate\" literally means \"to link together in a chain or series.\" It follows the general form \"=concatenate(cell/text string,cell/text string,cell/text string,cell/text string)\". For example, \"=concatenate(AD3,char(10),AD4,char(10),AD5)\" would string together the verbiage found in cells AD3, AD4 and AD5 together as a list separated by carriage returns between each."]
[null,"◊","Changing Text Case. To convert text to a specific casing type, use the following:  =upper(cell) converts to CAPITAL CASE, =lower(cell) converts to all lower case, =proper(cell) converts to Proper Case Where Every Word Is Capitalized."]